Workbook

Sheet Lists
A1: A | B1: B(a)1 | C1: B(a)2-1 | D1: B(a)2-2 | E1: B(a)3-1 | F1: B(a)3-2 | G1: B(a) 4-1 | H1: B(a) 4-2 | I1: B(a)5 | J1: B(a)6 | K1: B(b) | L1: C | M1: D(a) | N1: D(a) TITLE | O1: D(a) values | P1: D(b) TITLE | Q1: D(b) values | R1: D(c) | S1: E(a)-1 | T1: E(a)-2 | U1: E(a)-3 | V1: E(b)-1 | W1: E(b)-2 | X1: E(b)-3 | Y1: LABELS | AA1: Policies | AB1: Legal Instruments | AC1: D(4) supporting doc | AE1: D(a) values | AF1: Not used | AH1: D(b) values | AI1: D(b) not used
A2: OUI | B2: Environmental considerations | C2: OUI, les exigences en matière de durabilité peuvent être incluses dans les spécifications techniques | D2: OUI, les spécifications fonctionnelles, basées sur les résultats et/ou les performances peuvent être utilisées | E2: OUI, les exigences de durabilité peuvent être spécifiées comme critères de pré-qualification / sélection | F2: OUI, les exigences de durabilité peuvent être spécifiées comme critères d'exclusion | G2: OUI, l'attribution du contrat peut être basée sur de telles approches / critères | H2: OUI, le coût du cycle de vie peut être utilisé | I2: OUI, les clauses d'exécution du contrat peuvent spécifier des exigences de durabilité | J2: OUI, il est OBLIGATOIRE d'acheter des produits/services durables, au moins pour certaines catégories | K2: OUI, il est OBLIGATOIRE d'acheter des produits/services durables, au moins pour certaines catégories | L2: OUI | M2: YES | N2: o Appliances (commercial and residential appliances, such as clothes washers, ovens, refrigerators, etc.) o Building interior products (carpeting, wallboards, paint and stains, etc.) o Healthcare, biomedical equipment and supplies o Building management and maintenance o Cleaning products, janitorial and laundry services o Construction materials and services (including concrete, insulation materials, etc.) o Doors and windows o Electricity acquisition and Renewable energy o Food, catering services and vending machines o Furniture o Heating, venting and cooling products o Landscaping and park services o Lighting products and equipment (incl. lamp bulbs, indoor and outdoor lighting). o Meeting and conference services o Office electronics (incl. computers, monitors and imaging equipment) and electronic equipment leasing o Office supplies (non-paper supplies) o Paper and paper products o Road Design, Construction and Maintenance o Shipping, Packaging & Packing Supplies o Textiles (including workwear) o Transportation services and vehicles (including fleet maintenance) o Urban Waste collection o Waste water infrastructure o Water-using products/ plumbing systems | O2: o Appliances | P2: o Protecting against human rights abuses (for example, discrimination, unsafe working conditions child labour, forced labour, and human trafficking). It is advised to refer to the UN Guiding Principles for Business and Human Rights in the definition of such considerations. o Protecting and promoting groups at risk (for example, minorities, indigenous people, persons with disabilities, migrant workers) through social inclusion, which may include employment opportunities. o Promoting compliance with ILO standards and decent work o Promoting transparency and accountability and combatting corruption o Promoting SMEs o Promoting fair trade (for example, by ensuring fair living wages for those along the supply chain) o Promoting gender equality (for example, through the promotion of women-led businesses, or requiring a certain percentage of women in the workplace) o Promoting opportunities for social economy enterprises (NGOs, etc.) o Promoting Responsible Business Conduct among suppliers (governments may refer to the OECD Guidelines for Multinational Enterprises when defining these). o Promoting inclusive and equitable quality education, and lifelong learning opportunities for all (such as apprenticeship or training opportunities) | Q2: o Protecting against human rights abuses (for example, discrimination, unsafe working conditions child labour, forced labour, and human trafficking) | R2: YES, a risk-assessment analysis has been conducted prior to the selection of categories | S2: OUI, l'avancement du plan d'action / de la politique des APD est suivi | T2: OUI, un objectif spécifique a été fixé | U2: OUI, la réalisation des objectifs est suivie | V2: OUI, le nombre et/ou la valeur des contrats "durables" sont mesurés | W2: OUI, le(s) résultat(s) de la durabilité sont mesurés | X2: PAS de suivi | Y2: Biomasse | AA2: Politique/stratégie aux APD | AB2: Acte spécifique de promotion aux APD | AC2: Environnement | AE2: o Appareils ménagers | AF2: {=_xlfn._xlws.SORT(_xlfn._xlws.FILTER(AE2:AE25,COUNTIF(Questionnaire!D35:D52,Lists!AE2:AE25)=0))} -> o Acquisition d'électricité et énergies renouvelables | AH2: o Protection contre les violations des droits de l'homme (par exemple, la discrimination, les conditions de travail dangereuses, le travail des enfants, le travail forcé et la traite des êtres humains) | AI2: {=_xlfn._xlws.SORT(_xlfn._xlws.FILTER(AH2:AH11,COUNTIF(Questionnaire!D58:D66,Lists!AH2:AH11)=0))} -> o Promouvoir l'égalité des sexes (par exemple, en encourageant les entreprises dirigées par des femmes ou en exigeant un certain pourcentage de femmes sur le lieu de travail)
A3: NON | B3: Social considerations | C3: OUI, les labels de type I ou les normes de durabilité peuvent être utilisés comme référence | D3: NON, elles ne peuvent pas être utilisées comme critères | E3: NON, ce n'est pas possible | F3: NON, ce n'est pas possible | G3: NON, l'attribution du contrat ne peut pas être basée sur ces approches/critères | H3: NON, le coût du cycle de vie ne peut pas être utilisé | I3: NON, les clauses d'exécution du contrat ne peuvent pas spécifier d'exigences en matière de durabilité | J3: NON, il n'est PAS obligatoire (seulement possible) de se procurer des produits/services durables | K3: NON, il n'est PAS obligatoire (seulement possible) de se procurer des produits/services durables | L3: NON | M3: NO | O3: o Building interior products (carpeting, wallboards, paint and stains, etc.) | Q3: o Protecting and promoting groups at risk (for example, minorities, indigenous people, persons with disabilities, migrant workers) through social inclusion, which may include employment opportunities. | R3: NO, no risk-assessment analysis has been conducted | S3: NON | T3: NON | U3: NON | V3: NON | W3: NON | X3: Surveillance par le biais d'enquêtes, d'auto-évaluations ou de rapports traditionnels à la direction | Y3: Économies d'énergie | AA3: Plan d'action/feuille de route aux APD | AB3: Décret/ordre favorisant les APD | AC3: Social | AE3: o Produits pour l'intérieur des bâtiments | AF3: o Alimentation, services de restauration et distributeurs automatiques | AH3: o Protéger et promouvoir les groupes à risque (par exemple, les minorités, les populations autochtones, les personnes handicapées, travailleurs migrants) par l'inclusion sociale, qui peut inclure des opportunités d'emploi | AI3: o Promouvoir la transparence et la responsabilité et lutter contre la corruption
B4: Environmental and social considerations | C4: OUI, les deux moyens sont possibles | O4: o Building management and maintenance | Q4: o Promoting compliance with ILO standards and decent work | X4: Suivi via un audit interne/externe | Y4: Coton/tissu biologique | AA4: Promotion aux APD dans la stratégie nationale d'approvisionnement | AB4: Résolution/circulaire promouvant les APD | AC4: Environnemental et social | AE4: o Soins de santé, équipements et fournitures biomédicaux | AF4: o Appareils ménagers | AH4: o Promouvoir le respect des normes de l'OIT et du travail décent | AI4: o Promouvoir le commerce équitable (par exemple, en garantissant des salaires de subsistance équitables aux personnes travaillant dans la chaîne d'approvisionnement)
B5: None of those listed | C5: NON, ces critères, normes ou labels ne peuvent pas être utilisés | O5: o Cleaning products, janitorial and laundry services | Q5: o Promoting transparency and accountability and combatting corruption | X5: Suivi via un système d'information | Y5: Aliments issus de l'agriculture biologique | AA5: Promotion aux APD dans la stratégie globale | AB5: Dispositions relatives aux APD dans la loi/acte sur les marchés publics | AE5: o Gestion et entretien des bâtiments | AF5: o Collecte des déchets urbains | AH5: o Promouvoir la transparence et la responsabilité et lutter contre la corruption | AI5: o Promouvoir le respect des normes de l'OIT et du travail décent
O6: o Construction materials and services (including concrete, insulation materials, etc.) | Q6: o Promoting SMEs | X6: Suivi via une plateforme élaborée de passation de marchés en ligne | Y6: Papier issu de l'agriculture durable | AA6: Autre | AB6: Dispositions aux APD dans les règlements/règles/codes des marchés publics | AE6: o Produits de nettoyage, services de conciergerie et de blanchisserie | AF6: o Conception, construction et entretien des routes | AH6: o Promouvoir les PME | AI6: o Promouvoir les opportunités pour les entreprises de l'économie sociale (ONG, etc.)
O7: o Doors and windows | Q7: o Promoting fair trade (for example, by ensuring fair living wages for those along the supply chain) | Y7: Bois d'œuvre issu de l'agriculture durable | AB7: Dispositions de les APD dans la loi générale (telle que la loi sur l'environnement) | AE7: o Matériaux et services de construction | AF7: o Expédition, emballage et fournitures d'emballage | AH7: o Promouvoir le commerce équitable (par exemple, en garantissant des salaires de subsistance équitables aux personnes travaillant dans la chaîne d'approvisionnement) | AI7: o Promouvoir les PME
O8: o Electricity acquisition and Renewable energy | Q8: o Promoting gender equality (for example, through the promotion of women-led businesses, or requiring a certain percentage of women in the workplace) | Y8: Autre label (veuillez préciser dans la colonne suivante) | AB8: Autre | AE8: o Portes et fenêtres | AF8: o Fournitures de bureau (fournitures autres que le papier) | AH8: o Promouvoir l'égalité des sexes (par exemple, en encourageant les entreprises dirigées par des femmes ou en exigeant un certain pourcentage de femmes sur le lieu de travail) | AI8: o Promouvoir une conduite responsable des affaires parmi les fournisseurs (les gouvernements peuvent se référer aux Principes directeurs de l'OCDE à l'intention des entreprises multinationales pour les définir)
O9: o Food, catering services and vending machines | Q9: o Promoting opportunities for social economy enterprises (NGOs, etc.) | AE9: o Acquisition d'électricité et énergies renouvelables | AF9: o Gestion et entretien des bâtiments | AH9: o Promouvoir une conduite responsable des affaires parmi les fournisseurs (les gouvernements peuvent se référer aux Principes directeurs de l'OCDE à l'intention des entreprises multinationales pour les définir) | AI9: o Promouvoir une éducation de qualité, inclusive et équitable, et des opportunités d'apprentissage tout au long de la vie pour tous (telles que des possibilités d'apprentissage ou de formation)
O10: o Furniture | Q10: o Promoting Responsible Business Conduct among suppliers | AE10: o Alimentation, services de restauration et distributeurs automatiques | AF10: o Infrastructure des eaux usées | AH10: o Promouvoir une éducation de qualité, inclusive et équitable, et des opportunités d'apprentissage tout au long de la vie pour tous (telles que des possibilités d'apprentissage ou de formation) | AI10: o Protection contre les violations des droits de l'homme (par exemple, la discrimination, les conditions de travail dangereuses, le travail des enfants, le travail forcé et la traite des êtres humains)
O11: o Healthcare, biomedical equipment and supplies | Q11: o Promoting inclusive and equitable quality education, and lifelong learning opportunities for all (such as apprenticeship or training opportunities) | AE11: o Meubles | AF11: o Matériaux et services de construction | AH11: o Promouvoir les opportunités pour les entreprises de l'économie sociale (ONG, etc.) | AI11: o Protéger et promouvoir les groupes à risque (par exemple, les minorités, les populations autochtones, les personnes handicapées, travailleurs migrants) par l'inclusion sociale, qui peut inclure des opportunités d'emploi
O12: o Heating, venting and cooling products | Q12: o Promoting youth employment and training | AE12: o Produits de chauffage, de ventilation et de refroidissement | AF12: o Matériel électronique de bureau
O13: o Landscaping and park services | AE13: o Services d'aménagement paysager et de parcs | AF13: o Meubles
O14: o Lighting products and equipment (incl. lamp bulbs, indoor and outdoor lighting). | AE14: o Produits et équipements d'éclairage | AF14: o Papier et produits en papier
O15: o Meeting and conference services | AE15: o Services de réunion et de conférence | AF15: o Portes et fenêtres
O16: o Office electronics (incl. computers, monitors and imaging equipment) and electronic equipment leasing | AE16: o Matériel électronique de bureau | AF16: o Produits consommateurs d'eau/systèmes de plomberie
O17: o (Non-paper) Office supplies | AE17: o Fournitures de bureau (fournitures autres que le papier) | AF17: o Produits de chauffage, de ventilation et de refroidissement
O18: o Paper and paper products | AE18: o Papier et produits en papier | AF18: o Produits de nettoyage, services de conciergerie et de blanchisserie
O19: o Road Design, Construction and Maintenance | AE19: o Conception, construction et entretien des routes | AF19: o Produits et équipements d'éclairage
O20: o Shipping, Packaging & Packing Supplies | AE20: o Expédition, emballage et fournitures d'emballage | AF20: o Produits pour l'intérieur des bâtiments
O21: o Textiles (including workwear) | AE21: o Textiles (y compris les vêtements de travail) | AF21: o Services d'aménagement paysager et de parcs
O22: o Transportation services and vehicles (including fleet maintenance) | AE22: o Services de transport et véhicules | AF22: o Services de réunion et de conférence
O23: o Urban Waste collection | AE23: o Collecte des déchets urbains | AF23: o Services de transport et véhicules
O24: o Waste water infrastructure | AE24: o Infrastructure des eaux usées | AF24: o Soins de santé, équipements et fournitures biomédicaux
O25: o Water-using products/ plumbing systems | AE25: o Produits consommateurs d'eau/systèmes de plomberie | AF25: o Textiles (y compris les vêtements de travail)

Sheet Instructions
D1: INSTRUCTIONS
B2: Merci de prendre le temps de remplir le questionnaire 2022 sur l'indicateur 12.7.1 des ODD, qui mesure le nombre de pays mettant en œuvre des politiques et des plans d'action en matière d'achats publics durables (APD). Veuillez commencer par: 1. Tout d'abord, cliquez sur l'onglet "Coordonnées" au bas de cette page et saisissez vos coordonnées dans les champs prévus à cet effet. 2. Ensuite, sélectionnez l'onglet "Questionnaire" et répondez à autant de questions que possible, en sélectionnant une réponse dans le menu déroulant dans les cellules qui sont ombrées en jaune. 3. Pour chaque réponse, dans les cellules en jaune clair, veuillez fournir des preuves à l'appui, comme des liens vers des documents pertinents, ainsi que des références dans ces documents à des numéros de page et des déclarations spécifiques. Si les pièces justificatives ne sont pas disponibles en ligne, veuillez les télécharger dans le fichier "Pièces justificatives" de votre dossier pays. Les réponses sans preuves à l'appui ne seront pas créditées. 4. Les cellules ombragées en gris sont facultatives.
B3: Pour des instructions plus détaillées sur la manière de remplir ce questionnaire Excel, veuillez consulter les "Directives relatives au questionnaire Excel de l'indice SPP".
B4: Pour plus d'informations sur la méthodologie et le système de notation de l'indicateur SDG 12.7.1, veuillez vous référer au document "Méthodologie de l'indice APD".
B5: Pour une liste des points focaux et suppléants nationaux de l'indicateur SDG 12.7.1, veuillez cliquer ici.
B6: QUESTIONS? Veuillez nous contacter à l'adresse suivante: | C6: agnes.wierzbicki@un.org cc. farid.yaker@un.org | D6: Consultant, PNUE Directeur de programme, PNUE

Sheet Coordonnées de contact
E1: COORDONNÉES DES RÉPONDANTS
B2: Date (jj/mm/aa) | C2: Pays | D2: Prénom | E2: Nom de famille | F2: Sexe | G2: Fonction | H2: Département/Ministère/Organisation | I2: Adresse électronique | J2: Adresse électronique supplémentaire (le cas échéant)
A3: Répondant #1
A4: Respondent #2
A5: Respondent #3
A6: Respondent #4
A7: Respondent #5
A8: Respondent #6
A9: Respondent #7
A10: Respondent #8
A11: Respondent #9
A12: Respondent #10
A13: Respondent #11
A14: Respondent #12
... A17: Respondent #15

Sheet Questionnaire
C1: QUESTIONNAIRE
B2: SOUS-INDICATEURS ET QUESTIONS | C2: SCORE | D2: VOTRE REPONSE | E2: DÉTAILS ET DOCUMENTS À L'APPUI
B3: A : Existence d'une politique/un plan d'action APD et/ou de prescriptions réglementaires relatives aux APD | C3: 1 pt | D3: Veuillez cliquer sur la cellule ci-dessous et sélectionner une réponse dans la liste déroulante | E3: Veuillez fournir plus de détails pour étayer votre réponse et inclure des liens vers les documents pertinents
B4: A.1 Votre pays dispose-t-il d'une politique/plan d'action aux APD approuvé (national/fédéral) en cours de mise en œuvre et/ou de prescriptions réglementaires aux APD? Il peut s'agir de l'un des éléments suivants (1) politiques/stratégies, plans d'action/feuille de route et prescriptions réglemeolitiques globales (stratégies de développement durable, politiques de consommation et de production durables, économie verte, économie circulaire, etc.) comportant des dispositions complètes en matière de APD ; et/ou (3) des lois et règlements sur les marchés publics comportant des dispositions complètes sur les APD ; et/ou (4) des lois sectorielles comportant des dispositions complètes sur la PSP (par exemple, les directives sur l'efficacité énergétique). | C4: 1 pt | E4: Veuillez cliquer ici pour fournir des détails sur vos politiques et instruments juridiques soutenant les APD (Documents d'appui A1)
C5: Votre score A: | D5: =IF(D4=Lists!$A$2,1,0) -> 0
B6: B : Le cadre réglementaire des marchés publics est propice aux APD | C6: 20 pts | D6: Veuillez cliquer sur la cellule ci-dessous et sélectionner une réponse dans la liste déroulante | E6: Veuillez fournir plus de détails pour étayer votre réponse et inclure des liens vers les documents pertinents
B7: B(a) Les dispositions du cadre juridique et réglementaire permettent d'intégrer des considérations de durabilité (environnementales et/ou sociales) aux étapes suivantes du processus de passation de marchés: | C7: 14 pts
B8: 1/ Définition des exigences
B9: B.1 Le cadre juridique et réglementaire permet-il d'inclure des exigences de durabilité (environnementales et/ou sociales) dans les spécifications techniques ? ET/OU Les éco-labels de type I, les labels sociaux ou les normes de durabilité pertinentes peuvent-ils être utilisés comme référence pour spécifier le niveau minimum de conformité? Lors de la définition des critères de conformité minimale d'un contrat, les exigences en matière de durabilité peuvent être spécifiées. Par exemple : utilisation de matières premières durables / recyclées; biodégradabilité des produits; absence d'utilisation de substances nocives ; emballage écologique ; niveau de consommation électrique; garantie et durabilité; garantie de disponibilité des pièces et composants. | C9: 2 pts | E9: …
B10: B.2 Le cadre juridique et réglementaire permet-il d'utiliser comme critères des spécifications fonctionnelles / basées sur les résultats / basées sur les performances? Ces spécifications indiquent ce que les articles achetés doivent réaliser en termes de fonctions exécutées, de niveau de performance atteint ou de produits/résultats livrés. Par exemple : des ampoules électriques avec une consommation d'énergie limitée, ou des véhicules avec des émissions de CO2 limitées. | C10: 2 pts | E10: …
B11: 2/ Pré-qualification/qualification
B12: B.3 Le cadre juridique et réglementaire permet-il de spécifier les exigences de durabilité en tant que critères de pré-qualification / sélection? Les critères de sélection évaluent l'aptitude d'un opérateur économique à exécuter un marché. Par exemple, il peut être demandé aux fournisseurs de fournir la preuve du respect des normes sociales et/ou environnementales, la preuve qu'ils ont adopté une approche de système de gestion environnementale ou un système de gestion et de suivi de la chaîne d'approvisionnement. | C12: 2 pts | E12: …
B13: B.4 Le cadre juridique et réglementaire permet-il de spécifier les exigences de durabilité comme critères d'exclusion? Les fournisseurs en infraction avec les lois environnementales ou sociales, ou, ne se conformant pas à certaines normes environnementales ou sociales (telles que les conventions fondamentales de l'OIT), peuvent être exclus du processus de passation de marchés. | C13: 2 pts | E13: …
B14: 3/ Evaluation et sélection
B15: B.5 Le cadre juridique et réglementaire permet-il de fonder l'attribution d'un marché sur des critères autres que le prix (notamment des critères de durabilité)? Par exemple en recourant aux approches du "meilleur rapport qualité-prix" ou de l'"offre économiquement la plus avantageuse (MEAT)". | C15: 2 pts | E15: …
B16: B.6 Le cadre juridique et réglementaire permet-il d'utiliser le coût du cycle de vie (CCV) dans l'évaluation des offres? Le CCV est une évaluation économique qui prend en compte tous les coûts qui seront supportés pendant la durée de vie d'un produit, d'un ouvrage ou d'un service (prix d'achat incluant la livraison, les coûts d'installation; coûts d'exploitation et de maintenance; coûts de fin de vie tels que l'élimination). | C16: 2 pts | E16: …
B17: 4/ Attribution et gestion des contrats
B18: B.7 Le cadre légal et réglementaire permet-il de spécifier des exigences de durabilité dans les clauses d'exécution du contrat? Par exemple: exiger le respect des droits du travail dans la chaîne d'approvisionnement (par exemple, les normes fondamentales de l'OIT) ; exiger une utilisation efficace des ressources telles que l'électricité et l'eau sur les sites de construction ; réduction des émissions de CO2 associées au transport ; emballages emportés pour être réutilisés, recyclés ou éliminés de manière appropriée. | C18: 2 pts | E18: …
C19: Votre score B(a): | D19: =SUM(IF(D9=Lists!$C$2,2,IF(D9=Lists!$C$3,2,IF(D9=Lists!$C$4,2,IF(D9=Lists!$C$5,0,IF(D9="",0))))),IF(D10=Lists!$D$2,2,0),IF(D12=Lists!$E$2,2,0),IF(D13=Lists!$F$2,2,0),IF(D15=Lists!$G$2,2,0),IF(D16=Lists!$H$2,2,0),IF(D$18=Lists!$I$2,2,0)) -> 0
B20: B(b) Les dispositions du cadre juridique et réglementaire rendent obligatoire l'achat d'alternatives durables | C20: 6 pts
B21: B.8 Le cadre légal et réglementaire rend-il obligatoire l'achat d'alternatives durables pour au moins une ou plusieurs catégories? Par exemple, la directive européenne "véhicules propres" rend "obligatoire pour les pouvoirs adjudicateurs la prise en compte des impacts énergétiques et environnementaux lors de l'achat de véhicules de transport routier." | C21: 6 pts | E21: …
C22: Votre score B(b): | D22: =SUM(IF(D21=Lists!$K$3,0,IF(D21=Lists!$K$2,6,IF(D21="",0)))) -> 0
C23: Votre score B: | D23: =D19+D22 -> 0
B24: C : Soutien pratique fourni aux praticiens des marchés publics dans la mise en œuvre des APD | C24: 20 pts | D24: Veuillez cliquer sur la cellule ci-dessous et sélectionner une réponse dans la liste déroulante | E24: Veuillez fournir plus de détails ou d'exemples pour étayer votre réponse et inclure des liens vers les documents pertinents
B25: C.1 Des lignes directrices et des outils, ou un catalogue officiel de produits écolabellisés, ont-ils été développés au cours des cinq dernières années? Tels que les lignes directrices/manuels sur les achats durables, les critères de durabilité, le catalogue officiel des produits durables, etc. | C25: 4 pts | E25: …
B26: C.2 Des canaux de communication spécifiques sont-ils utilisés pour fournir des informations ou des outils aux praticiens des achats, au moins deux fois par an? Tels qu'une lettre d'information, un site web, un intranet, des médias sociaux, etc. | C26: 4 pts | E26: …
B27: C.3 Des sessions de formation sont-elles organisées au moins une fois par an pour renforcer les capacités des praticiens des marchés publics dans le cadre de la mise en œuvre des APD? Ces sessions de formation doivent être axées sur les APD ou contenir une composante APD importante. Ces sessions peuvent être en personne et/ou virtuelles et proposées aux nouveaux employés ou dans le cadre de la formation continue. | C27: 4 pts | E27: …
B28: C.4 Les meilleures pratiques ou les études de cas (au moins 3) sont-elles partagées avec les praticiens des achats? Veuillez ne prendre en compte que les études développées au cours des 3 dernières années, ce qui peut inclure la traduction de documents pertinents développés par d'autres pays. | C28: 2 pts | E28: …
B29: C.5 Le gouvernement national encourage-t-il les meilleures pratiques et réalisations en matière d'APD par des récompenses et/ou des incitations? Les récompenses et les incitations augmentent l'investissement des employés dans les APD et créent une culture qui encourage l'intégration des considérations de durabilité dans les marchés publics. Les incitations comprennent la reconnaissance interne typique et les récompenses. D'autres exemples incluent des concours créatifs entre ou à travers les unités de l'organisation, ou pour des catégories d'achat spécifiques. | C29: 2 pts | E29: …
B30: C.6 Un service d'assistance APD est-il disponible pour les praticiens des marchés publics? Un service d'assistance APD fournit une assistance directe par téléphone, internet, courriel ou par des visites sur site aux pouvoirs adjudicateurs publics sur des questions liées à la mise en œuvre des APD. Il peut également s'agir d'un service d'assistance général pour les marchés publics qui traite des questions relatives aux APD. | C30: 4 pts | E30: …
C31: Votre score C: | D31: =SUM(IF(D25=Lists!$L$2,4,0),IF(D26=Lists!$L$2,4,0),IF(D27=Lists!$L$2,4,0),IF(D28=Lists!$L$2,2,0),IF(D29=Lists!$L$2,2,0),IF(D30=Lists!$L$2,4,0)) -> 0
B32: D : Critères d'achat / normes d'achat / exigences des APD | C32: 20 pts | D32: Veuillez sélectionner les catégories et produits pertinents dans la liste déroulante | E32: Veuillez énumérer en détail ci-dessous les noms des groupes de produits (plus petits) qui peuvent entrer dans la catégorie sélectionnée dans la colonne D | F32: Veuillez fournir plus de détails ou d'exemples pour étayer votre réponse et inclure des liens vers les documents pertinents | G32: Facultatif | H32: Facultatif
B33: D(a) Critères environnementaux | C33: 10 pts
B34: D.1 Des critères d'achat écologiques ont-ils été définis ou des normes/labels environnementaux ont-ils été recommandés pour des catégories spécifiques de produits et de services ? Si non, veuillez passer à la question suivante. Si oui, veuillez sélectionner une réponse dans la liste déroulante de la colonne D. Les critères d'achat écologique et les normes/labels environnementaux spécifient les niveaux de performance environnementale et climatique d'un produit ou d'un service. Ces critères peuvent être spécifiés dans les solicitations et les contrats, et peuvent être inclus dans l'évaluation technique et l'analyse des coûts des offres, des soumissions et des propositions. Par exemple, il pourrait être exigé que les véhicules n'émettent pas plus d'une certaine quantité de polluants, ou que les climatiseurs ne consomment pas plus d'une certaine quantité d'énergie. | D34: Veuillez sélectionner dans la liste déroulante ci-dessous jusqu'à 18 catégories pertinentes pour lesquelles des critères d'achat écologique ont été définis ou des normes/labels environnementaux ont été recommandés. Chaque catégorie ne peut être sélectionnée qu'une seule fois. | E34: Veuillez énumérer en détail ci-dessous les noms des groupes de produits ou de services (plus petits) qui peuvent entrer dans la catégorie sélectionnée dans la colonne D. Par exemple, si la catégorie de produits/services sélectionnée dans la colonne D est "Électronique de bureau", les groupes de produits plus petits possibles pourraient être "moniteurs", "équipement d'imagerie", etc. | F34: Veuillez fournir plus de détails ou d'exemples pour étayer votre réponse et inclure des liens vers les documents pertinents | G34: Facultatif: Si un ou plusieurs ecolabels ont été recommandées pour ces produits, veuillez sélectionner une ecolabel dans la liste déroulante. Si l’écolabell ne figure pas dans la liste, veuillez le saisir dans la colonne suivante. | H34: Facultatif : Autre type d’écolabel (veuillez préciser)
B35: Catégories de produits et de services les plus courantes apparaissant dans la liste déroulante de la colonne D à droite. o Acquisition d'électricité et énergies renouvelables o Alimentation, services de restauration et distributeurs automatiques o Appareils ménagers (appareils commerciaux et résidentiels, tels que les lave-linge, les fours, les réfrigérateurs, etc.) o Collecte des déchets urbains o Conception, construction et entretien des routes o Expédition, emballage et fournitures d'emballage o Fournitures de bureau (fournitures autres que le papier) o Gestion et entretien des bâtiments o Infrastructure des eaux usées o Matériaux et services de construction (y compris béton, matériaux d'isolation, etc.) o Matériel électronique de bureau (y compris les ordinateurs, les moniteurs et les équipements d'imagerie) et location de matériel électronique o Meubles o Papier et produits en papier o Portes et fenêtres o Produits consommateurs d'eau/systèmes de plomberie o Produits de chauffage, de ventilation et de refroidissement o Produits de nettoyage, services de conciergerie et de blanchisserie o Produits et équipements d'éclairage (y compris les ampoules, l'éclairage intérieur et extérieur) o Produits pour l'intérieur des bâtiments (moquettes, panneaux muraux, peinture et teintures, etc.) o Services d'aménagement paysager et de parcs o Services de réunion et de conférence o Services de transport et véhicules (y compris l'entretien du parc automobile) o Soins de santé, équipements et fournitures biomédicaux o Textiles (y compris les vêtements de travail) | C35: 0.5 pts | E35: … | F35: … | H35: …
C36: 0.5 pts | E36: … | F36: … | H36: …
C37: 0.5 pts | E37: … | F37: … | H37: …
C38: 0.5 pts | E38: … | F38: … | H38: …
C39: 0.5 pts | E39: … | F39: … | H39: …
C40: 0.5 pts | E40: … | F40: … | H40: …
...

Sheet Documents d'appui A1
F1: DOCUMENTS D'APPUI A1 | H1: Retour au questionnaire
B2: Quelles sont les politiques/stratégies ou plans d'action/feuilles de route dont dispose votre gouvernement (fédéral/national) pour soutenir la mise en œuvre des APD? Il peut s'agir de politiques, plans d'action, stratégies, feuilles de route dédiés aux APD; et/ou de politiques globales (telles que les politiques de développement durable, les politiques de consommation et de production durables, etc.) comportant des dispositions complètes sur les APD. | C2: Politiques/stratégies et plans d'action/feuille de route soutenant les APD
C3: Veuillez sélectionner le type de document dans la liste déroulante ci-dessous | D3: Veuillez sélectionner l'objectif des APD dans la liste déroulante ci-dessous | E3: Date d'approbation (jj/mm/aa) | F3: Nom et lien du document | G3: Veuillez faire référence ci-dessous aux sections et numéros de page pertinents qui se rapportent aux APD des documents énumérés dans la colonne F.
E4: … | F4: … | G4: …
E5: ... | F5: … | G5: …
E6: ... | F6: … | G6: …
E7: ... | F7: … | G7: …
E8: ... | F8: … | G8: …
E9: ... | F9: … | G9: …
E10: ... | F10: … | G10: …
E11: ... | F11: … | G11: …
E12: ... | F12: … | G12: …
E13: ... | F13: … | G13: …
E14: ... | F14: … | G14: …
E15: ... | F15: … | G15: …
... E18: ... | F18: … | G18: …
B19: Quels sont les instruments juridiques dont dispose votre gouvernement (fédéral/national) pour soutenir la mise en œuvre des APD ? Il peut s'agir d'instruments juridiques dédiés aux APD, tels qu'une loi, un décret, un ordre et/ou une résolution spécifique soutenant les APD; et/ou de lois et règlements sur les marchés publics comportant des dispositions complètes sur les APD; et/ou de lois sectorielles comportant des dispositions complètes sur les APD. | C19: Instruments juridiques soutenant les APD
C20: Veuillez sélectionner le type de document dans la liste déroulante ci-dessous | D20: Veuillez sélectionner l'objectif des APD dans la liste déroulante ci-dessous | E20: Date d'approbation (jj/mm/aa) | F20: Nom et lien du document | G20: Veuillez faire référence ci-dessous aux sections et numéros de page pertinents qui se rapportent au x APD des documents énumérés dans la colonne F.
E21: ... | F21: … | G21: …
E22: ... | F22: … | G22: …
E23: ... | F23: … | G23: …
E24: ... | F24: … | G24: …
E25: ... | F25: … | G25: …
E26: ... | F26: … | G26: …
E27: ... | F27: … | G27: …
E28: ... | F28: … | G28: …
E29: ... | F29: … | G29: …
E30: ... | F30: … | G30: …
E31: ... | F31: … | G31: …
E32: ... | F32: … | G32: …
... E34: ... | F34: … | G34: …
