Workbook
Name gold_price_range: '[1]5-Site Interview | Extraction'!$C$22:$L$22,'[1]5-Site Interview | Extraction'!#REF!,'[1]5-Site Interview | Extraction'!#REF!
Name gold_price_range: '[1]5-Site Interview | Extraction'!$C$22:$L$22,'[1]5-Site Interview | Extraction'!#REF!,'[1]5-Site Interview | Extraction'!#REF!
Name Gold_Purity_Range: '[1]5-Site Interview | Extraction'!$C$9:$L$9,'[1]5-Site Interview | Extraction'!#REF!,'[1]5-Site Interview | Extraction'!#REF!,'[1]5-Site Interview | Extraction'!#REF!
Name Gold_Purity_Range: '[1]5-Site Interview | Extraction'!$C$9:$L$9,'[1]5-Site Interview | Extraction'!#REF!,'[1]5-Site Interview | Extraction'!#REF!,'[1]5-Site Interview | Extraction'!#REF!
Name goldpricerange: '[2]3-ASGM Site Interviews'!$C$16:$G$16,'[2]3-ASGM Site Interviews'!$C$29:$G$29,'[2]3-ASGM Site Interviews'!$C$43:$G$43
Name goldpricerange_: '[2]3-ASGM Site Interviews'!$C$16:$G$16,'[2]3-ASGM Site Interviews'!$C$29:$G$29,'[2]3-ASGM Site Interviews'!$C$43:$G$43
Name goldpurityrange: '[2]3-ASGM Site Interviews'!$C$8:$G$8,'[2]3-ASGM Site Interviews'!$C$22:$G$22,'[2]3-ASGM Site Interviews'!$C$36:$G$36,'[2]3-ASGM Site Interviews'!$C$50:$G$50
Name graderange: '[2]3-ASGM Site Interviews'!$C$7:$G$7,'[2]3-ASGM Site Interviews'!$C$21:$G$21,'[2]3-ASGM Site Interviews'!$C$35:$G$35,'[2]3-ASGM Site Interviews'!$C$49:$G$49
Name interviewee: '[3]drop-downs (hidden)'!$A$128:$A$134
Name Ore_Grade_Range: '[1]5-Site Interview | Extraction'!$C$8:$L$8,'[1]5-Site Interview | Extraction'!#REF!,'[1]5-Site Interview | Extraction'!#REF!,'[1]5-Site Interview | Extraction'!#REF!
Name Ore_Grade_Range: '[1]5-Site Interview | Extraction'!$C$8:$L$8,'[1]5-Site Interview | Extraction'!#REF!,'[1]5-Site Interview | Extraction'!#REF!,'[1]5-Site Interview | Extraction'!#REF!
Name oregraderange: '[2]3-ASGM Site Interviews'!$C$7:$G$7,'[2]3-ASGM Site Interviews'!$C$21:$G$21,'[2]3-ASGM Site Interviews'!$C$35:$G$35,'[2]3-ASGM Site Interviews'!$C$49:$G$49
Name price_gold: '[1]5-Site Interview | Extraction'!$C$22:$L$22,'[1]5-Site Interview | Extraction'!#REF!,'[1]5-Site Interview | Extraction'!#REF!
Name price_gold: '[1]5-Site Interview | Extraction'!$C$22:$L$22,'[1]5-Site Interview | Extraction'!#REF!,'[1]5-Site Interview | Extraction'!#REF!
Name purityrange: '[2]3-ASGM Site Interviews'!$C$8:$G$8,'[2]3-ASGM Site Interviews'!$C$22:$G$22,'[2]3-ASGM Site Interviews'!$C$36:$G$36,'[2]3-ASGM Site Interviews'!$C$50:$G$50
Name SiteType: '[1]drop-downs (hidden)'!$A$124:$A$126
Name SiteType: '[3]drop-downs (hidden)'!$A$124:$A$126
Name stakeholderlist: '[1]drop-downs (hidden)'!$A$128:$A$142

Sheet coordonnées
A1: ="Région EMAPE : "&C5&" | Coordonnées" -> Région EMAPE : Goldu | Coordonnées
B5: ASGM Mining Region | C5: Goldu | D5: Province / State / Depertment | E5: Goldu Province
D6: Country | E6: Goldaguay
B10: Date(s) of data collection | C10: Oct 26-30, 2017 | D10: Name of field researcher(s) | E10: Marie Cooke
B12: Region contact(s): name | C12: David Eli
B13: role | C13: Représentant provincial du ministère des Mines
B14: phone number | C14: 1(234)567-4321
B15: email

Sheet tout les sites
A1: ="REGION EMAPE : "&C4 -> REGION EMAPE : Goldu
B4: Nom de la région | C4: Goldu
A6: ="Variables clés des sites EMAPE de "&C4 -> Variables clés des sites EMAPE de Goldu
B8: Variable | C8: Site 1 | E8: Site 2 | G8: Site 3 | I8: Site 4 | K8: Site 5 | M8: Site 6 | O8: Site 7 | Q8: Site 8 | S8: Site 9 | U8: Site 10 | W8: Site 11 | Y8: Site 12 | AA8: Site 13 | AC8: Site 14 | AE8: Site 15 | AG8: Site 16 | AI8: Site 17 | AK8: Site 18 | AM8: Site 19 | AO8: Site 20 | AQ8: Moyenne de tous les sites visités
C9: Placerton | E9: [nom du site] | G9: [nom du site] | I9: [nom du site] | K9: [nom du site] | M9: [nom du site] | O9: [nom du site] | Q9: [nom du site] | S9: [nom du site] | U9: [nom du site] | W9: [nom du site] | Y9: [nom du site] | AA9: [nom du site] | AC9: [nom du site] | AE9: [nom du site] | AG9: [nom du site] | AI9: [nom du site] | AK9: [nom du site] | AM9: [nom du site] | AO9: [nom du site] | AQ9: [nom de la région]
C10: moyenne | D10: fourchette | E10: moyenne | F10: fourchette | G10: moyenne | H10: fourchette | I10: moyenne | J10: fourchette | K10: moyenne | L10: fourchette | M10: moyenne | N10: fourchette | O10: moyenne | P10: fourchette | Q10: moyenne | R10: fourchette | S10: moyenne | T10: fourchette | U10: moyenne | V10: fourchette | W10: moyenne | X10: fourchette | Y10: moyenne | Z10: fourchette | AA10: moyenne | AB10: fourchette | AC10: moyenne | AD10: fourchette | AE10: moyenne | AF10: fourchette | AG10: moyenne | AH10: fourchette | AI10: moyenne | AJ10: fourchette | AK10: moyenne | AL10: fourchette | AM10: moyenne | AN10: fourchette | AO10: moyenne | AP10: fourchette | AQ10: moyenne | AR10: fourchette
B11: Minéralogie
B12: Teneur du minerai(g/T) | C12: 9
B13: Pureté de l'or (%) | C13: 0.725
B14: Commerce
B15: Prix du gramme d'or pur (devise locale/g Au) | C15: 37.25
B16: prix du kg de mercure (devise locale/kg Hg) | C16: ---
B17: mercure acheté par les mineurs par an, site entier (kg Hg/an) | C17: ---
B18: mercure acheté par les revendeurs par an, site entier (kg Hg/an) | C18: ---
B19: Type d'extraction 1
B20: Extraction quotidienne par mineur (t minerai/quart) | C20: 0.1 | D20: 0.1 – 0.1
B21: nº moyen de travailleurs par unité | C21: 10 | D21: 10 – 10
B22: nº d'heures par quart | C22: 8 | D22: 8 – 8
B23: nº de quarts par jour | C23: 2 | D23: 2 – 2
B24: nº de jours travaillés par an (j/an) | C24: 200 | D24: 200 – 200
B25: Revenu quotidien par mineur (g Au 24 ct) | C25: 0.5 | D25: 0.5 – 0.5
B26: Revenu annuel par mineur (g Au 24 ct) | C26: 110 | D26: 100 – 120
B27: Extraction quotidienne par unité (t minerai/j) | C27: 2 | D27: 2 – 2
B28: Valeur de la prod. annuelle par mineur (dev. loc./an/mineur) | C28: 5110 | D28: 4900 – 5320
B29: Type d'extraction 2
B30: Extraction quotidienne par mineur (t minerai/quart) | C30: 0.375 | D30: 0.35 – 0.4
B31: nº moyen de travailleurs par unité | C31: 55 | D31: 50 – 60
B32: nº d'heures par quart | C32: 8 | D32: 8 – 8
B33: nº de quarts par jour | C33: 2 | D33: 2 – 2
B34: nº de jours travaillés par an (j/an) | C34: 200 | D34: 200 – 200
B35: Revenu quotidien par mineur (g Au 24 ct) | C35: 0.5 | D35: 0.5 – 0.5
B36: Revenu annuel par mineur (g Au 24 ct) | C36: 90 | D36: 80 – 100
B37: Extraction quotidienne par unité (t minerai/j) | C37: 41.5 | D37: 35 – 48
B38: Valeur de la prod. annuelle par mineur (dev. loc./an/mineur) | C38: 4914 | D38: 4788 – 5040
B39: Type d'extraction 3
B40: Extraction quotidienne par mineur (t minerai/quart) | C40: --- | D40: 0 – 0
B41: nº moyen de travailleurs par unité | C41: --- | D41: 0 – 0
B42: nº d'heures par quart | C42: --- | D42: 0 – 0
B43: nº de quarts par jour | C43: --- | D43: 0 – 0
B44: nº de jours travaillés par an (j/an) | C44: --- | D44: 0 – 0
B45: Revenu quotidien par mineur (g Au 24 ct) | C45: --- | D45: 0 – 0
B46: Revenu annuel par mineur (g Au 24 ct) | C46: --- | D46: 0 – 0
B47: Extraction quotidienne par unité (t minerai/j) | C47: --- | D47: 0 – 0
B48: Valeur de la prod. annuelle par mineur (dev. loc./an/mineur) | C48: --- | D48: 0 – 0
B49: Type de transport 1
B50: Type d'unité (camion, vélo, personne...) | C50: camion | D50: 0 – 0
B51: Capacité de l'unité (t minerai) | C51: 1.75 | D51: 1.5 – 2
B52: nº moyen de travailleurs par unité | C52: 2 | D52: 2 – 2
B53: nº de jours travaillés par an (j/an) | C53: 200 | D53: 200 – 200
B54: Revenu quotidien par travailleur (g Au 24 ct) | C54: 0.5 | D54: 0.5 – 0.5
B55: Revenu annuel par travailleur (g Au 24 ct) | C55: 115 | D55: 110 – 120
B56: Minerai transporté par jour par unité (t minerai/j/unité) | C56: 3.5 | D56: 3 – 4
B57: Type de transport 2
B58: Type d'unité (camion, vélo, personne...) | C58: moto | D58: 0 – 0
B59: Capacité de l'unité (t minerai) | C59: 0.1 | D59: 0.1 – 0.1
B60: nº moyen de travailleurs par unité | C60: 1 | D60: 1 – 1
B61: nº de jours travaillés par an (j/an) | C61: 200 | D61: 200 – 200
B62: Revenu quotidien par travailleur (g Au 24 ct) | C62: 0.5 | D62: 0.5 – 0.5
B63: Revenu annuel par travailleur (g Au 24 ct) | C63: 115 | D63: 110 – 120
B64: Minerai transporté par jour par unité (t minerai/j/unité) | C64: 0.4 | D64: 0.4 – 0.4
B65: Type de transport 3
B66: Type d'unité (camion, vélo, personne...) | C66: 0 | D66: 0 – 0
B67: Capacité de l'unité (t minerai) | C67: --- | D67: 0 – 0
B68: nº moyen de travailleurs par unité | C68: --- | D68: 0 – 0
B69: nº de jours travaillés par an (j/an) | C69: --- | D69: 0 – 0
B70: Revenu quotidien par travailleur (g Au 24 ct) | C70: --- | D70: 0 – 0
B71: Revenu annuel par travailleur (g Au 24 ct) | C71: --- | D71: 0 – 0
B72: Minerai transporté par jour par unité (t minerai/j/unité) | C72: --- | D72: 0 – 0
B73: Type de traitement 1
B74: Débit quotidien de minerai par unité et par quart (t minerai/quart/unité) | C74: 0.4 | D74: 0.4 – 0.4
B75: nº moyen de travailleurs par unité | C75: 4 | D75: 4 – 4
B76: nº d'heures par quart | C76: 8 | D76: 8 – 8
B77: nº de quarts par jour | C77: 2 | D77: 2 – 2
B78: nº de jours travaillés par an (j/an) | C78: 200 | D78: 200 – 200
B79: Revenu quotidien par travailleur (g Au 24 ct) | C79: 0.5 | D79: 0.5 – 0.5
B80: Revenu annuel par travailleur (g Au 24 ct) | C80: 90 | D80: 80 – 100
B81: Or pur vendu mensuellement par l'unité (g Au 24 ct/m) | C81: --- | D81: 0 – 0
B82: Mercure acheté mensuellement pour le système (kg Hg/m) | C82: --- | D82: 0 – 0
B83: Rapport Hg : Au (estimé par les mineurs) | C83: 7.5 | D83: 5 – 10
B84: Rapport Hg : Au (mesuré sur site) | C84: 6.8684274 | D84: 6.39 – 7.6
B85: Débit quotidien de minerai de l'unité (t minerai/j/unité) | C85: 0.8 | D85: 0.8 – 0.8
B86: Valeur de la prod. annuelle par mineur (dev. loc./an/mineur) | C86: 5110 | D86: 4900 – 5320
B87: Type de traitement 2
B88: Débit quotidien de minerai par unité et par quart (t minerai/quart/unité) | C88: 1.65 | D88: 1.5 – 1.8
B89: nº moyen de travailleurs par unité | C89: 4 | D89: 4 – 4
B90: nº d'heures par quart | C90: 8 | D90: 8 – 8
B91: nº de quarts par jour | C91: 2 | D91: 2 – 2
B92: nº de jours travaillés par an (j/an) | C92: 200 | D92: 200 – 200
B93: Revenu quotidien par travailleur (g Au 24 ct) | C93: 0.5 | D93: 0.5 – 0.5
B94: Revenu annuel par travailleur (g Au 24 ct) | C94: 90 | D94: 80 – 100
B95: Or pur vendu mensuellement par l'unité (g Au 24 ct/m) | C95: --- | D95: 0 – 0
B96: Mercure acheté mensuellement pour le système (kg Hg/m) | C96: --- | D96: 0 – 0
B97: Rapport Hg : Au (estimé par les mineurs) | C97: 7.5 | D97: 5 – 10
B98: Rapport Hg : Au (mesuré sur site) | C98: 1.7872688 | D98: 1.69 – 1.94
B99: Débit quotidien de minerai de l'unité (t minerai/j/unité) | C99: 3.3 | D99: 3 – 3.6
B100: Valeur de la prod. annuelle par mineur (dev. loc./an/mineur) | C100: 5400 | D100: 5130 – 5670
B101: Type de traitement 3
B102: Débit quotidien de minerai par unité et par quart (t minerai/quart/unité) | C102: --- | D102: 0 – 0
B103: nº moyen de travailleurs par unité | C103: --- | D103: 0 – 0
B104: nº d'heures par quart | C104: --- | D104: 0 – 0
...

Sheet region calcs
A1: ="RÉGION EMAPE : "&'tout les sites'!C4 -> RÉGION EMAPE : Goldu
A2: Estimations initiales de la région
A4: Approche 1 : Collecte des données de site pour TOUS les sites. Somme des données de TOUS les sites de la région
A5: Ajouter les données de tous les sites ci-dessous (utiliser les données collectées lors des visites sur site, ainsi que les infos supplémentaires obtenues auprès des parties prenantes). Faire la somme de l'ensemble pour obtenir les estimations initiales régionales.
B7: Tableau 1. Somme des résultats de toutes les régions | C7: Site 1 | D7: Site 2 | E7: Site 3 | F7: Site 4 | G7: Site 5 | H7: Site 6 | I7: Site 7 | J7: Site 8 | K7: Site 9 | L7: Site 10 | M7: Site 11 | N7: Site 12 | O7: Site 13 | P7: Site 14 | Q7: Site 15 | R7: Site 16 | S7: Site 17 | T7: Site 18 | U7: Site 19 | V7: Site 20 | W7: Total régional
C8: ='tout les sites'!C9:D9 -> Placerton | D8: ='tout les sites'!E9 -> [nom du site] | E8: ='tout les sites'!G9 -> [nom du site] | F8: ='tout les sites'!I9 -> [nom du site] | G8: ='tout les sites'!K9 -> [nom du site] | H8: ='tout les sites'!M9 -> [nom du site] | I8: ='tout les sites'!O9 -> [nom du site] | J8: ='tout les sites'!Q9 -> [nom du site] | K8: ='tout les sites'!S9 -> [nom du site] | L8: ='tout les sites'!U9 -> [nom du site] | M8: ='tout les sites'!W9 -> [nom du site] | N8: ='tout les sites'!Y9 -> [nom du site] | O8: ='tout les sites'!AA9 -> [nom du site] | P8: ='tout les sites'!AC9 -> [nom du site] | Q8: ='tout les sites'!AE9 -> [nom du site] | R8: ='tout les sites'!AG9 -> [nom du site] | S8: ='tout les sites'!AI9 -> [nom du site] | T8: ='tout les sites'!AK9 -> [nom du site] | U8: ='tout les sites'!AM9 -> [nom du site] | V8: ='tout les sites'!AO9 -> [nom du site] | W8: ='tout les sites'!C4 -> Goldu
B9: Production d'or artisanal (kg/an) | C9: 50.036 | W9: =SUM(C9:T9) -> 50.036
B10: Utilisation du mercure (kg/an) | C10: 212.6898 | W10: =SUM(C10:T10) -> 212.6898
B11: Main-d'œuvre EMAPE | C11: 868 | W11: =SUM(C11:T11) -> 868
A13: Approche 2 : Établir les moyennes des variables communes en visitant un sous-ensemble de sites (onglet précédent - « All sites »). Obtenir des estimations initiales en combinant ces variables avec des informations régionales
A14: Additionner toutes les données connues de la région (ci-dessous). Ajouter les moyennes clés des informations collectées dans votre sous-ensemble de sites (page précédente). Combiner les données régionales connues et les moyennes clés des sites pour extrapoler les estimations initiales régionales.
B16: Tableau 2A. Informations disponibles sur la région. Additionner ici toutes les données régionales connues.
C18: source | D18: source | E18: source | F18: source | G18: source | H18: source | I18: Commentaires
B19: Général
B20: Teneur du minerai (g/t)
B21: Pureté de l'or (%)
B22: Main-d'œuvre EMAPE totale
B23: Production aurifère annuelle (t/an)
B24: Extraction
B25: Main-d'œuvre d'extraction
B26: % de la main-d'œuvre totale
B27: nº de sites miniers - total
B28: nº de sites miniers - grand | I28: << décrire des catégories de taille (par ex. population ou productivité) et inclure des valeurs de seuil
B29: nº de sites miniers - moyen | I29: << décrire des catégories de taille (par ex. population ou productivité) et inclure des valeurs de seuil
B30: nº de sites miniers - petit | I30: << décrire des catégories de taille (par ex. population ou productivité) et inclure des valeurs de seuil
B31: nº d'unités d'extraction
B32: Traitement
B33: Main-d'œuvre de traitement
B34: % de la main-d'œuvre totale
B35: nº de sites miniers
B36: nº de sites de traitement - total
B37: nº de sites de traitement - grand | I37: << décrire des catégories de taille (par ex. population ou productivité) et inclure des valeurs de seuil
B38: nº de sites de traitement - moyen | I38: << décrire des catégories de taille (par ex. population ou productivité) et inclure des valeurs de seuil
B39: nº de sites de traitement - petit | I39: << décrire des catégories de taille (par ex. population ou productivité) et inclure des valeurs de seuil
B40: nº de systèmes de traitement de type 1
B41: nº de systèmes de traitement de type 2
B42: nº de systèmes de traitement de type 3
B43: Rapport Hg : Au
B44: Autres
B55: Tableau 2B. Exercices d'extrapolation et de recoupement. Combinaison des données régionales (tableau 2A ci-dessus) et des données moyennes de site (onglet précédent).
B56: Voir les commentaires incorporés aux cellules pour des suggestions de calcul. Ces calculs ne sont pas les seules options disponibles. Les estimations régionales peuvent être calculées de différentes manières spécifiques au pays, à la région, aux informations collectées sur site et aux informations régionales disponibles. Adapter le tableau ci-dessous à la méthodologie définie par votre équipe.
C59: Estimations régionales
C60: =#REF! -> #REF! | D60: Commentaires
B61: Donnée régionale : Main-d'œuvre | Donnée de site : Extraction
B62: Nombre total de mineurs
B63: Production d'or annuelle (t)
B64: Utilisation annuelle de Hg (t)
B66: Donnée régionale : Production d'or | Donnée de site : Extraction & Traitement
B67: Production totale d'or
B68: Main-d'œuvre EMAPE totale
B70: Donnée régionale : Nombre de sites d'extraction | Donnée de site : Extraction
B71: Nombre de grands sites miniers
B72: Nombre de sites miniers moyens
B73: Nombre de petits sites miniers
B74: Main-d'œuvre minière moyenne des grands sites
... B104: Autres approches
