Workbook

Sheet Contents
B7: استبيان حول الآليات المتبعة لتعزيز اتساق سياسات التنمية المستدامة
B8: لدعم إعداد التقارير حول مؤشر أهداف التنمية المستدامة 17.14.1
E10: الموعد النهائي لإرجاع الاستبيان:
B12: unep-oos-sdgs@un.org | C12: :برنامج الأمم المتحدة للبيئة | E12: يرجى الاتصال بنا إذا كان لديكم أي أسئلة على عنوان البريد الإلكتروني التالي:
B13: pcsd.contact@oecd.org | C13: :منظمة التعاون الاقتصادي والتنمية
E15: جدول المحتويات
B17: وضع | C17: عنوان | E17: ورقة
B18: للمعلومات | C18: جدول المحتويات | E18: المحتويات
B19: للمعلومات | C19: المقدمة، المنهجية، الخطوات المتبعة | E19: مقدمة
B20: للمعلومات | D20: مسرد المصطلحات | E20: المصطلحات
B21: لملء | C21: قياس اتساق السياسات | E21: الجدول ص١
B22: للمعلومات | C22: التقييم مع تفصيل لكل سؤال ومستوى التنفيذ، مع أمثلة | E22: التقييم
B23: لملء | C23: ورقة معلومات تكميلية | E23: الجدول ص٢

Sheet Introduction
B2: مقدمة
B4: يُنظَّم جمع البيانات بالتعاون بين برنامج الأمم المتحدة للبيئة ومنظمة التعاون الاقتصادي والتنمية لدعم إعداد التقارير حول مؤشر هدف التنمية المستدامة 17.14.1، المتعلق بعدد الدول التي لديها آليات لتعزيز اتساق سياسات التنمية المستدامة. وسيُحلِّل برنامج الأمم المتحدة للبيئة ومنظمة التعاون الاقتصادي والتنمية البيانات لاستخدامها في العمل الدولي، وستُتاح للمستخدمين حول العالم.
B5: يُرسَل الاستبيان مباشرةً إلى الدول، مُوجَّهًا إلى جهة التنسيق المُعيَّنة، أو إلى جهة تنسيق أهداف التنمية المستدامة في حال عدم تعيين جهة تنسيق. ونظرًا لاحتمالية توفير جهات مختلفة في الدولة للمعلومات المطلوبة في هذا الاستبيان، يُطلب من جهة التنسيق التعاون الوثيق مع مختلف الجهات المعنية، وجمع المعلومات الواردة من هذه الجهات في استبيان واحد، وإعادته إلى المنظمة الدولية المُرسِلة، كما هو مُبيَّن في خطاب التقديم.
B7: المنهجية
B9: تختلف آليات تعزيز اتساق السياسات اختلافًا كبيرًا من بلد لآخر، وقد تتخذ أشكالًا مختلفة. ومع ذلك، واستنادًا إلى الممارسات المتبعة، يُمكن تحديد مجموعة من الآليات التي يُحتمل أن تُعزز اتساق السياسات لتحقيق التنمية المستدامة، وبالتالي، فإن وجود مجموعة من هذه الآليات في بلد معين يُشير إلى التقدم المُحرز نحو تحقيق مؤشر هدف التنمية المستدامة 17.14.1.
B10: اتساق السياسات من أجل التنمية المستدامة (PCSD) هو نهجٌ لدمج أبعاد التنمية المستدامة في جميع عمليات صنع السياسات المحلية والدولية والنظامية. وتتمثل أهدافه، في سياق خطة عام 2030، في تعزيز التنفيذ المتكامل لها من خلال: (أ) تعزيز التآزر وتعظيم الفوائد في مجالات السياسات الاقتصادية والاجتماعية والبيئية والأطر المؤسسية؛ (ب) موازنة أهداف السياسات المحلية والأطر المؤسسية مع أهداف التنمية المستدامة المعترف بها دوليًا وغيرها من الاتفاقيات/الأطر الدولية؛ و(ج) معالجة الآثار العابرة للحدود وطويلة الأجل للسياسات، بما في ذلك تلك التي يُحتمل أن تؤثر على البلدان النامية.
B11: وضع برنامج الأمم المتحدة للبيئة ومنظمة التعاون الاقتصادي والتنمية إطارًا مركبًا للمؤشرات الخاصة بهدف التنمية المستدامة 17.14.1، يستند إلى بحوث أولية حول العمل والدراسات والشركاء والمؤشرات الحالية المتعلقة بقضايا مماثلة. ويراعي هذا المؤشر الآليات المؤسسية والتنظيمية التي تدعم الجهود المبذولة لتعزيز التنمية المستدامة الشاملة والمستدامة عبر ثمانية محاور: 1. الالتزام السياسي 2. الرؤية طويلة الامد 3. دمج التنمية المستدامة في السياسات والتمويل 4. التنسيق الحكومي الشامل 5. المشاركة على المستوى دون الوطني 6. إشراك أصحاب المصلحة 7. تقييم الأثر 8. الرصد والتقييم وإعداد التقارير
B12: يُقيّم كلٌّ من المحاور الثمانية على مقياس من صفر إلى ١٢، حيث يعني صفر عدم تطبيق أيٍّ من الآليات المطلوبة، بينما يعني ١٢ أن جميع الآليات المطلوبة مطبقة بالكامل. وبمقياس جميع المحاور الثمانية، تكون القيمة القصوى ٩٦. وتُحوّل النتيجة من ٩٦ إلى نسبة مئوية لأغراض إعداد مؤشر أهداف التنمية المستدامة 17.14.1.
B13: يتضمن كل محور ثلاثة أسئلة، تُقيّم على مقياس من 0 إلى 4، مما يشير إلى مستوى تطبيق الآلية المحددة في السؤال. يرد أدناه وصف عام لمستوى التطبيق والتقييم، ويرد وصف أكثر تفصيلاً في ورقة "التقييم".
B14: 0 - الآلية غير موجودة
B15: الآلية غير موجودة، ولا توجد خطط أو إجراءات لتطويرها.
B16: 1- الآلية قيد التطوير
... B44: ستُستخدم البيانات في إعداد التقارير العالمية لأهداف التنمية المستدامة حول مؤشر أهداف التنمية المستدامة 17.14.1، نظرًا لكونه تحت رعاية برنامج الأمم المتحدة للبيئة ومنظمة التعاون الاقتصادي والتنمية. سيتحقق برنامج الأمم المتحدة للبيئة ومنظمة التعاون الاقتصادي والتنمية من ردود الدول ويتحققان من صحتها، ثم يُرسلان النتائج إلى شعبة الإحصاءات في الأمم المتحدة (UNSD) لنشرها في قاعدة بيانات أهداف التنمية المستدامة العالمية. كما سيستخدم برنامج الأمم المتحدة للبيئة ومنظمة التعاون الاقتصادي والتنمية هذه البيانات لتتبع اتساق السياسات الوطنية ودون الوطنية كميًا ونوعيًا، ولإثراء أي أنشطة لبناء القدرات أو الدعم قد تُنفذ في الدول المستجيبة. وستُستخدم البيانات أيضًا لإعداد تقارير عن جهود الدول الملتزمة بتوصية منظمة التعاون الاقتصادي والتنمية بشأن اتساق السياسات من أجل التنمية المستدامة، لدعم التعلم بين الأقران والحوار بشأن السياسات. الانضمام إلى هذه التوصية متاح لجميع الدول.

Sheet Glossary
B2: المصطلحات
B4: اتساق السياسات من أجل التنمية المستدامة (PCSD):
B5: نهجٌ لدمج أبعاد التنمية المستدامة في عملية صنع السياسات المحلية، الدولية والنظامية. وتتمثل أهدافه، في سياق خطة عام 2030، في تعزيز التنفيذ المتكامل لها من خلال: (أ) تعزيز التآزر وتعظيم الفوائد في مجالات السياسات الاقتصادية والاجتماعية والبيئية والأطر المؤسسية؛ (ب) موازنة أهداف السياسات المحلية والأطر المؤسسية مع أهداف التنمية المستدامة المعترف بها دوليًا وغيرها من الاتفاقيات/الأطر الدولية؛ و(ج) معالجة الآثار العابرة للحدود وطويلة الامد للسياسات، بما في ذلك تلك التي يُحتمل أن تؤثر على البلدان النامية
B7: الآليات المؤسسية:
B8: الهياكل والأنظمة والعمليات وأساليب العمل التي تطبقها الحكومة في كافة فروع ومستويات الحكومة وكذلك من قبل أصحاب المصلحة الرئيسيين.
B10: أصحاب المصلحة:
B11: كل من يهمه الأمر و/أو يتأثر، بما في ذلك: الأفراد والمؤسسات والمنظمات الوطنية أو الإقليمية أو الدولية، سواء كانت حكومية أو غير حكومية، ومن المجتمع المدني والمؤسسات والهيئات الأكاديمية ووسائل الإعلام أو القطاع الخاص وغيرهم.
B13: التأثيرات العابرة للحدود:
B14: أي تأثير - مقصود أو غير مقصود - نشأ في بلد ما ويتجاوز الحدود الوطنية من خلال تدفقات رأس المال والسلع والموارد البشرية والطبيعية، والذي يمكنه التأثير بشكل إيجابي أو سلبي على آفاق التنمية المستدامة في بلد آخر.

Sheet P1
H2: الجدول P1: قياس اتساق السياسات
B4: الأدلة الداعمة | C4: معيار الإجابة | D4: نقاط | E4: جواب | F4: سؤال | G4: # | H4: موضوع
C5: =IFERROR(INDEX(Lists!$G$3:$K$26,MATCH('P1'!$G5,Lists!$F$3:$F$26,0),MATCH('P1'!$E5,Lists!$G$2:$K$2,0)),"") | D5: =IFERROR(VLOOKUP(E5,Lists!$B$3:$C$7,2,0),"") | F5: هل هناك بيان سياسي واضح على أعلى مستوى في الحكومة يوضح الالتزام باتساق السياسات من أجل التنمية المستدامة؟ على سبيل المثال، الالتزام الصريح بتحقيق الاتساق في سياسات التنمية المستدامة في الوثائق الاستراتيجية الوطنية أو السياسات أو التشريعات، بما في ذلك على المستوى القطاعي. | G5: 1.1 | H5: 1. الالتزام السياسي
C6: =IFERROR(INDEX(Lists!$G$3:$K$26,MATCH('P1'!$G6,Lists!$F$3:$F$26,0),MATCH('P1'!$E6,Lists!$G$2:$K$2,0)),"") | D6: =IFERROR(VLOOKUP(E6,Lists!$B$3:$C$7,2,0),"") | F6: هل حددت الحكومة مجالات أولوية وطنية واضحة لتعزيز اتساق السياسات من أجل التنمية المستدامة؟ على سبيل المثال، مجالات ذات أولوية واضحة لمعالجة القضايا التي تتطلب إدارة المقايضات أو معالجة التأثيرات العابرة للحدود المحتملة، والتي يتم تحديدها ضمن سياسة أو استراتيجية أو قانون أو خطة عمل وطنية لتعزيز التنمية المستدامة. | G6: 1.2
C7: =IFERROR(INDEX(Lists!$G$3:$K$26,MATCH('P1'!$G7,Lists!$F$3:$F$26,0),MATCH('P1'!$E7,Lists!$G$2:$K$2,0)),"") | D7: =IFERROR(VLOOKUP(E7,Lists!$B$3:$C$7,2,0),"") | F7: هل حددت الحكومة أدوارًا ومسؤوليات مؤسسية واضحة لتعزيز ومراقبة وتنفيذ اتساق السياسات من أجل التنمية المستدامة؟ على سبيل المثال، أنشأ قانون أو توجيه إداري وحدة مركزية أو وزارة أو لجنة مشتركة بين الوزارات مكلفة بتعزيز أو الإشراف على أو تنفيذ اتساق السياسات من أجل التنمية المستدامة. | G7: 1.3
D8: =SUM(D5:D7) -> 0 | F8: المجموع الفرعي للنقاط للموضوع 1. الالتزام السياسي
C9: =IFERROR(INDEX(Lists!$G$3:$K$26,MATCH('P1'!$G9,Lists!$F$3:$F$26,0),MATCH('P1'!$E9,Lists!$G$2:$K$2,0)),"") | D9: =IFERROR(VLOOKUP(E9,Lists!$B$3:$C$7,2,0),"") | F9: هل وضعت الحكومة رؤية استراتيجية طويلة الأمد للتنمية المستدامة لتعزيز اتساق السياسات؟ على سبيل المثال، بيان رؤية وطنية أو سياسة أو استراتيجية أو خطة عمل تحدد الأهداف لتحديد ومنع وتخفيف الآثار السلبية الفعلية والمحتملة لعملية صنع القرار على رفاهية الأجيال القادمة وتنميتها المستدامة. | G9: 2.1 | H9: 2. الرؤية طويلة الامد
C10: =IFERROR(INDEX(Lists!$G$3:$K$26,MATCH('P1'!$G10,Lists!$F$3:$F$26,0),MATCH('P1'!$E10,Lists!$G$2:$K$2,0)),"") | D10: =IFERROR(VLOOKUP(E10,Lists!$B$3:$C$7,2,0),"") | F10: هل تستخدم الحكومة أدوات التخطيط الاستراتيجي الطويل الأمد لتعزيز اتساق السياسات؟ على سبيل المثال، استخدام أدوات مثل تقييمات الأثر، والاستشراف الاستراتيجي، وتطوير السيناريوهات، وأدوات النمذجة المتكاملة أو مناهج التفكير النظمي في صياغة وتنفيذ الاستراتيجيات والسياسات لتحديد ومنع وتخفيف الآثار السلبية المحتملة على رفاهة الأجيال القادمة وتنميتها المستدامة. | G10: 2.2
C11: =IFERROR(INDEX(Lists!$G$3:$K$26,MATCH('P1'!$G11,Lists!$F$3:$F$26,0),MATCH('P1'!$E11,Lists!$G$2:$K$2,0)),"") | D11: =IFERROR(VLOOKUP(E11,Lists!$B$3:$C$7,2,0),"") | F11: هل وضعت الحكومة ترتيبات أو آليات مؤسسية مخصصة لدعم رؤية طويلة الأمد لاتساق السياسات من أجل التنمية المستدامة؟ على سبيل المثال، يمكن للهيئات المستقلة، أو المفوض، أو المجلس، أو أمين المظالم للأجيال القادمة، تعزيز الرؤية طويلة الأجل لاتساق السياسات من أجل التنمية المستدامة والتي تستمر بعد الدورات الانتخابية أو فترات الحكومة. | G11: 2.3
D12: =SUM(D9:D11) -> 0 | F12: المجموع الفرعي للنقاط للموضوع 2. الرؤية طويلة الامد
C13: =IFERROR(INDEX(Lists!$G$3:$K$26,MATCH('P1'!$G13,Lists!$F$3:$F$26,0),MATCH('P1'!$E13,Lists!$G$2:$K$2,0)),"") | D13: =IFERROR(VLOOKUP(E13,Lists!$B$3:$C$7,2,0),"") | F13: هل لدى الحكومة إجراءات ميزانية تدمج التنمية المستدامة في السياسات القطاعية، وتعالج أوجه التآزر والتوازنات عبر مجالات السياسة الاقتصادية والاجتماعية والبيئية؟ على سبيل المثال، من خلال استخدام ميزانية أهداف التنمية المستدامة (أي وضع علامات على تدابير الميزانية، وما إلى ذلك) أو قوائم المراجعة. | G13: 3.1 | H13: 3. دمج التنمية المستدامة في السياسات والتمويل
C14: =IFERROR(INDEX(Lists!$G$3:$K$26,MATCH('P1'!$G14,Lists!$F$3:$F$26,0),MATCH('P1'!$E14,Lists!$G$2:$K$2,0)),"") | D14: =IFERROR(VLOOKUP(E14,Lists!$B$3:$C$7,2,0),"") | F14: هل لدى الحكومة آليات أو أدوات مخصصة لدمج التنمية المستدامة في الخطط القطاعية أو التمويلية للوزارات المعنية؟ على سبيل المثال، الاستراتيجيات والمبادئ التوجيهية واللوائح والأحكام أو آليات التنسيق للوزارات والهيئات الحكومية لمواءمة صلاحياتها وسياساتها وأهدافها القطاعية مع أولويات التنمية المستدامة. | G14: 3.2
C15: =IFERROR(INDEX(Lists!$G$3:$K$26,MATCH('P1'!$G15,Lists!$F$3:$F$26,0),MATCH('P1'!$E15,Lists!$G$2:$K$2,0)),"") | D15: =IFERROR(VLOOKUP(E15,Lists!$B$3:$C$7,2,0),"") | F15: هل وضعت الحكومة آليات أو تدابير لتعزيز تعبئة الموارد العامة والخاصة والمحلية والدولية لتحقيق التنمية المستدامة؟ على سبيل المثال، برامج أو سياسات محددة مستنيرة باتساق السياسات لتعزيز مساهمة الموارد المحلية في التنمية المستدامة؛ والحوافز أو الأطر لجذب الاستثمار الخاص لمشاريع التنمية المستدامة؛ والشراكات بين الحكومة والقطاع الخاص لتمويل مبادرات التنمية المستدامة، وما إلى ذلك. | G15: 3.3
D16: =SUM(D13:D15) -> 0 | F16: المجموع الفرعي للنقاط للموضوع 3. دمج التنمية المستدامة في السياسات والتمويل
C17: =IFERROR(INDEX(Lists!$G$3:$K$26,MATCH('P1'!$G17,Lists!$F$3:$F$26,0),MATCH('P1'!$E17,Lists!$G$2:$K$2,0)),"") | D17: =IFERROR(VLOOKUP(E17,Lists!$B$3:$C$7,2,0),"") | F17: هل أنشأت الحكومة آليات تنسيق رفيعة المستوى ذات صلاحيات واضحة لضمان التنسيق على مستوى الحكومة بأكملها لتحقيق الاتساق في السياسات المتعلقة بالتنمية المستدامة، بما في ذلك على المستوى القطاعي؟ على سبيل المثال، آلية أو هيئة تنسيق رفيعة المستوى سواء كانت تقع داخل مركز الحكومة أو وزارة رئيسية حسب الاقتضاء، مع تفويض واضح وموارد وقدرات لتوقع وحل الخلافات في السياسات، بما في ذلك الآثار السلبية المحتملة للسياسات، والتوترات الناشئة عن الأولويات المتباينة والمصالح القطاعية المختلفة. | G17: 4.1 | H17: 4. التنسيق الحكومي الشامل
C18: =IFERROR(INDEX(Lists!$G$3:$K$26,MATCH('P1'!$G18,Lists!$F$3:$F$26,0),MATCH('P1'!$E18,Lists!$G$2:$K$2,0)),"") | D18: =IFERROR(VLOOKUP(E18,Lists!$B$3:$C$7,2,0),"") | F18: هل هناك هياكل حوكمة رسمية أو قنوات غير رسمية قائمة لدعم التواصل بين الوزارات والإدارات القطاعية لتعزيز اتساق السياسات من أجل التنمية المستدامة؟ على سبيل المثال، اللجان المشتركة بين الوزارات التي تحفز التبادل المفتوح للأفكار والتفكير المبتكر لمعالجة أهداف السياسة الشاملة وتطوير حلول متكاملة. | G18: 4.2
C19: =IFERROR(INDEX(Lists!$G$3:$K$26,MATCH('P1'!$G19,Lists!$F$3:$F$26,0),MATCH('P1'!$E19,Lists!$G$2:$K$2,0)),"") | D19: =IFERROR(VLOOKUP(E19,Lists!$B$3:$C$7,2,0),"") | F19: هل توجد برامج محددة لبناء القدرات أو موارد أخرى متاحة لموظفي القطاع العام أو المسؤولين الحكوميين أو الموظفين لتعزيز اتساق السياسات من أجل التنمية المستدامة؟ على سبيل المثال، لتحسين المهارات التي تُمكّن موظفي القطاع العام من تجاوز بيئات عملهم التقليدية، وتحفزهم على التفكير والتصرف بطرق جديدة ومتعددة التخصصات لتعزيز الاتساق في صنع السياسات. | G19: 4.3
D20: =SUM(D17:D19) -> 0 | F20: المجموع الفرعي للنقاط للموضوع 4. التنسيق الحكومي الشامل
C21: =IFERROR(INDEX(Lists!$G$3:$K$26,MATCH('P1'!$G21,Lists!$F$3:$F$26,0),MATCH('P1'!$E21,Lists!$G$2:$K$2,0)),"") | D21: =IFERROR(VLOOKUP(E21,Lists!$B$3:$C$7,2,0),"") | F21: هل توجد أحكام أو آليات قائمة لمواءمة الخطط والسياسات والميزانيات والأطر التنظيمية الوطنية ودون الوطنية لتحقيق التنمية المستدامة؟ على سبيل المثال، تُحدد الاستراتيجيات الوطنية للتنمية المستدامة الإجراءات ذات الصلة وتُلزم بالمشاركة على المستوى دون الوطني؛ أو تُرسخ آليات تبادل البيانات وغيرها من أشكال التفاعل بين المستويات الحكومية بطرق أخرى. | G21: 5.1 | H21: 5. المشاركة على المستوى دون الوطني
C22: =IFERROR(INDEX(Lists!$G$3:$K$26,MATCH('P1'!$G22,Lists!$F$3:$F$26,0),MATCH('P1'!$E22,Lists!$G$2:$K$2,0)),"") | D22: =IFERROR(VLOOKUP(E22,Lists!$B$3:$C$7,2,0),"") | F22: هل توجد هياكل حوكمة رسمية أو قنوات غير رسمية لدعم التواصل بين المستويات الحكومية الوطنية ودون الوطنية لتعزيز اتساق السياسات المتعلقة بالتنمية المستدامة؟ على سبيل المثال، اللجان المشتركة بين الأقاليم، ومشاركة الحكومات المحلية في المجالس الوطنية لأجندة 2030، ومراكز التنسيق لتنفيذ أهداف التنمية المستدامة على المستويين الإقليمي والمحلي. | G22: 5.2
C23: =IFERROR(INDEX(Lists!$G$3:$K$26,MATCH('P1'!$G23,Lists!$F$3:$F$26,0),MATCH('P1'!$E23,Lists!$G$2:$K$2,0)),"") | D23: =IFERROR(VLOOKUP(E23,Lists!$B$3:$C$7,2,0),"") | F23: هل توجد آليات أو عمليات قائمة لضمان تنسيق العمل بين الوكالات الوطنية ودون الوطنية بشأن المبادرات الدولية أو التعاون الإنمائي من أجل التنمية المستدامة؟ على سبيل المثال، تقدم الوكالات الوطنية خدمات استشارية، أو شبكات، أو خدمات توفيق بين الوكالات دون الوطنية المشاركة في المبادرات الدولية أو التعاون الإنمائي. | G23: 5.3
D24: =SUM(D21:D23) -> 0 | F24: المجموع الفرعي للنقاط للموضوع 5. المشاركة على المستوى دون الوطني
C25: =IFERROR(INDEX(Lists!$G$3:$K$26,MATCH('P1'!$G25,Lists!$F$3:$F$26,0),MATCH('P1'!$E25,Lists!$G$2:$K$2,0)),"") | D25: =IFERROR(VLOOKUP(E25,Lists!$B$3:$C$7,2,0),"") | F25: هل توجد آليات تشاركية لضمان إطلاع أصحاب المصلحة وإشراكهم بشكل استباقي في مختلف مراحل دورة السياسات المتعلقة بالتنمية المستدامة، أو في تطوير مبادرات اتساق السياسات من أجل التنمية المستدامة من خلال نهج يشمل المجتمع بأكمله؟ على سبيل المثال، تُمكّن القوانين المخصصة، والمشاورات العامة، واللجان الاستشارية، ومجموعات التركيز، والمنصات الإلكترونية، والاجتماعات الدورية، أو غيرها من الوسائل، من المشاركة في صنع القرار، وجمع الملاحظات، ومعالجة قضايا الاتساق، والتعاون في إيجاد حلول تشمل مختلف مستويات المجتمع. | G25: 6.1 | H25: 6. إشراك أصحاب المصلحة
C26: =IFERROR(INDEX(Lists!$G$3:$K$26,MATCH('P1'!$G26,Lists!$F$3:$F$26,0),MATCH('P1'!$E26,Lists!$G$2:$K$2,0)),"") | D26: =IFERROR(VLOOKUP(E26,Lists!$B$3:$C$7,2,0),"") | F26: هل توجد آلياتٌ للتواصل مع الفئات المهمشة والضعيفة في المجتمع، والدعوة لتلبية احتياجاتها ومشاركتها في صنع القرار للنهوض بالتنمية المستدامة الشاملة؟ على سبيل المثال، التشاور مع مختلف الفئات أو إشراكها كمشاركين في وضع خطط عمل تُدمج، بشكل متكامل، مبدأ عدم إغفال أحد في السياسات العامة وتدابير الإصلاح، مع التركيز على تدابير مُستهدفة تدعم الفئات الأكثر تخلفًا عن الركب، وتعزز حقوق الإنسان والمساواة بين الجنسين والاندماج الاجتماعي. | G26: 6.2
C27: =IFERROR(INDEX(Lists!$G$3:$K$26,MATCH('P1'!$G27,Lists!$F$3:$F$26,0),MATCH('P1'!$E27,Lists!$G$2:$K$2,0)),"") | D27: =IFERROR(VLOOKUP(E27,Lists!$B$3:$C$7,2,0),"") | F27: هل وضعت الحكومة آلياتٍ لتعزيز مشاركة أصحاب المصلحة في اتساق سياسات التنمية المستدامة على مختلف مستويات الحوكمة، للنهوض بأفضل الممارسات وتشجيع التعلّم بين الأقران؟ على سبيل المثال، المشاركة من خلال الحملات العالمية أو الوطنية، وحوارات السياسات، والعمليات الحكومية الدولية، ومبادرات بناء القدرات، والتعبئة المجتمعية. | G27: 6.3
D28: =SUM(D25:D27) -> 0 | F28: المجموع الفرعي للنقاط للموضوع 6. إشراك أصحاب المصلحة
C29: =IFERROR(INDEX(Lists!$G$3:$K$26,MATCH('P1'!$G29,Lists!$F$3:$F$26,0),MATCH('P1'!$E29,Lists!$G$2:$K$2,0)),"") | D29: =IFERROR(VLOOKUP(E29,Lists!$B$3:$C$7,2,0),"") | F29: هل لدى الحكومة أي آليات أو أدوات لإجراء تقييمات دورية لأثر السياسات لتحديد أي آثار إيجابية أو سلبية على التنمية المستدامة؟ على سبيل المثال، تُستخدم بانتظام في مختلف القطاعات الحكومية أدوات راسخة، مثل تحليل التكلفة والعائد، وأطر المؤشرات لتتبع فعالية السياسات، أو أدوات أخرى مثل تقييمات الأثر التنظيمي، والبيئي، والجنساني، والاجتماعي، والاستراتيجي، لتقييم السياسات ومواءمتها مع أهداف التنمية المستدامة. | G29: 7.1 | H29: 7. تقييم الأثر
C30: =IFERROR(INDEX(Lists!$G$3:$K$26,MATCH('P1'!$G30,Lists!$F$3:$F$26,0),MATCH('P1'!$E30,Lists!$G$2:$K$2,0)),"") | D30: =IFERROR(VLOOKUP(E30,Lists!$B$3:$C$7,2,0),"") | F30: هل أجرت الحكومة تقييمات مسبقة ولاحقة لأثر السياسات تأخذ في الاعتبار الآثار العابرة للحدود؟ على سبيل المثال، تُستخدم بانتظام في مختلف القطاعات الحكومية أدوات راسخة، مثل تحليل التكلفة والعائد، وتقييمات الأثر العابر للحدود، ومشاورات أصحاب المصلحة المتعددين، وأطر المؤشرات، وغيرها من الأدوات، لتقييم الآثار العابرة للحدود للسياسات على التنمية المستدامة. | G30: 7.2
C31: =IFERROR(INDEX(Lists!$G$3:$K$26,MATCH('P1'!$G31,Lists!$F$3:$F$26,0),MATCH('P1'!$E31,Lists!$G$2:$K$2,0)),"") | D31: =IFERROR(VLOOKUP(E31,Lists!$B$3:$C$7,2,0),"") | F31: هل لدى الحكومة أي آليات لبناء قدرات القطاع العام على جمع وتحليل الأدلة حول كيفية تأثير السياسات أو القوانين أو اللوائح المختلفة على التنمية المستدامة؟ على سبيل المثال، تدريب مصمم لتمكين موظفي الخدمة المدنية من التعامل استراتيجيًا مع الآثار الإيجابية والسلبية للسياسات أو القوانين أو اللوائح على التنمية المستدامة. | G31: 7.3
D32: =SUM(D29:D31) -> 0 | F32: المجموع الفرعي للنقاط للموضوع 7. تقييم الأثر
C33: =IFERROR(INDEX(Lists!$G$3:$K$26,MATCH('P1'!$G33,Lists!$F$3:$F$26,0),MATCH('P1'!$E33,Lists!$G$2:$K$2,0)),"") | D33: =IFERROR(VLOOKUP(E33,Lists!$B$3:$C$7,2,0),"") | F33: هل لدى الحكومة أي أنظمة لإدارة المعلومات أو آليات مماثلة لتحديد البيانات والمؤشرات و/أو المعلومات الأخرى وتجميعها بشكل متماسك لرصد التقدم المحرز في التنمية المستدامة؟ على سبيل المثال، مركزية البيانات والمؤشرات والمعلومات الموثوقة المتوفرة لرصد التأثيرات الخارجية الاقتصادية والاجتماعية والبيئية المفروضة خارج الحدود الوطنية (التأثيرات العابرة للحدود) | G33: 8.1 | H33: 8. الرصد والتقييم وإعداد التقارير
C34: =IFERROR(INDEX(Lists!$G$3:$K$26,MATCH('P1'!$G34,Lists!$F$3:$F$26,0),MATCH('P1'!$E34,Lists!$G$2:$K$2,0)),"") | D34: =IFERROR(VLOOKUP(E34,Lists!$B$3:$C$7,2,0),"") | F34: هل لدى الحكومة آلياتٌ لتقديم تقارير منتظمة وشفافة إلى الهيئات الوطنية المعنية (مثل البرلمان، أو الوزارات، أو غيرها) حول التقدم المحرز في مجال اتساق السياسات من أجل التنمية المستدامة؟ على سبيل المثال، تُقدّم تقارير منتظمة إلى البرلمان، أو الوزارات، أو غيرها من الهيئات حول التقدم المحرز في مجال اتساق السياسات من أجل التنمية المستدامة. كما يُمكن تضمين معلومات حول التقدم المحرز في التقارير الوطنية الطوعية وفي تقارير أنشطة التعاون الإنمائي. | G34: 8.2
C35: =IFERROR(INDEX(Lists!$G$3:$K$26,MATCH('P1'!$G35,Lists!$F$3:$F$26,0),MATCH('P1'!$E35,Lists!$G$2:$K$2,0)),"") | D35: =IFERROR(VLOOKUP(E35,Lists!$B$3:$C$7,2,0),"") | F35: هل لدى الحكومة آلياتٌ قائمةٌ لضمان تقييم نتائج اتساق سياسات التنمية المستدامة بانتظام، واستخدامها لاتخاذ إجراءاتٍ تكيفية، بما في ذلك ما يتعلق بالتآزر والتوازنات المحتملة بين السياسات القطاعية؟ على سبيل المثال، تُقيّم أنظمة التقييم بشكلٍ منهجي اتساق السياسات مع الأولويات والسياسات القطاعية المختلفة، مما يُوفر رؤىً عمليةً لصانعي السياسات. | G35: 8.3
D36: =SUM(D33:D35) -> 0 | F36: المجموع الفرعي للنقاط للموضوع 8. الرصد والتقييم وإعداد التقارير
D37: =SUM(D36,D32,D28,D24,D20,D16,D12,D8) -> 0 | H37: مجموع النقاط

Sheet Scoring
A2: التسجيل مع تفصيل لكل سؤال ومستوى التنفيذ، مع تضمين أمثلة
C4: الآلية موجودة، تم تنفيذها بالكامل (4) | D4: الآلية موجودة، تم تنفيذها جزئيًا (3) | E4: الآلية موجودة، لم يتم تنفيذها (2) | F4: الآلية قيد التطوير (1) | G4: الآلية غير موجودة (0) | H4: سؤال | I4: # | J4: موضوع
C5: هناك بيان سياسي واضح على أعلى مستوى حكومي يُظهر الالتزام باتساق سياسات التنمية المستدامة، ويُطبّق في جميع جوانب الحوكمة ذات الصلة. (على سبيل المثال: أصدرت الحكومة بيانًا سياسيًا واضحًا على أعلى مستوى، يُظهر الالتزام باتساق سياسات التنمية المستدامة. تعمل القيادة السياسية بنشاط على تعزيز اتساق سياسات التنمية المستدامة ودعم أهداف التنمية المستدامة، بما يضمن توافق السياسات والقوانين والترتيبات المؤسسية مع هذه الأهداف، بما في ذلك على المستوى القطاعي، حسب الاقتضاء. يُترجم هذا الالتزام إلى آليات وإجراءات ملموسة في جميع القطاعات والسياسات ذات الصلة. ويشمل ذلك دمج اتساق سياسات التنمية المستدامة في السياسات والأطر التشريعية ذات الصلة، والتخطيط الاستراتيجي، والأنشطة التشغيلية، مما يعزز ثقافة الاستدامة في جميع أنحاء الحكومة. يتم إشراك أصحاب المصلحة، وحشد الدعم العام، ووضع آليات رصد وتقييم فعالة لتتبع التقدم وضمان المساءلة). | D5: هناك بيان سياسي واضح على أعلى مستوى حكومي يُظهر الالتزام باتساق سياسات التنمية المستدامة، إلا أن مستوى التنفيذ غير مكتمل. (على سبيل المثال، قد تكون بعض العناصر مفقودة، مما يحول دون التنفيذ الكامل للالتزام باتساق سياسات التنمية المستدامة. قد يُعزى ذلك إلى عدم وضوح صلاحيات الرقابة، والأدوار والمسؤوليات، أو نقص التمويل، أو القدرات، أو البيانات، أو الأعباء التنظيمية، أو الفجوات المعيارية، أو الإجراءات البيروقراطية المطولة). | E5: يوجد بيان سياسي واضح على أعلى مستوى حكومي يُظهر الالتزام باتساق سياسات التنمية المستدامة، إلا أنه لا يُطبّق. (على سبيل المثال: ينعكس الالتزام باتساق سياسات التنمية المستدامة في الاستراتيجيات القطاعية أو السياسات أو القوانين، ولكن لا توجد خطط عمل أو مجالات ذات أولوية أو أدوار ومسؤوليات مؤسسية لدعمه. ولا تُترجم أي أنشطة الالتزام باتساق سياسات التنمية المستدامة إلى أفعال فعلية). | F5: لا يوجد بيان سياسي واضح؛ ومع ذلك، توجد خطط رسمية لوضع بيان سياسي وإدراجه في الوثائق أو السياسات أو التشريعات الاستراتيجية الوطنية، بما في ذلك على المستوى القطاعي، أو أنه قيد التطوير حاليًا. (على سبيل المثال، وثيقة أو سياسة أو قانون استراتيجي وطني جديد أو مُحدّث قادم، يتضمن التزامًا صريحًا باتساق السياسات من أجل التنمية المستدامة). | G5: لا يوجد بيان سياسي واضح في هذا الشأن، كما لا توجد خطط أو إجراءات لتضمينه في الوثائق أو السياسات أو التشريعات الاستراتيجية الوطنية. | H5: هل هناك بيان سياسي واضح على أعلى مستوى في الحكومة يوضح الالتزام باتساق السياسات من أجل التنمية المستدامة؟ على سبيل المثال، الالتزام الصريح بتحقيق الاتساق في سياسات التنمية المستدامة في الوثائق الاستراتيجية الوطنية أو السياسات أو التشريعات، بما في ذلك على المستوى القطاعي. | I5: 1.1 | J5: 1. الالتزام السياسي
C6: حددت الحكومة أولويات وطنية واضحة لتعزيز اتساق السياسات المتعلقة بالتنمية المستدامة، وتُنفذ هذه الأولويات بما يشمل جميع جوانب الحوكمة ذات الصلة. (على سبيل المثال، تُدمج الأولويات المحددة في السياسات والاستراتيجيات القطاعية وخطط العمل المحددة زمنيًا، مما يُوجه الجهود لتحقيق أهداف التنمية المستدامة، ويستفيد من أوجه التآزر بين القطاعات، ويأخذ في الاعتبار الآثار العابرة للحدود المحتملة للسياسات. وهناك تنسيق فعال بين القطاعات لمواءمة المبادرات مع هذه الأولويات، مما يعزز نهجًا متكاملًا على مستوى الحكومة). | D6: حددت الحكومة بوضوح أولويات وطنية لتعزيز اتساق السياسات من أجل التنمية المستدامة، إلا أن مستوى التنفيذ لم يكتمل بعد. (على سبيل المثال، قد تعيق بعض العوامل التنفيذ الكامل. قد تشمل هذه العوامل نقص التمويل، والقدرات، والبيانات، والنهج المؤسسية المنعزلة، والفجوات المعيارية أو التنظيمية، بما في ذلك على المستوى القطاعي، أو الإجراءات البيروقراطية المطولة). | E6: حددت الحكومة بوضوح مجالات ذات أولوية وطنية لتعزيز اتساق سياسات التنمية المستدامة، إلا أنها لم تُنفَّذ إجراءات محددة لمعالجة هذه المجالات. | F6: لا توجد أولويات وطنية واضحة؛ ومع ذلك، توجد خطط رسمية لتحديدها، أو هي قيد التطوير حاليًا. | G6: لا توجد مجالات ذات أولوية وطنية واضحة، ولا توجد خطط أو إجراءات لتحديدها. | H6: هل حددت الحكومة مجالات أولوية وطنية واضحة لتعزيز اتساق السياسات من أجل التنمية المستدامة؟ على سبيل المثال، مجالات ذات أولوية واضحة لمعالجة القضايا التي تتطلب إدارة المقايضات أو معالجة التأثيرات العابرة للحدود المحتملة، والتي يتم تحديدها ضمن سياسة أو استراتيجية أو قانون أو خطة عمل وطنية لتعزيز التنمية المستدامة. | I6: 1.2
C7: حددت الحكومة أدوارًا ومسؤوليات مؤسسية واضحة لتعزيز اتساق سياسات التنمية المستدامة والإشراف عليها وتنفيذها. عمليًا، تُطبّق هذه الأدوار بشكل شامل في جميع جوانب الحوكمة ذات الصلة. (على سبيل المثال، أُنشئت مؤسسة رائدة بصلاحيات واضحة لتعزيز اتساق سياسات التنمية المستدامة والإشراف على تطبيقه في جميع أنحاء الحكومة. صلاحيات هذه المؤسسة ودورها معروفان جيدًا في جميع أنحاء الحكومة في مختلف القطاعات وعلى مختلف المستويات). | D7: حددت الحكومة أدوارًا ومسؤوليات مؤسسية واضحة لتعزيز اتساق سياسات التنمية المستدامة والإشراف عليها وتنفيذها. إلا أن هذه الأدوار لم تُنفَّذ إلا جزئيًا. (قد يكون هناك العديد من التحديات التي تُؤدي إلى التنفيذ الجزئي، بما في ذلك محدودية الموارد المالية والبشرية والتقنية، ومقاومة الممارسات المؤسسية القائمة، ونقص التعاون بين الوزارات، والفجوات المعيارية أو التنظيمية، وعدم كفاية بناء قدرات الموظفين المعنيين بتماسك سياسات التنمية المستدامة). | E7: حددت الحكومة أدوارًا ومسؤوليات مؤسسية واضحة لتعزيز اتساق سياسات التنمية المستدامة والإشراف عليها وتنفيذها، إلا أن هذه الأدوار لم تُنفَّذ بعد. (على سبيل المثال، تشمل العوامل التي قد تعيق التنفيذ: نقص التمويل، وقيود القدرات، والأعباء التنظيمية، والفجوات المعيارية، وغياب الصلاحيات المحددة، وضعف الإرادة السياسية، ومشاكل التنسيق، وضعف مشاركة أصحاب المصلحة، وضعف التواصل بين الوزارات، إلخ). | F7: لا توجد أدوار ومسؤوليات مؤسسية واضحة؛ ومع ذلك، توجد خطط رسمية لتحديدها، أو هي قيد التطوير حاليًا. (على سبيل المثال، التغييرات القادمة في الهياكل الحكومية؛ أو صلاحيات جديدة للهيئات أو الهياكل المؤسسية القائمة التي تحدد بوضوح دور اتساق سياسات التنمية المستدامة، أو إنشاء هيئات أو مؤسسات جديدة مُكلفة صراحةً بتعزيز اتساق سياسات التنمية المستدامة على مستوى الحكومة). | G7: لا توجد أدوار ومسؤوليات مؤسسية واضحة، ولا توجد خطط أو إجراءات لتحديدها. | H7: هل حددت الحكومة أدوارًا ومسؤوليات مؤسسية واضحة لتعزيز ومراقبة وتنفيذ اتساق السياسات من أجل التنمية المستدامة؟ على سبيل المثال، أنشأ قانون أو توجيه إداري وحدة مركزية أو وزارة أو لجنة مشتركة بين الوزارات مكلفة بتعزيز أو الإشراف على أو تنفيذ اتساق السياسات من أجل التنمية المستدامة. | I7: 1.3
C8: وضعت الحكومة رؤية استراتيجية طويلة المدى للتنمية المستدامة لتعزيز اتساق السياسات، وتُطبّق في جميع جوانب الحوكمة ذات الصلة. (على سبيل المثال، وُضعت رؤية أو استراتيجية طويلة المدى تُحدّد أهدافًا وغايات طويلة المدى للتنمية المستدامة، وتُوجّه عملية صنع القرار على المدى القصير لمراعاة رفاهية الأجيال القادمة وتنميتها المستدامة. تُدمج هذه الرؤية الاستراتيجية في جميع الاستراتيجيات والسياسات القطاعية ذات الصلة، وتُترجم إلى إجراءات ملموسة لتحديد الآثار السلبية المحتملة على الأجيال القادمة ومنعها والتخفيف منها. تتضمن هذه العملية إشراك الجهات المعنية، وتأمين الدعم التشريعي والشعبي، ووضع أطر متينة للرصد والتقييم). | D8: وضعت الحكومة رؤية استراتيجية طويلة المدى للتنمية المستدامة لتعزيز اتساق السياسات، إلا أن مستوى التنفيذ لم يكتمل بعد. (على سبيل المثال، قد تعيق عدة تحديات التنفيذ الكامل. وتشمل هذه التحديات ضعف التكامل مع السياسات القطاعية، وعدم تحديد الأهداف، ومحدودية مشاركة أصحاب المصلحة، وضعف الرصد، وقيود القدرات، والفجوات المعيارية، وضعف الوعي العام). | E8: وضعت الحكومة واعتمدت رسميًا رؤية استراتيجية طويلة المدى للتنمية المستدامة لتعزيز اتساق السياسات، إلا أنها لم تُنفَّذ بعد. (على سبيل المثال، لا تتضمن الاستراتيجيات والسياسات القطاعية العناصر الرئيسية للرؤية طويلة المدى. كما أنها تفتقر إلى أهداف واضحة لتحديد الآثار السلبية المحتملة لعملية صنع القرار على رفاهية الأجيال القادمة وتنميتها المستدامة، أو منعها، أو الحد منها). | F8: لا توجد رؤية استراتيجية طويلة المدى للتنمية المستدامة؛ ومع ذلك، توجد خطط رسمية لتطويرها، أو هي قيد التطوير حاليًا. (على سبيل المثال، بيان رؤية وطنية طويلة المدى جديدة أو مُحدّثة، أو سياسة، أو استراتيجية لتحديد الآثار السلبية الفعلية والمحتملة لعملية صنع القرار على رفاهية الأجيال القادمة وتنميتها المستدامة، ومنعها، والتخفيف منها). | G8: لا توجد رؤية استراتيجية طويلة الأمد للتنمية المستدامة، ولا توجد خطط أو إجراءات لتطويرها. | H8: هل وضعت الحكومة رؤية استراتيجية طويلة الأمد للتنمية المستدامة لتعزيز اتساق السياسات؟ على سبيل المثال، بيان رؤية وطنية أو سياسة أو استراتيجية أو خطة عمل تحدد الأهداف لتحديد ومنع وتخفيف الآثار السلبية الفعلية والمحتملة لعملية صنع القرار على رفاهية الأجيال القادمة وتنميتها المستدامة. | I8: 2.1 | J8: 2. الرؤية طويلة الامد
C9: تستخدم الحكومة أدوات التخطيط الاستراتيجي طويل المدى لتعزيز اتساق السياسات، وتُطبّق هذه الأدوات لتشمل جميع جوانب الحوكمة ذات الصلة. (على سبيل المثال، تستخدم الحكومة عادةً أدوات التخطيط الاستراتيجي طويل المدى (مثل تقييمات الأثر، والاستشراف الاستراتيجي، وتطوير السيناريوهات، وأدوات النمذجة المتكاملة، أو مناهج التفكير النظمي) في صياغة الاستراتيجيات والسياسات وتنفيذها. تساعد هذه الأدوات في تحديد الآثار السلبية المحتملة على رفاهية الأجيال القادمة وتنميتها المستدامة، ومنعها، والتخفيف من حدتها. وتُستخدم هذه الأدوات بشكل استباقي لتوجيه عملية صنع السياسات والقرارات). | D9: تستخدم الحكومة أدوات تخطيط استراتيجي طويل الأمد لتعزيز الاتساق. ومع ذلك، لم تُطبّق هذه الأدوات إلا جزئيًا. (على سبيل المثال، قد تُعيق عدة تحديات التنفيذ الكامل. وتشمل هذه التحديات: محدودية الموارد، وضعف الإرادة السياسية، والمقاومة المؤسسية، والفجوات المعيارية، ونقص التدريب، إلخ). | E9: لقد طورت الحكومة أدوات تخطيط استراتيجي طويل الأمد لتعزيز اتساق السياسات، إلا أن هذه الأدوات لم تُطبّق بعد. (على سبيل المثال، قد تُعيق محدودية الموارد، وغياب الإرادة السياسية، والممانعة المؤسسية، ونقص التدريب، وتعقيد استخدام الأدوات، والفجوات المعيارية، وعدم كفاية المشاركة، التنفيذَ). | F9: لا توجد أدوات تخطيط استراتيجي طويل المدى؛ ومع ذلك، توجد خطط رسمية لتطويرها، أو هي قيد التطوير حاليًا. (على سبيل المثال، إنشاء وحدات مخصصة للاستشراف الاستراتيجي في مراكز الحكومة أو الوزارات، وإجراء تغييرات على أدوات تقييم الأثر الحالية، وتطوير برامج تدريبية جديدة تتعلق بأدوات التخطيط طويل المدى ومنهجيات التفكير النظمي). | G9: لا توجد أدوات للتخطيط الاستراتيجي الطويل الأمد، ولا توجد خطط أو إجراءات لتطويرها. | H9: هل تستخدم الحكومة أدوات التخطيط الاستراتيجي الطويل الأمد لتعزيز اتساق السياسات؟ على سبيل المثال، استخدام أدوات مثل تقييمات الأثر، والاستشراف الاستراتيجي، وتطوير السيناريوهات، وأدوات النمذجة المتكاملة أو مناهج التفكير النظمي في صياغة وتنفيذ الاستراتيجيات والسياسات لتحديد ومنع وتخفيف الآثار السلبية المحتملة على رفاهة الأجيال القادمة وتنميتها المستدامة. | I9: 2.2
C10: أنشأت الحكومة ترتيبات أو آليات مؤسسية مخصصة لدعم رؤية طويلة الأمد لتماسك السياسات من أجل التنمية المستدامة. وتُنفذ مهامها تنفيذًا شاملًا يشمل جميع جوانب الحوكمة ذات الصلة. (على سبيل المثال، أنشأت الحكومة هيئة مخصصة ذات صلاحيات وموارد واضحة لضمان التزامها بتماسك السياسات من أجل التنمية المستدامة بما يتجاوز الدورات الانتخابية والفترات الحكومية. تتمتع هذه الهيئة بأهداف واضحة وموارد كافية، وتدعم التواصل الفعال والقيادة القوية وإشراك أصحاب المصلحة والتنسيق بين الوزارات أو الإدارات. كما تتمتع بأنظمة رصد وتقييم قوية ومرونة للتكيف مع الظروف المتغيرة). | D10: أنشأت الحكومة ترتيبات أو آليات مؤسسية مخصصة لدعم رؤية طويلة الأمد لتماسك سياسات التنمية المستدامة. ومع ذلك، لم تُنفَّذ مهامها إلا جزئيًا. (على سبيل المثال، قد يُعيق التدخل السياسي، أو نقص الموارد، أو المقاومة البيروقراطية، أو ضعف التنسيق بين الوزارات أو الإدارات، أو المعارضة الشعبية، أو الأطر القانونية المعقدة، أو الثغرات المعيارية، أو غيرها من الثغرات في الرصد والتقييم، التنفيذ الكامل للتدابير الحكومية). | E10: أنشأت الحكومة ترتيبات أو آليات مؤسسية مخصصة لدعم رؤية طويلة الأمد لتماسك سياسات التنمية المستدامة. إلا أن مهامها لم تُنفَّذ بعد. (على سبيل المثال، هناك عدة عوامل قد تعيق التنفيذ، منها عدم وضوح الصلاحيات، وقيود الموارد، وضعف الإرادة السياسية، والمقاومة المؤسسية، وعدم كفاية مشاركة أصحاب المصلحة، والفجوات المعيارية، وضعف الوعي والدعم العام). | F10: لا توجد ترتيبات أو آليات مؤسسية قائمة؛ ومع ذلك، توجد خطط رسمية لإنشائها، أو هي قيد التطوير حاليًا. (على سبيل المثال، الإنشاء المرتقب لهيئة مخصصة أو مستقلة، مثل اللجان الوطنية للتنمية المستدامة، أو هيئات مستقلة، أو مفوض، أو مجلس، أو أمين مظالم للأجيال القادمة، بصلاحية محددة لتعزيز التنمية المستدامة في مرحلة ما بعد الحرب، تمتد على مدار فترات الحكم والدورات الانتخابية، مما يضمن استمرارية جهود التنمية المستدامة في مختلف الإدارات). | G10: ولا توجد ترتيبات أو آليات مؤسسية قائمة، ولا توجد خطط أو إجراءات لإنشائها. | H10: هل وضعت الحكومة ترتيبات أو آليات مؤسسية مخصصة لدعم رؤية طويلة الأمد لاتساق السياسات من أجل التنمية المستدامة؟ على سبيل المثال، يمكن للهيئات المستقلة، أو المفوض، أو المجلس، أو أمين المظالم للأجيال القادمة، تعزيز الرؤية طويلة الأجل لاتساق السياسات من أجل التنمية المستدامة والتي تستمر بعد الدورات الانتخابية أو فترات الحكومة. | I10: 2.3
C11: طورت الحكومة عمليةً لإعداد الموازنة لدمج التنمية المستدامة في السياسات القطاعية، ولمعالجة أوجه التآزر والتوازن بين مختلف مجالات السياسات الاقتصادية والاجتماعية والبيئية. وتُدمج اعتبارات الاستدامة في جميع مراحل عملية إعداد الموازنة. (على سبيل المثال، تُدمج التنمية المستدامة بفعالية في السياسات القطاعية من خلال عملية إعداد الموازنة (مثل صياغة الموازنة، والموافقة عليها، وتنفيذها، والإشراف عليها)، مما يعزز أوجه التآزر بين قطاعات السياسات، ويوازن توزيع الموارد استراتيجيًا لتحقيق الأهداف الاقتصادية والاجتماعية والبيئية، ويعزز التعاون والتنسيق بين الإدارات والهيئات الحكومية). | D11: لقد وضعت الحكومة عمليةً للموازنة لدمج التنمية المستدامة في السياسات القطاعية، ولمعالجة أوجه التآزر والتوازنات بين مجالات السياسات الاقتصادية والاجتماعية والبيئية، إلا أن تنفيذها لا يزال جزئيًا. (على سبيل المثال، قد تعيق عدة تحديات التنفيذ الكامل، بما في ذلك تعقيد دمج أولويات التنمية المستدامة في الأطر القائمة، وصعوبة جمع البيانات، وموازنة تخصيص الموارد بين الأهداف المتنافسة، وضعف القدرات المؤسسية، وضعف الإرادة والالتزام السياسيين، والفجوات المعيارية، والقيود المالية). | E11: وضعت الحكومة عمليةً للموازنة لدمج التنمية المستدامة في السياسات القطاعية، ولمعالجة أوجه التآزر والتوازن بين مختلف مجالات السياسات الاقتصادية والاجتماعية والبيئية، إلا أنها لم تُنفَّذ بعد. (على سبيل المثال، هناك عدة عوامل قد تعيق التنفيذ، منها تعقيد دمج الاستدامة في الأطر القائمة، وموازنة تخصيص الموارد بين الأهداف المتنافسة، والحاجة إلى بناء القدرات داخل المؤسسات، وضرورة وجود إرادة سياسية قوية والتزام، والفجوات المعيارية، والقيود المالية). | F11: لا توجد عملية ميزانية قائمة؛ ومع ذلك، توجد خطط رسمية لتطويرها، أو أنها قيد التطوير حاليًا. (على سبيل المثال، إصدار توجيهات جديدة قريبًا لإعداد الميزانية السنوية بهدف دمج التنمية المستدامة في السياسات القطاعية، أو اعتماد ممارسات جديدة مثل ترميز أهداف التنمية المستدامة ووضع علامات عليها، والميزانية القائمة على النتائج والمتوافقة مع أهداف التنمية المستدامة، وربط عملية إعداد الميزانية الاستراتيجية بأهداف التنمية المستدامة). | G11: لا توجد عملية ميزانية قائمة، ولا توجد خطط أو إجراءات رسمية لتطويرها. | H11: هل لدى الحكومة إجراءات ميزانية تدمج التنمية المستدامة في السياسات القطاعية، وتعالج أوجه التآزر والتوازنات عبر مجالات السياسة الاقتصادية والاجتماعية والبيئية؟ على سبيل المثال، من خلال استخدام ميزانية أهداف التنمية المستدامة (أي وضع علامات على تدابير الميزانية، وما إلى ذلك) أو قوائم المراجعة. | I11: 3.1 | J11: 3. دمج التنمية المستدامة في السياسات والتمويل
C12: وضعت الحكومة آليات وأدوات مخصصة لدمج التنمية المستدامة في الخطط القطاعية والتمويلية للوزارات المعنية. وقد طُبقت هذه الآليات تطبيقًا شاملًا، غطّت جميع جوانب الحوكمة ذات الصلة. (على سبيل المثال، ضمنت الآليات والأدوات المُعتمدة دمج أولويات التنمية المستدامة في كل قطاع وخطة مالية، مما ساهم في إحراز تقدم فعال نحو تحقيق أهداف التنمية المستدامة. كما تعزز هذه الآليات والأدوات ثقافة الاستدامة على جميع مستويات وقطاعات الحكومة، مما يدفع عجلة التحسين والابتكار المستمرين في ممارسات التنمية المستدامة). | D12: وضعت الحكومة آليات وأدوات مخصصة لدمج التنمية المستدامة في الخطط القطاعية والتمويلية للوزارات المعنية. ومع ذلك، لم تُنفَّذ هذه الآليات إلا جزئيًا. (على سبيل المثال، قد تُسهم عدة عوامل في التنفيذ الجزئي. قد تشمل هذه العوامل نقص التمويل، وقيود القدرات، والأعباء البيروقراطية، ومشاكل التنسيق، وعدم توفر البيانات، والفجوات المعيارية، إلخ). | E12: وضعت الحكومة آليات وأدوات مخصصة لدمج التنمية المستدامة في الخطط القطاعية والتمويلية للوزارات المعنية. إلا أن هذه الآليات لم تُطبّق بعد. (على سبيل المثال، قد تعيق عدة تحديات التنفيذ، بما في ذلك محدودية التمويل، وقيود القدرات، وقلة البيانات والمعلومات، وصعوبات التنسيق، وضعف الإرادة السياسية، والفجوات المعيارية). | F12: لا توجد آليات أو أدوات مطبقة؛ ومع ذلك، هناك خطط رسمية لتطويرها، أو أنها قيد التطوير حالياً. | G12: ولا توجد آليات أو أدوات مطبقة، ولا توجد خطط أو إجراءات لتطويرها. | H12: هل لدى الحكومة آليات أو أدوات مخصصة لدمج التنمية المستدامة في الخطط القطاعية أو التمويلية للوزارات المعنية؟ على سبيل المثال، الاستراتيجيات والمبادئ التوجيهية واللوائح والأحكام أو آليات التنسيق للوزارات والهيئات الحكومية لمواءمة صلاحياتها وسياساتها وأهدافها القطاعية مع أولويات التنمية المستدامة. | I12: 3.2
C13: وضعت الحكومة آليات ونفذت تدابير لتعزيز تعبئة الموارد المالية لدعم اتساق السياسات من أجل التنمية المستدامة. وقد طُبقت هذه التدابير تطبيقًا شاملًا، يشمل جميع جوانب الحوكمة ذات الصلة. (على سبيل المثال، أدت الآليات والتدابير المُطبقة إلى برامج أو سياسات محددة تُعزز مساهمة الموارد المحلية في التنمية المستدامة، أو خلقت حوافز لجذب الاستثمارات الخاصة لتحقيق التنمية المستدامة، أو عززت الشراكات بين القطاعين العام والخاص التي تدعم تعبئة الموارد المالية للنهوض بالتنمية المستدامة). | D13: وضعت الحكومة آليات أو تدابير لتعزيز تعبئة الموارد المالية لدعم اتساق السياسات من أجل التنمية المستدامة. ومع ذلك، لم تُنفَّذ هذه الآليات إلا جزئيًا. (على سبيل المثال، قد تعيق بعض العوامل التنفيذ الكامل. قد تشمل هذه العوامل نقص التمويل، أو القدرات، أو التنسيق، أو عدم كفاية مشاركة أصحاب المصلحة). | E13: وضعت الحكومة آليات أو تدابير لتعزيز تعبئة الموارد المالية لدعم اتساق السياسات من أجل التنمية المستدامة. إلا أن هذه الآليات لم تُنفَّذ بعد. (على سبيل المثال، قد تعيق عدة تحديات التنفيذ، بما في ذلك نقص التمويل، أو القدرات، أو التنسيق، أو عدم كفاية مشاركة أصحاب المصلحة). | F13: لا توجد آليات أو تدابير مطبقة، ولكن هناك خطط رسمية لتطويرها، أو أنها قيد التطوير حالياً. | G13: ولا توجد آليات أو تدابير مطبقة، ولا توجد خطط أو إجراءات لتطويرها. | H13: هل وضعت الحكومة آليات أو تدابير لتعزيز تعبئة الموارد العامة والخاصة والمحلية والدولية لتحقيق التنمية المستدامة؟ على سبيل المثال، برامج أو سياسات محددة مستنيرة باتساق السياسات لتعزيز مساهمة الموارد المحلية في التنمية المستدامة؛ والحوافز أو الأطر لجذب الاستثمار الخاص لمشاريع التنمية المستدامة؛ والشراكات بين الحكومة والقطاع الخاص لتمويل مبادرات التنمية المستدامة، وما إلى ذلك. | I13: 3.3
C14: أنشأت الحكومة آليات تنسيق رفيعة المستوى ذات صلاحيات واضحة لضمان التنسيق الحكومي الشامل لتحقيق اتساق سياسات التنمية المستدامة، بما في ذلك على المستوى القطاعي. وقد طُبّقت هذه الآليات بالكامل، مغطيةً جميع جوانب الحوكمة ذات الصلة. (على سبيل المثال، تعمل آلية تنسيق رفيعة المستوى بانتظام لدعم التنسيق الحكومي الشامل لتحقيق اتساق سياسات التنمية المستدامة. تتمتع هذه الآلية بصلاحيات واضحة، وموارد كافية، وقدرة على توقع ومعالجة اختلافات السياسات، بما في ذلك الآثار السلبية المحتملة للسياسات والتوترات الناشئة عن تباين الأولويات واختلاف المصالح القطاعية). | D14: أنشأت الحكومة آليات تنسيق رفيعة المستوى ذات صلاحيات واضحة لضمان التنسيق على مستوى الحكومة بأكملها لتحقيق اتساق سياسات التنمية المستدامة، بما في ذلك على المستوى القطاعي. ومع ذلك، لم تُنفَّذ هذه الآليات إلا جزئيًا. (على سبيل المثال، قد تؤدي عدة تحديات إلى التنفيذ الجزئي، بما في ذلك التحولات في القيادة السياسية والأولويات، ونقص الموارد التقنية، والفجوات المعيارية، ومقاومة البيروقراطية وأصحاب المصلحة؛ إلخ). | E14: أنشأت الحكومة آليات تنسيق رفيعة المستوى ذات صلاحيات واضحة لضمان التنسيق على مستوى الحكومة بأكملها لتحقيق اتساق سياسات التنمية المستدامة، بما في ذلك على المستوى القطاعي. إلا أن هذه الآليات لم تُطبّق بعد. (على سبيل المثال، هناك عدة عوامل قد تعيق التنفيذ، منها ضعف الإرادة السياسية، وعدم كفاءة البيروقراطية، وعدم تناسق المعلومات، ومقاومة أصحاب المصلحة، والمصالح الخاصة، وتعقيد التنسيق، والثغرات المعيارية، وغياب المساءلة). | F14: لا توجد آليات تنسيق رفيعة المستوى قائمة؛ ومع ذلك، هناك خطط رسمية لتطويرها، أو أنها قيد التطوير حالياً. | G14: ولا توجد آليات تنسيق رفيعة المستوى، ولا توجد خطط أو إجراءات لإنشائها. | H14: هل أنشأت الحكومة آليات تنسيق رفيعة المستوى ذات صلاحيات واضحة لضمان التنسيق على مستوى الحكومة بأكملها لتحقيق الاتساق في السياسات المتعلقة بالتنمية المستدامة، بما في ذلك على المستوى القطاعي؟ على سبيل المثال، آلية أو هيئة تنسيق رفيعة المستوى سواء كانت تقع داخل مركز الحكومة أو وزارة رئيسية حسب الاقتضاء، مع تفويض واضح وموارد وقدرات لتوقع وحل الخلافات في السياسات، بما في ذلك الآثار السلبية المحتملة للسياسات، والتوترات الناشئة عن الأولويات المتباينة والمصالح القطاعية المختلفة. | I14: 4.1 | J14: 4. التنسيق الحكومي الشامل
C15: أنشأت الحكومة هياكل حوكمة رسمية أو قنوات غير رسمية لدعم التواصل بين الوزارات والهيئات القطاعية لتعزيز اتساق سياسات التنمية المستدامة. وقد طُبّقت هذه الآليات بالكامل، لتغطي جميع جوانب الحوكمة ذات الصلة. (على سبيل المثال، أدى إنشاء هذه الهياكل والقنوات إلى تحسين التعاون والتنسيق وتبادل المعلومات بين جميع قطاعات الحكومة، مما عزز مواءمة السياسات مع أهداف التنمية المستدامة، وعزز ثقافة التحسين المستمر والابتكار في الإدارة العامة). | D15: أنشأت الحكومة هياكل حوكمة رسمية أو قنوات غير رسمية لدعم التواصل بين الوزارات والهيئات القطاعية لتعزيز اتساق سياسات التنمية المستدامة. إلا أن هذه الآليات لم تُطبّق إلا جزئيًا. (على سبيل المثال، قد يُعيق التنفيذ الكامل جمود الإجراءات البيروقراطية، وعدم المرونة، وقلة الموارد، وضعف التواصل، ومقاومة التغيير، والفجوات المعيارية، وعوامل خارجية مثل عدم الاستقرار السياسي أو الركود الاقتصادي). | E15: أنشأت الحكومة هياكل حوكمة رسمية أو قنوات غير رسمية لدعم التواصل بين الوزارات والهيئات القطاعية لتعزيز اتساق سياسات التنمية المستدامة. إلا أن هذه الآليات لم تُطبّق بعد. (على سبيل المثال، قد تعيق عدة عوامل التنفيذ، مثل مقاومة التغيير، وعدم التوافق مع الثقافة التنظيمية، والمصالح الخاصة، وعدم كفاية الموارد، وضعف فجوات التواصل المعيارية، والظروف الخارجية غير المواتية مثل عدم الاستقرار السياسي أو التغييرات الحكومية). | F15: لا توجد حتى الآن هياكل حوكمة رسمية أو قنوات غير رسمية؛ ومع ذلك، هناك خطط رسمية لتطويرها، أو أنها قيد التطوير حاليًا. | G15: ولا توجد هياكل حوكمة رسمية أو قنوات غير رسمية، ولا توجد خطط أو إجراءات لتطويرها. | H15: هل هناك هياكل حوكمة رسمية أو قنوات غير رسمية قائمة لدعم التواصل بين الوزارات والإدارات القطاعية لتعزيز اتساق السياسات من أجل التنمية المستدامة؟ على سبيل المثال، اللجان المشتركة بين الوزارات التي تحفز التبادل المفتوح للأفكار والتفكير المبتكر لمعالجة أهداف السياسة الشاملة وتطوير حلول متكاملة. | I15: 4.2
C16: وضعت الحكومة برامج لبناء القدرات أو موارد أخرى لموظفي القطاع العام والمسؤولين الحكوميين أو الموظفين لتعزيز اتساق السياسات لتحقيق التنمية المستدامة. وقد نُفذت هذه البرامج بالكامل، حيث شملت جميع جوانب الحوكمة ذات الصلة. (على سبيل المثال، صُممت أطر الكفاءات لاستهداف المعارف والمهارات متعددة التخصصات لتعزيز الاتساق في صنع السياسات. كما وُضعت برامج تدريبية لتعزيز هذه المهارات، ووُزّعت على جميع موظفي القطاع العام المعنيين). | D16: وضعت الحكومة برامج لبناء القدرات أو موارد أخرى لموظفي القطاع العام والمسؤولين الحكوميين أو الموظفين لتعزيز اتساق السياسات لتحقيق التنمية المستدامة. ومع ذلك، لم تُنفَّذ هذه البرامج إلا جزئيًا. (على سبيل المثال، قد تُسهم عدة عوامل في التنفيذ الجزئي. قد تشمل هذه العوامل نقص التمويل، وقيود القدرات، والأعباء البيروقراطية، ومشاكل التنسيق، وضعف المشاركة، إلخ). | E16: وضعت الحكومة برامج لبناء القدرات أو موارد أخرى لموظفي القطاع العام والمسؤولين الحكوميين أو الموظفين لتعزيز اتساق السياسات لتحقيق التنمية المستدامة. إلا أن هذه البرامج لم تُنفَّذ بعد. (على سبيل المثال، قد تعيق عدة تحديات التنفيذ. قد تشمل هذه التحديات نقص التمويل، وقيود القدرات، والأعباء البيروقراطية، ومشاكل التنسيق، وعدم توفر البيانات، والفجوات المعيارية، وما إلى ذلك). | F16: ولا توجد برامج لبناء القدرات أو موارد أخرى متاحة؛ ومع ذلك، هناك خطط رسمية لتطويرها، أو أنها قيد التطوير حالياً. | G16: ولا توجد برامج لبناء القدرات أو موارد أخرى متاحة، ولا توجد خطط أو إجراءات لتطويرها. | H16: هل توجد برامج محددة لبناء القدرات أو موارد أخرى متاحة لموظفي القطاع العام أو المسؤولين الحكوميين أو الموظفين لتعزيز اتساق السياسات من أجل التنمية المستدامة؟ على سبيل المثال، لتحسين المهارات التي تُمكّن موظفي القطاع العام من تجاوز بيئات عملهم التقليدية، وتحفزهم على التفكير والتصرف بطرق جديدة ومتعددة التخصصات لتعزيز الاتساق في صنع السياسات. | I16: 4.3
C17: وُضعت أحكام أو آليات لمواءمة الخطط والسياسات والميزانيات والأطر التنظيمية الوطنية ودون الوطنية لتحقيق التنمية المستدامة. وقد طُبقت هذه الآليات بالكامل، لتغطي جميع جوانب الحوكمة ذات الصلة. (على سبيل المثال، تُوزّع الاستراتيجيات الوطنية للتنمية المستدامة على المستوى دون الوطني وتُكمّلها مؤشرات محلية وأنظمة رصد لأهداف التنمية المستدامة. وتُوثّق أفضل الممارسات والتحديات المشتركة وتُشارك وتُدمج على جميع المستويات الحكومية، مما يُعزز التحسين المستمر. وتُستخدم هذه الآليات بفعالية لإشراك المستويات الحكومية دون الوطنية في اتساق سياسات التنمية المستدامة، ولتشجيع العمل المنسق لتحقيق الأهداف الاقتصادية والاجتماعية والبيئية ذات الصلة). | D17: توجد أحكام أو آليات لمواءمة الخطط والسياسات والميزانيات والأطر التنظيمية الوطنية ودون الوطنية لتحقيق التنمية المستدامة، إلا أنها لا تُنفذ إلا جزئيًا. (قد تُعيق التحديات التنفيذ الكامل للآليات الحكومية، بما في ذلك قيود الموارد، وغياب الإرادة السياسية، والممانعة المؤسسية، ونقص التدريب، وتعقيد الأطر القانونية أو السياسية، والفجوات المعيارية، وعدم كفاية المشاركة). | E17: توجد أحكام أو آليات لمواءمة الخطط والسياسات والميزانيات والأطر التنظيمية الوطنية ودون الوطنية لتحقيق التنمية المستدامة، إلا أنها لا تُطبّق. (على سبيل المثال، تُحدد الاستراتيجيات الوطنية للتنمية المستدامة الإجراءات ذات الصلة على المستوى دون الوطني، ولكنها لا تُطبّق من خلال أدوات أو خطط عمل، ولا تُكمّلها عمليات رصد محلية لأهداف التنمية المستدامة. قد يُعزى ذلك إلى تحديات مثل محدودية الموارد، وغياب الإرادة السياسية، والممانعة المؤسسية، ونقص التدريب، وتعقّد الأطر القانونية أو السياسية، والثغرات المعيارية، وعدم كفاية المشاركة). | F17: لا توجد أحكام أو آليات في هذا الشأن، ولكن هناك خطط رسمية لتطويرها، أو أنها قيد التطوير حالياً. | G17: ولا توجد أحكام أو آليات مطبقة، ولا توجد خطط أو إجراءات رسمية لتطويرها. | H17: هل توجد أحكام أو آليات قائمة لمواءمة الخطط والسياسات والميزانيات والأطر التنظيمية الوطنية ودون الوطنية لتحقيق التنمية المستدامة؟ على سبيل المثال، تُحدد الاستراتيجيات الوطنية للتنمية المستدامة الإجراءات ذات الصلة وتُلزم بالمشاركة على المستوى دون الوطني؛ أو تُرسخ آليات تبادل البيانات وغيرها من أشكال التفاعل بين المستويات الحكومية بطرق أخرى. | I17: 5.1 | J17: 5. المشاركة على المستوى دون الوطني
C18: أنشأت الحكومة هياكل حوكمة رسمية أو قنوات غير رسمية لدعم التواصل بين المستويات الحكومية الوطنية ودون الوطنية. وقد طُبّقت هذه الآليات بالكامل، لتغطي جميع جوانب الحوكمة ذات الصلة. (على سبيل المثال، وُضعت منصات، كاللجان المشتركة بين الأقاليم، لجمع المدخلات من الجهات دون الوطنية، وبدء تبادلات رسمية بين المستويات الحكومية. هذه الآليات فعّالة، وتُحفّز التبادل المفتوح للأفكار والتفكير الإبداعي لمعالجة أهداف السياسات الشاملة، وتسهيل الحوار متعدد المستويات حول قصص النجاح والتحديات المستمرة). | D18: أنشأت الحكومة هياكل حوكمة رسمية أو قنوات غير رسمية لدعم التواصل بين المستويات الحكومية الوطنية ودون الوطنية، إلا أن تنفيذها لا يزال جزئيًا. (على سبيل المثال، قد يُعيق التنفيذ الكامل لآليات الحكومة غياب الإرادة السياسية، أو نقص الموارد، أو المقاومة البيروقراطية، أو ضعف التنسيق، أو الفجوات المعيارية، أو عدم كفاية المشاركة). | E18: أنشأت الحكومة هياكل حوكمة رسمية أو قنوات غير رسمية لدعم التواصل بين المستويات الحكومية الوطنية ودون الوطنية، إلا أنها لم تُنفَّذ. (على سبيل المثال، أُنشئت منصات للتواصل، لكنها غير فعّالة. قد يُعزى ذلك إلى غياب الإرادة السياسية، أو نقص الموارد، أو المقاومة البيروقراطية، أو ضعف التنسيق، أو الفجوات المعيارية، أو عدم كفاية المشاركة). | F18: لا توجد هياكل حوكمة رسمية أو قنوات غير رسمية قائمة؛ ومع ذلك، هناك خطط رسمية لتطويرها، أو أنها قيد التطوير حاليًا. | G18: لا توجد هياكل حوكمة رسمية أو قنوات غير رسمية، ولا توجد خطط أو إجراءات رسمية لتطويرها. | H18: هل توجد هياكل حوكمة رسمية أو قنوات غير رسمية لدعم التواصل بين المستويات الحكومية الوطنية ودون الوطنية لتعزيز اتساق السياسات المتعلقة بالتنمية المستدامة؟ على سبيل المثال، اللجان المشتركة بين الأقاليم، ومشاركة الحكومات المحلية في المجالس الوطنية لأجندة 2030، ومراكز التنسيق لتنفيذ أهداف التنمية المستدامة على المستويين الإقليمي والمحلي. | I18: 5.2
C19: أنشأت الحكومة آليات أو عمليات لتنسيق العمل الوطني ودون الوطني بشأن المبادرات الدولية أو التعاون الإنمائي من أجل التنمية المستدامة. وقد طُبّقت هذه الآليات بالكامل، مغطيةً جميع جوانب الحوكمة ذات الصلة. (على سبيل المثال، تُقدّم الوكالات الوطنية خدمات استشارية، أو شبكات، أو تُعنى بالتوفيق بين الجهات دون الوطنية المشاركة في المبادرات الدولية أو التعاون الإنمائي. تُسهم الشراكات متعددة المستويات ومتعددة الأطراف المعنية في ربط الجهات الفاعلة، وتُساعد على تبادل أفضل الممارسات، كما أن الدعم مُناسب تمامًا للطلب والسياق المحلي). | D19: أنشأت الحكومة آليات أو عمليات لتنسيق العمل الوطني ودون الوطني بشأن المبادرات الدولية أو التعاون الإنمائي من أجل التنمية المستدامة، إلا أن هذه الآليات لا تُنفَّذ إلا جزئيًا. (على سبيل المثال، قد يُعيق التنفيذ الكامل لآليات الحكومة نقص الموارد، أو المعوقات البيروقراطية، أو ضعف التنسيق بين الوزارات أو الإدارات، أو عدم كفاية المشاركة، أو الأطر القانونية المعقدة). | E19: أنشأت الحكومة آليات أو عمليات لتنسيق العمل الوطني ودون الوطني بشأن المبادرات الدولية أو التعاون الإنمائي من أجل التنمية المستدامة، إلا أن هذه الآليات أو العمليات لم تُنفَّذ. (على سبيل المثال، الخدمات الاستشارية والشبكات والإرشادات متوفرة، ولكنها غير نشطة أو منخرطة فيها من قِبل الكيانات دون الوطنية). | F19: لا توجد آليات أو عمليات مطبقة؛ ومع ذلك، هناك خطط رسمية لتطويرها، أو أنها قيد التطوير حاليًا. | G19: ولا توجد آليات أو عمليات قائمة، ولا توجد خطط أو إجراءات رسمية لتطويرها. | H19: هل توجد آليات أو عمليات قائمة لضمان تنسيق العمل بين الوكالات الوطنية ودون الوطنية بشأن المبادرات الدولية أو التعاون الإنمائي من أجل التنمية المستدامة؟ على سبيل المثال، تقدم الوكالات الوطنية خدمات استشارية، أو شبكات، أو خدمات توفيق بين الوكالات دون الوطنية المشاركة في المبادرات الدولية أو التعاون الإنمائي. | I19: 5.3
C20: توجد آليات تشاركية لإشراك أصحاب المصلحة في صنع سياسات التنمية المستدامة من خلال نهج يشمل المجتمع بأكمله، وفي تطوير مبادرات اتساق السياسات من أجل التنمية المستدامة، وتُنفذ هذه الآليات بالكامل من خلال مناهج تشاركية. (على سبيل المثال، توجد منتديات وفرص مخصصة لوضع توصيات لتعزيز اتساق السياسات وتقديم مدخلات تحليلية واستراتيجية بشأن التنمية المستدامة، مدعومة بأحكام معيارية مخصصة. تشمل المشاركة ممثلين ذوي صلة من المجتمع المدني والأوساط الأكاديمية والقطاع الخاص ونقابات العمال وأصحاب العمل، بالتنسيق مع الوزارات الحكومية. يُشترط إجراء المشاورات بشكل شامل في مختلف مراحل دورة وضع السياسات. وتُقدم المعلومات التحضيرية والملاحظات حول نتائج العملية إلى أصحاب المصلحة المعنيين). | D20: توجد آليات تشاركية لإشراك أصحاب المصلحة في صنع سياسات التنمية المستدامة من خلال نهج يشمل المجتمع بأكمله، إلا أن هذه الآليات لا تزال تُطبّق جزئيًا. (على سبيل المثال، قد تُعيق عدة عوامل التنفيذ، مثل ضعف الإرادة السياسية، أو عدم كفاية مشاركة أصحاب المصلحة، أو وجود فجوات معيارية، أو نقص الموارد أو القدرات). | E20: توجد آليات تشاركية لإشراك أصحاب المصلحة في صنع سياسات التنمية المستدامة من خلال نهج يشمل المجتمع بأكمله، إلا أنها غير مطبقة. (على سبيل المثال، لم تُنشأ هذه الآليات كجزء منتظم من دورة صنع السياسات، أو لم تُدرج المدخلات بشكل منهجي في عملية صنع القرار لتحقيق اتساق السياسات أو التنمية المستدامة؛ أو لا تزال هناك فجوات معيارية قائمة). | F20: لا توجد آليات مطبقة؛ ومع ذلك، هناك خطط رسمية لتطويرها، أو أنها قيد التطوير حالياً. | G20: ولا توجد آليات قائمة، ولا توجد خطط أو إجراءات رسمية لتطويرها. | H20: هل توجد آليات تشاركية لضمان إطلاع أصحاب المصلحة وإشراكهم بشكل استباقي في مختلف مراحل دورة السياسات المتعلقة بالتنمية المستدامة، أو في تطوير مبادرات اتساق السياسات من أجل التنمية المستدامة من خلال نهج يشمل المجتمع بأكمله؟ على سبيل المثال، تُمكّن القوانين المخصصة، والمشاورات العامة، واللجان الاستشارية، ومجموعات التركيز، والمنصات الإلكترونية، والاجتماعات الدورية، أو غيرها من الوسائل، من المشاركة في صنع القرار، وجمع الملاحظات، ومعالجة قضايا الاتساق، والتعاون في إيجاد حلول تشمل مختلف مستويات المجتمع. | I20: 6.1 | J20: 6. إشراك أصحاب المصلحة
C21: أنشأت الحكومة آلياتٍ للتواصل مع الفئات المهمشة والضعيفة في المجتمع، والدعوة إلى مشاركتها في صنع القرار، للنهوض بالتنمية المستدامة الشاملة. وقد طُبّقت هذه الآليات تنفيذًا كاملًا، وشملت جميع جوانب الحوكمة ذات الصلة. (على سبيل المثال، وُزّعت هذه المبادرات على الفئات المهمشة والضعيفة الرئيسية. وأُدرجت النتائج في استراتيجياتٍ مُصمّمة للنهوض بالتنمية الاجتماعية والاقتصادية الشاملة، مثل خطط العمل التي تُدمج، بشكل متكامل، مبدأ عدم إغفال أحد في السياسات العامة وتدابير الإصلاح، مع التركيز على التدابير المُستهدفة التي تدعم الفئات الأكثر تخلفًا عن الركب، وتعزز حقوق الإنسان والمساواة بين الجنسين والإدماج الاجتماعي). | D21: أنشأت الحكومة آلياتٍ للتواصل مع الفئات المهمشة والضعيفة في المجتمع، والدعوة إلى مشاركتها في صنع القرار، للنهوض بالتنمية المستدامة الشاملة، إلا أن هذه الآليات لا تُطبّق إلا جزئيًا. (على سبيل المثال، هناك عدة عوامل قد تُعيق التنفيذ. قد تشمل هذه العوامل ضعف الإرادة السياسية، وعدم كفاية مشاركة أصحاب المصلحة، والفجوات المعيارية، أو نقص الموارد أو القدرات). | E21: أنشأت الحكومة آليات للتواصل مع الفئات المهمشة والضعيفة في المجتمع والدعوة إلى مشاركتها في صنع القرار، بما يعزز التنمية المستدامة الشاملة، إلا أن هذه الآليات لم تُنفذ. (على سبيل المثال، لم تُنشر هذه المبادرات على الجمهور، أو لم تُدمج نتائجها في استراتيجيات التنمية الاجتماعية والاقتصادية الشاملة؛ أو لا تزال هناك فجوات معيارية قائمة). | F21: لا توجد آليات مطبقة؛ ومع ذلك، هناك خطط رسمية لتطويرها، أو أنها قيد التطوير حالياً. | G21: ولا توجد آليات قائمة، ولا توجد خطط أو إجراءات رسمية لتطويرها. | H21: هل توجد آلياتٌ للتواصل مع الفئات المهمشة والضعيفة في المجتمع، والدعوة لتلبية احتياجاتها ومشاركتها في صنع القرار للنهوض بالتنمية المستدامة الشاملة؟ على سبيل المثال، التشاور مع مختلف الفئات أو إشراكها كمشاركين في وضع خطط عمل تُدمج، بشكل متكامل، مبدأ عدم إغفال أحد في السياسات العامة وتدابير الإصلاح، مع التركيز على تدابير مُستهدفة تدعم الفئات الأكثر تخلفًا عن الركب، وتعزز حقوق الإنسان والمساواة بين الجنسين والاندماج الاجتماعي. | I21: 6.2
C22: عملت الحكومة مع مختلف الجهات المعنية على مبادرات لرفع مستوى الوعي العام، وحشد الدعم، والدعوة إلى اتساق السياسات من أجل التنمية المستدامة على مختلف مستويات الحوكمة. وقد طُبّقت هذه الآليات بالكامل، مغطيةً جميع جوانب الحوكمة ذات الصلة. (على سبيل المثال، عملت الحكومة مع الجهات المعنية لدعم مشاركتها في مجموعة واسعة من المبادرات المتعلقة بقضايا التنمية المستدامة. وقد صُممت ونُفذت حملات محددة لبناء توافق في الآراء حول أولويات تعزيز اتساق السياسات من أجل التنمية المستدامة، ورُوّج لها في المحافل الدولية لتعزيز أفضل الممارسات وتشجيع التعلّم من الأقران). | D22: لدى الحكومة آلياتٌ للتعاون مع مختلف الجهات المعنية بشأن مبادراتٍ لرفع مستوى الوعي العام، وحشد الدعم، والدعوة إلى اتساق السياسات من أجل التنمية المستدامة على مختلف مستويات الحوكمة، إلا أن هذه الآليات لم تُنفَّذ إلا جزئيًا. (على سبيل المثال، هناك عدة عوامل قد تُعيق التنفيذ، مثل ضعف الإرادة السياسية، والفجوات المعيارية، وعدم كفاية مشاركة الجهات المعنية). | E22: لدى الحكومة آلياتٌ للتعاون مع مختلف الجهات المعنية بشأن مبادراتٍ لرفع مستوى الوعي العام، وحشد الدعم، والدعوة إلى اتساق السياسات من أجل التنمية المستدامة على مختلف مستويات الحكم، إلا أن هذه المبادرات لم تُنفَّذ. (على سبيل المثال، لم تُنشر هذه المبادرات على الجمهور بسبب عوامل مثل غياب الإرادة السياسية، ونقص الموارد، والفجوات المعيارية، وضعف المشاركة). | F22: لا توجد آليات مطبقة؛ ومع ذلك، هناك خطط رسمية لتطويرها، أو أنها قيد التطوير حالياً. | G22: ولا توجد آليات قائمة، ولا توجد خطط أو إجراءات رسمية لتطويرها. | H22: هل وضعت الحكومة آلياتٍ لتعزيز مشاركة أصحاب المصلحة في اتساق سياسات التنمية المستدامة على مختلف مستويات الحوكمة، للنهوض بأفضل الممارسات وتشجيع التعلّم بين الأقران؟ على سبيل المثال، المشاركة من خلال الحملات العالمية أو الوطنية، وحوارات السياسات، والعمليات الحكومية الدولية، ومبادرات بناء القدرات، والتعبئة المجتمعية. | I22: 6.3
C23: وضعت الحكومة آليات وأدوات لإجراء تقييمات دورية لأثر السياسات لتحديد أي آثار إيجابية أو سلبية على التنمية المستدامة. وقد طُبقت هذه الآليات بالكامل، مغطيةً جميع جوانب الحوكمة ذات الصلة. (على سبيل المثال، أدمجت الحكومة مبادئ التنمية المستدامة في تقييمات الأثر التنظيمي، وجعلتها إلزامية للمقترحات التشريعية من قِبل الوزارات). تُستخدم البيانات المتاحة لقياس الأثر واتخاذ قرارات مستنيرة بشأن تخصيص الموارد، وتحسين الأداء، وتغيير الحوافز، وخفض التكاليف. وهذا يؤدي إلى حلقة تغذية راجعة مهمة لمراحل تصميم السياسات وتنفيذها. وقد تم بناء قدرات فنية ومهارات منهجية كافية لتسهيل استخدام أدوات تقييم الأثر هذه. | D23: لقد وضعت الحكومة آليات وأدوات لإجراء تقييمات دورية لأثر السياسات لتحديد أي آثار إيجابية أو سلبية على التنمية المستدامة، إلا أن هذه الآليات والأدوات لا تُنفذ إلا جزئيًا. (قد تُعيق عدة تحديات التنفيذ الكامل، بما في ذلك محدودية القدرات والموارد والتدريب، والفجوات المعيارية). | E23: لقد وضعت الحكومة آليات أو أدوات لإجراء تقييمات دورية لأثر السياسات لتحديد أي آثار إيجابية أو سلبية على التنمية المستدامة، إلا أنها لم تُطبّق. (على سبيل المثال، لا تُستخدم هذه الآليات أو الأدوات لتوجيه عملية صنع القرار في عملية السياسات والتخطيط بسبب محدودية القدرات أو الموارد أو التدريب أو الفجوات المعيارية). | F23: لا توجد آليات أو أدوات مطبقة؛ ومع ذلك، هناك خطط رسمية لتطويرها، أو أنها قيد التطوير حالياً. | G23: ولا توجد آليات أو أدوات مطبقة، ولا توجد خطط أو إجراءات رسمية لتطويرها. | H23: هل لدى الحكومة أي آليات أو أدوات لإجراء تقييمات دورية لأثر السياسات لتحديد أي آثار إيجابية أو سلبية على التنمية المستدامة؟ على سبيل المثال، تُستخدم بانتظام في مختلف القطاعات الحكومية أدوات راسخة، مثل تحليل التكلفة والعائد، وأطر المؤشرات لتتبع فعالية السياسات، أو أدوات أخرى مثل تقييمات الأثر التنظيمي، والبيئي، والجنساني، والاجتماعي، والاستراتيجي، لتقييم السياسات ومواءمتها مع أهداف التنمية المستدامة. | I23: 7.1 | J23: 7. تقييم الأثر
C24: وضعت الحكومة تقييماتٍ مسبقة ولاحقة لأثر السياسات، تأخذ في الاعتبار الآثار العابرة للحدود. وقد طُبّقت هذه الآليات بالكامل، مغطيةً جميع جوانب الحوكمة ذات الصلة. (على سبيل المثال، تُستخدم أدواتٌ راسخة، مثل تقييمات الأثر العابر للحدود، وأطر تحليل التداعيات، أو مشاورات أصحاب المصلحة المتعددين، لتقييم الآثار الدولية للسياسات الحكومية بانتظام. وتُستخدم هذه الآليات بفعالية لتسهيل اتخاذ قراراتٍ مستنيرة في عملية وضع السياسات والتخطيط). | D24: وضعت الحكومة تقييماتٍ مسبقة ولاحقة لأثر السياسات، تأخذ في الاعتبار الآثار العابرة للحدود، إلا أن هذه التقييمات لا تُنفَّذ إلا جزئيًا. (على سبيل المثال، قد تُعيق عدة تحديات التنفيذ الكامل. قد تشمل هذه التحديات محدودية القدرات أو الموارد أو التدريب أو الفجوات المعيارية). | E24: وضعت الحكومة تقييماتٍ مسبقة ولاحقة لأثر السياسات، تأخذ في الاعتبار الآثار العابرة للحدود، إلا أنها لم تُنفَّذ. (على سبيل المثال، لا تُستخدم هذه الآليات أو الأدوات لتوجيه عملية صنع القرار في عملية السياسات والتخطيط بسبب محدودية القدرات أو الموارد أو التدريب أو الفجوات المعيارية). | F24: لا توجد تقييمات مسبقة أو لاحقة لأثر السياسات؛ ومع ذلك، هناك خطط رسمية لتطويرها، أو أنها قيد التطوير حاليًا. | G24: لا توجد تقييمات مسبقة أو لاحقة لتأثير السياسات، ولا توجد خطط أو إجراءات رسمية لتطويرها. | H24: هل أجرت الحكومة تقييمات مسبقة ولاحقة لأثر السياسات تأخذ في الاعتبار الآثار العابرة للحدود؟ على سبيل المثال، تُستخدم بانتظام في مختلف القطاعات الحكومية أدوات راسخة، مثل تحليل التكلفة والعائد، وتقييمات الأثر العابر للحدود، ومشاورات أصحاب المصلحة المتعددين، وأطر المؤشرات، وغيرها من الأدوات، لتقييم الآثار العابرة للحدود للسياسات على التنمية المستدامة. | I24: 7.2
C25: لدى الحكومة آلياتٌ قائمةٌ لبناء قدرات الخدمة العامة لجمع وتحليل الأدلة حول كيفية تأثير السياسات والقوانين واللوائح المختلفة على التنمية المستدامة، وقد نُفِّذت هذه المبادرات بالكامل ووُزِّعت على موظفي الخدمة المدنية. (على سبيل المثال، وُزِّع التدريب المُصمَّم لتمكين موظفي الخدمة المدنية من معالجة الآثار الإيجابية والسلبية للسياسات على التنمية المستدامة بشكلٍ استراتيجي على جميع الموظفين المعنيين. ووُضِعَت أطرٌ للكفاءات لتحديد المهارات المناسبة لموظفي الخدمة المدنية وتعزيزها، بما يُمكِّنهم من تحقيق الأهداف الوطنية المتعلقة بالتنمية المستدامة). | D25: لدى الحكومة آلياتٌ قائمةٌ لبناء قدرات الخدمة العامة لجمع وتحليل الأدلة حول كيفية تأثير السياسات أو القوانين أو اللوائح المختلفة على التنمية المستدامة، إلا أن هذه الآليات لم تُطبّق إلا جزئيًا ولم تُعمّم على موظفي الخدمة المدنية. (على سبيل المثال، قد تُعيق عدة تحديات التنفيذ الكامل، بما في ذلك قيود الموارد أو ضعف الإرادة السياسية). | E25: لدى الحكومة آلياتٌ قائمةٌ لبناء قدرات الخدمة العامة لجمع وتحليل الأدلة حول كيفية تأثير السياسات أو القوانين أو اللوائح المختلفة على التنمية المستدامة، إلا أن هذه الآليات لم تُطبّق ولم تُعمّم على موظفي الخدمة المدنية. (على سبيل المثال، لم تُطبّق هذه المبادرات بسبب عوامل مثل غياب الإرادة السياسية، ونقص الموارد، والفجوات المعيارية، وعدم كفاية المشاركة). | F25: لا توجد آليات مطبقة؛ ومع ذلك، هناك خطط رسمية لتطويرها، أو أنها قيد التطوير حالياً. | G25: ولا توجد آليات قائمة، ولا توجد خطط أو إجراءات رسمية لتطويرها. | H25: هل لدى الحكومة أي آليات لبناء قدرات القطاع العام على جمع وتحليل الأدلة حول كيفية تأثير السياسات أو القوانين أو اللوائح المختلفة على التنمية المستدامة؟ على سبيل المثال، تدريب مصمم لتمكين موظفي الخدمة المدنية من التعامل استراتيجيًا مع الآثار الإيجابية والسلبية للسياسات أو القوانين أو اللوائح على التنمية المستدامة. | I25: 7.3
