Workbook

Sheet Lists
A1: A | B1: B(a)1 | C1: B(a)2-1 | D1: B(a)2-2 | E1: B(a)3-1 | F1: B(a)3-2 | G1: B(a) 4-1 | H1: B(a) 4-2 | I1: B(a)5 | J1: B(a)6 | K1: B(b) | L1: C | M1: D(a) | N1: D(a) TITLE | O1: D(a) values | P1: D(b) TITLE | Q1: D(b) values | R1: D(c) | S1: E(a)-1 | T1: E(a)-2 | U1: E(a)-3 | V1: E(b)-1 | W1: E(b)-2 | X1: E(b)-3 | Y1: LABELS | AA1: Policies | AB1: Legal Instruments | AC1: D(4) supporting doc | AE1: D(a) values | AF1: Not used | AH1: D(b) values | AI1: D(b) not used
A2: YES | B2: Environmental considerations | C2: YES, sustainability requirements can be included in technical specifications | D2: YES, functional, output-based, and / or performance-based specifications can be used | E2: YES, sustainability requirements can be specified as pre-qualification / selection criteria | F2: YES, sustainability requirements can be specified as exclusion criteria | G2: YES, contract award can be based on such approaches / criteria | H2: YES, life-cycle costing can be used | I2: YES, contract performance clauses can specify sustainability requirements | J2: YES, compliance with sustainability requirements is controlled during performance of contracts | K2: YES, it is MANDATORY to procure sustainable products/services at least for some categories | L2: YES | M2: YES | N2: o Appliances (commercial and residential appliances, such as clothes washers, ovens, refrigerators, etc.) o Building interior products (carpeting, wallboards, paint and stains, etc.) o Healthcare, biomedical equipment and supplies o Building management and maintenance o Cleaning products, janitorial and laundry services o Construction materials and services (including concrete, insulation materials, etc.) o Doors and windows o Electricity acquisition and Renewable energy o Food, catering services and vending machines o Furniture o Heating, venting and cooling products o Landscaping and park services o Lighting products and equipment (incl. lamp bulbs, indoor and outdoor lighting). o Meeting and conference services o Office electronics (incl. computers, monitors and imaging equipment) and electronic equipment leasing o Office supplies (non-paper supplies) o Paper and paper products o Road Design, Construction and Maintenance o Shipping, Packaging & Packing Supplies o Textiles (including workwear) o Transportation services and vehicles (including fleet maintenance) o Urban Waste collection o Waste water infrastructure o Water-using products/ plumbing systems | O2: o Appliances | P2: o Protecting against human rights abuses (for example, discrimination, unsafe working conditions child labour, forced labour, and human trafficking). It is advised to refer to the UN Guiding Principles for Business and Human Rights in the definition of such considerations. o Protecting and promoting groups at risk (for example, minorities, indigenous people, persons with disabilities, migrant workers) through social inclusion, which may include employment opportunities. o Promoting compliance with ILO standards and decent work o Promoting transparency and accountability and combatting corruption o Promoting SMEs o Promoting fair trade (for example, by ensuring fair living wages for those along the supply chain) o Promoting gender equality (for example, through the promotion of women-led businesses, or requiring a certain percentage of women in the workplace) o Promoting opportunities for social economy enterprises (NGOs, etc.) o Promoting Responsible Business Conduct among suppliers (governments may refer to the OECD Guidelines for Multinational Enterprises when defining these). o Promoting inclusive and equitable quality education, and lifelong learning opportunities for all (such as apprenticeship or training opportunities) | Q2: o Protecting against human rights abuses (for example, discrimination, unsafe working conditions child labour, forced labour, and human trafficking) | R2: YES, a risk-assessment analysis has been conducted prior to the selection of categories | S2: YES, progress of SPP Action plan / policy is monitored | T2: YES, a specific target has been set | U2: YES, target achievement is monitored | V2: YES, number and /or value of "sustainable" contracts is monitored | W2: YES, sustainability outcome(s) are monitored | X2: NO monitoring | Y2: Bio-based | AA2: SPP policy/strategy | AB2: Specific act promoting SPP | AC2: environmental | AE2: o Appliances | AF2: {=_xlfn._xlws.SORT(_xlfn._xlws.FILTER(AE2:AE25,COUNTIF(Questionnaire!D35:D52,Lists!AE2:AE25)=0))} -> #NAME? | AH2: o Protecting against human rights abuses (for example, discrimination, unsafe working conditions child labour, forced labour, and human trafficking) | AI2: {=_xlfn._xlws.SORT(_xlfn._xlws.FILTER(AH2:AH11,COUNTIF(Questionnaire!D58:D66,Lists!AH2:AH11)=0))} -> #NAME?
A3: NO | B3: Social considerations | C3: YES, type I labels or sustainability standards can be used as reference | D3: NO, those cannot be used as criteria | E3: NO, it is not possible | F3: NO, it is not possible | G3: NO, contract award cannot be based on such approaches/ criteria | H3: NO, life-cycle costing cannot be used | I3: NO, contract performance clauses cannot specify sustainability requirements | J3: NO, compliance with sustainability requirements is NOT controlled during performance of contracts | K3: NO, it is NOT mandatory (only possible) to procure sustainable products/services | L3: NO | M3: NO | O3: o Building interior products (carpeting, wallboards, paint and stains, etc.) | Q3: o Protecting and promoting groups at risk (for example, minorities, indigenous people, persons with disabilities, migrant workers) through social inclusion, which may include employment opportunities. | R3: NO, no risk-assessment analysis has been conducted | S3: NO | T3: NO | U3: NO | V3: NO | W3: NO | X3: Monitoring via surveys, self-assessment, or traditional reporting to management | Y3: Energy-saving | AA3: SPP action plan/road map | AB3: Decree/order promoting SPP | AC3: social | AE3: o Building interior products (carpeting, wallboards, paint and stains, etc.) | AF3: #NAME? | AH3: o Protecting and promoting groups at risk (for example, minorities, indigenous people, persons with disabilities, migrant workers) through social inclusion, which may include employment opportunities. | AI3: #NAME?
B4: Environmental and social considerations | C4: YES, both means are possible | O4: o Building management and maintenance | Q4: o Promoting compliance with ILO standards and decent work | X4: Monitoring via internal/external audit | Y4: Organic cotton/fabric | AA4: SPP promoted in national procurement strategy | AB4: Resolution/circular promoting SPP | AC4: environmental and social | AE4: o Building management and maintenance | AF4: #NAME? | AH4: o Promoting compliance with ILO standards and decent work | AI4: #NAME?
B5: None of those listed | C5: NO, such criteria, standards, or labels cannot be used | O5: o Cleaning products, janitorial and laundry services | Q5: o Promoting transparency and accountability and combatting corruption | X5: Monitoring via an information system | Y5: Organically-grown food | AA5: SPP promoted in overarching strategy | AB5: SPP provisions in procurement law/act | AE5: o Cleaning products, janitorial and laundry services | AF5: #NAME? | AH5: o Promoting transparency and accountability and combatting corruption | AI5: #NAME?
O6: o Construction materials and services (including concrete, insulation materials, etc.) | Q6: o Promoting SMEs | X6: Monitoring via an elaborate e-procurement platform | Y6: Sustainably-sourced paper | AA6: Other | AB6: SPP provisions in procurement regulations/rules/code | AE6: o Construction materials and services (including concrete, insulation materials, etc.) | AF6: #NAME? | AH6: o Promoting SMEs | AI6: #NAME?
O7: o Doors and windows | Q7: o Promoting fair trade (for example, by ensuring fair living wages for those along the supply chain) | Y7: Sustainably-sourced timber | AB7: SPP provisions in overarching law (such as environmental law) | AE7: o Doors and windows | AF7: #NAME? | AH7: o Promoting fair trade (for example, by ensuring fair living wages for those along the supply chain) | AI7: #NAME?
O8: o Electricity acquisition and Renewable energy | Q8: o Promoting gender equality (for example, through the promotion of women-led businesses, or requiring a certain percentage of women in the workplace) | Y8: Other label (please specify in the next column) | AB8: Other | AE8: o Electricity acquisition and Renewable energy | AF8: #NAME? | AH8: o Promoting gender equality (for example, through the promotion of women-led businesses, or requiring a certain percentage of women in the workplace) | AI8: #NAME?
O9: o Food, catering services and vending machines | Q9: o Promoting opportunities for social economy enterprises (NGOs, etc.) | AE9: o Food, catering services and vending machines | AF9: #NAME? | AH9: o Promoting opportunities for social economy enterprises (NGOs, etc.) | AI9: #NAME?
O10: o Furniture | Q10: o Promoting Responsible Business Conduct among suppliers | AE10: o Furniture | AF10: #NAME? | AH10: o Promoting Responsible Business Conduct among suppliers | AI10: #NAME?
O11: o Healthcare, biomedical equipment and supplies | Q11: o Promoting inclusive and equitable quality education, and lifelong learning opportunities for all (such as apprenticeship or training opportunities) | AE11: o Healthcare, biomedical equipment and supplies | AF11: #NAME? | AH11: o Promoting inclusive and equitable quality education, and lifelong learning opportunities for all (such as apprenticeship or training opportunities) | AI11: #NAME?
O12: o Heating, venting and cooling products | Q12: o Promoting youth employment and training | AE12: o Heating, venting and cooling products | AF12: #NAME?
O13: o Landscaping and park services | AE13: o Landscaping and park services | AF13: #NAME?
O14: o Lighting products and equipment (incl. lamp bulbs, indoor and outdoor lighting). | AE14: o Lighting products and equipment (incl. lamp bulbs, indoor and outdoor lighting). | AF14: #NAME?
O15: o Meeting and conference services | AE15: o Meeting and conference services | AF15: #NAME?
O16: o Office electronics (incl. computers, monitors and imaging equipment) and electronic equipment leasing | AE16: o Office electronics (incl. computers, monitors and imaging equipment) and electronic equipment leasing | AF16: #NAME?
O17: o (Non-paper) Office supplies | AE17: o Office supplies (non-paper) | AF17: #NAME?
O18: o Paper and paper products | AE18: o Paper and paper products | AF18: #NAME?
O19: o Road Design, Construction and Maintenance | AE19: o Road Design, Construction and Maintenance | AF19: #NAME?
O20: o Shipping, Packaging & Packing Supplies | AE20: o Shipping, Packaging & Packing Supplies | AF20: #NAME?
O21: o Textiles (including workwear) | AE21: o Textiles (including workwear) | AF21: #NAME?
O22: o Transportation services and vehicles (including fleet maintenance) | AE22: o Transportation services and vehicles (including fleet maintenance) | AF22: #NAME?
O23: o Urban Waste collection | AE23: o Urban Waste collection | AF23: #NAME?
O24: o Waste water infrastructure | AE24: o Waste water infrastructure | AF24: #NAME?
O25: o Water-using products/ plumbing systems | AE25: o Water-using products/ plumbing systems | AF25: #NAME?

Sheet Instructions
D1: التعليمات
B2: شكرًا لك على الوقت الذي خصصته لإكمال استبيان 2022 بشأن مؤشر أهداف التنمية المستدامة 12.7.1، الذي يقيس عدد البلدان التي تنفذ سياسات وخطط عمل المشتريات العامة المستدامة. يرجى البدء كما يلي: 1. أولاً ، النقر على علامة التبويب "تفاصيل الاتصال" في أسفل هذه الصفحة وإدخال معلومات الاتصال الخاصة بك في الحقول المقدمة. 2. بعد ذلك ، حدد علامة التبويب "استبيان" وأجب على أكبر عدد ممكن من الأسئلة ، مع تحديد إجابة من القائمة المنسدلة في الخلايا المظللة باللون الأصفر. 3- يرجى تقديم أدلة داعمة لكل رد ، في الخلايا المظللة باللون الأصفر الفاتح، مثل الروابط إلى الوثائق ذات الصلة ، فضلاً عن الإشارات الواردة في هذه الوثائق إلى أرقام صفحات وبيانات محددة. إذا لم تكن المستندات الداعمة متاحة عبر الإنترنت ، فيرجى تحميلها إلى المجلد الفرعي "المستندات الداعمة" في مجلد بلدك. لن يتم احتساب الردود التي بدون أدلة داعمة.4. الخلايا المظللة باللون الرمادي اختيارية.
B3: للحصول على تعليمات أكثر تفصيلاً حول كيفية إكمال استبيان إكسل هذا ، يرجى الاطلاع على"إرشادات استبيان إكسل لمؤشر المشتريات العامة المستدامة ".
B4: للحصول على مزيد من المعلومات حول منهجية مؤشر أهداف التنمية المستدامة 12.7.1 ونظام النقاط، يرجى الرجوع إلى وثيقة "منهجية حساب مؤشر المشتريات العامة المستدامة ".
B5: للحصول على قائمة حسب البلد بمؤشر أهداف التنمية المستدامة 12.7.1 جهات التنسيق والاحتياطيين ، يرجى النقر هنا.
B6: أي أسئلة ؟ يُرجى الاتصال بنا على: | C6: agnes.wierzbicki@un.org cc. farid.yaker@un.org | D6: خبير استشاري، برنامج الأمم المتحدة للبيئة موظف برامج، برنامج الأمم المتحدة للبيئة

Sheet Contact details
E1: معلومات الاتصال الخاصة بالمستجيبين
B2: التاريخ (اليوم/الشهر/السنة) | C2: البلد | D2: الاسم الأول | E2: الاسم الأخير | F2: النوع الاجتماعي | G2: المنصب | H2: الإدارة / الوزارة / المنظمة | I2: عنوان البريد الإلكتروني | J2: عنوان بريد إلكتروني إضافي (إذا كان ذلك مناسبًا)
A3: المستجيب 1
A4: المستجيب 2
A5: المستجيب 3
A6: المستجيب 4
A7: المستجيب 5
A8: المستجيب 6
A9: المستجيب 7
A10: المستجيب 8
A11: المستجيب 9
A12: المستجيب 10
A13: المستجيب 11
A14: المستجيب 12
... A17: المستجيب 15

Sheet Questionnaire
C1: استبيان
B2: المؤشرات الفرعية والأسئلة | C2: النقاط | D2: إجاباتكم | E2: التفاصيل والمستندات الداعمة
B3: أ: وجود سياسة /خطة عمل للمشتريات العامة المستدامة و/أو متطلبات تنظيمية للمشتريات العامة المستدامة | C3: 1 نقطة | D3: يرجى النقر على الخلية أدناه وتحديد إجابة من القائمة المنسدلة | E3: يرجى تقديم المزيد من التفاصيل لدعم إجابتك وتضمين روابط للمستندات ذات الصلة
B4: أ .1 هل لدى بلدك سياسة/خطة عمل معتمدة (وطنية/اتحادية) للمشتريات العامة المستدامة قيد التنفيذ و/أو متطلبات تنظيمية للمشتريات العامة المستدامة ؟ يمكن أن يكون ذلك أي مما يلي: (1) سياسات/استراتيجيات وخطط العمل/خرائط الطريق المخصصة للمشتريات العامة المستدامة ؛ و/أو (2) السياسات الشاملة (أي استراتيجيات التنمية المستدامة ، وسياسات الاستهلاك والإنتاج المستدامين ، والاقتصاد الصديق للبيئة ، والاقتصاد الدائري ، وما إلى ذلك) التي تتضمن أحكاماً شاملة بشأن حماية البيانات ؛ و/أو (3) قوانين ولوائح المشتريات العامة التي تتضمن أحكامًا شاملة خاصة بالمشتريات العامة المستدامة ؛ و/أو (4) القوانين القطاعية مع الأحكام الشاملة للمشتريات العامة المستدامة ( أي توجيهات بشأن كفاءة الطاقة). | C4: 1 نقطة | E4: يرجى النقر هنا لتقديم تفاصيل حول سياساتك والصكوك القانونية الداعمة للمشتريات العامة المستدامة(المستندات الداعمة أ 1).
C5: نقاطك أ: | D5: =IF(D4=Lists!$A$2,1,0) -> 0
B6: ب: الإطار التنظيمي للمشتريات العامة يفضي إلى المشتريات العامة المستدامة | C6: 20 نقطة | D6: يرجى النقر على الخلية أدناه وتحديد إجابة من القائمة المنسدلة | E6: يرجى تقديم المزيد من التفاصيل لدعم إجابتك وتضمين روابط للمستندات ذات الصلة
B7: ب (أ) تسمح الأحكام الواردة في الإطار القانوني والتنظيمي بإدراج اعتبارات الاستدامة (البيئية و/أو الاجتماعية) في المراحل التالية من عملية الشراء: | C7: 14 نقطة
B8: 1/ تعاريف المتطلبات
B9: ب .1 هل يسمح الإطار القانوني والتنظيمي بإدراج متطلبات الاستدامة (البيئية و/أو الاجتماعية) في المواصفات الفنية ؟ و/أو هل يمكن استخدام العلامات البيئية من النوع الأول أو العلامات الاجتماعية أو معايير الاستدامة ذات الصلة كمرجع لتحديد الحد الأدنى من الامتثال ؟ عند تحديد الحد الأدنى من معايير الامتثال للعقد ، يمكن تحديد متطلبات الاستدامة. على سبيل المثال: استخدام المواد الخام المستدامة / المعاد تدويرها ؛ والتحلل البيولوجي للمنتجات ؛ وتجنب استخدام المواد الضارة ؛ والتغليف الصديق للبيئة ؛ ومستوى استهلاك الطاقة ؛ والضمان والمتانة ؛ وضمان توافر الأجزاء والمكونات. | C9: 2 نقطة | E9: …
B10: ب .2 هل يسمح الإطار القانوني والتنظيمي باستخدام المواصفات الوظيفية /القائمة على المخرجات / القائمة على الأداء كمعايير ؟ وتشير هذه المواصفات إلى ما ينبغي أن تحققه الأصناف المشتراة من حيث المهام المنجزة ، أو مستوى الأداء الذي تم بلوغه ، أو النواتج/النتائج التي تم تسليمها. على سبيل المثال: المصابيح الكهربائية ذات الاستهلاك المحدود للطاقة ، أو المركبات ذات انبعاثات ثاني أكسيد الكربون المحدودة. | C10: 2 نقطة | E10: …
B11: 2/ التأهيل المسبق/التأهيل
B12: ب .3 هل يسمح الإطار القانوني والتنظيمي بتحديد متطلبات الاستدامة كمعايير التأهيل المسبق / الاختيار ؟ تقيِّم معايير الاختيار مدى ملاءمة المشغِّل الاقتصادي لتنفيذ العقد. على سبيل المثال: قد يُطلب من الموردين تقديم دليل على الامتثال للمعايير الاجتماعية و/أو البيئية ، أو دليل على أنهم اعتمدوا نهجًا لنظام الإدارة البيئية أو نظامًا لإدارة سلسلة التوريد وتتبعها. | C12: 2 نقطة | E12: …
B13: ب .4 هل يسمح الإطار القانوني والتنظيمي بتحديد متطلبات الاستدامة كمعايير استبعاد ؟ يمكن استبعاد الموردين المخالفين للقوانين البيئية أو الاجتماعية ، أو الذين لا يمتثلون لمعايير بيئية أو اجتماعية معينة (مثل الاتفاقيات الأساسية لمنظمة العمل الدولية) من عملية الشراء. | C13: 2 نقطة | E13: …
B14: 3/ التقييم والاختيار
B15: ب.5 هل يسمح الإطار القانوني والتنظيمي بأن يستند إرساء العقود إلى معايير غير السعر (بما في ذلك معايير الاستدامة )؟ على سبيل المثال ، من خلال اللجوء إلى نهج "أفضل قيمة مقابل المال" أو "العطاء الأكثر فائدة من الناحية الاقتصادية". | C15: 2 نقطة | E15: …
B16: ب .6 هل يسمح الإطار القانوني والتنظيمي باستخدام تكلفة دورة الحياة (LCC) في تقييم العطاءات ؟ تكلفة دورة الحياة هو تقييم اقتصادي يأخذ في الاعتبار جميع التكاليف التي سيتم تكبدها خلال عمر المنتج أو العمل أو الخدمة (سعر الشراء بما في ذلك التسليم ؛ وتكاليف التركيب ؛ وتكاليف التشغيل والصيانة ؛ وتكاليف نهاية العمر مثل التخلص). | C16: 2 نقطة | E16: …
B17: 4/ إرساء العقود وإدارتها
B18: ب .7 هل يسمح الإطار القانوني والتنظيمي بتحديد متطلبات الاستدامة في بنود أداء العقد ؟ على سبيل المثال: اشتراط الامتثال لحقوق العمل في سلسلة التوريد (مثل المعايير الأساسية لمنظمة العمل الدولية )؛ واشتراط الاستخدام الفعال لموارد مثل الكهرباء والمياه في مواقع البناء ؛ والحد من انبعاثات ثاني أكسيد الكربون المرتبطة بالنقل ؛ والتغليف المأخوذ لإعادة الاستخدام أو إعادة التدوير أو التخلص المناسب. | C18: 2 نقطة | E18: …
C19: نقاطك ب(أ): | D19: =SUM(IF(D9=Lists!$C$2,2,IF(D9=Lists!$C$3,2,IF(D9=Lists!$C$4,2,IF(D9=Lists!$C$5,0,IF(D9="",0))))),IF(D10=Lists!$D$2,2,0),IF(D12=Lists!$E$2,2,0),IF(D13=Lists!$F$2,2,0),IF(D15=Lists!$G$2,2,0),IF(D16=Lists!$H$2,2,0),IF(D$18=Lists!$I$2,2,0)) -> 0
B20: ب(ب) أحكام في الإطار القانوني والتنظيمي تنص على شراء بدائل مستدامة | C20: 6 نقاط
B21: ب-8 هل يفرض الإطار القانوني والتنظيمي شراء بدائل مستدامة لفئة واحدة أو أكثر على الأقل ؟ فعلى سبيل المثال ، ينص التوجيه الصادر عن الاتحاد الأوروبي بشأن "المركبات النظيفة" على أنه "يلزم السلطات المتعاقدة بأن تأخذ في الحسبان الآثار المتعلقة بالطاقة والبيئة عند شراء مركبات النقل البري ". | C21: 6 نقاط | E21: …
C22: نقاطك ب(ب): | D22: =SUM(IF(D21=Lists!$K$3,0,IF(D21=Lists!$K$2,6,IF(D21="",0)))) -> 0
C23: نقاطك ب: | D23: =D19+D22 -> 0
B24: ج: الدعم العملي المقدم لممارسي المشتريات في تنفيذ سياسة المشتريات العامة المستدامة | C24: 20 نقطة | D24: يرجى النقر على الخلية أدناه وتحديد إجابة من القائمة المنسدلة | E24: يرجى تقديم المزيد من التفاصيل لدعم إجابتك وتضمين روابط للمستندات ذات الصلة
B25: ج. 1 هل تم في السنوات الخمس الأخيرة وضع مبادئ توجيهية وأدوات ، أو كتالوج رسمي للمنتجات التي تحمل علامات إيكولوجية ؟ مثل المبادئ التوجيهية/الأدلة للمشتريات المستدامة ، ومعايير الاستدامة ، والكتالوج الرسمي للمنتجات المستدامة ، إلخ. | C25: 4 نقاط | E25: …
B26: ج .2 هل يتم استخدام قنوات اتصال محددة لتوفير المعلومات أو الأدوات لممارسي المشتريات ، على الأقل مرتين في السنة ؟ مثل النشرة الإخبارية والموقع الإلكتروني والشبكة الداخلية ووسائل التواصل الاجتماعي وما إلى ذلك. | C26: 4 نقاط | E26: …
B27: ج .3 هل يتم تنظيم دورات تدريبية مرة واحدة على الأقل في السنة لبناء قدرات ممارسي المشتريات العامة في تنفيذ المشتريات العامة المستدامة؟ يجب أن تركز مثل هذه الدورات التدريبية على المشتريات العامة المستدامة أو تحتوي على مكون مهم للمشتريات العامة المستدامة. يمكن أن تكون هذه الجلسات شخصية و/أو افتراضية وتقدم للموظفين الجدد أو كتعليم مستمر. | C27: 4 نقاط | E27: …
B28: ج .4 هل يتم مشاركة أفضل الممارسات أو دراسات الحالة (على الأقل 3) مع ممارسي المشتريات ؟ يرجى فقط مراعاة الدراسات التي تم تطويرها في السنوات الثلاث الماضية ، والتي قد تشمل ترجمة الوثائق ذات الصلة التي وضعتها دول أخرى. | C28: 2 نقطة | E28: …
B29: ج .5 هل تشجع الحكومة الوطنية أفضل الممارسات والإنجازات للمشتريات العامة المستدامة من خلال الجوائز و/أو الحوافز ؟ تزيد الجوائز والحوافز من استثمار الموظفين في المشتريات العامة المستدامة وتخلق ثقافة تشجع على دمج اعتبارات الاستدامة في المشتريات العامة. تشمل الحوافز الاعتراف الداخلي النموذجي والمكافآت. وتشمل الأمثلة الأخرى المسابقات الإبداعية بين وحدات المؤسسة أو عبرها ، أو لفئات شراء محددة. | C29: 2 نقطة | E29: …
B30: ج.6 هل يتوفر مكتب مساعدة التابع للمشتريات العامة المستدامة لممارسي المشتريات ؟ يقدم مكتب المساعدة التابع للمشتريات العامة المستدامة المساعدة المباشرة عبر الهاتف أو الإنترنت أو البريد الإلكتروني أو من خلال زيارات الموقع إلى السلطات المتعاقدة العامة بشأن القضايا المتعلقة بتنفيذ المشتريات العامة المستدامة. يمكن أن يكون هذا أيضًا مكتب المساعدة التابعة للمشتريات العامة الذي يعالج القضايا المتعلقة بـالمشتريات العامة المستدامة. | C30: 4 نقاط | E30: …
C31: نقاطك ج: | D31: =SUM(IF(D25=Lists!$L$2,4,0),IF(D26=Lists!$L$2,4,0),IF(D27=Lists!$L$2,4,0),IF(D28=Lists!$L$2,2,0),IF(D29=Lists!$L$2,2,0),IF(D30=Lists!$L$2,4,0)) -> 0
B32: د: معايير الشراء/معايير الشراء/ المتطلبات المتعلقة بالمشتريات العامة المستدامة | C32: 20 نقطة | D32: يرجى تحديد الفئات والمنتجات ذات الصلة من القائمة المنسدلة | E32: يرجى ذكر أسماء مجموعات المنتجات (الأصغر) بالتفصيل أدناه والتي قد تندرج تحت الفئة المحددة في العمود "D ". | F32: يرجى تقديم المزيد من التفاصيل أو الأمثلة لدعم إجابتك ويرجى تضمين روابط إلى المستندات/الأدلة ذات الصلة | G32: اختياري | H32: اختياري
B33: د (أ) المعايير البيئية | C33: 10 نقاط
B34: د.1 هل تم تحديد معايير الشراء المراعية للبيئة أو التوصية بمعايير/مسميات بيئية لفئات محددة من المنتجات والخدمات ؟ إذا كانت الإجابة لا ، يرجى الانتقال إلى السؤال التالي. إذا كانت الإجابة نعم ، يرجى تحديد إجابة من القائمة المنسدلة في العمود "D ". معايير المشتريات الصديقة للبيئة والمعايير/المسميات البيئية تحدد مستويات الأداء البيئي والمناخي للمنتج أو الخدمة. ويمكن تحديد ذلك في طلبات تقديم العروض والعقود ، ويمكن إدراجه في التقييم الفني وتحليل تكلفة عروض الأسعار والعطاءات والعروض. على سبيل المثال ، قد يكون من المطلوب ألا تصدر المركبات أكثر من كمية معينة من الملوثات ، أو لا تستهلك مكيفات الهواء أكثر من كمية معينة من الطاقة. | D34: يرجى اختيار ما يصل إلى 18 فئة ذات صلة من القائمة المنسدلة أدناه والتي تم تحديد معايير المشتريات الصديقة للبيئة لها أو تمت التوصية بالمعايير/التسميات البيئية. يمكن تحديد كل فئة مرة واحدة فقط. | E34: يرجى ذكر أسماء المنتجات (الأصغر) أو مجموعات الخدمات بالتفصيل أدناه ، والتي قد تندرج تحت الفئة المحددة في العمود "D ". على سبيل المثال ، إذا كانت فئة المنتج/الخدمة المحددة في العمود" D "هي" إلكترونيات المكتب "، فيمكن أن تكون مجموعات المنتجات الأصغر الممكنة "شاشات "،" معدات التصوير "، إلخ. | F34: يرجى تقديم المزيد من التفاصيل أو الأمثلة لدعم إجابتك ويرجى تضمين روابط إلى المستندات/الأدلة ذات الصلة | G34: اختياري: إذا تمت التوصية بتسمية(تسميات) لهذه المنتجات ، فيرجى تحديد تسمية من القائمة المنسدلة. إذا لم يتم سرد التسمية ، يرجى كتابتها في العمود التالي. | H34: اختياري: نوع آخر من التسميات (يرجى التحديد)
B35: الفئات الشائعة من المنتجات والخدمات التي تظهر في القائمة المنسدلة في العمود "D" على اليمين. o الأجهزة (الأجهزة التجارية والسكنية ، مثل غسالات الملابس والأفران والثلاجات وما إلى ذلك) o بناء المنتجات الداخلية (السجاد ، ألواح الحائط ، الطلاء والبقع ، إلخ.) o الرعاية الصحية والمعدات واللوازم الطبية الحيوية o إدارة المباني وصيانتها o خدمات التنظيف والحراسة وغسيل الملابس o مواد وخدمات البناء (بما في ذلك الخرسانة ومواد العزل وما إلى ذلك) o الأبواب والنوافذ o اقتناء الكهرباء والطاقة المتجددة o الأغذية وخدمات المطاعم وآلات البيع o الأثاث o منتجات التدفئة والتهوية والتبريد o خدمات المناظر الطبيعية والمتنزهات o منتجات ومعدات الإضاءة (بما في ذلك مصابيح الإضاءة والإضاءة الداخلية والخارجية) o خدمات الاجتماعات والمؤتمرات o الإلكترونيات المكتبية (بما في ذلك أجهزة الكمبيوتر والشاشات ومعدات التصوير) وتأجير المعدات الإلكترونية o اللوازم المكتبية (اللوازم غير الورقية) o الورق والمنتجات الورقية o تصميم الطرق وإنشائها وصيانتها o الشحن والتغليف ولوازم التغليف o المنسوجات (بما في ذلك ملابس العمل) o خدمات النقل والمركبات (بما في ذلك صيانة الأساطيل) o جمع نفايات المدن o البنية التحتية لمياه الصرف الصحي o المنتجات التي تستخدم المياه/أنظمة السباكة | C35: 0.5 نقطة | E35: … | F35: … | H35: …
C36: 0.5 نقطة | E36: … | F36: … | H36: …
C37: 0.5 نقطة | E37: … | F37: … | H37: …
C38: 0.5 نقطة | E38: … | F38: … | H38: …
C39: 0.5 نقطة | E39: … | F39: … | H39: …
C40: 0.5 نقطة | E40: … | F40: … | H40: …
C41: 0.5 نقطة | E41: … | F41: … | H41: …
C42: 0.5 نقطة | E42: … | F42: … | H42: …
C43: 0.5 نقطة | E43: … | F43: … | H43: …
C44: 0.5 نقطة | E44: … | F44: … | H44: …
C45: 0.5 نقطة | E45: … | F45: … | H45: …
C46: 0.5 نقطة | E46: … | F46: … | H46: …
C47: 0.5 نقطة | E47: … | F47: … | H47: …
... C52: 0.5 نقطة | E52: … | F52: … | H52: …
B53: فئات المنتجات/الخدمات الإضافية التي لا تظهر في القائمة المنسدلة. | C53: 0.5 نقطة | E53: … | F53: … | H53: …
C54: 0.5 نقطة | E54: … | F54: … | H54: …
C55: نقاطك د(أ): | D55: =0.5*COUNTA(D35:D54) -> 0
B56: د(ب) الاعتبارات الاجتماعية / الاقتصادية / المتصلة بالإدارة | C56: 10 نقاط
B57: د .2 هل تم تحديد المتطلبات الاجتماعية ، و/أو تم تطبيق المعايير/التسميات الاجتماعية على المشتريات العامة ؟ إذا كانت الإجابة لا ، يرجى الانتقال إلى السؤال التالي. إذا كانت الإجابة نعم ، يرجى التحديد من القائمة المنسدلة في العمود "D ". تعزز المتطلبات والمعايير الاجتماعية بعض الأهداف الاجتماعية ، مثل تلك المذكورة أدناه. يمكن وصفها في وثائق السياسة/الوثائق القانونية وتحديدها في معايير الاختيار والاستبعاد ، والعطاءات والعقود ، أو ، إذا كان ذلك مناسبًا ، يمكن تطبيقها في التقييم الفني وتحليل تكلفة عروض الأسعار والعطاءات والعروض المقدمة. على سبيل المثال ، يمكن أن يُطلب من مقدمي العروض الامتثال لمعايير عمالية وصحية معينة ، وأن تكون لديهم سياسة المسؤولية الاجتماعية للشركات ، إلخ. وبالإضافة إلى ذلك ، يمكن أن تحدد المتطلبات الاجتماعية حصصاً أو تخصيصات ، حيث تخصص نسبة مئوية معينة من المشتريات العامة للمشاريع الصغيرة والمتوسطة الحجم ، والفئات المعرضة للخطر ، وما إلى ذلك. | D57: يرجى اختيار ما يصل إلى 9 اعتبارات اجتماعية/اقتصادية/متعلقة بالإدارة ذات صلة من القائمة المنسدلة أدناه. يمكن اختيار كل اعتبار مرة واحدة فقط. | E57: يرجى وصف اعتبارات الاستدامة بمزيد من التفصيل أدناه وتقديم روابط إلى المستندات/الأدلة الداعمة. على سبيل المثال ، إذا اخترت "تعزيز الشركات الصغيرة والمتوسطة" أو "تعزيز الأعمال التجارية المملوكة للنساء" أو "تعزيز المجموعات المعرضة للخطر" ، فقم بالإشارة إلى الحصة أو المخصص وتوفير رابط للمستند السياسية/القانونية ، وطلبات تقديم العروض ، وما إلى ذلك التي توضح هذا الشرط.
B58: المعايير الاجتماعية/الاقتصادية/الإدارية الشائعة التي تظهر في القائمة المنسدلة في العمود "د" على اليمين. o تعزيز الامتثال لمعايير منظمة العمل الدولية والعمل اللائق o تعزيز التجارة العادلة (على سبيل المثال ، من خلال ضمان أجور معيشية عادلة لأولئك الذين على طول سلسلة التوريد) o تعزيز المساواة بين الجنسين (على سبيل المثال ، من خلال تعزيز الأعمال التجارية التي تقودها النساء ، أو تتطلب نسبة مئوية معينة من النساء في مكان العمل) o تعزيز التعليم الجيد والشامل والمنصف ، وفرص التعلم مدى الحياة للجميع (مثل التدريب المهني أو فرص التدريب o تعزيز الشركات الصغيرة والمتوسطة ○ تعزيز الفرص المتاحة لمؤسسات الاقتصاد الاجتماعي (المنظمات غير الحكومية ، وما إلى ذلك) o تعزيز السلوك التجاري المسؤول بين الموردين o تعزيز المؤسسات الصغيرة والمتوسطة o تعزيز الشفافية والمساءلة ومكافحة الفساد o الحماية من انتهاكات حقوق الإنسان (على سبيل المثال ، التمييز وظروف العمل غير الآمنة وعمل الأطفال ، العمل القسري والاتجار بالبشر) o حماية وتشجيع الفئات المعرضة للخطر (على سبيل المثال ، الأقليات ، والسكان الأصليين ، والأشخاص ذوي الإعاقة ، العمال المهاجرين) من خلال الإدماج الاجتماعي ، الذي قد يشمل فرص العمل. | C58: 1 نقطة | E58: …
C59: 1 نقطة | E59: …
C60: 1 نقطة | E60: … | G60: …
C61: 1 نقطة | E61: … | G61: …
C62: 1 نقطة | E62: … | G62: …
C63: 1 نقطة | E63: … | G63: …
C64: 1 نقطة | E64: … | G64: …
C65: 1 نقطة | E65: … | G65: …
C66: 1 نقطة | E66: … | G66: …
B67: اعتبارات اجتماعية/اقتصادية/ إدارية إضافية لا تظهر في القائمة المنسدلة أعلاه. | C67: 1 نقطة | E67: … | G67: …
C68: نقاطك د(ب): | D68: =1*COUNTA(D58:D67) -> 0
C69: نقاطك د: | D69: =D55+D68 -> 0
B70: ه: وجود نظام مراقبة المشتريات العامة المستدامة | C70: 20 نقطة | D70: يرجى النقر على الخلية أدناه وتحديد إجابة من القائمة المنسدلة | E70: يرجى تقديم المزيد من التفاصيل لدعم إجابتك ويرجى تضمين روابط إلى المستندات/الأدلة ذات الصلة
B71: ه(أ) رصد تنفيذ خطة العمل/ السياسة العامة للمشتريات العامة المستدامة | C71: 8 نقاط
B72: هـ .1 هل يتم رصد التقدم المحرز في خطة عمل/تنفيذ سياسة المشتريات العامة المستدامة الخاصة بك ؟ ويشمل ذلك رصد اعتماد المشتريات العامة المستدامة عبر المؤسسات، وإدماج اعتبارات الاستدامة في الإجراءات والأدوات ، وكذلك الموظفين المدربين في المشتريات العامة المستدامة. وعادة ما يشار إلى هذا الجانب من رصد المشتريات العامة المستدامة باسم "مدى إضفاء الطابع المؤسسي على المشتريات العامة المستدامة ". | C72: 4 نقاط | E72: …
B73: هـ .2 هل تم تحديد هدف محدد لتنفيذ المشتريات المستدامة ؟ على سبيل المثال ، نسبة مئوية محددة من العقود "الصديقة للبيئة" أو العقود المسؤولة اجتماعيًا. | C73: 2 نقطة | E73: …
B74: هـ .3 إذا كانت إجابتك "نعم" على السؤال أعلاه (هـ .2 )، فهل يتم رصد التقدم المحرز نحو تحقيق هذا الهدف ؟ | C74: 2 نقطة | E74: …
C75: نقاطك هـ(أ): | D75: =SUM(IF(D72=Lists!$S$2,4,0),IF(D73=Lists!$T$2,2,0),IF(D74=Lists!$U$2,2,0)) -> 0
B76: ه(ب) رصد نواتج ونتائج المشتريات العامة المستدامة | C76: 12 نقطة
B77: هـ .4 هل يتم رصد عدد و/أو قيمة العقود التي تتضمن متطلبات الاستدامة ؟ هذه هي النتائج أو المخرجات المباشرة لأنشطة المشتريات العامة المستدامة. | C77: 6 نقاط | E77: …
B78: هـ .5 هل يستلزم الرصد أيضًا قياس نتائج (نتائج) الاستدامة ؟ نتائج الاستدامة هي الفوائد أو التأثيرات على البيئة أو المجتمع الناتجة عن ممارسات المشتريات العامة المستدامة ، مثل خفض انبعاثات غازات الاحتباس الحراري ، وخلق فرص عمل صديقة للبيئة ، إلخ. | C78: 2 نقطة | E78: …
B79: هـ .6 كيف يتم رصد البيانات؟ يرجى اختيار الخيار الأنسب: o عن طريق المسوحات أو التقييم الذاتي أو التقارير التقليدية للإدارة (نقطتان) أو ؛ o عن طريق التدقيق الداخلي/الخارجي (نقطتان )، أو ؛ o من خلال نظام معلومات (3 نقاط )، أو؛ o من خلال منصة شراء إلكترونية متقنة (4 نقاط). | C79: 2-4 نقاط | E79: …
C80: نقاطك هـ(ب): | D80: =SUM(IF(D77=Lists!$V$2,6,0),IF(D78=Lists!$W$2,2,0),IF(D79=Lists!$X$3,2,IF(D79=Lists!$X$4,2,IF(D79=Lists!$X$5,3,IF(D79=Lists!$X$6,4,IF(D79=Lists!SXQ2,0,)))))) -> 0
C81: نقاطك هـ: | D81: =SUM(D75,D80) -> 0
B82: و: النسبة المئوية للمشتريات العامة المستدامة | C82: 20 نقطة | D82: يرجى إدخال القيم المطلوبة في الخلايا أدناه | E82: يرجى تقديم المزيد من التفاصيل لدعم إجابتك ويرجى تضمين روابط إلى المستندات/الأدلة | G82: يرجى إدخال القيم المطلوبة في الخلايا أدناه
B83: و .1 هل يقيس بلدك النسبة المئوية لـلمشتريات العامة المستدامة لفئات المنتجات/الخدمات ذات الأولوية المدرجة في المؤشر الفرعي د.1. و/أو الاعتبارات الاجتماعية/الاقتصادية/المتعلقة بالإدارة في د.2 ؟ إذا كانت الإجابة نعم ، يرجى تحديد الفئات والقيمة الإجمالية للعقود لكل فئة ، باستخدام أحدث البيانات المتاحة (2021 أو 2020). إذا كانت الإجابة لا ، فأنت الآن قد أكملت الاستبيان. يرجى ذكر فئات الإنفاق على المشتريات العامة التي تستخدمها حكومتكم أدناه. | C83: يرجى تحديد السنة المرجعية: 2020 أو 2021 | D83: يرجى الإشارة إلى القيمة الإجمالية للعقود الوطنية/الاتحادية التي تتضمن متطلبات الاستدامة لفئات الإنفاق المدرجة في العمود B | E83: يرجى تقديم تفاصيل عما يعتبر "عقداً مستداماً" في حساب هذه القيمة الإجمالية وتقديم أدلة داعمة. | G83: اختياري: يرجى الإشارة إلى القيمة الإجمالية لجميع عقود المشتريات الوطنية/الفيدرالية (مستدام + غير مستدام) للفئة المدرجة في العمود B | H83: النسبة المئوية الإرشادية لكل فئة من فئات المشتريات (يرجى ملاحظة أن هذه النسبة المئوية غير مستخدمة في الحساب ، يتم عرضها فقط للعلم)
B84: 1. الفئة الخاصة بك هنا | D84: … | G84: … | H84: =IF(ISERROR(D84/G84),0,D84/G84) -> 0
B85: 2. الفئة الخاصة بك هنا | D85: … | E85: … | F85: … | G85: … | H85: =IF(ISERROR(D85/G85),0,D85/G85) -> 0
B86: 3. الفئة الخاصة بك هنا | D86: … | E86: … | F86: … | G86: … | H86: =IF(ISERROR(D86/G86),0,D86/G86) -> 0
B87: 4. الفئة الخاصة بك هنا | D87: … | E87: … | F87: … | G87: … | H87: =IF(ISERROR(D87/G87),0,D87/G87) -> 0
B88: 5. ... | D88: … | E88: … | F88: … | G88: … | H88: =IF(ISERROR(D88/G88),0,D88/G88) -> 0
B89: 6. ... | D89: … | E89: … | F89: … | G89: … | H89: =IF(ISERROR(D89/G89),0,D89/G89) -> 0
B90: 7. ... | D90: … | E90: … | F90: … | G90: … | H90: =IF(ISERROR(D90/G90),0,D90/G90) -> 0
B91: 8. ... | D91: … | E91: … | F91: … | G91: … | H91: =IF(ISERROR(D91/G91),0,D91/G91) -> 0
B92: 9. ... | D92: … | E92: … | F92: … | G92: … | H92: =IF(ISERROR(D92/G92),0,D92/G92) -> 0
B93: 10. ... | D93: … | E93: … | F93: … | G93: … | H93: =IF(ISERROR(D93/G93),0,D93/G93) -> 0
B94: 11. ... | D94: … | E94: … | F94: … | G94: … | H94: =IF(ISERROR(D94/G94),0,D94/G94) -> 0
B95: 12. ... | D95: … | E95: … | F95: … | G95: … | H95: =IF(ISERROR(D95/G95),0,D95/G95) -> 0
B96: 13. ... | D96: … | E96: … | F96: … | G96: … | H96: =IF(ISERROR(D96/G96),0,D96/G96) -> 0
... B113: 30. ... | D113: … | E113: … | F113: … | G113: … | H113: =IF(ISERROR(D113/G113),0,D113/G113) -> 0
C114: القيمة الإجمالية للمشتريات العامة الفيدرالية / الوطنية المستدامة | D114: =SUM(D84:D113) -> 0 | G114: =SUM(G84:G113) -> 0 | H114: =IF(ISERROR(D114/G114),0,D114/G114) -> 0
C115: القيمة الإجمالية للمشتريات العامة الفيدرالية / الوطنية | D115: …
C116: نقاطك و: | D116: =IF(ISERROR(D114/D115),0,D114/D115)*20 -> 0
B118: المؤشر الفرعي للحكومة الفيدرالية / الوطنية أ *(ب + ج + د + ه + و) | C118: مجموع نقاطك الإجمالية: | D118: =D5*(D23+D31+D69+D81+D116) -> 0

Sheet Supporting documents A1
F1: الوثائق الداعمة أ1 | H1: العودة إلى الاستبيان
B2: ما هي السياسات/الاستراتيجيات أو خطط العمل/خرائط الطريق التي تتبعها حكومتك (الفيدرالية/الوطنية) التي تدعم تنفيذ المشتريات العامة المستدامة ؟يمكن أن تكون هذه سياسات مخصصة وخطط عمل واستراتيجيات وخرائط طريق و/أو سياسات شاملة للمشتريات العامة المستدامة (مثل سياسات التنمية المستدامة وسياسات الاستهلاك والإنتاج المستدامين وما إلى ذلك) مع أحكام شاملة للمشتريات العامة المستدامة. | C2: السياسات/الاستراتيجيات وخطط العمل/خرائط الطريق التي تدعم المشتريات العامة المستدامة
C3: يرجى تحديد نوع المستند من القائمة المنسدلة أدناه | D3: يرجى تحديد هدف المشتريات العامة المستدامة من القائمة المنسدلة أدناه | E3: تاريخ الموافقة (يوم/شهر/سنة) | F3: اسم المستند ورابطه | G3: يرجى الرجوع أدناه إلى الأقسام وأرقام الصفحات ذات الصلة التي تتعلق بـالمشتريات العامة المستدامة من المستندات المدرجة في العمود F.
E4: … | F4: … | G4: …
E5: ... | F5: … | G5: …
E6: ... | F6: … | G6: …
E7: ... | F7: … | G7: …
E8: ... | F8: … | G8: …
E9: ... | F9: … | G9: …
E10: ... | F10: … | G10: …
E11: ... | F11: … | G11: …
E12: ... | F12: … | G12: …
E13: ... | F13: … | G13: …
E14: ... | F14: … | G14: …
E15: ... | F15: … | G15: …
... E18: ... | F18: … | G18: …
B19: ما هي الصكوك القانونية التي تمتلكها حكومتك (الفيدرالية/الوطنية) والتي تدعم تنفيذ المشتريات العامة المستدامة ؟يمكن أن تكون هذه صكوكًا قانونية مخصصة لـالمشتريات العامة المستدامة ، مثل قانون محدد أو مرسوم أو أمر و/أو قرار يدعم المشتريات العامة المستدامة؛ و/أو قوانين ولوائح المشتريات العامة مع أحكام شاملة للمشتريات العامة المستدامة ؛ و/أو قوانين قطاعية مع أحكام شاملة للمشتريات العامة المستدامة. | C19: الصكوك القانونية الداعمة للمشتريات العامة المستدامة
C20: يرجى تحديد نوع المستند من القائمة المنسدلة | D20: الرجاء تحديد هدف المشتريات العامة المستدامة | E20: تاريخ الموافقة (يوم/شهر/سنة) | F20: اسم المستند ورابطه | G20: يرجى الرجوع أدناه إلى الأقسام وأرقام الصفحات ذات الصلة التي تتعلق بـالمشتريات العامة المستدامة من المستندات المدرجة في العمود F.
E21: ... | F21: … | G21: …
E22: ... | F22: … | G22: …
E23: ... | F23: … | G23: …
E24: ... | F24: … | G24: …
E25: ... | F25: … | G25: …
E26: ... | F26: … | G26: …
E27: ... | F27: … | G27: …
E28: ... | F28: … | G28: …
E29: ... | F29: … | G29: …
E30: ... | F30: … | G30: …
E31: ... | F31: … | G31: …
E32: ... | F32: … | G32: …
... E34: ... | F34: … | G34: …
