Workbook
Name IRIS: '[1]Comparison of list'!$A$1:$A$77
Name Jack: '[1]Comparison of list'!$B$1:$B$96

Sheet Summary
B10: Calculator for the estimation of adverse health outcomes and associated productivity losses resulting from chemicals exposure
B11: Integrated Health and Environment Observatories for the Sound Management of Chemicals and Waste in Africa
B12: Draft 16 July 2022
B14: Use the sections below to enter available chemicals data
H16: DALYs | I16: IQ decrement
G17: Dietary | H17: =Dietary!E2 -> 0 | I17: =Dietary!B2 -> 0
G18: Soil | H18: =Soil!E2 -> 9.5191228 | I18: =Soil!B2 -> 4457.3506
G19: Dust | H19: =Dust!H2 -> 0 | I19: =Dust!E2 -> 0
G20: Water | H20: =Water!D2 -> 0 | I20: =Water!B2 -> 0
G21: Total | H21: =SUM(H17:H20) -> 9.5191228 | I21: =SUM(I17:I20) -> 4457.3506
B23: Country | C23: Afghanistan
G25: Cost per DALY | H25: =VLOOKUP(C23,'Economic Inputs'!A1:H186,8,0) -> 715.13979
G27: Cost per IQ point | H27: =VLOOKUP(C23,'Economic Inputs'!A1:H186,5,0) -> 207.2071 | I27: =VLOOKUP(C23,'Economic Inputs'!A1:H186,6,0) -> 331.71026
H28: 3 % discount rate | I28: 1.5 % discount rate
F30: Cost of DALYs (USD) | H30: =(H21*H25) -> 6807.5035
F31: Cost of IQ decrement (USD) | H31: =I21*H27 -> 923594.67 | I31: =I21*I27 -> 1478548.9
H32: 3 % discount rate | I32: 1.5 % discount rate
B33: This spreadsheet is intended to be used with the accompanying guidance.
B34: For additional information contact:
B36: Pierre Quiblier (UNEP) | E36: pierre.quiblier@un.org
B37: Cynthia Davis (WHO) | E37: daviscy@who.int
B38: Thabo Moraba (Africa Institute) | E38: tmoraba@environment.gov.za

Sheet Dietary
A1: Dietary Intake Worksheet
A2: Total IQ Decrement | B2: =SUM(S:S) -> 0 | D2: Total DALYs | E2: =SUM(T:T) -> 0
Q3: =0.08*1000 -> 80
A4: Food | B4: Weight ingested (kilos) | C4: Frequency | D4: District | E4: Region | F4: Country | G4: Data Source | H4: Population | I4: Population Value | J4: Adult or Child | K4: Chemical | L4: Concentration (mg/kg) | M4: Site cost (IQ) | N4: Site cost (DALYs) | O4: Adjusted consumption | P4: Code | Q4: CAS # | R4: Total daily intake (mg/day) | S4: Total IQ decrement | T4: Total DALYS | U4: IQ decrement OP | V4: Attributable DALYS (OP) | W4: IQ Decrement (Lead) | X4: Attributable Children DALYS (Lead) | Y4: Attributable Adult DALYS (Lead) | Z4: IQ Decrement (Hg) | AA4: Attributable DALYS (Hg) | AB4: Number of Attributable Cancer Cases/ person/ year (raw) | AC4: Number of Attributable Cancer Cases/ year (population) | AD4: Attributable YLD (Ca) | AE4: Attributable YLL | AF4: DALYs (Ca)
B5: 0 | C5: Daily | F5: =Summary!C$23 -> Afghanistan | H5: small | I5: =VLOOKUP(H5,'List Data'!$A$100:$B$104,2,0) -> 100 | J5: Adult (> 15 years) | K5: technical Hexachlorocyclohexane (t-HCH) | L5: 1000 | M5: =S5*Summary!$H$27 -> 0 | N5: =T5*Summary!$H$25 -> 0 | O5: =(VLOOKUP(C5,'List Data'!A$106:B$109,2,0))*B5 -> 0 | P5: =VLOOKUP(K5,'List Data'!A$2:C$94,3,0) -> CA | Q5: =VLOOKUP(K5,'List Data'!A$2:B$94,2,0) -> 608-73-1 | R5: =L5*O5*B5 -> 0 | S5: =U5+W5+Z5 -> 0 | T5: =V5+X5+Y5+AA5+AF5 -> 0 | U5: =(IF(AND((P5="OP"),(J5="Child (0-7 years)")),VLOOKUP(R5,'OP Values'!$A$1:$Q$35,7),))*I5 -> 0 | V5: =(IF(P5="OP",VLOOKUP($R5,'OP Values'!$A$1:$Q$35,17),))*I5 -> 0 | W5: =(IF(AND((P5="Pb"),(J5="Child (0-7 years)")),(VLOOKUP(R5+0.005,Pb!$C$2:$AV$103,11)),0))*I5 -> 0 | X5: =(IF(AND((P5="Pb"),(J5="Child (0-7 years)")),(VLOOKUP(R5,Pb!$C$2:$AV$103,20)),0))*I5 -> 0 | Y5: =(IF(AND((P5="Pb"),(J5="Adult (> 15 years)")),(VLOOKUP(R5,Pb!$C$2:$AV$103,46)),0))*I5 -> 0 | Z5: =(IF(AND((P5="Hg"),(J5="Child (0-7 years)")),(VLOOKUP(R5,'Hg Values'!$A$1:$M$30,3)),0))*I5 -> 0 | AA5: =(IF(AND((P5="Hg"),(J5="Child (0-7 years)")),(VLOOKUP(R5,'Hg Values'!$A$1:$M$30,13)),0))*I5 -> 0 | AB5: =(((IF(AND((P5="CA"),(J5="Adult (> 15 years)")),((R5*1)/70)*(VLOOKUP(K5,CA_ingestion!A$1:J$78,4,0)),0))))/11 -> 0 | AC5: =(IF(AB5>1,1,AB5))*I5 -> 0 | AD5: =((IF(AND((P5="CA"),(J5="Adult (> 15 years)")),(AC5*(VLOOKUP(K5,CA_ingestion!A$1:J$78,10,0))),0))) -> 0 | AE5: =AC5/2 -> 0 | AF5: =AO5+AE5 -> 0
B6: 0 | C6: [select from list] | F6: =Summary!C$23 -> Afghanistan | H6: [select from list] | I6: =VLOOKUP(H6,'List Data'!$A$100:$B$104,2,0) -> 0 | J6: Please select from list | K6: Please select from list | L6: 0 | M6: =S6*Summary!$H$27 -> 0 | N6: =T6*Summary!$H$25 -> 0 | O6: =(VLOOKUP(C6,'List Data'!A$106:B$109,2,0))*B6 -> 0 | P6: =VLOOKUP(K6,'List Data'!A$2:C$94,3,0) -> 0 | Q6: =VLOOKUP(K6,'List Data'!A$2:B$94,2,0) -> -------- | R6: =L6*O6*B6 -> 0 | S6: =U6+W6+Z6 -> 0 | T6: =V6+X6+Y6+AA6+AF6 -> 0 | U6: =(IF(AND((P6="OP"),(J6="Child (0-7 years)")),VLOOKUP(R6,'OP Values'!$A$1:$Q$35,7),))*I6 -> 0 | V6: =(IF(P6="OP",VLOOKUP($R6,'OP Values'!$A$1:$Q$35,17),))*I6 -> 0 | W6: =(IF(AND((P6="Pb"),(J6="Child (0-7 years)")),(VLOOKUP(R6,Pb!$C$2:$AV$103,11)),0))*I6 -> 0 | X6: =(IF(AND((P6="Pb"),(J6="Child (0-7 years)")),(VLOOKUP(R6,Pb!$C$2:$AV$103,20)),0))*I6 -> 0 | Y6: =(IF(AND((P6="Pb"),(J6="Adult (> 15 years)")),(VLOOKUP(R6,Pb!$C$2:$AV$103,46)),0))*I6 -> 0 | Z6: =(IF(AND((P6="Hg"),(J6="Child (0-7 years)")),(VLOOKUP(R6,'Hg Values'!$A$1:$M$30,3)),0))*I6 -> 0 | AA6: =(IF(AND((P6="Hg"),(J6="Child (0-7 years)")),(VLOOKUP(R6,'Hg Values'!$A$1:$M$30,13)),0))*I6 -> 0 | AB6: =(((IF(AND((P6="CA"),(J6="Adult (> 15 years)")),((R6*1)/70)*(VLOOKUP(K6,CA_ingestion!A$1:J$78,4,0)),0))))/11 -> 0 | AC6: =(IF(AB6>1,1,AB6))*I6 -> 0 | AD6: =((IF(AND((P6="CA"),(J6="Adult (> 15 years)")),(AC6*(VLOOKUP(K6,CA_ingestion!A$1:J$78,10,0))),0))) -> 0 | AE6: =AC6/2 -> 0 | AF6: =AO6+AE6 -> 0
B7: 0 | C7: [select from list] | F7: =Summary!C$23 -> Afghanistan | H7: [select from list] | I7: =VLOOKUP(H7,'List Data'!$A$100:$B$104,2,0) -> 0 | J7: Please select from list | K7: Please select from list | L7: 0 | M7: =S7*Summary!$H$27 -> 0 | N7: =T7*Summary!$H$25 -> 0 | O7: =(VLOOKUP(C7,'List Data'!A$106:B$109,2,0))*B7 -> 0 | P7: =VLOOKUP(K7,'List Data'!A$2:C$94,3,0) -> 0 | Q7: =VLOOKUP(K7,'List Data'!A$2:B$94,2,0) -> -------- | R7: =L7*O7*B7 -> 0 | S7: =U7+W7+Z7 -> 0 | T7: =V7+X7+Y7+AA7+AF7 -> 0 | U7: =(IF(AND((P7="OP"),(J7="Child (0-7 years)")),VLOOKUP(R7,'OP Values'!$A$1:$Q$35,7),))*I7 -> 0 | V7: =(IF(P7="OP",VLOOKUP($R7,'OP Values'!$A$1:$Q$35,17),))*I7 -> 0 | W7: =(IF(AND((P7="Pb"),(J7="Child (0-7 years)")),(VLOOKUP(R7,Pb!$C$2:$AV$103,11)),0))*I7 -> 0 | X7: =(IF(AND((P7="Pb"),(J7="Child (0-7 years)")),(VLOOKUP(R7,Pb!$C$2:$AV$103,20)),0))*I7 -> 0 | Y7: =(IF(AND((P7="Pb"),(J7="Adult (> 15 years)")),(VLOOKUP(R7,Pb!$C$2:$AV$103,46)),0))*I7 -> 0 | Z7: =(IF(AND((P7="Hg"),(J7="Child (0-7 years)")),(VLOOKUP(R7,'Hg Values'!$A$1:$M$30,3)),0))*I7 -> 0 | AA7: =(IF(AND((P7="Hg"),(J7="Child (0-7 years)")),(VLOOKUP(R7,'Hg Values'!$A$1:$M$30,13)),0))*I7 -> 0 | AB7: =(((IF(AND((P7="CA"),(J7="Adult (> 15 years)")),((R7*1)/70)*(VLOOKUP(K7,CA_ingestion!A$1:J$78,4,0)),0))))/11 -> 0 | AC7: =(IF(AB7>1,1,AB7))*I7 -> 0 | AD7: =((IF(AND((P7="CA"),(J7="Adult (> 15 years)")),(AC7*(VLOOKUP(K7,CA_ingestion!A$1:J$78,10,0))),0))) -> 0 | AE7: =AC7/2 -> 0 | AF7: =AO7+AE7 -> 0
B8: 0 | C8: [select from list] | F8: =Summary!C$23 -> Afghanistan | H8: [select from list] | I8: =VLOOKUP(H8,'List Data'!$A$100:$B$104,2,0) -> 0 | J8: Please select from list | K8: Please select from list | L8: 0 | M8: =S8*Summary!$H$27 -> 0 | N8: =T8*Summary!$H$25 -> 0 | O8: =(VLOOKUP(C8,'List Data'!A$106:B$109,2,0))*B8 -> 0 | P8: =VLOOKUP(K8,'List Data'!A$2:C$94,3,0) -> 0 | Q8: =VLOOKUP(K8,'List Data'!A$2:B$94,2,0) -> -------- | R8: =L8*O8*B8 -> 0 | S8: =U8+W8+Z8 -> 0 | T8: =V8+X8+Y8+AA8+AF8 -> 0 | U8: =(IF(AND((P8="OP"),(J8="Child (0-7 years)")),VLOOKUP(R8,'OP Values'!$A$1:$Q$35,7),))*I8 -> 0 | V8: =(IF(P8="OP",VLOOKUP($R8,'OP Values'!$A$1:$Q$35,17),))*I8 -> 0 | W8: =(IF(AND((P8="Pb"),(J8="Child (0-7 years)")),(VLOOKUP(R8,Pb!$C$2:$AV$103,11)),0))*I8 -> 0 | X8: =(IF(AND((P8="Pb"),(J8="Child (0-7 years)")),(VLOOKUP(R8,Pb!$C$2:$AV$103,20)),0))*I8 -> 0 | Y8: =(IF(AND((P8="Pb"),(J8="Adult (> 15 years)")),(VLOOKUP(R8,Pb!$C$2:$AV$103,46)),0))*I8 -> 0 | Z8: =(IF(AND((P8="Hg"),(J8="Child (0-7 years)")),(VLOOKUP(R8,'Hg Values'!$A$1:$M$30,3)),0))*I8 -> 0 | AA8: =(IF(AND((P8="Hg"),(J8="Child (0-7 years)")),(VLOOKUP(R8,'Hg Values'!$A$1:$M$30,13)),0))*I8 -> 0 | AB8: =(((IF(AND((P8="CA"),(J8="Adult (> 15 years)")),((R8*1)/70)*(VLOOKUP(K8,CA_ingestion!A$1:J$78,4,0)),0))))/11 -> 0 | AC8: =(IF(AB8>1,1,AB8))*I8 -> 0 | AD8: =((IF(AND((P8="CA"),(J8="Adult (> 15 years)")),(AC8*(VLOOKUP(K8,CA_ingestion!A$1:J$78,10,0))),0))) -> 0 | AE8: =AC8/2 -> 0 | AF8: =AO8+AE8 -> 0
B9: 0 | C9: [select from list] | F9: =Summary!C$23 -> Afghanistan | H9: [select from list] | I9: =VLOOKUP(H9,'List Data'!$A$100:$B$104,2,0) -> 0 | J9: Please select from list | K9: Please select from list | L9: 0 | M9: =S9*Summary!$H$27 -> 0 | N9: =T9*Summary!$H$25 -> 0 | O9: =(VLOOKUP(C9,'List Data'!A$106:B$109,2,0))*B9 -> 0 | P9: =VLOOKUP(K9,'List Data'!A$2:C$94,3,0) -> 0 | Q9: =VLOOKUP(K9,'List Data'!A$2:B$94,2,0) -> -------- | R9: =L9*O9*B9 -> 0 | S9: =U9+W9+Z9 -> 0 | T9: =V9+X9+Y9+AA9+AF9 -> 0 | U9: =(IF(AND((P9="OP"),(J9="Child (0-7 years)")),VLOOKUP(R9,'OP Values'!$A$1:$Q$35,7),))*I9 -> 0 | V9: =(IF(P9="OP",VLOOKUP($R9,'OP Values'!$A$1:$Q$35,17),))*I9 -> 0 | W9: =(IF(AND((P9="Pb"),(J9="Child (0-7 years)")),(VLOOKUP(R9,Pb!$C$2:$AV$103,11)),0))*I9 -> 0 | X9: =(IF(AND((P9="Pb"),(J9="Child (0-7 years)")),(VLOOKUP(R9,Pb!$C$2:$AV$103,20)),0))*I9 -> 0 | Y9: =(IF(AND((P9="Pb"),(J9="Adult (> 15 years)")),(VLOOKUP(R9,Pb!$C$2:$AV$103,46)),0))*I9 -> 0 | Z9: =(IF(AND((P9="Hg"),(J9="Child (0-7 years)")),(VLOOKUP(R9,'Hg Values'!$A$1:$M$30,3)),0))*I9 -> 0 | AA9: =(IF(AND((P9="Hg"),(J9="Child (0-7 years)")),(VLOOKUP(R9,'Hg Values'!$A$1:$M$30,13)),0))*I9 -> 0 | AB9: =(((IF(AND((P9="CA"),(J9="Adult (> 15 years)")),((R9*1)/70)*(VLOOKUP(K9,CA_ingestion!A$1:J$78,4,0)),0))))/11 -> 0 | AC9: =(IF(AB9>1,1,AB9))*I9 -> 0 | AD9: =((IF(AND((P9="CA"),(J9="Adult (> 15 years)")),(AC9*(VLOOKUP(K9,CA_ingestion!A$1:J$78,10,0))),0))) -> 0 | AE9: =AC9/2 -> 0 | AF9: =AO9+AE9 -> 0
B10: 0 | C10: [select from list] | F10: =Summary!C$23 -> Afghanistan | H10: [select from list] | I10: =VLOOKUP(H10,'List Data'!$A$100:$B$104,2,0) -> 0 | J10: Please select from list | K10: Please select from list | L10: 0 | M10: =S10*Summary!$H$27 -> 0 | N10: =T10*Summary!$H$25 -> 0 | O10: =(VLOOKUP(C10,'List Data'!A$106:B$109,2,0))*B10 -> 0 | P10: =VLOOKUP(K10,'List Data'!A$2:C$94,3,0) -> 0 | Q10: =VLOOKUP(K10,'List Data'!A$2:B$94,2,0) -> -------- | R10: =L10*O10*B10 -> 0 | S10: =U10+W10+Z10 -> 0 | T10: =V10+X10+Y10+AA10+AF10 -> 0 | U10: =(IF(AND((P10="OP"),(J10="Child (0-7 years)")),VLOOKUP(R10,'OP Values'!$A$1:$Q$35,7),))*I10 -> 0 | V10: =(IF(P10="OP",VLOOKUP($R10,'OP Values'!$A$1:$Q$35,17),))*I10 -> 0 | W10: =(IF(AND((P10="Pb"),(J10="Child (0-7 years)")),(VLOOKUP(R10,Pb!$C$2:$AV$103,11)),0))*I10 -> 0 | X10: =(IF(AND((P10="Pb"),(J10="Child (0-7 years)")),(VLOOKUP(R10,Pb!$C$2:$AV$103,20)),0))*I10 -> 0 | Y10: =(IF(AND((P10="Pb"),(J10="Adult (> 15 years)")),(VLOOKUP(R10,Pb!$C$2:$AV$103,46)),0))*I10 -> 0 | Z10: =(IF(AND((P10="Hg"),(J10="Child (0-7 years)")),(VLOOKUP(R10,'Hg Values'!$A$1:$M$30,3)),0))*I10 -> 0 | AA10: =(IF(AND((P10="Hg"),(J10="Child (0-7 years)")),(VLOOKUP(R10,'Hg Values'!$A$1:$M$30,13)),0))*I10 -> 0 | AB10: =(((IF(AND((P10="CA"),(J10="Adult (> 15 years)")),((R10*1)/70)*(VLOOKUP(K10,CA_ingestion!A$1:J$78,4,0)),0))))/11 -> 0 | AC10: =(IF(AB10>1,1,AB10))*I10 -> 0 | AD10: =((IF(AND((P10="CA"),(J10="Adult (> 15 years)")),(AC10*(VLOOKUP(K10,CA_ingestion!A$1:J$78,10,0))),0))) -> 0 | AE10: =AC10/2 -> 0 | AF10: =AO10+AE10 -> 0
B11: 0 | C11: [select from list] | F11: =Summary!C$23 -> Afghanistan | H11: [select from list] | I11: =VLOOKUP(H11,'List Data'!$A$100:$B$104,2,0) -> 0 | J11: Please select from list | K11: Please select from list | L11: 0 | M11: =S11*Summary!$H$27 -> 0 | N11: =T11*Summary!$H$25 -> 0 | O11: =(VLOOKUP(C11,'List Data'!A$106:B$109,2,0))*B11 -> 0 | P11: =VLOOKUP(K11,'List Data'!A$2:C$94,3,0) -> 0 | Q11: =VLOOKUP(K11,'List Data'!A$2:B$94,2,0) -> -------- | R11: =L11*O11*B11 -> 0 | S11: =U11+W11+Z11 -> 0 | T11: =V11+X11+Y11+AA11+AF11 -> 0 | U11: =(IF(AND((P11="OP"),(J11="Child (0-7 years)")),VLOOKUP(R11,'OP Values'!$A$1:$Q$35,7),))*I11 -> 0 | V11: =(IF(P11="OP",VLOOKUP($R11,'OP Values'!$A$1:$Q$35,17),))*I11 -> 0 | W11: =(IF(AND((P11="Pb"),(J11="Child (0-7 years)")),(VLOOKUP(R11,Pb!$C$2:$AV$103,11)),0))*I11 -> 0 | X11: =(IF(AND((P11="Pb"),(J11="Child (0-7 years)")),(VLOOKUP(R11,Pb!$C$2:$AV$103,20)),0))*I11 -> 0 | Y11: =(IF(AND((P11="Pb"),(J11="Adult (> 15 years)")),(VLOOKUP(R11,Pb!$C$2:$AV$103,46)),0))*I11 -> 0 | Z11: =(IF(AND((P11="Hg"),(J11="Child (0-7 years)")),(VLOOKUP(R11,'Hg Values'!$A$1:$M$30,3)),0))*I11 -> 0 | AA11: =(IF(AND((P11="Hg"),(J11="Child (0-7 years)")),(VLOOKUP(R11,'Hg Values'!$A$1:$M$30,13)),0))*I11 -> 0 | AB11: =(((IF(AND((P11="CA"),(J11="Adult (> 15 years)")),((R11*1)/70)*(VLOOKUP(K11,CA_ingestion!A$1:J$78,4,0)),0))))/11 -> 0 | AC11: =(IF(AB11>1,1,AB11))*I11 -> 0 | AD11: =((IF(AND((P11="CA"),(J11="Adult (> 15 years)")),(AC11*(VLOOKUP(K11,CA_ingestion!A$1:J$78,10,0))),0))) -> 0 | AE11: =AC11/2 -> 0 | AF11: =AO11+AE11 -> 0
B12: 0 | C12: [select from list] | F12: =Summary!C$23 -> Afghanistan | H12: [select from list] | I12: =VLOOKUP(H12,'List Data'!$A$100:$B$104,2,0) -> 0 | J12: Please select from list | K12: Please select from list | L12: 0 | M12: =S12*Summary!$H$27 -> 0 | N12: =T12*Summary!$H$25 -> 0 | O12: =(VLOOKUP(C12,'List Data'!A$106:B$109,2,0))*B12 -> 0 | P12: =VLOOKUP(K12,'List Data'!A$2:C$94,3,0) -> 0 | Q12: =VLOOKUP(K12,'List Data'!A$2:B$94,2,0) -> -------- | R12: =L12*O12*B12 -> 0 | S12: =U12+W12+Z12 -> 0 | T12: =V12+X12+Y12+AA12+AF12 -> 0 | U12: =(IF(AND((P12="OP"),(J12="Child (0-7 years)")),VLOOKUP(R12,'OP Values'!$A$1:$Q$35,7),))*I12 -> 0 | V12: =(IF(P12="OP",VLOOKUP($R12,'OP Values'!$A$1:$Q$35,17),))*I12 -> 0 | W12: =(IF(AND((P12="Pb"),(J12="Child (0-7 years)")),(VLOOKUP(R12,Pb!$C$2:$AV$103,11)),0))*I12 -> 0 | X12: =(IF(AND((P12="Pb"),(J12="Child (0-7 years)")),(VLOOKUP(R12,Pb!$C$2:$AV$103,20)),0))*I12 -> 0 | Y12: =(IF(AND((P12="Pb"),(J12="Adult (> 15 years)")),(VLOOKUP(R12,Pb!$C$2:$AV$103,46)),0))*I12 -> 0 | Z12: =(IF(AND((P12="Hg"),(J12="Child (0-7 years)")),(VLOOKUP(R12,'Hg Values'!$A$1:$M$30,3)),0))*I12 -> 0 | AA12: =(IF(AND((P12="Hg"),(J12="Child (0-7 years)")),(VLOOKUP(R12,'Hg Values'!$A$1:$M$30,13)),0))*I12 -> 0 | AB12: =(((IF(AND((P12="CA"),(J12="Adult (> 15 years)")),((R12*1)/70)*(VLOOKUP(K12,CA_ingestion!A$1:J$78,4,0)),0))))/11 -> 0 | AC12: =(IF(AB12>1,1,AB12))*I12 -> 0 | AD12: =((IF(AND((P12="CA"),(J12="Adult (> 15 years)")),(AC12*(VLOOKUP(K12,CA_ingestion!A$1:J$78,10,0))),0))) -> 0 | AE12: =AC12/2 -> 0 | AF12: =AO12+AE12 -> 0
B13: 0 | C13: [select from list] | F13: =Summary!C$23 -> Afghanistan | H13: [select from list] | I13: =VLOOKUP(H13,'List Data'!$A$100:$B$104,2,0) -> 0 | J13: Please select from list | K13: Please select from list | L13: 0 | M13: =S13*Summary!$H$27 -> 0 | N13: =T13*Summary!$H$25 -> 0 | O13: =(VLOOKUP(C13,'List Data'!A$106:B$109,2,0))*B13 -> 0 | P13: =VLOOKUP(K13,'List Data'!A$2:C$94,3,0) -> 0 | Q13: =VLOOKUP(K13,'List Data'!A$2:B$94,2,0) -> -------- | R13: =L13*O13*B13 -> 0 | S13: =U13+W13+Z13 -> 0 | T13: =V13+X13+Y13+AA13+AF13 -> 0 | U13: =(IF(AND((P13="OP"),(J13="Child (0-7 years)")),VLOOKUP(R13,'OP Values'!$A$1:$Q$35,7),))*I13 -> 0 | V13: =(IF(P13="OP",VLOOKUP($R13,'OP Values'!$A$1:$Q$35,17),))*I13 -> 0 | W13: =(IF(AND((P13="Pb"),(J13="Child (0-7 years)")),(VLOOKUP(R13,Pb!$C$2:$AV$103,11)),0))*I13 -> 0 | X13: =(IF(AND((P13="Pb"),(J13="Child (0-7 years)")),(VLOOKUP(R13,Pb!$C$2:$AV$103,20)),0))*I13 -> 0 | Y13: =(IF(AND((P13="Pb"),(J13="Adult (> 15 years)")),(VLOOKUP(R13,Pb!$C$2:$AV$103,46)),0))*I13 -> 0 | Z13: =(IF(AND((P13="Hg"),(J13="Child (0-7 years)")),(VLOOKUP(R13,'Hg Values'!$A$1:$M$30,3)),0))*I13 -> 0 | AA13: =(IF(AND((P13="Hg"),(J13="Child (0-7 years)")),(VLOOKUP(R13,'Hg Values'!$A$1:$M$30,13)),0))*I13 -> 0 | AB13: =(((IF(AND((P13="CA"),(J13="Adult (> 15 years)")),((R13*1)/70)*(VLOOKUP(K13,CA_ingestion!A$1:J$78,4,0)),0))))/11 -> 0 | AC13: =(IF(AB13>1,1,AB13))*I13 -> 0 | AD13: =((IF(AND((P13="CA"),(J13="Adult (> 15 years)")),(AC13*(VLOOKUP(K13,CA_ingestion!A$1:J$78,10,0))),0))) -> 0 | AE13: =AC13/2 -> 0 | AF13: =AO13+AE13 -> 0
B14: 0 | C14: [select from list] | F14: =Summary!C$23 -> Afghanistan | H14: [select from list] | I14: =VLOOKUP(H14,'List Data'!$A$100:$B$104,2,0) -> 0 | J14: Please select from list | K14: Please select from list | L14: 0 | M14: =S14*Summary!$H$27 -> 0 | N14: =T14*Summary!$H$25 -> 0 | O14: =(VLOOKUP(C14,'List Data'!A$106:B$109,2,0))*B14 -> 0 | P14: =VLOOKUP(K14,'List Data'!A$2:C$94,3,0) -> 0 | Q14: =VLOOKUP(K14,'List Data'!A$2:B$94,2,0) -> -------- | R14: =L14*O14*B14 -> 0 | S14: =U14+W14+Z14 -> 0 | T14: =V14+X14+Y14+AA14+AF14 -> 0 | U14: =(IF(AND((P14="OP"),(J14="Child (0-7 years)")),VLOOKUP(R14,'OP Values'!$A$1:$Q$35,7),))*I14 -> 0 | V14: =(IF(P14="OP",VLOOKUP($R14,'OP Values'!$A$1:$Q$35,17),))*I14 -> 0 | W14: =(IF(AND((P14="Pb"),(J14="Child (0-7 years)")),(VLOOKUP(R14,Pb!$C$2:$AV$103,11)),0))*I14 -> 0 | X14: =(IF(AND((P14="Pb"),(J14="Child (0-7 years)")),(VLOOKUP(R14,Pb!$C$2:$AV$103,20)),0))*I14 -> 0 | Y14: =(IF(AND((P14="Pb"),(J14="Adult (> 15 years)")),(VLOOKUP(R14,Pb!$C$2:$AV$103,46)),0))*I14 -> 0 | Z14: =(IF(AND((P14="Hg"),(J14="Child (0-7 years)")),(VLOOKUP(R14,'Hg Values'!$A$1:$M$30,3)),0))*I14 -> 0 | AA14: =(IF(AND((P14="Hg"),(J14="Child (0-7 years)")),(VLOOKUP(R14,'Hg Values'!$A$1:$M$30,13)),0))*I14 -> 0 | AB14: =(((IF(AND((P14="CA"),(J14="Adult (> 15 years)")),((R14*1)/70)*(VLOOKUP(K14,CA_ingestion!A$1:J$78,4,0)),0))))/11 -> 0 | AC14: =(IF(AB14>1,1,AB14))*I14 -> 0 | AD14: =((IF(AND((P14="CA"),(J14="Adult (> 15 years)")),(AC14*(VLOOKUP(K14,CA_ingestion!A$1:J$78,10,0))),0))) -> 0 | AE14: =AC14/2 -> 0 | AF14: =AO14+AE14 -> 0
B15: 0 | C15: [select from list] | F15: =Summary!C$23 -> Afghanistan | H15: [select from list] | I15: =VLOOKUP(H15,'List Data'!$A$100:$B$104,2,0) -> 0 | J15: Please select from list | K15: Please select from list | L15: 0 | M15: =S15*Summary!$H$27 -> 0 | N15: =T15*Summary!$H$25 -> 0 | O15: =(VLOOKUP(C15,'List Data'!A$106:B$109,2,0))*B15 -> 0 | P15: =VLOOKUP(K15,'List Data'!A$2:C$94,3,0) -> 0 | Q15: =VLOOKUP(K15,'List Data'!A$2:B$94,2,0) -> -------- | R15: =L15*O15*B15 -> 0 | S15: =U15+W15+Z15 -> 0 | T15: =V15+X15+Y15+AA15+AF15 -> 0 | U15: =(IF(AND((P15="OP"),(J15="Child (0-7 years)")),VLOOKUP(R15,'OP Values'!$A$1:$Q$35,7),))*I15 -> 0 | V15: =(IF(P15="OP",VLOOKUP($R15,'OP Values'!$A$1:$Q$35,17),))*I15 -> 0 | W15: =(IF(AND((P15="Pb"),(J15="Child (0-7 years)")),(VLOOKUP(R15,Pb!$C$2:$AV$103,11)),0))*I15 -> 0 | X15: =(IF(AND((P15="Pb"),(J15="Child (0-7 years)")),(VLOOKUP(R15,Pb!$C$2:$AV$103,20)),0))*I15 -> 0 | Y15: =(IF(AND((P15="Pb"),(J15="Adult (> 15 years)")),(VLOOKUP(R15,Pb!$C$2:$AV$103,46)),0))*I15 -> 0 | Z15: =(IF(AND((P15="Hg"),(J15="Child (0-7 years)")),(VLOOKUP(R15,'Hg Values'!$A$1:$M$30,3)),0))*I15 -> 0 | AA15: =(IF(AND((P15="Hg"),(J15="Child (0-7 years)")),(VLOOKUP(R15,'Hg Values'!$A$1:$M$30,13)),0))*I15 -> 0 | AB15: =(((IF(AND((P15="CA"),(J15="Adult (> 15 years)")),((R15*1)/70)*(VLOOKUP(K15,CA_ingestion!A$1:J$78,4,0)),0))))/11 -> 0 | AC15: =(IF(AB15>1,1,AB15))*I15 -> 0 | AD15: =((IF(AND((P15="CA"),(J15="Adult (> 15 years)")),(AC15*(VLOOKUP(K15,CA_ingestion!A$1:J$78,10,0))),0))) -> 0 | AE15: =AC15/2 -> 0 | AF15: =AO15+AE15 -> 0
B16: 0 | C16: [select from list] | F16: =Summary!C$23 -> Afghanistan | H16: [select from list] | I16: =VLOOKUP(H16,'List Data'!$A$100:$B$104,2,0) -> 0 | J16: Please select from list | K16: Please select from list | L16: 0 | M16: =S16*Summary!$H$27 -> 0 | N16: =T16*Summary!$H$25 -> 0 | O16: =(VLOOKUP(C16,'List Data'!A$106:B$109,2,0))*B16 -> 0 | P16: =VLOOKUP(K16,'List Data'!A$2:C$94,3,0) -> 0 | Q16: =VLOOKUP(K16,'List Data'!A$2:B$94,2,0) -> -------- | R16: =L16*O16*B16 -> 0 | S16: =U16+W16+Z16 -> 0 | T16: =V16+X16+Y16+AA16+AF16 -> 0 | U16: =(IF(AND((P16="OP"),(J16="Child (0-7 years)")),VLOOKUP(R16,'OP Values'!$A$1:$Q$35,7),))*I16 -> 0 | V16: =(IF(P16="OP",VLOOKUP($R16,'OP Values'!$A$1:$Q$35,17),))*I16 -> 0 | W16: =(IF(AND((P16="Pb"),(J16="Child (0-7 years)")),(VLOOKUP(R16,Pb!$C$2:$AV$103,11)),0))*I16 -> 0 | X16: =(IF(AND((P16="Pb"),(J16="Child (0-7 years)")),(VLOOKUP(R16,Pb!$C$2:$AV$103,20)),0))*I16 -> 0 | Y16: =(IF(AND((P16="Pb"),(J16="Adult (> 15 years)")),(VLOOKUP(R16,Pb!$C$2:$AV$103,46)),0))*I16 -> 0 | Z16: =(IF(AND((P16="Hg"),(J16="Child (0-7 years)")),(VLOOKUP(R16,'Hg Values'!$A$1:$M$30,3)),0))*I16 -> 0 | AA16: =(IF(AND((P16="Hg"),(J16="Child (0-7 years)")),(VLOOKUP(R16,'Hg Values'!$A$1:$M$30,13)),0))*I16 -> 0 | AB16: =(((IF(AND((P16="CA"),(J16="Adult (> 15 years)")),((R16*1)/70)*(VLOOKUP(K16,CA_ingestion!A$1:J$78,4,0)),0))))/11 -> 0 | AC16: =(IF(AB16>1,1,AB16))*I16 -> 0 | AD16: =((IF(AND((P16="CA"),(J16="Adult (> 15 years)")),(AC16*(VLOOKUP(K16,CA_ingestion!A$1:J$78,10,0))),0))) -> 0 | AE16: =AC16/2 -> 0 | AF16: =AO16+AE16 -> 0
B17: 0 | C17: [select from list] | F17: =Summary!C$23 -> Afghanistan | H17: [select from list] | I17: =VLOOKUP(H17,'List Data'!$A$100:$B$104,2,0) -> 0 | J17: Please select from list | K17: Please select from list | L17: 0 | M17: =S17*Summary!$H$27 -> 0 | N17: =T17*Summary!$H$25 -> 0 | O17: =(VLOOKUP(C17,'List Data'!A$106:B$109,2,0))*B17 -> 0 | P17: =VLOOKUP(K17,'List Data'!A$2:C$94,3,0) -> 0 | Q17: =VLOOKUP(K17,'List Data'!A$2:B$94,2,0) -> -------- | R17: =L17*O17*B17 -> 0 | S17: =U17+W17+Z17 -> 0 | T17: =V17+X17+Y17+AA17+AF17 -> 0 | U17: =(IF(AND((P17="OP"),(J17="Child (0-7 years)")),VLOOKUP(R17,'OP Values'!$A$1:$Q$35,7),))*I17 -> 0 | V17: =(IF(P17="OP",VLOOKUP($R17,'OP Values'!$A$1:$Q$35,17),))*I17 -> 0 | W17: =(IF(AND((P17="Pb"),(J17="Child (0-7 years)")),(VLOOKUP(R17,Pb!$C$2:$AV$103,11)),0))*I17 -> 0 | X17: =(IF(AND((P17="Pb"),(J17="Child (0-7 years)")),(VLOOKUP(R17,Pb!$C$2:$AV$103,20)),0))*I17 -> 0 | Y17: =(IF(AND((P17="Pb"),(J17="Adult (> 15 years)")),(VLOOKUP(R17,Pb!$C$2:$AV$103,46)),0))*I17 -> 0 | Z17: =(IF(AND((P17="Hg"),(J17="Child (0-7 years)")),(VLOOKUP(R17,'Hg Values'!$A$1:$M$30,3)),0))*I17 -> 0 | AA17: =(IF(AND((P17="Hg"),(J17="Child (0-7 years)")),(VLOOKUP(R17,'Hg Values'!$A$1:$M$30,13)),0))*I17 -> 0 | AB17: =(((IF(AND((P17="CA"),(J17="Adult (> 15 years)")),((R17*1)/70)*(VLOOKUP(K17,CA_ingestion!A$1:J$78,4,0)),0))))/11 -> 0 | AC17: =(IF(AB17>1,1,AB17))*I17 -> 0 | AD17: =((IF(AND((P17="CA"),(J17="Adult (> 15 years)")),(AC17*(VLOOKUP(K17,CA_ingestion!A$1:J$78,10,0))),0))) -> 0 | AE17: =AC17/2 -> 0 | AF17: =AO17+AE17 -> 0
... B104: 0 | C104: [select from list] | F104: =Summary!C$23 -> Afghanistan | H104: [select from list] | I104: =VLOOKUP(H104,'List Data'!$A$100:$B$104,2,0) -> 0 | J104: Please select from list | K104: Please select from list | L104: 0 | M104: =S104*Summary!$H$27 -> 0 | N104: =T104*Summary!$H$25 -> 0 | O104: =(VLOOKUP(C104,'List Data'!A$106:B$109,2,0))*B104 -> 0 | P104: =VLOOKUP(K104,'List Data'!A$2:C$94,3,0) -> 0 | Q104: =VLOOKUP(K104,'List Data'!A$2:B$94,2,0) -> -------- | R104: =L104*O104*B104 -> 0 | S104: =U104+W104+Z104 -> 0 | T104: =V104+X104+Y104+AA104+AF104 -> 0 | U104: =(IF(AND((P104="OP"),(J104="Child (0-7 years)")),VLOOKUP(R104,'OP Values'!$A$1:$Q$35,7),))*I104 -> 0 | V104: =(IF(P104="OP",VLOOKUP($R104,'OP Values'!$A$1:$Q$35,17),))*I104 -> 0 | W104: =(IF(AND((P104="Pb"),(J104="Child (0-7 years)")),(VLOOKUP(R104,Pb!$C$2:$AV$103,11)),0))*I104 -> 0 | X104: =(IF(AND((P104="Pb"),(J104="Child (0-7 years)")),(VLOOKUP(R104,Pb!$C$2:$AV$103,20)),0))*I104 -> 0 | Y104: =(IF(AND((P104="Pb"),(J104="Adult (> 15 years)")),(VLOOKUP(R104,Pb!$C$2:$AV$103,46)),0))*I104 -> 0 | Z104: =(IF(AND((P104="Hg"),(J104="Child (0-7 years)")),(VLOOKUP(R104,'Hg Values'!$A$1:$M$30,3)),0))*I104 -> 0 | AA104: =(IF(AND((P104="Hg"),(J104="Child (0-7 years)")),(VLOOKUP(R104,'Hg Values'!$A$1:$M$30,13)),0))*I104 -> 0 | AB104: =(((IF(AND((P104="CA"),(J104="Adult (> 15 years)")),((R104*1)/70)*(VLOOKUP(K104,CA_ingestion!A$1:J$78,4,0)),0))))/11 -> 0 | AC104: =(IF(AB104>1,1,AB104))*I104 -> 0 | AD104: =((IF(AND((P104="CA"),(J104="Adult (> 15 years)")),(AC104*(VLOOKUP(K104,CA_ingestion!A$1:J$78,10,0))),0))) -> 0 | AE104: =AC104/2 -> 0 | AF104: =AO104+AE104 -> 0

Sheet Water
A1: Water Worksheet
A2: Total IQ Decrement | B2: =SUM(R:R) -> 0 | C2: Total DALYs | D2: =SUM(S:S) -> 0
A4: Site name | B4: Volume ingested daiily (liters) | C4: District | D4: Region | E4: Country | F4: Data Source | G4: Population | H4: Population Value | I4: Adult or Child | J4: Chemical | K4: Concentration (ppb) | M4: Site cost (IQ) | N4: Site cost (DALYs) | O4: Code | P4: CAS # | Q4: Total daily intake (mg/day) | R4: Total IQ decrement | S4: Total DALYS | T4: IQ decrement OP | U4: Attributable DALYS (OP) | V4: IQ Decrement (Lead) | W4: Attributable Children DALYS (Lead) | X4: Attributable Adult DALYS (Lead) | Y4: IQ Decrement (Hg) | Z4: Attributable DALYS (Hg) | AA4: Number of Attributable Cancer Cases/ person/ year (raw) | AB4: Number of Attributable Cancer Cases/ year (population) | AC4: Attributable YLD (Ca) | AD4: Attributable YLL | AE4: DALYs (Ca)
A5: Water | B5: -1 | E5: =Summary!C$23 -> Afghanistan | G5: [select from list] | H5: =VLOOKUP(G5,'List Data'!$A$100:$B$104,2,0) -> 0 | I5: Please select from list | J5: Please select from list | K5: 0 | M5: =R5*Summary!$H$27 -> 0 | N5: =S5*Summary!$H$25 -> 0 | O5: =VLOOKUP(J5,'List Data'!A$2:C$94,3,0) -> 0 | P5: =VLOOKUP(J5,'List Data'!A$2:B$94,2,0) -> -------- | Q5: =K5*B5/1000 -> 0 | R5: =T5+V5+Y5 -> 0 | S5: =U5+W5+X5+Z5+AE5 -> 0 | T5: =(IF(AND((O5="OP"),(I5="Child (0-7 years)")),VLOOKUP(K5,'OP Values'!$A$1:$Q$35,7),))*H5 -> 0 | U5: =(IF(O5="OP",VLOOKUP($Q5,'OP Values'!$A$1:$Q$35,17),))*H5 -> 0 | V5: =(IF(AND((O5="Pb"),(I5="Child (0-7 years)")),(VLOOKUP(Q5,Pb!$A$1:$AV$103,7)),0))*H5 -> 0 | W5: =(IF(AND((O5="Pb"),(I5="Child (0-7 years)")),(VLOOKUP(Q5,Pb!$C$2:$AV$103,20)),0))*H5 -> 0 | X5: =(IF(AND((O5="Pb"),(I5="Adult (> 15 years)")),(VLOOKUP(Q5,Pb!$A$2:$AV$103,46)),0))*H5 -> 0 | Y5: =(IF(AND((O5="Hg"),(I5="Child (0-7 years)")),(VLOOKUP(Q5,'Hg Values'!$A$1:$M$30,3)),0))*H5 -> 0 | Z5: =(IF(AND((O5="Hg"),(I5="Child (0-7 years)")),(VLOOKUP(Q5,'Hg Values'!$A$1:$M$30,13)),0))*H5 -> 0 | AA5: =(((IF(AND((O5="CA"),(I5="Adult (> 15 years)")),((Q5*1)/70)*(VLOOKUP(J5,CA_ingestion!A$1:J$78,4,0)),0))))/11 -> 0 | AB5: =(IF(AA5>1,1,AA5))*H5 -> 0 | AC5: =((IF(AND((O5="CA"),(I5="Adult (> 15 years)")),(AB5*(VLOOKUP(J5,CA_ingestion!A$1:J$78,10,0))),0))) -> 0 | AD5: =AB5/2 -> 0 | AE5: =AC5+AD5 -> 0
A6: Water | B6: 0 | E6: =Summary!C$23 -> Afghanistan | G6: [select from list] | H6: =VLOOKUP(G6,'List Data'!$A$100:$B$104,2,0) -> 0 | I6: Please select from list | J6: Please select from list | K6: 0 | M6: =R6*Summary!$H$27 -> 0 | N6: =S6*Summary!$H$25 -> 0 | O6: =VLOOKUP(J6,'List Data'!A$2:C$94,3,0) -> 0 | P6: =VLOOKUP(J6,'List Data'!A$2:B$94,2,0) -> -------- | Q6: =K6*B6/1000 -> 0 | R6: =T6+V6+Y6 -> 0 | S6: =U6+W6+X6+Z6+AE6 -> 0 | T6: =(IF(AND((O6="OP"),(I6="Child (0-7 years)")),VLOOKUP(K6,'OP Values'!$A$1:$Q$35,7),))*H6 -> 0 | U6: =(IF(O6="OP",VLOOKUP($Q6,'OP Values'!$A$1:$Q$35,17),))*H6 -> 0 | V6: =(IF(AND((O6="Pb"),(I6="Child (0-7 years)")),(VLOOKUP(Q6,Pb!$A$1:$AV$103,7)),0))*H6 -> 0 | W6: =(IF(AND((O6="Pb"),(I6="Child (0-7 years)")),(VLOOKUP(Q6,Pb!$C$2:$AV$103,20)),0))*H6 -> 0 | X6: =(IF(AND((O6="Pb"),(I6="Adult (> 15 years)")),(VLOOKUP(Q6,Pb!$A$2:$AV$103,46)),0))*H6 -> 0 | Y6: =(IF(AND((O6="Hg"),(I6="Child (0-7 years)")),(VLOOKUP(Q6,'Hg Values'!$A$1:$M$30,3)),0))*H6 -> 0 | Z6: =(IF(AND((O6="Hg"),(I6="Child (0-7 years)")),(VLOOKUP(Q6,'Hg Values'!$A$1:$M$30,13)),0))*H6 -> 0 | AA6: =(((IF(AND((O6="CA"),(I6="Adult (> 15 years)")),((Q6*1)/70)*(VLOOKUP(J6,CA_ingestion!A$1:J$78,4,0)),0))))/11 -> 0 | AB6: =(IF(AA6>1,1,AA6))*H6 -> 0 | AC6: =((IF(AND((O6="CA"),(I6="Adult (> 15 years)")),(AB6*(VLOOKUP(J6,CA_ingestion!A$1:J$78,10,0))),0))) -> 0 | AD6: =AB6/2 -> 0 | AE6: =AC6+AD6 -> 0
A7: Water | B7: 0 | E7: =Summary!C$23 -> Afghanistan | G7: [select from list] | H7: =VLOOKUP(G7,'List Data'!$A$100:$B$104,2,0) -> 0 | I7: Please select from list | J7: Please select from list | K7: 0 | M7: =R7*Summary!$H$27 -> 0 | N7: =S7*Summary!$H$25 -> 0 | O7: =VLOOKUP(J7,'List Data'!A$2:C$94,3,0) -> 0 | P7: =VLOOKUP(J7,'List Data'!A$2:B$94,2,0) -> -------- | Q7: =K7*B7/1000 -> 0 | R7: =T7+V7+Y7 -> 0 | S7: =U7+W7+X7+Z7+AE7 -> 0 | T7: =(IF(AND((O7="OP"),(I7="Child (0-7 years)")),VLOOKUP(K7,'OP Values'!$A$1:$Q$35,7),))*H7 -> 0 | U7: =(IF(O7="OP",VLOOKUP($Q7,'OP Values'!$A$1:$Q$35,17),))*H7 -> 0 | V7: =(IF(AND((O7="Pb"),(I7="Child (0-7 years)")),(VLOOKUP(Q7,Pb!$A$1:$AV$103,7)),0))*H7 -> 0 | W7: =(IF(AND((O7="Pb"),(I7="Child (0-7 years)")),(VLOOKUP(Q7,Pb!$C$2:$AV$103,20)),0))*H7 -> 0 | X7: =(IF(AND((O7="Pb"),(I7="Adult (> 15 years)")),(VLOOKUP(Q7,Pb!$A$2:$AV$103,46)),0))*H7 -> 0 | Y7: =(IF(AND((O7="Hg"),(I7="Child (0-7 years)")),(VLOOKUP(Q7,'Hg Values'!$A$1:$M$30,3)),0))*H7 -> 0 | Z7: =(IF(AND((O7="Hg"),(I7="Child (0-7 years)")),(VLOOKUP(Q7,'Hg Values'!$A$1:$M$30,13)),0))*H7 -> 0 | AA7: =(((IF(AND((O7="CA"),(I7="Adult (> 15 years)")),((Q7*1)/70)*(VLOOKUP(J7,CA_ingestion!A$1:J$78,4,0)),0))))/11 -> 0 | AB7: =(IF(AA7>1,1,AA7))*H7 -> 0 | AC7: =((IF(AND((O7="CA"),(I7="Adult (> 15 years)")),(AB7*(VLOOKUP(J7,CA_ingestion!A$1:J$78,10,0))),0))) -> 0 | AD7: =AB7/2 -> 0 | AE7: =AC7+AD7 -> 0
A8: Water | B8: 0 | E8: =Summary!C$23 -> Afghanistan | G8: [select from list] | H8: =VLOOKUP(G8,'List Data'!$A$100:$B$104,2,0) -> 0 | I8: Please select from list | J8: Please select from list | K8: 0 | M8: =R8*Summary!$H$27 -> 0 | N8: =S8*Summary!$H$25 -> 0 | O8: =VLOOKUP(J8,'List Data'!A$2:C$94,3,0) -> 0 | P8: =VLOOKUP(J8,'List Data'!A$2:B$94,2,0) -> -------- | Q8: =K8*B8/1000 -> 0 | R8: =T8+V8+Y8 -> 0 | S8: =U8+W8+X8+Z8+AE8 -> 0 | T8: =(IF(AND((O8="OP"),(I8="Child (0-7 years)")),VLOOKUP(K8,'OP Values'!$A$1:$Q$35,7),))*H8 -> 0 | U8: =(IF(O8="OP",VLOOKUP($Q8,'OP Values'!$A$1:$Q$35,17),))*H8 -> 0 | V8: =(IF(AND((O8="Pb"),(I8="Child (0-7 years)")),(VLOOKUP(Q8,Pb!$A$1:$AV$103,7)),0))*H8 -> 0 | W8: =(IF(AND((O8="Pb"),(I8="Child (0-7 years)")),(VLOOKUP(Q8,Pb!$C$2:$AV$103,20)),0))*H8 -> 0 | X8: =(IF(AND((O8="Pb"),(I8="Adult (> 15 years)")),(VLOOKUP(Q8,Pb!$A$2:$AV$103,46)),0))*H8 -> 0 | Y8: =(IF(AND((O8="Hg"),(I8="Child (0-7 years)")),(VLOOKUP(Q8,'Hg Values'!$A$1:$M$30,3)),0))*H8 -> 0 | Z8: =(IF(AND((O8="Hg"),(I8="Child (0-7 years)")),(VLOOKUP(Q8,'Hg Values'!$A$1:$M$30,13)),0))*H8 -> 0 | AA8: =(((IF(AND((O8="CA"),(I8="Adult (> 15 years)")),((Q8*1)/70)*(VLOOKUP(J8,CA_ingestion!A$1:J$78,4,0)),0))))/11 -> 0 | AB8: =(IF(AA8>1,1,AA8))*H8 -> 0 | AC8: =((IF(AND((O8="CA"),(I8="Adult (> 15 years)")),(AB8*(VLOOKUP(J8,CA_ingestion!A$1:J$78,10,0))),0))) -> 0 | AD8: =AB8/2 -> 0 | AE8: =AC8+AD8 -> 0
A9: Water | B9: 0 | E9: =Summary!C$23 -> Afghanistan | G9: [select from list] | H9: =VLOOKUP(G9,'List Data'!$A$100:$B$104,2,0) -> 0 | I9: Please select from list | J9: Please select from list | K9: 0 | M9: =R9*Summary!$H$27 -> 0 | N9: =S9*Summary!$H$25 -> 0 | O9: =VLOOKUP(J9,'List Data'!A$2:C$94,3,0) -> 0 | P9: =VLOOKUP(J9,'List Data'!A$2:B$94,2,0) -> -------- | Q9: =K9*B9/1000 -> 0 | R9: =T9+V9+Y9 -> 0 | S9: =U9+W9+X9+Z9+AE9 -> 0 | T9: =(IF(AND((O9="OP"),(I9="Child (0-7 years)")),VLOOKUP(K9,'OP Values'!$A$1:$Q$35,7),))*H9 -> 0 | U9: =(IF(O9="OP",VLOOKUP($Q9,'OP Values'!$A$1:$Q$35,17),))*H9 -> 0 | V9: =(IF(AND((O9="Pb"),(I9="Child (0-7 years)")),(VLOOKUP(Q9,Pb!$A$1:$AV$103,7)),0))*H9 -> 0 | W9: =(IF(AND((O9="Pb"),(I9="Child (0-7 years)")),(VLOOKUP(Q9,Pb!$C$2:$AV$103,20)),0))*H9 -> 0 | X9: =(IF(AND((O9="Pb"),(I9="Adult (> 15 years)")),(VLOOKUP(Q9,Pb!$A$2:$AV$103,46)),0))*H9 -> 0 | Y9: =(IF(AND((O9="Hg"),(I9="Child (0-7 years)")),(VLOOKUP(Q9,'Hg Values'!$A$1:$M$30,3)),0))*H9 -> 0 | Z9: =(IF(AND((O9="Hg"),(I9="Child (0-7 years)")),(VLOOKUP(Q9,'Hg Values'!$A$1:$M$30,13)),0))*H9 -> 0 | AA9: =(((IF(AND((O9="CA"),(I9="Adult (> 15 years)")),((Q9*1)/70)*(VLOOKUP(J9,CA_ingestion!A$1:J$78,4,0)),0))))/11 -> 0 | AB9: =(IF(AA9>1,1,AA9))*H9 -> 0 | AC9: =((IF(AND((O9="CA"),(I9="Adult (> 15 years)")),(AB9*(VLOOKUP(J9,CA_ingestion!A$1:J$78,10,0))),0))) -> 0 | AD9: =AB9/2 -> 0 | AE9: =AC9+AD9 -> 0
A10: Water | B10: 0 | E10: =Summary!C$23 -> Afghanistan | G10: [select from list] | H10: =VLOOKUP(G10,'List Data'!$A$100:$B$104,2,0) -> 0 | I10: Please select from list | J10: Please select from list | K10: 0 | M10: =R10*Summary!$H$27 -> 0 | N10: =S10*Summary!$H$25 -> 0 | O10: =VLOOKUP(J10,'List Data'!A$2:C$94,3,0) -> 0 | P10: =VLOOKUP(J10,'List Data'!A$2:B$94,2,0) -> -------- | Q10: =K10*B10/1000 -> 0 | R10: =T10+V10+Y10 -> 0 | S10: =U10+W10+X10+Z10+AE10 -> 0 | T10: =(IF(AND((O10="OP"),(I10="Child (0-7 years)")),VLOOKUP(K10,'OP Values'!$A$1:$Q$35,7),))*H10 -> 0 | U10: =(IF(O10="OP",VLOOKUP($Q10,'OP Values'!$A$1:$Q$35,17),))*H10 -> 0 | V10: =(IF(AND((O10="Pb"),(I10="Child (0-7 years)")),(VLOOKUP(Q10,Pb!$A$1:$AV$103,7)),0))*H10 -> 0 | W10: =(IF(AND((O10="Pb"),(I10="Child (0-7 years)")),(VLOOKUP(Q10,Pb!$C$2:$AV$103,20)),0))*H10 -> 0 | X10: =(IF(AND((O10="Pb"),(I10="Adult (> 15 years)")),(VLOOKUP(Q10,Pb!$A$2:$AV$103,46)),0))*H10 -> 0 | Y10: =(IF(AND((O10="Hg"),(I10="Child (0-7 years)")),(VLOOKUP(Q10,'Hg Values'!$A$1:$M$30,3)),0))*H10 -> 0 | Z10: =(IF(AND((O10="Hg"),(I10="Child (0-7 years)")),(VLOOKUP(Q10,'Hg Values'!$A$1:$M$30,13)),0))*H10 -> 0 | AA10: =(((IF(AND((O10="CA"),(I10="Adult (> 15 years)")),((Q10*1)/70)*(VLOOKUP(J10,CA_ingestion!A$1:J$78,4,0)),0))))/11 -> 0 | AB10: =(IF(AA10>1,1,AA10))*H10 -> 0 | AC10: =((IF(AND((O10="CA"),(I10="Adult (> 15 years)")),(AB10*(VLOOKUP(J10,CA_ingestion!A$1:J$78,10,0))),0))) -> 0 | AD10: =AB10/2 -> 0 | AE10: =AC10+AD10 -> 0
A11: Water | B11: 0 | E11: =Summary!C$23 -> Afghanistan | G11: [select from list] | H11: =VLOOKUP(G11,'List Data'!$A$100:$B$104,2,0) -> 0 | I11: Please select from list | J11: Please select from list | K11: 0 | M11: =R11*Summary!$H$27 -> 0 | N11: =S11*Summary!$H$25 -> 0 | O11: =VLOOKUP(J11,'List Data'!A$2:C$94,3,0) -> 0 | P11: =VLOOKUP(J11,'List Data'!A$2:B$94,2,0) -> -------- | Q11: =K11*B11/1000 -> 0 | R11: =T11+V11+Y11 -> 0 | S11: =U11+W11+X11+Z11+AE11 -> 0 | T11: =(IF(AND((O11="OP"),(I11="Child (0-7 years)")),VLOOKUP(K11,'OP Values'!$A$1:$Q$35,7),))*H11 -> 0 | U11: =(IF(O11="OP",VLOOKUP($Q11,'OP Values'!$A$1:$Q$35,17),))*H11 -> 0 | V11: =(IF(AND((O11="Pb"),(I11="Child (0-7 years)")),(VLOOKUP(Q11,Pb!$A$1:$AV$103,7)),0))*H11 -> 0 | W11: =(IF(AND((O11="Pb"),(I11="Child (0-7 years)")),(VLOOKUP(Q11,Pb!$C$2:$AV$103,20)),0))*H11 -> 0 | X11: =(IF(AND((O11="Pb"),(I11="Adult (> 15 years)")),(VLOOKUP(Q11,Pb!$A$2:$AV$103,46)),0))*H11 -> 0 | Y11: =(IF(AND((O11="Hg"),(I11="Child (0-7 years)")),(VLOOKUP(Q11,'Hg Values'!$A$1:$M$30,3)),0))*H11 -> 0 | Z11: =(IF(AND((O11="Hg"),(I11="Child (0-7 years)")),(VLOOKUP(Q11,'Hg Values'!$A$1:$M$30,13)),0))*H11 -> 0 | AA11: =(((IF(AND((O11="CA"),(I11="Adult (> 15 years)")),((Q11*1)/70)*(VLOOKUP(J11,CA_ingestion!A$1:J$78,4,0)),0))))/11 -> 0 | AB11: =(IF(AA11>1,1,AA11))*H11 -> 0 | AC11: =((IF(AND((O11="CA"),(I11="Adult (> 15 years)")),(AB11*(VLOOKUP(J11,CA_ingestion!A$1:J$78,10,0))),0))) -> 0 | AD11: =AB11/2 -> 0 | AE11: =AC11+AD11 -> 0
A12: Water | B12: 0 | E12: =Summary!C$23 -> Afghanistan | G12: [select from list] | H12: =VLOOKUP(G12,'List Data'!$A$100:$B$104,2,0) -> 0 | I12: Please select from list | J12: Please select from list | K12: 0 | M12: =R12*Summary!$H$27 -> 0 | N12: =S12*Summary!$H$25 -> 0 | O12: =VLOOKUP(J12,'List Data'!A$2:C$94,3,0) -> 0 | P12: =VLOOKUP(J12,'List Data'!A$2:B$94,2,0) -> -------- | Q12: =K12*B12/1000 -> 0 | R12: =T12+V12+Y12 -> 0 | S12: =U12+W12+X12+Z12+AE12 -> 0 | T12: =(IF(AND((O12="OP"),(I12="Child (0-7 years)")),VLOOKUP(K12,'OP Values'!$A$1:$Q$35,7),))*H12 -> 0 | U12: =(IF(O12="OP",VLOOKUP($Q12,'OP Values'!$A$1:$Q$35,17),))*H12 -> 0 | V12: =(IF(AND((O12="Pb"),(I12="Child (0-7 years)")),(VLOOKUP(Q12,Pb!$A$1:$AV$103,7)),0))*H12 -> 0 | W12: =(IF(AND((O12="Pb"),(I12="Child (0-7 years)")),(VLOOKUP(Q12,Pb!$C$2:$AV$103,20)),0))*H12 -> 0 | X12: =(IF(AND((O12="Pb"),(I12="Adult (> 15 years)")),(VLOOKUP(Q12,Pb!$A$2:$AV$103,46)),0))*H12 -> 0 | Y12: =(IF(AND((O12="Hg"),(I12="Child (0-7 years)")),(VLOOKUP(Q12,'Hg Values'!$A$1:$M$30,3)),0))*H12 -> 0 | Z12: =(IF(AND((O12="Hg"),(I12="Child (0-7 years)")),(VLOOKUP(Q12,'Hg Values'!$A$1:$M$30,13)),0))*H12 -> 0 | AA12: =(((IF(AND((O12="CA"),(I12="Adult (> 15 years)")),((Q12*1)/70)*(VLOOKUP(J12,CA_ingestion!A$1:J$78,4,0)),0))))/11 -> 0 | AB12: =(IF(AA12>1,1,AA12))*H12 -> 0 | AC12: =((IF(AND((O12="CA"),(I12="Adult (> 15 years)")),(AB12*(VLOOKUP(J12,CA_ingestion!A$1:J$78,10,0))),0))) -> 0 | AD12: =AB12/2 -> 0 | AE12: =AC12+AD12 -> 0
A13: Water | B13: 0 | E13: =Summary!C$23 -> Afghanistan | G13: [select from list] | H13: =VLOOKUP(G13,'List Data'!$A$100:$B$104,2,0) -> 0 | I13: Please select from list | J13: Please select from list | K13: 0 | M13: =R13*Summary!$H$27 -> 0 | N13: =S13*Summary!$H$25 -> 0 | O13: =VLOOKUP(J13,'List Data'!A$2:C$94,3,0) -> 0 | P13: =VLOOKUP(J13,'List Data'!A$2:B$94,2,0) -> -------- | Q13: =K13*B13/1000 -> 0 | R13: =T13+V13+Y13 -> 0 | S13: =U13+W13+X13+Z13+AE13 -> 0 | T13: =(IF(AND((O13="OP"),(I13="Child (0-7 years)")),VLOOKUP(K13,'OP Values'!$A$1:$Q$35,7),))*H13 -> 0 | U13: =(IF(O13="OP",VLOOKUP($Q13,'OP Values'!$A$1:$Q$35,17),))*H13 -> 0 | V13: =(IF(AND((O13="Pb"),(I13="Child (0-7 years)")),(VLOOKUP(Q13,Pb!$A$1:$AV$103,7)),0))*H13 -> 0 | W13: =(IF(AND((O13="Pb"),(I13="Child (0-7 years)")),(VLOOKUP(Q13,Pb!$C$2:$AV$103,20)),0))*H13 -> 0 | X13: =(IF(AND((O13="Pb"),(I13="Adult (> 15 years)")),(VLOOKUP(Q13,Pb!$A$2:$AV$103,46)),0))*H13 -> 0 | Y13: =(IF(AND((O13="Hg"),(I13="Child (0-7 years)")),(VLOOKUP(Q13,'Hg Values'!$A$1:$M$30,3)),0))*H13 -> 0 | Z13: =(IF(AND((O13="Hg"),(I13="Child (0-7 years)")),(VLOOKUP(Q13,'Hg Values'!$A$1:$M$30,13)),0))*H13 -> 0 | AA13: =(((IF(AND((O13="CA"),(I13="Adult (> 15 years)")),((Q13*1)/70)*(VLOOKUP(J13,CA_ingestion!A$1:J$78,4,0)),0))))/11 -> 0 | AB13: =(IF(AA13>1,1,AA13))*H13 -> 0 | AC13: =((IF(AND((O13="CA"),(I13="Adult (> 15 years)")),(AB13*(VLOOKUP(J13,CA_ingestion!A$1:J$78,10,0))),0))) -> 0 | AD13: =AB13/2 -> 0 | AE13: =AC13+AD13 -> 0
A14: Water | B14: 0 | E14: =Summary!C$23 -> Afghanistan | G14: [select from list] | H14: =VLOOKUP(G14,'List Data'!$A$100:$B$104,2,0) -> 0 | I14: Please select from list | J14: Please select from list | K14: 0 | M14: =R14*Summary!$H$27 -> 0 | N14: =S14*Summary!$H$25 -> 0 | O14: =VLOOKUP(J14,'List Data'!A$2:C$94,3,0) -> 0 | P14: =VLOOKUP(J14,'List Data'!A$2:B$94,2,0) -> -------- | Q14: =K14*B14/1000 -> 0 | R14: =T14+V14+Y14 -> 0 | S14: =U14+W14+X14+Z14+AE14 -> 0 | T14: =(IF(AND((O14="OP"),(I14="Child (0-7 years)")),VLOOKUP(K14,'OP Values'!$A$1:$Q$35,7),))*H14 -> 0 | U14: =(IF(O14="OP",VLOOKUP($Q14,'OP Values'!$A$1:$Q$35,17),))*H14 -> 0 | V14: =(IF(AND((O14="Pb"),(I14="Child (0-7 years)")),(VLOOKUP(Q14,Pb!$A$1:$AV$103,7)),0))*H14 -> 0 | W14: =(IF(AND((O14="Pb"),(I14="Child (0-7 years)")),(VLOOKUP(Q14,Pb!$C$2:$AV$103,20)),0))*H14 -> 0 | X14: =(IF(AND((O14="Pb"),(I14="Adult (> 15 years)")),(VLOOKUP(Q14,Pb!$A$2:$AV$103,46)),0))*H14 -> 0 | Y14: =(IF(AND((O14="Hg"),(I14="Child (0-7 years)")),(VLOOKUP(Q14,'Hg Values'!$A$1:$M$30,3)),0))*H14 -> 0 | Z14: =(IF(AND((O14="Hg"),(I14="Child (0-7 years)")),(VLOOKUP(Q14,'Hg Values'!$A$1:$M$30,13)),0))*H14 -> 0 | AA14: =(((IF(AND((O14="CA"),(I14="Adult (> 15 years)")),((Q14*1)/70)*(VLOOKUP(J14,CA_ingestion!A$1:J$78,4,0)),0))))/11 -> 0 | AB14: =(IF(AA14>1,1,AA14))*H14 -> 0 | AC14: =((IF(AND((O14="CA"),(I14="Adult (> 15 years)")),(AB14*(VLOOKUP(J14,CA_ingestion!A$1:J$78,10,0))),0))) -> 0 | AD14: =AB14/2 -> 0 | AE14: =AC14+AD14 -> 0
A15: Water | B15: 0 | E15: =Summary!C$23 -> Afghanistan | G15: [select from list] | H15: =VLOOKUP(G15,'List Data'!$A$100:$B$104,2,0) -> 0 | I15: Please select from list | J15: Please select from list | K15: 0 | M15: =R15*Summary!$H$27 -> 0 | N15: =S15*Summary!$H$25 -> 0 | O15: =VLOOKUP(J15,'List Data'!A$2:C$94,3,0) -> 0 | P15: =VLOOKUP(J15,'List Data'!A$2:B$94,2,0) -> -------- | Q15: =K15*B15/1000 -> 0 | R15: =T15+V15+Y15 -> 0 | S15: =U15+W15+X15+Z15+AE15 -> 0 | T15: =(IF(AND((O15="OP"),(I15="Child (0-7 years)")),VLOOKUP(K15,'OP Values'!$A$1:$Q$35,7),))*H15 -> 0 | U15: =(IF(O15="OP",VLOOKUP($Q15,'OP Values'!$A$1:$Q$35,17),))*H15 -> 0 | V15: =(IF(AND((O15="Pb"),(I15="Child (0-7 years)")),(VLOOKUP(Q15,Pb!$A$1:$AV$103,7)),0))*H15 -> 0 | W15: =(IF(AND((O15="Pb"),(I15="Child (0-7 years)")),(VLOOKUP(Q15,Pb!$C$2:$AV$103,20)),0))*H15 -> 0 | X15: =(IF(AND((O15="Pb"),(I15="Adult (> 15 years)")),(VLOOKUP(Q15,Pb!$A$2:$AV$103,46)),0))*H15 -> 0 | Y15: =(IF(AND((O15="Hg"),(I15="Child (0-7 years)")),(VLOOKUP(Q15,'Hg Values'!$A$1:$M$30,3)),0))*H15 -> 0 | Z15: =(IF(AND((O15="Hg"),(I15="Child (0-7 years)")),(VLOOKUP(Q15,'Hg Values'!$A$1:$M$30,13)),0))*H15 -> 0 | AA15: =(((IF(AND((O15="CA"),(I15="Adult (> 15 years)")),((Q15*1)/70)*(VLOOKUP(J15,CA_ingestion!A$1:J$78,4,0)),0))))/11 -> 0 | AB15: =(IF(AA15>1,1,AA15))*H15 -> 0 | AC15: =((IF(AND((O15="CA"),(I15="Adult (> 15 years)")),(AB15*(VLOOKUP(J15,CA_ingestion!A$1:J$78,10,0))),0))) -> 0 | AD15: =AB15/2 -> 0 | AE15: =AC15+AD15 -> 0
A16: Water | B16: 0 | E16: =Summary!C$23 -> Afghanistan | G16: [select from list] | H16: =VLOOKUP(G16,'List Data'!$A$100:$B$104,2,0) -> 0 | I16: Please select from list | J16: Please select from list | K16: 0 | M16: =R16*Summary!$H$27 -> 0 | N16: =S16*Summary!$H$25 -> 0 | O16: =VLOOKUP(J16,'List Data'!A$2:C$94,3,0) -> 0 | P16: =VLOOKUP(J16,'List Data'!A$2:B$94,2,0) -> -------- | Q16: =K16*B16/1000 -> 0 | R16: =T16+V16+Y16 -> 0 | S16: =U16+W16+X16+Z16+AE16 -> 0 | T16: =(IF(AND((O16="OP"),(I16="Child (0-7 years)")),VLOOKUP(K16,'OP Values'!$A$1:$Q$35,7),))*H16 -> 0 | U16: =(IF(O16="OP",VLOOKUP($Q16,'OP Values'!$A$1:$Q$35,17),))*H16 -> 0 | V16: =(IF(AND((O16="Pb"),(I16="Child (0-7 years)")),(VLOOKUP(Q16,Pb!$A$1:$AV$103,7)),0))*H16 -> 0 | W16: =(IF(AND((O16="Pb"),(I16="Child (0-7 years)")),(VLOOKUP(Q16,Pb!$C$2:$AV$103,20)),0))*H16 -> 0 | X16: =(IF(AND((O16="Pb"),(I16="Adult (> 15 years)")),(VLOOKUP(Q16,Pb!$A$2:$AV$103,46)),0))*H16 -> 0 | Y16: =(IF(AND((O16="Hg"),(I16="Child (0-7 years)")),(VLOOKUP(Q16,'Hg Values'!$A$1:$M$30,3)),0))*H16 -> 0 | Z16: =(IF(AND((O16="Hg"),(I16="Child (0-7 years)")),(VLOOKUP(Q16,'Hg Values'!$A$1:$M$30,13)),0))*H16 -> 0 | AA16: =(((IF(AND((O16="CA"),(I16="Adult (> 15 years)")),((Q16*1)/70)*(VLOOKUP(J16,CA_ingestion!A$1:J$78,4,0)),0))))/11 -> 0 | AB16: =(IF(AA16>1,1,AA16))*H16 -> 0 | AC16: =((IF(AND((O16="CA"),(I16="Adult (> 15 years)")),(AB16*(VLOOKUP(J16,CA_ingestion!A$1:J$78,10,0))),0))) -> 0 | AD16: =AB16/2 -> 0 | AE16: =AC16+AD16 -> 0
... A104: Water | B104: 0 | E104: =Summary!C$23 -> Afghanistan | G104: [select from list] | H104: =VLOOKUP(G104,'List Data'!$A$100:$B$104,2,0) -> 0 | I104: Please select from list | J104: Please select from list | K104: 0 | M104: =R104*Summary!$H$27 -> 0 | N104: =S104*Summary!$H$25 -> 0 | O104: =VLOOKUP(J104,'List Data'!A$2:C$94,3,0) -> 0 | P104: =VLOOKUP(J104,'List Data'!A$2:B$94,2,0) -> -------- | Q104: =K104*B104/1000 -> 0 | R104: =T104+V104+Y104 -> 0 | S104: =U104+W104+X104+Z104+AE104 -> 0 | T104: =(IF(AND((O104="OP"),(I104="Child (0-7 years)")),VLOOKUP(K104,'OP Values'!$A$1:$Q$35,7),))*H104 -> 0 | U104: =(IF(O104="OP",VLOOKUP($Q104,'OP Values'!$A$1:$Q$35,17),))*H104 -> 0 | V104: =(IF(AND((O104="Pb"),(I104="Child (0-7 years)")),(VLOOKUP(Q104,Pb!$A$1:$AV$103,7)),0))*H104 -> 0 | W104: =(IF(AND((O104="Pb"),(I104="Child (0-7 years)")),(VLOOKUP(Q104,Pb!$C$2:$AV$103,20)),0))*H104 -> 0 | X104: =(IF(AND((O104="Pb"),(I104="Adult (> 15 years)")),(VLOOKUP(Q104,Pb!$A$2:$AV$103,46)),0))*H104 -> 0 | Y104: =(IF(AND((O104="Hg"),(I104="Child (0-7 years)")),(VLOOKUP(Q104,'Hg Values'!$A$1:$M$30,3)),0))*H104 -> 0 | Z104: =(IF(AND((O104="Hg"),(I104="Child (0-7 years)")),(VLOOKUP(Q104,'Hg Values'!$A$1:$M$30,13)),0))*H104 -> 0 | AA104: =(((IF(AND((O104="CA"),(I104="Adult (> 15 years)")),((Q104*1)/70)*(VLOOKUP(J104,CA_ingestion!A$1:J$78,4,0)),0))))/11 -> 0 | AB104: =(IF(AA104>1,1,AA104))*H104 -> 0 | AC104: =((IF(AND((O104="CA"),(I104="Adult (> 15 years)")),(AB104*(VLOOKUP(J104,CA_ingestion!A$1:J$78,10,0))),0))) -> 0 | AD104: =AB104/2 -> 0 | AE104: =AC104+AD104 -> 0

Sheet Soil
A1: Soil Worksheet
A2: Total IQ Decrement | B2: =SUM(T:T) -> 4457.3506 | C2: Total DALYs | E2: =SUM(U:U) -> 9.5191228
A4: Site Name | B4: Latitude | C4: Longitude | D4: Population | E4: Population Value | F4: Concentration (mg/kg) | G4: District | H4: Region | I4: Country | J4: Data Source | K4: Adult or Child | L4: Chemical | M4: Site cost (IQ) | N4: Site cost (DALYs) | O4: Code | P4: CAS # | Q4: Estimated Dust Concentration | R4: Ingestion rate (mg/day) | S4: Total daily intake (mg/day) | T4: Total IQ decrement | U4: Total DALYS | V4: IQ decrement OP | W4: Attributable DALYS (OP) | X4: IQ Decrement (Lead) | Y4: Attributable Children DALYS (Lead) | Z4: Attributable Adult DALYS (Lead) | AA4: IQ Decrement (Hg) | AB4: Attributable DALYS (Hg) | AC4: Number of Attributable Cancer Cases/ person (raw) | AD4: Number of Attributable Cancer Cases (population) | AE4: Attributable YLD (Ca) | AF4: Attributable YLL | AG4: DALYs (Ca)
A5: TEST | D5: medium | E5: =VLOOKUP(D5,'List Data'!$A$100:$B$104,2,0) -> 1000 | F5: 1000 | I5: =Summary!C$23 -> Afghanistan | K5: Child (0-7 years) | L5: Lead | M5: =T5*Summary!$H$27 -> 923594.67 | N5: =U5*Summary!$H$25 -> 6807.5035 | O5: =VLOOKUP(L5,'List Data'!A$2:C$94,3,0) -> Pb | P5: =VLOOKUP(L5,'List Data'!A$2:B$94,2,0) -> 7439-92-1 | Q5: =F5*0.7+(10.7) -> 710.7 | R5: =IF(K5="Child (0-7 years)",135,50) -> 135 | S5: =(F5/1000000)*R5 -> 0.135 | T5: =V5+X5+AA5 -> 4457.3506 | U5: =W5+Y5+Z5+AB5+AG5 -> 9.5191228 | V5: =(IF(AND((O5="OP"),(K5="Child (0-7 years)")),VLOOKUP(($R5*(F5/1000000)),'OP Values'!$A$1:$Q$35,7),))*E5 -> 0 | W5: =(IF(O5="OP",VLOOKUP(($R5*(F5/1000000)),'OP Values'!$A$1:$Q$35,17),))*E5 -> 0 | X5: =(IF(AND((O5="Pb"),(K5="Child (0-7 years)")),(VLOOKUP(F5,Pb!$A$1:$AV$103,13)),0))*E5 -> 4457.3506 | Y5: =(IF(AND((O5="Pb"),(K5="Child (0-7 years)")),(VLOOKUP(F5,Pb!$A$2:$AV$103,22)),0))*E5 -> 9.5191228 | Z5: =(IF(AND((O5="Pb"),(K5="Adult (> 15 years)")),(VLOOKUP(F5,Pb!$A$2:$AV$103,48)),0))*E5 -> 0 | AA5: =(IF(AND((O5="Hg"),(K5="Child (0-7 years)")),(VLOOKUP(S5,'Hg Values'!$A$1:$M$30,3)),0))*E5 -> 0 | AB5: =(IF(AND((O5="Hg"),(K5="Child (0-7 years)")),(VLOOKUP(S5,'Hg Values'!$A$1:$M$30,13)),0))*E5 -> 0 | AC5: =((IF(AND((O5="CA"),(K5="Adult (> 15 years)")),(VLOOKUP(L5,CA_ingestion!A$1:J$78,7,0)),0))*((F5/1000000)*R5*70))/14 -> 0 | AD5: =(IF(AC5>1,1,AC5))*E5 -> 0 | AE5: =((IF(AND((O5="CA"),(K5="Adult (> 15 years)")),(AD5*(VLOOKUP(L5,CA_ingestion!A$1:J$78,10,0))),0))) -> 0 | AF5: =AD5/2 -> 0 | AG5: =AE5+AF5 -> 0
D6: [select from list] | E6: =VLOOKUP(D6,'List Data'!$A$100:$B$104,2,0) -> 0 | I6: =Summary!C$23 -> Afghanistan | K6: Please select from list | L6: Please select from list | M6: =T6*Summary!$H$27 -> 0 | N6: =U6*Summary!$H$25 -> 0 | O6: =VLOOKUP(L6,'List Data'!A$2:C$94,3,0) -> 0 | P6: =VLOOKUP(L6,'List Data'!A$2:B$94,2,0) -> -------- | Q6: =F6*0.7+(10.7) -> 10.7 | R6: =IF(K6="Child (0-7 years)",135,50) -> 50 | S6: =(F6/1000000)*R6 -> 0 | T6: =V6+X6+AA6 -> 0 | U6: =W6+Y6+Z6+AB6+AG6 -> 0 | V6: =(IF(AND((O6="OP"),(K6="Child (0-7 years)")),VLOOKUP(($R6*(F6/1000000)),'OP Values'!$A$1:$Q$35,7),))*E6 -> 0 | W6: =(IF(O6="OP",VLOOKUP(($R6*(F6/1000000)),'OP Values'!$A$1:$Q$35,17),))*E6 -> 0 | X6: =(IF(AND((O6="Pb"),(K6="Child (0-7 years)")),(VLOOKUP(F6,Pb!$A$1:$AV$103,13)),0))*E6 -> 0 | Y6: =(IF(AND((O6="Pb"),(K6="Child (0-7 years)")),(VLOOKUP(F6,Pb!$A$2:$AV$103,22)),0))*E6 -> 0 | Z6: =(IF(AND((O6="Pb"),(K6="Adult (> 15 years)")),(VLOOKUP(F6,Pb!$A$2:$AV$103,48)),0))*E6 -> 0 | AA6: =(IF(AND((O6="Hg"),(K6="Child (0-7 years)")),(VLOOKUP(S6,'Hg Values'!$A$1:$M$30,3)),0))*E6 -> 0 | AB6: =(IF(AND((O6="Hg"),(K6="Child (0-7 years)")),(VLOOKUP(S6,'Hg Values'!$A$1:$M$30,13)),0))*E6 -> 0 | AC6: =((IF(AND((O6="CA"),(K6="Adult (> 15 years)")),(VLOOKUP(L6,CA_ingestion!A$1:J$78,7,0)),0))*((F6/1000000)*R6*70))/14 -> 0 | AD6: =(IF(AC6>1,1,AC6))*E6 -> 0 | AE6: =((IF(AND((O6="CA"),(K6="Adult (> 15 years)")),(AD6*(VLOOKUP(L6,CA_ingestion!A$1:J$78,10,0))),0))) -> 0 | AF6: =AD6/2 -> 0 | AG6: =AE6+AF6 -> 0
D7: [select from list] | E7: =VLOOKUP(D7,'List Data'!$A$100:$B$104,2,0) -> 0 | I7: =Summary!C$23 -> Afghanistan | K7: Please select from list | L7: Please select from list | M7: =T7*Summary!$H$27 -> 0 | N7: =U7*Summary!$H$25 -> 0 | O7: =VLOOKUP(L7,'List Data'!A$2:C$94,3,0) -> 0 | P7: =VLOOKUP(L7,'List Data'!A$2:B$94,2,0) -> -------- | Q7: =F7*0.7+(10.7) -> 10.7 | R7: =IF(K7="Child (0-7 years)",135,50) -> 50 | S7: =(F7/1000000)*R7 -> 0 | T7: =V7+X7+AA7 -> 0 | U7: =W7+Y7+Z7+AB7+AG7 -> 0 | V7: =(IF(AND((O7="OP"),(K7="Child (0-7 years)")),VLOOKUP(($R7*(F7/1000000)),'OP Values'!$A$1:$Q$35,7),))*E7 -> 0 | W7: =(IF(O7="OP",VLOOKUP(($R7*(F7/1000000)),'OP Values'!$A$1:$Q$35,17),))*E7 -> 0 | X7: =(IF(AND((O7="Pb"),(K7="Child (0-7 years)")),(VLOOKUP(F7,Pb!$A$1:$AV$103,13)),0))*E7 -> 0 | Y7: =(IF(AND((O7="Pb"),(K7="Child (0-7 years)")),(VLOOKUP(F7,Pb!$A$2:$AV$103,22)),0))*E7 -> 0 | Z7: =(IF(AND((O7="Pb"),(K7="Adult (> 15 years)")),(VLOOKUP(F7,Pb!$A$2:$AV$103,48)),0))*E7 -> 0 | AA7: =(IF(AND((O7="Hg"),(K7="Child (0-7 years)")),(VLOOKUP(S7,'Hg Values'!$A$1:$M$30,3)),0))*E7 -> 0 | AB7: =(IF(AND((O7="Hg"),(K7="Child (0-7 years)")),(VLOOKUP(S7,'Hg Values'!$A$1:$M$30,13)),0))*E7 -> 0 | AC7: =((IF(AND((O7="CA"),(K7="Adult (> 15 years)")),(VLOOKUP(L7,CA_ingestion!A$1:J$78,7,0)),0))*((F7/1000000)*R7*70))/14 -> 0 | AD7: =(IF(AC7>1,1,AC7))*E7 -> 0 | AE7: =((IF(AND((O7="CA"),(K7="Adult (> 15 years)")),(AD7*(VLOOKUP(L7,CA_ingestion!A$1:J$78,10,0))),0))) -> 0 | AF7: =AD7/2 -> 0 | AG7: =AE7+AF7 -> 0
D8: [select from list] | E8: =VLOOKUP(D8,'List Data'!$A$100:$B$104,2,0) -> 0 | I8: =Summary!C$23 -> Afghanistan | K8: Please select from list | L8: Please select from list | M8: =T8*Summary!$H$27 -> 0 | N8: =U8*Summary!$H$25 -> 0 | O8: =VLOOKUP(L8,'List Data'!A$2:C$94,3,0) -> 0 | P8: =VLOOKUP(L8,'List Data'!A$2:B$94,2,0) -> -------- | Q8: =F8*0.7+(10.7) -> 10.7 | R8: =IF(K8="Child (0-7 years)",135,50) -> 50 | S8: =(F8/1000000)*R8 -> 0 | T8: =V8+X8+AA8 -> 0 | U8: =W8+Y8+Z8+AB8+AG8 -> 0 | V8: =(IF(AND((O8="OP"),(K8="Child (0-7 years)")),VLOOKUP(($R8*(F8/1000000)),'OP Values'!$A$1:$Q$35,7),))*E8 -> 0 | W8: =(IF(O8="OP",VLOOKUP(($R8*(F8/1000000)),'OP Values'!$A$1:$Q$35,17),))*E8 -> 0 | X8: =(IF(AND((O8="Pb"),(K8="Child (0-7 years)")),(VLOOKUP(F8,Pb!$A$1:$AV$103,13)),0))*E8 -> 0 | Y8: =(IF(AND((O8="Pb"),(K8="Child (0-7 years)")),(VLOOKUP(F8,Pb!$A$2:$AV$103,22)),0))*E8 -> 0 | Z8: =(IF(AND((O8="Pb"),(K8="Adult (> 15 years)")),(VLOOKUP(F8,Pb!$A$2:$AV$103,48)),0))*E8 -> 0 | AA8: =(IF(AND((O8="Hg"),(K8="Child (0-7 years)")),(VLOOKUP(S8,'Hg Values'!$A$1:$M$30,3)),0))*E8 -> 0 | AB8: =(IF(AND((O8="Hg"),(K8="Child (0-7 years)")),(VLOOKUP(S8,'Hg Values'!$A$1:$M$30,13)),0))*E8 -> 0 | AC8: =((IF(AND((O8="CA"),(K8="Adult (> 15 years)")),(VLOOKUP(L8,CA_ingestion!A$1:J$78,7,0)),0))*((F8/1000000)*R8*70))/14 -> 0 | AD8: =(IF(AC8>1,1,AC8))*E8 -> 0 | AE8: =((IF(AND((O8="CA"),(K8="Adult (> 15 years)")),(AD8*(VLOOKUP(L8,CA_ingestion!A$1:J$78,10,0))),0))) -> 0 | AF8: =AD8/2 -> 0 | AG8: =AE8+AF8 -> 0
D9: [select from list] | E9: =VLOOKUP(D9,'List Data'!$A$100:$B$104,2,0) -> 0 | I9: =Summary!C$23 -> Afghanistan | K9: Please select from list | L9: Please select from list | M9: =T9*Summary!$H$27 -> 0 | N9: =U9*Summary!$H$25 -> 0 | O9: =VLOOKUP(L9,'List Data'!A$2:C$94,3,0) -> 0 | P9: =VLOOKUP(L9,'List Data'!A$2:B$94,2,0) -> -------- | Q9: =F9*0.7+(10.7) -> 10.7 | R9: =IF(K9="Child (0-7 years)",135,50) -> 50 | S9: =(F9/1000000)*R9 -> 0 | T9: =V9+X9+AA9 -> 0 | U9: =W9+Y9+Z9+AB9+AG9 -> 0 | V9: =(IF(AND((O9="OP"),(K9="Child (0-7 years)")),VLOOKUP(($R9*(F9/1000000)),'OP Values'!$A$1:$Q$35,7),))*E9 -> 0 | W9: =(IF(O9="OP",VLOOKUP(($R9*(F9/1000000)),'OP Values'!$A$1:$Q$35,17),))*E9 -> 0 | X9: =(IF(AND((O9="Pb"),(K9="Child (0-7 years)")),(VLOOKUP(F9,Pb!$A$1:$AV$103,13)),0))*E9 -> 0 | Y9: =(IF(AND((O9="Pb"),(K9="Child (0-7 years)")),(VLOOKUP(F9,Pb!$A$2:$AV$103,22)),0))*E9 -> 0 | Z9: =(IF(AND((O9="Pb"),(K9="Adult (> 15 years)")),(VLOOKUP(F9,Pb!$A$2:$AV$103,48)),0))*E9 -> 0 | AA9: =(IF(AND((O9="Hg"),(K9="Child (0-7 years)")),(VLOOKUP(S9,'Hg Values'!$A$1:$M$30,3)),0))*E9 -> 0 | AB9: =(IF(AND((O9="Hg"),(K9="Child (0-7 years)")),(VLOOKUP(S9,'Hg Values'!$A$1:$M$30,13)),0))*E9 -> 0 | AC9: =((IF(AND((O9="CA"),(K9="Adult (> 15 years)")),(VLOOKUP(L9,CA_ingestion!A$1:J$78,7,0)),0))*((F9/1000000)*R9*70))/14 -> 0 | AD9: =(IF(AC9>1,1,AC9))*E9 -> 0 | AE9: =((IF(AND((O9="CA"),(K9="Adult (> 15 years)")),(AD9*(VLOOKUP(L9,CA_ingestion!A$1:J$78,10,0))),0))) -> 0 | AF9: =AD9/2 -> 0 | AG9: =AE9+AF9 -> 0
D10: [select from list] | E10: =VLOOKUP(D10,'List Data'!$A$100:$B$104,2,0) -> 0 | I10: =Summary!C$23 -> Afghanistan | K10: Please select from list | L10: Please select from list | M10: =T10*Summary!$H$27 -> 0 | N10: =U10*Summary!$H$25 -> 0 | O10: =VLOOKUP(L10,'List Data'!A$2:C$94,3,0) -> 0 | P10: =VLOOKUP(L10,'List Data'!A$2:B$94,2,0) -> -------- | Q10: =F10*0.7+(10.7) -> 10.7 | R10: =IF(K10="Child (0-7 years)",135,50) -> 50 | S10: =(F10/1000000)*R10 -> 0 | T10: =V10+X10+AA10 -> 0 | U10: =W10+Y10+Z10+AB10+AG10 -> 0 | V10: =(IF(AND((O10="OP"),(K10="Child (0-7 years)")),VLOOKUP(($R10*(F10/1000000)),'OP Values'!$A$1:$Q$35,7),))*E10 -> 0 | W10: =(IF(O10="OP",VLOOKUP(($R10*(F10/1000000)),'OP Values'!$A$1:$Q$35,17),))*E10 -> 0 | X10: =(IF(AND((O10="Pb"),(K10="Child (0-7 years)")),(VLOOKUP(F10,Pb!$A$1:$AV$103,13)),0))*E10 -> 0 | Y10: =(IF(AND((O10="Pb"),(K10="Child (0-7 years)")),(VLOOKUP(F10,Pb!$A$2:$AV$103,22)),0))*E10 -> 0 | Z10: =(IF(AND((O10="Pb"),(K10="Adult (> 15 years)")),(VLOOKUP(F10,Pb!$A$2:$AV$103,48)),0))*E10 -> 0 | AA10: =(IF(AND((O10="Hg"),(K10="Child (0-7 years)")),(VLOOKUP(S10,'Hg Values'!$A$1:$M$30,3)),0))*E10 -> 0 | AB10: =(IF(AND((O10="Hg"),(K10="Child (0-7 years)")),(VLOOKUP(S10,'Hg Values'!$A$1:$M$30,13)),0))*E10 -> 0 | AC10: =((IF(AND((O10="CA"),(K10="Adult (> 15 years)")),(VLOOKUP(L10,CA_ingestion!A$1:J$78,7,0)),0))*((F10/1000000)*R10*70))/14 -> 0 | AD10: =(IF(AC10>1,1,AC10))*E10 -> 0 | AE10: =((IF(AND((O10="CA"),(K10="Adult (> 15 years)")),(AD10*(VLOOKUP(L10,CA_ingestion!A$1:J$78,10,0))),0))) -> 0 | AF10: =AD10/2 -> 0 | AG10: =AE10+AF10 -> 0
D11: [select from list] | E11: =VLOOKUP(D11,'List Data'!$A$100:$B$104,2,0) -> 0 | I11: =Summary!C$23 -> Afghanistan | K11: Please select from list | L11: Please select from list | M11: =T11*Summary!$H$27 -> 0 | N11: =U11*Summary!$H$25 -> 0 | O11: =VLOOKUP(L11,'List Data'!A$2:C$94,3,0) -> 0 | P11: =VLOOKUP(L11,'List Data'!A$2:B$94,2,0) -> -------- | Q11: =F11*0.7+(10.7) -> 10.7 | R11: =IF(K11="Child (0-7 years)",135,50) -> 50 | S11: =(F11/1000000)*R11 -> 0 | T11: =V11+X11+AA11 -> 0 | U11: =W11+Y11+Z11+AB11+AG11 -> 0 | V11: =(IF(AND((O11="OP"),(K11="Child (0-7 years)")),VLOOKUP(($R11*(F11/1000000)),'OP Values'!$A$1:$Q$35,7),))*E11 -> 0 | W11: =(IF(O11="OP",VLOOKUP(($R11*(F11/1000000)),'OP Values'!$A$1:$Q$35,17),))*E11 -> 0 | X11: =(IF(AND((O11="Pb"),(K11="Child (0-7 years)")),(VLOOKUP(F11,Pb!$A$1:$AV$103,13)),0))*E11 -> 0 | Y11: =(IF(AND((O11="Pb"),(K11="Child (0-7 years)")),(VLOOKUP(F11,Pb!$A$2:$AV$103,22)),0))*E11 -> 0 | Z11: =(IF(AND((O11="Pb"),(K11="Adult (> 15 years)")),(VLOOKUP(F11,Pb!$A$2:$AV$103,48)),0))*E11 -> 0 | AA11: =(IF(AND((O11="Hg"),(K11="Child (0-7 years)")),(VLOOKUP(S11,'Hg Values'!$A$1:$M$30,3)),0))*E11 -> 0 | AB11: =(IF(AND((O11="Hg"),(K11="Child (0-7 years)")),(VLOOKUP(S11,'Hg Values'!$A$1:$M$30,13)),0))*E11 -> 0 | AC11: =((IF(AND((O11="CA"),(K11="Adult (> 15 years)")),(VLOOKUP(L11,CA_ingestion!A$1:J$78,7,0)),0))*((F11/1000000)*R11*70))/14 -> 0 | AD11: =(IF(AC11>1,1,AC11))*E11 -> 0 | AE11: =((IF(AND((O11="CA"),(K11="Adult (> 15 years)")),(AD11*(VLOOKUP(L11,CA_ingestion!A$1:J$78,10,0))),0))) -> 0 | AF11: =AD11/2 -> 0 | AG11: =AE11+AF11 -> 0
D12: [select from list] | E12: =VLOOKUP(D12,'List Data'!$A$100:$B$104,2,0) -> 0 | I12: =Summary!C$23 -> Afghanistan | K12: Please select from list | L12: Please select from list | M12: =T12*Summary!$H$27 -> 0 | N12: =U12*Summary!$H$25 -> 0 | O12: =VLOOKUP(L12,'List Data'!A$2:C$94,3,0) -> 0 | P12: =VLOOKUP(L12,'List Data'!A$2:B$94,2,0) -> -------- | Q12: =F12*0.7+(10.7) -> 10.7 | R12: =IF(K12="Child (0-7 years)",135,50) -> 50 | S12: =(F12/1000000)*R12 -> 0 | T12: =V12+X12+AA12 -> 0 | U12: =W12+Y12+Z12+AB12+AG12 -> 0 | V12: =(IF(AND((O12="OP"),(K12="Child (0-7 years)")),VLOOKUP(($R12*(F12/1000000)),'OP Values'!$A$1:$Q$35,7),))*E12 -> 0 | W12: =(IF(O12="OP",VLOOKUP(($R12*(F12/1000000)),'OP Values'!$A$1:$Q$35,17),))*E12 -> 0 | X12: =(IF(AND((O12="Pb"),(K12="Child (0-7 years)")),(VLOOKUP(F12,Pb!$A$1:$AV$103,13)),0))*E12 -> 0 | Y12: =(IF(AND((O12="Pb"),(K12="Child (0-7 years)")),(VLOOKUP(F12,Pb!$A$2:$AV$103,22)),0))*E12 -> 0 | Z12: =(IF(AND((O12="Pb"),(K12="Adult (> 15 years)")),(VLOOKUP(F12,Pb!$A$2:$AV$103,48)),0))*E12 -> 0 | AA12: =(IF(AND((O12="Hg"),(K12="Child (0-7 years)")),(VLOOKUP(S12,'Hg Values'!$A$1:$M$30,3)),0))*E12 -> 0 | AB12: =(IF(AND((O12="Hg"),(K12="Child (0-7 years)")),(VLOOKUP(S12,'Hg Values'!$A$1:$M$30,13)),0))*E12 -> 0 | AC12: =((IF(AND((O12="CA"),(K12="Adult (> 15 years)")),(VLOOKUP(L12,CA_ingestion!A$1:J$78,7,0)),0))*((F12/1000000)*R12*70))/14 -> 0 | AD12: =(IF(AC12>1,1,AC12))*E12 -> 0 | AE12: =((IF(AND((O12="CA"),(K12="Adult (> 15 years)")),(AD12*(VLOOKUP(L12,CA_ingestion!A$1:J$78,10,0))),0))) -> 0 | AF12: =AD12/2 -> 0 | AG12: =AE12+AF12 -> 0
D13: [select from list] | E13: =VLOOKUP(D13,'List Data'!$A$100:$B$104,2,0) -> 0 | I13: =Summary!C$23 -> Afghanistan | K13: Please select from list | L13: Please select from list | M13: =T13*Summary!$H$27 -> 0 | N13: =U13*Summary!$H$25 -> 0 | O13: =VLOOKUP(L13,'List Data'!A$2:C$94,3,0) -> 0 | P13: =VLOOKUP(L13,'List Data'!A$2:B$94,2,0) -> -------- | Q13: =F13*0.7+(10.7) -> 10.7 | R13: =IF(K13="Child (0-7 years)",135,50) -> 50 | S13: =(F13/1000000)*R13 -> 0 | T13: =V13+X13+AA13 -> 0 | U13: =W13+Y13+Z13+AB13+AG13 -> 0 | V13: =(IF(AND((O13="OP"),(K13="Child (0-7 years)")),VLOOKUP(($R13*(F13/1000000)),'OP Values'!$A$1:$Q$35,7),))*E13 -> 0 | W13: =(IF(O13="OP",VLOOKUP(($R13*(F13/1000000)),'OP Values'!$A$1:$Q$35,17),))*E13 -> 0 | X13: =(IF(AND((O13="Pb"),(K13="Child (0-7 years)")),(VLOOKUP(F13,Pb!$A$1:$AV$103,13)),0))*E13 -> 0 | Y13: =(IF(AND((O13="Pb"),(K13="Child (0-7 years)")),(VLOOKUP(F13,Pb!$A$2:$AV$103,22)),0))*E13 -> 0 | Z13: =(IF(AND((O13="Pb"),(K13="Adult (> 15 years)")),(VLOOKUP(F13,Pb!$A$2:$AV$103,48)),0))*E13 -> 0 | AA13: =(IF(AND((O13="Hg"),(K13="Child (0-7 years)")),(VLOOKUP(S13,'Hg Values'!$A$1:$M$30,3)),0))*E13 -> 0 | AB13: =(IF(AND((O13="Hg"),(K13="Child (0-7 years)")),(VLOOKUP(S13,'Hg Values'!$A$1:$M$30,13)),0))*E13 -> 0 | AC13: =((IF(AND((O13="CA"),(K13="Adult (> 15 years)")),(VLOOKUP(L13,CA_ingestion!A$1:J$78,7,0)),0))*((F13/1000000)*R13*70))/14 -> 0 | AD13: =(IF(AC13>1,1,AC13))*E13 -> 0 | AE13: =((IF(AND((O13="CA"),(K13="Adult (> 15 years)")),(AD13*(VLOOKUP(L13,CA_ingestion!A$1:J$78,10,0))),0))) -> 0 | AF13: =AD13/2 -> 0 | AG13: =AE13+AF13 -> 0
