Workbook
Name IRIS: '[1]Comparison of list'!$A$1:$A$77
Name Jack: '[1]Comparison of list'!$B$1:$B$96

Sheet Summary
B10: Calculator for the estimation of adverse health outcomes and associated productivity losses resulting from chemicals exposure
B11: Integrated Health and Environment Observatories for the Sound Management of Chemicals and Waste in Africa
B12: Draft 16 July 2022
B14: Use the sections below to enter available chemicals data
H16: DALYs | I16: IQ decrement
G17: Dietary | H17: =Dietary!E2 -> 0 | I17: =Dietary!B2 -> 0
G18: Soil | H18: =Soil!E2 -> 9.5191228 | I18: =Soil!B2 -> 4457.3506
G19: Dust | H19: =Dust!H2 -> 0 | I19: =Dust!E2 -> 0
G20: Water | H20: =Water!D2 -> 0 | I20: =Water!B2 -> 0
G21: Total | H21: =SUM(H17:H20) -> 9.5191228 | I21: =SUM(I17:I20) -> 4457.3506
B23: Country | C23: Afghanistan
G25: Cost per DALY | H25: =VLOOKUP(C23,'Economic Inputs'!A1:H186,8,0) -> 715.13979
G27: Cost per IQ point | H27: =VLOOKUP(C23,'Economic Inputs'!A1:H186,5,0) -> 207.2071 | I27: =VLOOKUP(C23,'Economic Inputs'!A1:H186,6,0) -> 331.71026
H28: 3 % discount rate | I28: 1.5 % discount rate
F30: Cost of DALYs (USD) | H30: =(H21*H25) -> 6807.5035
F31: Cost of IQ decrement (USD) | H31: =I21*H27 -> 923594.67 | I31: =I21*I27 -> 1478548.9
H32: 3 % discount rate | I32: 1.5 % discount rate
B33: This spreadsheet is intended to be used with the accompanying guidance.
B34: For additional information contact:
B36: Pierre Quiblier (UNEP) | E36: pierre.quiblier@un.org
B37: Cynthia Davis (WHO) | E37: daviscy@who.int
B38: Thabo Moraba (Africa Institute) | E38: tmoraba@environment.gov.za

Sheet Dietary
A1: Dietary Intake Worksheet
A2: Total IQ Decrement | B2: =SUM(S:S) -> 0 | D2: Total DALYs | E2: =SUM(T:T) -> 0
Q3: =0.08*1000 -> 80
A4: Food | B4: Weight ingested (kilos) | C4: Frequency | D4: District | E4: Region | F4: Country | G4: Data Source | H4: Population | I4: Population Value | J4: Adult or Child | K4: Chemical | L4: Concentration (mg/kg) | M4: Site cost (IQ) | N4: Site cost (DALYs) | O4: Adjusted consumption | P4: Code | Q4: CAS # | R4: Total daily intake (mg/day) | S4: Total IQ decrement | T4: Total DALYS | U4: IQ decrement OP | V4: Attributable DALYS (OP) | W4: IQ Decrement (Lead) | X4: Attributable Children DALYS (Lead) | Y4: Attributable Adult DALYS (Lead) | Z4: IQ Decrement (Hg) | AA4: Attributable DALYS (Hg) | AB4: Number of Attributable Cancer Cases/ person/ year (raw) | AC4: Number of Attributable Cancer Cases/ year (population) | AD4: Attributable YLD (Ca) | AE4: Attributable YLL | AF4: DALYs (Ca)
B5: 0 | C5: Daily | F5: =Summary!C$23 -> Afghanistan | H5: small | I5: =VLOOKUP(H5,'List Data'!$A$100:$B$104,2,0) -> 100 | J5: Adult (> 15 years) | K5: technical Hexachlorocyclohexane (t-HCH) | L5: 1000 | M5: =S5*Summary!$H$27 -> 0 | N5: =T5*Summary!$H$25 -> 0 | O5: =(VLOOKUP(C5,'List Data'!A$106:B$109,2,0))*B5 -> 0 | P5: =VLOOKUP(K5,'List Data'!A$2:C$94,3,0) -> CA | Q5: =VLOOKUP(K5,'List Data'!A$2:B$94,2,0) -> 608-73-1 | R5: =L5*O5*B5 -> 0 | S5: =U5+W5+Z5 -> 0 | T5: =V5+X5+Y5+AA5+AF5 -> 0 | U5: =(IF(AND((P5="OP"),(J5="Child (0-7 years)")),VLOOKUP(R5,'OP Values'!$A$1:$Q$35,7),))*I5 -> 0 | V5: =(IF(P5="OP",VLOOKUP($R5,'OP Values'!$A$1:$Q$35,17),))*I5 -> 0 | W5: =(IF(AND((P5="Pb"),(J5="Child (0-7 years)")),(VLOOKUP(R5+0.005,Pb!$C$2:$AV$103,11)),0))*I5 -> 0 | X5: =(IF(AND((P5="Pb"),(J5="Child (0-7 years)")),(VLOOKUP(R5,Pb!$C$2:$AV$103,20)),0))*I5 -> 0 | Y5: =(IF(AND((P5="Pb"),(J5="Adult (> 15 years)")),(VLOOKUP(R5,Pb!$C$2:$AV$103,46)),0))*I5 -> 0 | Z5: =(IF(AND((P5="Hg"),(J5="Child (0-7 years)")),(VLOOKUP(R5,'Hg Values'!$A$1:$M$30,3)),0))*I5 -> 0 | AA5: =(IF(AND((P5="Hg"),(J5="Child (0-7 years)")),(VLOOKUP(R5,'Hg Values'!$A$1:$M$30,13)),0))*I5 -> 0 | AB5: =(((IF(AND((P5="CA"),(J5="Adult (> 15 years)")),((R5*1)/70)*(VLOOKUP(K5,CA_ingestion!A$1:J$78,4,0)),0))))/11 -> 0 | AC5: =(IF(AB5>1,1,AB5))*I5 -> 0 | AD5: =((IF(AND((P5="CA"),(J5="Adult (> 15 years)")),(AC5*(VLOOKUP(K5,CA_ingestion!A$1:J$78,10,0))),0))) -> 0 | AE5: =AC5/2 -> 0 | AF5: =AO5+AE5 -> 0
B6: 0 | C6: [select from list] | F6: =Summary!C$23 -> Afghanistan | H6: [select from list] | I6: =VLOOKUP(H6,'List Data'!$A$100:$B$104,2,0) -> 0 | J6: Please select from list | K6: Please select from list | L6: 0 | M6: =S6*Summary!$H$27 -> 0 | N6: =T6*Summary!$H$25 -> 0 | O6: =(VLOOKUP(C6,'List Data'!A$106:B$109,2,0))*B6 -> 0 | P6: =VLOOKUP(K6,'List Data'!A$2:C$94,3,0) -> 0 | Q6: =VLOOKUP(K6,'List Data'!A$2:B$94,2,0) -> -------- | R6: =L6*O6*B6 -> 0 | S6: =U6+W6+Z6 -> 0 | T6: =V6+X6+Y6+AA6+AF6 -> 0 | U6: =(IF(AND((P6="OP"),(J6="Child (0-7 years)")),VLOOKUP(R6,'OP Values'!$A$1:$Q$35,7),))*I6 -> 0 | V6: =(IF(P6="OP",VLOOKUP($R6,'OP Values'!$A$1:$Q$35,17),))*I6 -> 0 | W6: =(IF(AND((P6="Pb"),(J6="Child (0-7 years)")),(VLOOKUP(R6,Pb!$C$2:$AV$103,11)),0))*I6 -> 0 | X6: =(IF(AND((P6="Pb"),(J6="Child (0-7 years)")),(VLOOKUP(R6,Pb!$C$2:$AV$103,20)),0))*I6 -> 0 | Y6: =(IF(AND((P6="Pb"),(J6="Adult (> 15 years)")),(VLOOKUP(R6,Pb!$C$2:$AV$103,46)),0))*I6 -> 0 | Z6: =(IF(AND((P6="Hg"),(J6="Child (0-7 years)")),(VLOOKUP(R6,'Hg Values'!$A$1:$M$30,3)),0))*I6 -> 0 | AA6: =(IF(AND((P6="Hg"),(J6="Child (0-7 years)")),(VLOOKUP(R6,'Hg Values'!$A$1:$M$30,13)),0))*I6 -> 0 | AB6: =(((IF(AND((P6="CA"),(J6="Adult (> 15 years)")),((R6*1)/70)*(VLOOKUP(K6,CA_ingestion!A$1:J$78,4,0)),0))))/11 -> 0 | AC6: =(IF(AB6>1,1,AB6))*I6 -> 0 | AD6: =((IF(AND((P6="CA"),(J6="Adult (> 15 years)")),(AC6*(VLOOKUP(K6,CA_ingestion!A$1:J$78,10,0))),0))) -> 0 | AE6: =AC6/2 -> 0 | AF6: =AO6+AE6 -> 0
B7: 0 | C7: [select from list] | F7: =Summary!C$23 -> Afghanistan | H7: [select from list] | I7: =VLOOKUP(H7,'List Data'!$A$100:$B$104,2,0) -> 0 | J7: Please select from list | K7: Please select from list | L7: 0 | M7: =S7*Summary!$H$27 -> 0 | N7: =T7*Summary!$H$25 -> 0 | O7: =(VLOOKUP(C7,'List Data'!A$106:B$109,2,0))*B7 -> 0 | P7: =VLOOKUP(K7,'List Data'!A$2:C$94,3,0) -> 0 | Q7: =VLOOKUP(K7,'List Data'!A$2:B$94,2,0) -> -------- | R7: =L7*O7*B7 -> 0 | S7: =U7+W7+Z7 -> 0 | T7: =V7+X7+Y7+AA7+AF7 -> 0 | U7: =(IF(AND((P7="OP"),(J7="Child (0-7 years)")),VLOOKUP(R7,'OP Values'!$A$1:$Q$35,7),))*I7 -> 0 | V7: =(IF(P7="OP",VLOOKUP($R7,'OP Values'!$A$1:$Q$35,17),))*I7 -> 0 | W7: =(IF(AND((P7="Pb"),(J7="Child (0-7 years)")),(VLOOKUP(R7,Pb!$C$2:$AV$103,11)),0))*I7 -> 0 | X7: =(IF(AND((P7="Pb"),(J7="Child (0-7 years)")),(VLOOKUP(R7,Pb!$C$2:$AV$103,20)),0))*I7 -> 0 | Y7: =(IF(AND((P7="Pb"),(J7="Adult (> 15 years)")),(VLOOKUP(R7,Pb!$C$2:$AV$103,46)),0))*I7 -> 0 | Z7: =(IF(AND((P7="Hg"),(J7="Child (0-7 years)")),(VLOOKUP(R7,'Hg Values'!$A$1:$M$30,3)),0))*I7 -> 0 | AA7: =(IF(AND((P7="Hg"),(J7="Child (0-7 years)")),(VLOOKUP(R7,'Hg Values'!$A$1:$M$30,13)),0))*I7 -> 0 | AB7: =(((IF(AND((P7="CA"),(J7="Adult (> 15 years)")),((R7*1)/70)*(VLOOKUP(K7,CA_ingestion!A$1:J$78,4,0)),0))))/11 -> 0 | AC7: =(IF(AB7>1,1,AB7))*I7 -> 0 | AD7: =((IF(AND((P7="CA"),(J7="Adult (> 15 years)")),(AC7*(VLOOKUP(K7,CA_ingestion!A$1:J$78,10,0))),0))) -> 0 | AE7: =AC7/2 -> 0 | AF7: =AO7+AE7 -> 0
B8: 0 | C8: [select from list] | F8: =Summary!C$23 -> Afghanistan | H8: [select from list] | I8: =VLOOKUP(H8,'List Data'!$A$100:$B$104,2,0) -> 0 | J8: Please select from list | K8: Please select from list | L8: 0 | M8: =S8*Summary!$H$27 -> 0 | N8: =T8*Summary!$H$25 -> 0 | O8: =(VLOOKUP(C8,'List Data'!A$106:B$109,2,0))*B8 -> 0 | P8: =VLOOKUP(K8,'List Data'!A$2:C$94,3,0) -> 0 | Q8: =VLOOKUP(K8,'List Data'!A$2:B$94,2,0) -> -------- | R8: =L8*O8*B8 -> 0 | S8: =U8+W8+Z8 -> 0 | T8: =V8+X8+Y8+AA8+AF8 -> 0 | U8: =(IF(AND((P8="OP"),(J8="Child (0-7 years)")),VLOOKUP(R8,'OP Values'!$A$1:$Q$35,7),))*I8 -> 0 | V8: =(IF(P8="OP",VLOOKUP($R8,'OP Values'!$A$1:$Q$35,17),))*I8 -> 0 | W8: =(IF(AND((P8="Pb"),(J8="Child (0-7 years)")),(VLOOKUP(R8,Pb!$C$2:$AV$103,11)),0))*I8 -> 0 | X8: =(IF(AND((P8="Pb"),(J8="Child (0-7 years)")),(VLOOKUP(R8,Pb!$C$2:$AV$103,20)),0))*I8 -> 0 | Y8: =(IF(AND((P8="Pb"),(J8="Adult (> 15 years)")),(VLOOKUP(R8,Pb!$C$2:$AV$103,46)),0))*I8 -> 0 | Z8: =(IF(AND((P8="Hg"),(J8="Child (0-7 years)")),(VLOOKUP(R8,'Hg Values'!$A$1:$M$30,3)),0))*I8 -> 0 | AA8: =(IF(AND((P8="Hg"),(J8="Child (0-7 years)")),(VLOOKUP(R8,'Hg Values'!$A$1:$M$30,13)),0))*I8 -> 0 | AB8: =(((IF(AND((P8="CA"),(J8="Adult (> 15 years)")),((R8*1)/70)*(VLOOKUP(K8,CA_ingestion!A$1:J$78,4,0)),0))))/11 -> 0 | AC8: =(IF(AB8>1,1,AB8))*I8 -> 0 | AD8: =((IF(AND((P8="CA"),(J8="Adult (> 15 years)")),(AC8*(VLOOKUP(K8,CA_ingestion!A$1:J$78,10,0))),0))) -> 0 | AE8: =AC8/2 -> 0 | AF8: =AO8+AE8 -> 0
B9: 0 | C9: [select from list] | F9: =Summary!C$23 -> Afghanistan | H9: [select from list] | I9: =VLOOKUP(H9,'List Data'!$A$100:$B$104,2,0) -> 0 | J9: Please select from list | K9: Please select from list | L9: 0 | M9: =S9*Summary!$H$27 -> 0 | N9: =T9*Summary!$H$25 -> 0 | O9: =(VLOOKUP(C9,'List Data'!A$106:B$109,2,0))*B9 -> 0 | P9: =VLOOKUP(K9,'List Data'!A$2:C$94,3,0) -> 0 | Q9: =VLOOKUP(K9,'List Data'!A$2:B$94,2,0) -> -------- | R9: =L9*O9*B9 -> 0 | S9: =U9+W9+Z9 -> 0 | T9: =V9+X9+Y9+AA9+AF9 -> 0 | U9: =(IF(AND((P9="OP"),(J9="Child (0-7 years)")),VLOOKUP(R9,'OP Values'!$A$1:$Q$35,7),))*I9 -> 0 | V9: =(IF(P9="OP",VLOOKUP($R9,'OP Values'!$A$1:$Q$35,17),))*I9 -> 0 | W9: =(IF(AND((P9="Pb"),(J9="Child (0-7 years)")),(VLOOKUP(R9,Pb!$C$2:$AV$103,11)),0))*I9 -> 0 | X9: =(IF(AND((P9="Pb"),(J9="Child (0-7 years)")),(VLOOKUP(R9,Pb!$C$2:$AV$103,20)),0))*I9 -> 0 | Y9: =(IF(AND((P9="Pb"),(J9="Adult (> 15 years)")),(VLOOKUP(R9,Pb!$C$2:$AV$103,46)),0))*I9 -> 0 | Z9: =(IF(AND((P9="Hg"),(J9="Child (0-7 years)")),(VLOOKUP(R9,'Hg Values'!$A$1:$M$30,3)),0))*I9 -> 0 | AA9: =(IF(AND((P9="Hg"),(J9="Child (0-7 years)")),(VLOOKUP(R9,'Hg Values'!$A$1:$M$30,13)),0))*I9 -> 0 | AB9: =(((IF(AND((P9="CA"),(J9="Adult (> 15 years)")),((R9*1)/70)*(VLOOKUP(K9,CA_ingestion!A$1:J$78,4,0)),0))))/11 -> 0 | AC9: =(IF(AB9>1,1,AB9))*I9 -> 0 | AD9: =((IF(AND((P9="CA"),(J9="Adult (> 15 years)")),(AC9*(VLOOKUP(K9,CA_ingestion!A$1:J$78,10,0))),0))) -> 0 | AE9: =AC9/2 -> 0 | AF9: =AO9+AE9 -> 0
B10: 0 | C10: [select from list] | F10: =Summary!C$23 -> Afghanistan | H10: [select from list] | I10: =VLOOKUP(H10,'List Data'!$A$100:$B$104,2,0) -> 0 | J10: Please select from list | K10: Please select from list | L10: 0 | M10: =S10*Summary!$H$27 -> 0 | N10: =T10*Summary!$H$25 -> 0 | O10: =(VLOOKUP(C10,'List Data'!A$106:B$109,2,0))*B10 -> 0 | P10: =VLOOKUP(K10,'List Data'!A$2:C$94,3,0) -> 0 | Q10: =VLOOKUP(K10,'List Data'!A$2:B$94,2,0) -> -------- | R10: =L10*O10*B10 -> 0 | S10: =U10+W10+Z10 -> 0 | T10: =V10+X10+Y10+AA10+AF10 -> 0 | U10: =(IF(AND((P10="OP"),(J10="Child (0-7 years)")),VLOOKUP(R10,'OP Values'!$A$1:$Q$35,7),))*I10 -> 0 | V10: =(IF(P10="OP",VLOOKUP($R10,'OP Values'!$A$1:$Q$35,17),))*I10 -> 0 | W10: =(IF(AND((P10="Pb"),(J10="Child (0-7 years)")),(VLOOKUP(R10,Pb!$C$2:$AV$103,11)),0))*I10 -> 0 | X10: =(IF(AND((P10="Pb"),(J10="Child (0-7 years)")),(VLOOKUP(R10,Pb!$C$2:$AV$103,20)),0))*I10 -> 0 | Y10: =(IF(AND((P10="Pb"),(J10="Adult (> 15 years)")),(VLOOKUP(R10,Pb!$C$2:$AV$103,46)),0))*I10 -> 0 | Z10: =(IF(AND((P10="Hg"),(J10="Child (0-7 years)")),(VLOOKUP(R10,'Hg Values'!$A$1:$M$30,3)),0))*I10 -> 0 | AA10: =(IF(AND((P10="Hg"),(J10="Child (0-7 years)")),(VLOOKUP(R10,'Hg Values'!$A$1:$M$30,13)),0))*I10 -> 0 | AB10: =(((IF(AND((P10="CA"),(J10="Adult (> 15 years)")),((R10*1)/70)*(VLOOKUP(K10,CA_ingestion!A$1:J$78,4,0)),0))))/11 -> 0 | AC10: =(IF(AB10>1,1,AB10))*I10 -> 0 | AD10: =((IF(AND((P10="CA"),(J10="Adult (> 15 years)")),(AC10*(VLOOKUP(K10,CA_ingestion!A$1:J$78,10,0))),0))) -> 0 | AE10: =AC10/2 -> 0 | AF10: =AO10+AE10 -> 0
B11: 0 | C11: [select from list] | F11: =Summary!C$23 -> Afghanistan | H11: [select from list] | I11: =VLOOKUP(H11,'List Data'!$A$100:$B$104,2,0) -> 0 | J11: Please select from list | K11: Please select from list | L11: 0 | M11: =S11*Summary!$H$27 -> 0 | N11: =T11*Summary!$H$25 -> 0 | O11: =(VLOOKUP(C11,'List Data'!A$106:B$109,2,0))*B11 -> 0 | P11: =VLOOKUP(K11,'List Data'!A$2:C$94,3,0) -> 0 | Q11: =VLOOKUP(K11,'List Data'!A$2:B$94,2,0) -> -------- | R11: =L11*O11*B11 -> 0 | S11: =U11+W11+Z11 -> 0 | T11: =V11+X11+Y11+AA11+AF11 -> 0 | U11: =(IF(AND((P11="OP"),(J11="Child (0-7 years)")),VLOOKUP(R11,'OP Values'!$A$1:$Q$35,7),))*I11 -> 0 | V11: =(IF(P11="OP",VLOOKUP($R11,'OP Values'!$A$1:$Q$35,17),))*I11 -> 0 | W11: =(IF(AND((P11="Pb"),(J11="Child (0-7 years)")),(VLOOKUP(R11,Pb!$C$2:$AV$103,11)),0))*I11 -> 0 | X11: =(IF(AND((P11="Pb"),(J11="Child (0-7 years)")),(VLOOKUP(R11,Pb!$C$2:$AV$103,20)),0))*I11 -> 0 | Y11: =(IF(AND((P11="Pb"),(J11="Adult (> 15 years)")),(VLOOKUP(R11,Pb!$C$2:$AV$103,46)),0))*I11 -> 0 | Z11: =(IF(AND((P11="Hg"),(J11="Child (0-7 years)")),(VLOOKUP(R11,'Hg Values'!$A$1:$M$30,3)),0))*I11 -> 0 | AA11: =(IF(AND((P11="Hg"),(J11="Child (0-7 years)")),(VLOOKUP(R11,'Hg Values'!$A$1:$M$30,13)),0))*I11 -> 0 | AB11: =(((IF(AND((P11="CA"),(J11="Adult (> 15 years)")),((R11*1)/70)*(VLOOKUP(K11,CA_ingestion!A$1:J$78,4,0)),0))))/11 -> 0 | AC11: =(IF(AB11>1,1,AB11))*I11 -> 0 | AD11: =((IF(AND((P11="CA"),(J11="Adult (> 15 years)")),(AC11*(VLOOKUP(K11,CA_ingestion!A$1:J$78,10,0))),0))) -> 0 | AE11: =AC11/2 -> 0 | AF11: =AO11+AE11 -> 0
B12: 0 | C12: [select from list] | F12: =Summary!C$23 -> Afghanistan | H12: [select from list] | I12: =VLOOKUP(H12,'List Data'!$A$100:$B$104,2,0) -> 0 | J12: Please select from list | K12: Please select from list | L12: 0 | M12: =S12*Summary!$H$27 -> 0 | N12: =T12*Summary!$H$25 -> 0 | O12: =(VLOOKUP(C12,'List Data'!A$106:B$109,2,0))*B12 -> 0 | P12: =VLOOKUP(K12,'List Data'!A$2:C$94,3,0) -> 0 | Q12: =VLOOKUP(K12,'List Data'!A$2:B$94,2,0) -> -------- | R12: =L12*O12*B12 -> 0 | S12: =U12+W12+Z12 -> 0 | T12: =V12+X12+Y12+AA12+AF12 -> 0 | U12: =(IF(AND((P12="OP"),(J12="Child (0-7 years)")),VLOOKUP(R12,'OP Values'!$A$1:$Q$35,7),))*I12 -> 0 | V12: =(IF(P12="OP",VLOOKUP($R12,'OP Values'!$A$1:$Q$35,17),))*I12 -> 0 | W12: =(IF(AND((P12="Pb"),(J12="Child (0-7 years)")),(VLOOKUP(R12,Pb!$C$2:$AV$103,11)),0))*I12 -> 0 | X12: =(IF(AND((P12="Pb"),(J12="Child (0-7 years)")),(VLOOKUP(R12,Pb!$C$2:$AV$103,20)),0))*I12 -> 0 | Y12: =(IF(AND((P12="Pb"),(J12="Adult (> 15 years)")),(VLOOKUP(R12,Pb!$C$2:$AV$103,46)),0))*I12 -> 0 | Z12: =(IF(AND((P12="Hg"),(J12="Child (0-7 years)")),(VLOOKUP(R12,'Hg Values'!$A$1:$M$30,3)),0))*I12 -> 0 | AA12: =(IF(AND((P12="Hg"),(J12="Child (0-7 years)")),(VLOOKUP(R12,'Hg Values'!$A$1:$M$30,13)),0))*I12 -> 0 | AB12: =(((IF(AND((P12="CA"),(J12="Adult (> 15 years)")),((R12*1)/70)*(VLOOKUP(K12,CA_ingestion!A$1:J$78,4,0)),0))))/11 -> 0 | AC12: =(IF(AB12>1,1,AB12))*I12 -> 0 | AD12: =((IF(AND((P12="CA"),(J12="Adult (> 15 years)")),(AC12*(VLOOKUP(K12,CA_ingestion!A$1:J$78,10,0))),0))) -> 0 | AE12: =AC12/2 -> 0 | AF12: =AO12+AE12 -> 0
B13: 0 | C13: [select from list] | F13: =Summary!C$23 -> Afghanistan | H13: [select from list] | I13: =VLOOKUP(H13,'List Data'!$A$100:$B$104,2,0) -> 0 | J13: Please select from list | K13: Please select from list | L13: 0 | M13: =S13*Summary!$H$27 -> 0 | N13: =T13*Summary!$H$25 -> 0 | O13: =(VLOOKUP(C13,'List Data'!A$106:B$109,2,0))*B13 -> 0 | P13: =VLOOKUP(K13,'List Data'!A$2:C$94,3,0) -> 0 | Q13: =VLOOKUP(K13,'List Data'!A$2:B$94,2,0) -> -------- | R13: =L13*O13*B13 -> 0 | S13: =U13+W13+Z13 -> 0 | T13: =V13+X13+Y13+AA13+AF13 -> 0 | U13: =(IF(AND((P13="OP"),(J13="Child (0-7 years)")),VLOOKUP(R13,'OP Values'!$A$1:$Q$35,7),))*I13 -> 0 | V13: =(IF(P13="OP",VLOOKUP($R13,'OP Values'!$A$1:$Q$35,17),))*I13 -> 0 | W13: =(IF(AND((P13="Pb"),(J13="Child (0-7 years)")),(VLOOKUP(R13,Pb!$C$2:$AV$103,11)),0))*I13 -> 0 | X13: =(IF(AND((P13="Pb"),(J13="Child (0-7 years)")),(VLOOKUP(R13,Pb!$C$2:$AV$103,20)),0))*I13 -> 0 | Y13: =(IF(AND((P13="Pb"),(J13="Adult (> 15 years)")),(VLOOKUP(R13,Pb!$C$2:$AV$103,46)),0))*I13 -> 0 | Z13: =(IF(AND((P13="Hg"),(J13="Child (0-7 years)")),(VLOOKUP(R13,'Hg Values'!$A$1:$M$30,3)),0))*I13 -> 0 | AA13: =(IF(AND((P13="Hg"),(J13="Child (0-7 years)")),(VLOOKUP(R13,'Hg Values'!$A$1:$M$30,13)),0))*I13 -> 0 | AB13: =(((IF(AND((P13="CA"),(J13="Adult (> 15 years)")),((R13*1)/70)*(VLOOKUP(K13,CA_ingestion!A$1:J$78,4,0)),0))))/11 -> 0 | AC13: =(IF(AB13>1,1,AB13))*I13 -> 0 | AD13: =((IF(AND((P13="CA"),(J13="Adult (> 15 years)")),(AC13*(VLOOKUP(K13,CA_ingestion!A$1:J$78,10,0))),0))) -> 0 | AE13: =AC13/2 -> 0 | AF13: =AO13+AE13 -> 0
B14: 0 | C14: [select from list] | F14: =Summary!C$23 -> Afghanistan | H14: [select from list] | I14: =VLOOKUP(H14,'List Data'!$A$100:$B$104,2,0) -> 0 | J14: Please select from list | K14: Please select from list | L14: 0 | M14: =S14*Summary!$H$27 -> 0 | N14: =T14*Summary!$H$25 -> 0 | O14: =(VLOOKUP(C14,'List Data'!A$106:B$109,2,0))*B14 -> 0 | P14: =VLOOKUP(K14,'List Data'!A$2:C$94,3,0) -> 0 | Q14: =VLOOKUP(K14,'List Data'!A$2:B$94,2,0) -> -------- | R14: =L14*O14*B14 -> 0 | S14: =U14+W14+Z14 -> 0 | T14: =V14+X14+Y14+AA14+AF14 -> 0 | U14: =(IF(AND((P14="OP"),(J14="Child (0-7 years)")),VLOOKUP(R14,'OP Values'!$A$1:$Q$35,7),))*I14 -> 0 | V14: =(IF(P14="OP",VLOOKUP($R14,'OP Values'!$A$1:$Q$35,17),))*I14 -> 0 | W14: =(IF(AND((P14="Pb"),(J14="Child (0-7 years)")),(VLOOKUP(R14,Pb!$C$2:$AV$103,11)),0))*I14 -> 0 | X14: =(IF(AND((P14="Pb"),(J14="Child (0-7 years)")),(VLOOKUP(R14,Pb!$C$2:$AV$103,20)),0))*I14 -> 0 | Y14: =(IF(AND((P14="Pb"),(J14="Adult (> 15 years)")),(VLOOKUP(R14,Pb!$C$2:$AV$103,46)),0))*I14 -> 0 | Z14: =(IF(AND((P14="Hg"),(J14="Child (0-7 years)")),(VLOOKUP(R14,'Hg Values'!$A$1:$M$30,3)),0))*I14 -> 0 | AA14: =(IF(AND((P14="Hg"),(J14="Child (0-7 years)")),(VLOOKUP(R14,'Hg Values'!$A$1:$M$30,13)),0))*I14 -> 0 | AB14: =(((IF(AND((P14="CA"),(J14="Adult (> 15 years)")),((R14*1)/70)*(VLOOKUP(K14,CA_ingestion!A$1:J$78,4,0)),0))))/11 -> 0 | AC14: =(IF(AB14>1,1,AB14))*I14 -> 0 | AD14: =((IF(AND((P14="CA"),(J14="Adult (> 15 years)")),(AC14*(VLOOKUP(K14,CA_ingestion!A$1:J$78,10,0))),0))) -> 0 | AE14: =AC14/2 -> 0 | AF14: =AO14+AE14 -> 0
B15: 0 | C15: [select from list] | F15: =Summary!C$23 -> Afghanistan | H15: [select from list] | I15: =VLOOKUP(H15,'List Data'!$A$100:$B$104,2,0) -> 0 | J15: Please select from list | K15: Please select from list | L15: 0 | M15: =S15*Summary!$H$27 -> 0 | N15: =T15*Summary!$H$25 -> 0 | O15: =(VLOOKUP(C15,'List Data'!A$106:B$109,2,0))*B15 -> 0 | P15: =VLOOKUP(K15,'List Data'!A$2:C$94,3,0) -> 0 | Q15: =VLOOKUP(K15,'List Data'!A$2:B$94,2,0) -> -------- | R15: =L15*O15*B15 -> 0 | S15: =U15+W15+Z15 -> 0 | T15: =V15+X15+Y15+AA15+AF15 -> 0 | U15: =(IF(AND((P15="OP"),(J15="Child (0-7 years)")),VLOOKUP(R15,'OP Values'!$A$1:$Q$35,7),))*I15 -> 0 | V15: =(IF(P15="OP",VLOOKUP($R15,'OP Values'!$A$1:$Q$35,17),))*I15 -> 0 | W15: =(IF(AND((P15="Pb"),(J15="Child (0-7 years)")),(VLOOKUP(R15,Pb!$C$2:$AV$103,11)),0))*I15 -> 0 | X15: =(IF(AND((P15="Pb"),(J15="Child (0-7 years)")),(VLOOKUP(R15,Pb!$C$2:$AV$103,20)),0))*I15 -> 0 | Y15: =(IF(AND((P15="Pb"),(J15="Adult (> 15 years)")),(VLOOKUP(R15,Pb!$C$2:$AV$103,46)),0))*I15 -> 0 | Z15: =(IF(AND((P15="Hg"),(J15="Child (0-7 years)")),(VLOOKUP(R15,'Hg Values'!$A$1:$M$30,3)),0))*I15 -> 0 | AA15: =(IF(AND((P15="Hg"),(J15="Child (0-7 years)")),(VLOOKUP(R15,'Hg Values'!$A$1:$M$30,13)),0))*I15 -> 0 | AB15: =(((IF(AND((P15="CA"),(J15="Adult (> 15 years)")),((R15*1)/70)*(VLOOKUP(K15,CA_ingestion!A$1:J$78,4,0)),0))))/11 -> 0 | AC15: =(IF(AB15>1,1,AB15))*I15 -> 0 | AD15: =((IF(AND((P15="CA"),(J15="Adult (> 15 years)")),(AC15*(VLOOKUP(K15,CA_ingestion!A$1:J$78,10,0))),0))) -> 0 | AE15: =AC15/2 -> 0 | AF15: =AO15+AE15 -> 0
B16: 0 | C16: [select from list] | F16: =Summary!C$23 -> Afghanistan | H16: [select from list] | I16: =VLOOKUP(H16,'List Data'!$A$100:$B$104,2,0) -> 0 | J16: Please select from list | K16: Please select from list | L16: 0 | M16: =S16*Summary!$H$27 -> 0 | N16: =T16*Summary!$H$25 -> 0 | O16: =(VLOOKUP(C16,'List Data'!A$106:B$109,2,0))*B16 -> 0 | P16: =VLOOKUP(K16,'List Data'!A$2:C$94,3,0) -> 0 | Q16: =VLOOKUP(K16,'List Data'!A$2:B$94,2,0) -> -------- | R16: =L16*O16*B16 -> 0 | S16: =U16+W16+Z16 -> 0 | T16: =V16+X16+Y16+AA16+AF16 -> 0 | U16: =(IF(AND((P16="OP"),(J16="Child (0-7 years)")),VLOOKUP(R16,'OP Values'!$A$1:$Q$35,7),))*I16 -> 0 | V16: =(IF(P16="OP",VLOOKUP($R16,'OP Values'!$A$1:$Q$35,17),))*I16 -> 0 | W16: =(IF(AND((P16="Pb"),(J16="Child (0-7 years)")),(VLOOKUP(R16,Pb!$C$2:$AV$103,11)),0))*I16 -> 0 | X16: =(IF(AND((P16="Pb"),(J16="Child (0-7 years)")),(VLOOKUP(R16,Pb!$C$2:$AV$103,20)),0))*I16 -> 0 | Y16: =(IF(AND((P16="Pb"),(J16="Adult (> 15 years)")),(VLOOKUP(R16,Pb!$C$2:$AV$103,46)),0))*I16 -> 0 | Z16: =(IF(AND((P16="Hg"),(J16="Child (0-7 years)")),(VLOOKUP(R16,'Hg Values'!$A$1:$M$30,3)),0))*I16 -> 0 | AA16: =(IF(AND((P16="Hg"),(J16="Child (0-7 years)")),(VLOOKUP(R16,'Hg Values'!$A$1:$M$30,13)),0))*I16 -> 0 | AB16: =(((IF(AND((P16="CA"),(J16="Adult (> 15 years)")),((R16*1)/70)*(VLOOKUP(K16,CA_ingestion!A$1:J$78,4,0)),0))))/11 -> 0 | AC16: =(IF(AB16>1,1,AB16))*I16 -> 0 | AD16: =((IF(AND((P16="CA"),(J16="Adult (> 15 years)")),(AC16*(VLOOKUP(K16,CA_ingestion!A$1:J$78,10,0))),0))) -> 0 | AE16: =AC16/2 -> 0 | AF16: =AO16+AE16 -> 0
B17: 0 | C17: [select from list] | F17: =Summary!C$23 -> Afghanistan | H17: [select from list] | I17: =VLOOKUP(H17,'List Data'!$A$100:$B$104,2,0) -> 0 | J17: Please select from list | K17: Please select from list | L17: 0 | M17: =S17*Summary!$H$27 -> 0 | N17: =T17*Summary!$H$25 -> 0 | O17: =(VLOOKUP(C17,'List Data'!A$106:B$109,2,0))*B17 -> 0 | P17: =VLOOKUP(K17,'List Data'!A$2:C$94,3,0) -> 0 | Q17: =VLOOKUP(K17,'List Data'!A$2:B$94,2,0) -> -------- | R17: =L17*O17*B17 -> 0 | S17: =U17+W17+Z17 -> 0 | T17: =V17+X17+Y17+AA17+AF17 -> 0 | U17: =(IF(AND((P17="OP"),(J17="Child (0-7 years)")),VLOOKUP(R17,'OP Values'!$A$1:$Q$35,7),))*I17 -> 0 | V17: =(IF(P17="OP",VLOOKUP($R17,'OP Values'!$A$1:$Q$35,17),))*I17 -> 0 | W17: =(IF(AND((P17="Pb"),(J17="Child (0-7 years)")),(VLOOKUP(R17,Pb!$C$2:$AV$103,11)),0))*I17 -> 0 | X17: =(IF(AND((P17="Pb"),(J17="Child (0-7 years)")),(VLOOKUP(R17,Pb!$C$2:$AV$103,20)),0))*I17 -> 0 | Y17: =(IF(AND((P17="Pb"),(J17="Adult (> 15 years)")),(VLOOKUP(R17,Pb!$C$2:$AV$103,46)),0))*I17 -> 0 | Z17: =(IF(AND((P17="Hg"),(J17="Child (0-7 years)")),(VLOOKUP(R17,'Hg Values'!$A$1:$M$30,3)),0))*I17 -> 0 | AA17: =(IF(AND((P17="Hg"),(J17="Child (0-7 years)")),(VLOOKUP(R17,'Hg Values'!$A$1:$M$30,13)),0))*I17 -> 0 | AB17: =(((IF(AND((P17="CA"),(J17="Adult (> 15 years)")),((R17*1)/70)*(VLOOKUP(K17,CA_ingestion!A$1:J$78,4,0)),0))))/11 -> 0 | AC17: =(IF(AB17>1,1,AB17))*I17 -> 0 | AD17: =((IF(AND((P17="CA"),(J17="Adult (> 15 years)")),(AC17*(VLOOKUP(K17,CA_ingestion!A$1:J$78,10,0))),0))) -> 0 | AE17: =AC17/2 -> 0 | AF17: =AO17+AE17 -> 0
... B104: 0 | C104: [select from list] | F104: =Summary!C$23 -> Afghanistan | H104: [select from list] | I104: =VLOOKUP(H104,'List Data'!$A$100:$B$104,2,0) -> 0 | J104: Please select from list | K104: Please select from list | L104: 0 | M104: =S104*Summary!$H$27 -> 0 | N104: =T104*Summary!$H$25 -> 0 | O104: =(VLOOKUP(C104,'List Data'!A$106:B$109,2,0))*B104 -> 0 | P104: =VLOOKUP(K104,'List Data'!A$2:C$94,3,0) -> 0 | Q104: =VLOOKUP(K104,'List Data'!A$2:B$94,2,0) -> -------- | R104: =L104*O104*B104 -> 0 | S104: =U104+W104+Z104 -> 0 | T104: =V104+X104+Y104+AA104+AF104 -> 0 | U104: =(IF(AND((P104="OP"),(J104="Child (0-7 years)")),VLOOKUP(R104,'OP Values'!$A$1:$Q$35,7),))*I104 -> 0 | V104: =(IF(P104="OP",VLOOKUP($R104,'OP Values'!$A$1:$Q$35,17),))*I104 -> 0 | W104: =(IF(AND((P104="Pb"),(J104="Child (0-7 years)")),(VLOOKUP(R104,Pb!$C$2:$AV$103,11)),0))*I104 -> 0 | X104: =(IF(AND((P104="Pb"),(J104="Child (0-7 years)")),(VLOOKUP(R104,Pb!$C$2:$AV$103,20)),0))*I104 -> 0 | Y104: =(IF(AND((P104="Pb"),(J104="Adult (> 15 years)")),(VLOOKUP(R104,Pb!$C$2:$AV$103,46)),0))*I104 -> 0 | Z104: =(IF(AND((P104="Hg"),(J104="Child (0-7 years)")),(VLOOKUP(R104,'Hg Values'!$A$1:$M$30,3)),0))*I104 -> 0 | AA104: =(IF(AND((P104="Hg"),(J104="Child (0-7 years)")),(VLOOKUP(R104,'Hg Values'!$A$1:$M$30,13)),0))*I104 -> 0 | AB104: =(((IF(AND((P104="CA"),(J104="Adult (> 15 years)")),((R104*1)/70)*(VLOOKUP(K104,CA_ingestion!A$1:J$78,4,0)),0))))/11 -> 0 | AC104: =(IF(AB104>1,1,AB104))*I104 -> 0 | AD104: =((IF(AND((P104="CA"),(J104="Adult (> 15 years)")),(AC104*(VLOOKUP(K104,CA_ingestion!A$1:J$78,10,0))),0))) -> 0 | AE104: =AC104/2 -> 0 | AF104: =AO104+AE104 -> 0

Sheet Water
A1: Water Worksheet
A2: Total IQ Decrement | B2: =SUM(R:R) -> 0 | C2: Total DALYs | D2: =SUM(S:S) -> 0
A4: Site name | B4: Volume ingested daiily (liters) | C4: District | D4: Region | E4: Country | F4: Data Source | G4: Population | H4: Population Value | I4: Adult or Child | J4: Chemical | K4: Concentration (ppb) | M4: Site cost (IQ) | N4: Site cost (DALYs) | O4: Code | P4: CAS # | Q4: Total daily intake (mg/day) | R4: Total IQ decrement | S4: Total DALYS | T4: IQ decrement OP | U4: Attributable DALYS (OP) | V4: IQ Decrement (Lead) | W4: Attributable Children DALYS (Lead) | X4: Attributable Adult DALYS (Lead) | Y4: IQ Decrement (Hg) | Z4: Attributable DALYS (Hg) | AA4: Number of Attributable Cancer Cases/ person/ year (raw) | AB4: Number of Attributable Cancer Cases/ year (population) | AC4: Attributable YLD (Ca) | AD4: Attributable YLL | AE4: DALYs (Ca)
A5: Water | B5: -1 | E5: =Summary!C$23 -> Afghanistan | G5: [select from list] | H5: =VLOOKUP(G5,'List Data'!$A$100:$B$104,2,0) -> 0 | I5: Please select from list | J5: Please select from list | K5: 0 | M5: =R5*Summary!$H$27 -> 0 | N5: =S5*Summary!$H$25 -> 0 | O5: =VLOOKUP(J5,'List Data'!A$2:C$94,3,0) -> 0 | P5: =VLOOKUP(J5,'List Data'!A$2:B$94,2,0) -> -------- | Q5: =K5*B5/1000 -> 0 | R5: =T5+V5+Y5 -> 0 | S5: =U5+W5+X5+Z5+AE5 -> 0 | T5: =(IF(AND((O5="OP"),(I5="Child (0-7 years)")),VLOOKUP(K5,'OP Values'!$A$1:$Q$35,7),))*H5 -> 0 | U5: =(IF(O5="OP",VLOOKUP($Q5,'OP Values'!$A$1:$Q$35,17),))*H5 -> 0 | V5: =(IF(AND((O5="Pb"),(I5="Child (0-7 years)")),(VLOOKUP(Q5,Pb!$A$1:$AV$103,7)),0))*H5 -> 0 | W5: =(IF(AND((O5="Pb"),(I5="Child (0-7 years)")),(VLOOKUP(Q5,Pb!$C$2:$AV$103,20)),0))*H5 -> 0 | X5: =(IF(AND((O5="Pb"),(I5="Adult (> 15 years)")),(VLOOKUP(Q5,Pb!$A$2:$AV$103,46)),0))*H5 -> 0 | Y5: =(IF(AND((O5="Hg"),(I5="Child (0-7 years)")),(VLOOKUP(Q5,'Hg Values'!$A$1:$M$30,3)),0))*H5 -> 0 | Z5: =(IF(AND((O5="Hg"),(I5="Child (0-7 years)")),(VLOOKUP(Q5,'Hg Values'!$A$1:$M$30,13)),0))*H5 -> 0 | AA5: =(((IF(AND((O5="CA"),(I5="Adult (> 15 years)")),((Q5*1)/70)*(VLOOKUP(J5,CA_ingestion!A$1:J$78,4,0)),0))))/11 -> 0 | AB5: =(IF(AA5>1,1,AA5))*H5 -> 0 | AC5: =((IF(AND((O5="CA"),(I5="Adult (> 15 years)")),(AB5*(VLOOKUP(J5,CA_ingestion!A$1:J$78,10,0))),0))) -> 0 | AD5: =AB5/2 -> 0 | AE5: =AC5+AD5 -> 0
A6: Water | B6: 0 | E6: =Summary!C$23 -> Afghanistan | G6: [select from list] | H6: =VLOOKUP(G6,'List Data'!$A$100:$B$104,2,0) -> 0 | I6: Please select from list | J6: Please select from list | K6: 0 | M6: =R6*Summary!$H$27 -> 0 | N6: =S6*Summary!$H$25 -> 0 | O6: =VLOOKUP(J6,'List Data'!A$2:C$94,3,0) -> 0 | P6: =VLOOKUP(J6,'List Data'!A$2:B$94,2,0) -> -------- | Q6: =K6*B6/1000 -> 0 | R6: =T6+V6+Y6 -> 0 | S6: =U6+W6+X6+Z6+AE6 -> 0 | T6: =(IF(AND((O6="OP"),(I6="Child (0-7 years)")),VLOOKUP(K6,'OP Values'!$A$1:$Q$35,7),))*H6 -> 0 | U6: =(IF(O6="OP",VLOOKUP($Q6,'OP Values'!$A$1:$Q$35,17),))*H6 -> 0 | V6: =(IF(AND((O6="Pb"),(I6="Child (0-7 years)")),(VLOOKUP(Q6,Pb!$A$1:$AV$103,7)),0))*H6 -> 0 | W6: =(IF(AND((O6="Pb"),(I6="Child (0-7 years)")),(VLOOKUP(Q6,Pb!$C$2:$AV$103,20)),0))*H6 -> 0 | X6: =(IF(AND((O6="Pb"),(I6="Adult (> 15 years)")),(VLOOKUP(Q6,Pb!$A$2:$AV$103,46)),0))*H6 -> 0 | Y6: =(IF(AND((O6="Hg"),(I6="Child (0-7 years)")),(VLOOKUP(Q6,'Hg Values'!$A$1:$M$30,3)),0))*H6 -> 0 | Z6: =(IF(AND((O6="Hg"),(I6="Child (0-7 years)")),(VLOOKUP(Q6,'Hg Values'!$A$1:$M$30,13)),0))*H6 -> 0 | AA6: =(((IF(AND((O6="CA"),(I6="Adult (> 15 years)")),((Q6*1)/70)*(VLOOKUP(J6,CA_ingestion!A$1:J$78,4,0)),0))))/11 -> 0 | AB6: =(IF(AA6>1,1,AA6))*H6 -> 0 | AC6: =((IF(AND((O6="CA"),(I6="Adult (> 15 years)")),(AB6*(VLOOKUP(J6,CA_ingestion!A$1:J$78,10,0))),0))) -> 0 | AD6: =AB6/2 -> 0 | AE6: =AC6+AD6 -> 0
A7: Water | B7: 0 | E7: =Summary!C$23 -> Afghanistan | G7: [select from list] | H7: =VLOOKUP(G7,'List Data'!$A$100:$B$104,2,0) -> 0 | I7: Please select from list | J7: Please select from list | K7: 0 | M7: =R7*Summary!$H$27 -> 0 | N7: =S7*Summary!$H$25 -> 0 | O7: =VLOOKUP(J7,'List Data'!A$2:C$94,3,0) -> 0 | P7: =VLOOKUP(J7,'List Data'!A$2:B$94,2,0) -> -------- | Q7: =K7*B7/1000 -> 0 | R7: =T7+V7+Y7 -> 0 | S7: =U7+W7+X7+Z7+AE7 -> 0 | T7: =(IF(AND((O7="OP"),(I7="Child (0-7 years)")),VLOOKUP(K7,'OP Values'!$A$1:$Q$35,7),))*H7 -> 0 | U7: =(IF(O7="OP",VLOOKUP($Q7,'OP Values'!$A$1:$Q$35,17),))*H7 -> 0 | V7: =(IF(AND((O7="Pb"),(I7="Child (0-7 years)")),(VLOOKUP(Q7,Pb!$A$1:$AV$103,7)),0))*H7 -> 0 | W7: =(IF(AND((O7="Pb"),(I7="Child (0-7 years)")),(VLOOKUP(Q7,Pb!$C$2:$AV$103,20)),0))*H7 -> 0 | X7: =(IF(AND((O7="Pb"),(I7="Adult (> 15 years)")),(VLOOKUP(Q7,Pb!$A$2:$AV$103,46)),0))*H7 -> 0 | Y7: =(IF(AND((O7="Hg"),(I7="Child (0-7 years)")),(VLOOKUP(Q7,'Hg Values'!$A$1:$M$30,3)),0))*H7 -> 0 | Z7: =(IF(AND((O7="Hg"),(I7="Child (0-7 years)")),(VLOOKUP(Q7,'Hg Values'!$A$1:$M$30,13)),0))*H7 -> 0 | AA7: =(((IF(AND((O7="CA"),(I7="Adult (> 15 years)")),((Q7*1)/70)*(VLOOKUP(J7,CA_ingestion!A$1:J$78,4,0)),0))))/11 -> 0 | AB7: =(IF(AA7>1,1,AA7))*H7 -> 0 | AC7: =((IF(AND((O7="CA"),(I7="Adult (> 15 years)")),(AB7*(VLOOKUP(J7,CA_ingestion!A$1:J$78,10,0))),0))) -> 0 | AD7: =AB7/2 -> 0 | AE7: =AC7+AD7 -> 0
A8: Water | B8: 0 | E8: =Summary!C$23 -> Afghanistan | G8: [select from list] | H8: =VLOOKUP(G8,'List Data'!$A$100:$B$104,2,0) -> 0 | I8: Please select from list | J8: Please select from list | K8: 0 | M8: =R8*Summary!$H$27 -> 0 | N8: =S8*Summary!$H$25 -> 0 | O8: =VLOOKUP(J8,'List Data'!A$2:C$94,3,0) -> 0 | P8: =VLOOKUP(J8,'List Data'!A$2:B$94,2,0) -> -------- | Q8: =K8*B8/1000 -> 0 | R8: =T8+V8+Y8 -> 0 | S8: =U8+W8+X8+Z8+AE8 -> 0 | T8: =(IF(AND((O8="OP"),(I8="Child (0-7 years)")),VLOOKUP(K8,'OP Values'!$A$1:$Q$35,7),))*H8 -> 0 | U8: =(IF(O8="OP",VLOOKUP($Q8,'OP Values'!$A$1:$Q$35,17),))*H8 -> 0 | V8: =(IF(AND((O8="Pb"),(I8="Child (0-7 years)")),(VLOOKUP(Q8,Pb!$A$1:$AV$103,7)),0))*H8 -> 0 | W8: =(IF(AND((O8="Pb"),(I8="Child (0-7 years)")),(VLOOKUP(Q8,Pb!$C$2:$AV$103,20)),0))*H8 -> 0 | X8: =(IF(AND((O8="Pb"),(I8="Adult (> 15 years)")),(VLOOKUP(Q8,Pb!$A$2:$AV$103,46)),0))*H8 -> 0 | Y8: =(IF(AND((O8="Hg"),(I8="Child (0-7 years)")),(VLOOKUP(Q8,'Hg Values'!$A$1:$M$30,3)),0))*H8 -> 0 | Z8: =(IF(AND((O8="Hg"),(I8="Child (0-7 years)")),(VLOOKUP(Q8,'Hg Values'!$A$1:$M$30,13)),0))*H8 -> 0 | AA8: =(((IF(AND((O8="CA"),(I8="Adult (> 15 years)")),((Q8*1)/70)*(VLOOKUP(J8,CA_ingestion!A$1:J$78,4,0)),0))))/11 -> 0 | AB8: =(IF(AA8>1,1,AA8))*H8 -> 0 | AC8: =((IF(AND((O8="CA"),(I8="Adult (> 15 years)")),(AB8*(VLOOKUP(J8,CA_ingestion!A$1:J$78,10,0))),0))) -> 0 | AD8: =AB8/2 -> 0 | AE8: =AC8+AD8 -> 0
A9: Water | B9: 0 | E9: =Summary!C$23 -> Afghanistan | G9: [select from list] | H9: =VLOOKUP(G9,'List Data'!$A$100:$B$104,2,0) -> 0 | I9: Please select from list | J9: Please select from list | K9: 0 | M9: =R9*Summary!$H$27 -> 0 | N9: =S9*Summary!$H$25 -> 0 | O9: =VLOOKUP(J9,'List Data'!A$2:C$94,3,0) -> 0 | P9: =VLOOKUP(J9,'List Data'!A$2:B$94,2,0) -> -------- | Q9: =K9*B9/1000 -> 0 | R9: =T9+V9+Y9 -> 0 | S9: =U9+W9+X9+Z9+AE9 -> 0 | T9: =(IF(AND((O9="OP"),(I9="Child (0-7 years)")),VLOOKUP(K9,'OP Values'!$A$1:$Q$35,7),))*H9 -> 0 | U9: =(IF(O9="OP",VLOOKUP($Q9,'OP Values'!$A$1:$Q$35,17),))*H9 -> 0 | V9: =(IF(AND((O9="Pb"),(I9="Child (0-7 years)")),(VLOOKUP(Q9,Pb!$A$1:$AV$103,7)),0))*H9 -> 0 | W9: =(IF(AND((O9="Pb"),(I9="Child (0-7 years)")),(VLOOKUP(Q9,Pb!$C$2:$AV$103,20)),0))*H9 -> 0 | X9: =(IF(AND((O9="Pb"),(I9="Adult (> 15 years)")),(VLOOKUP(Q9,Pb!$A$2:$AV$103,46)),0))*H9 -> 0 | Y9: =(IF(AND((O9="Hg"),(I9="Child (0-7 years)")),(VLOOKUP(Q9,'Hg Values'!$A$1:$M$30,3)),0))*H9 -> 0 | Z9: =(IF(AND((O9="Hg"),(I9="Child (0-7 years)")),(VLOOKUP(Q9,'Hg Values'!$A$1:$M$30,13)),0))*H9 -> 0 | AA9: =(((IF(AND((O9="CA"),(I9="Adult (> 15 years)")),((Q9*1)/70)*(VLOOKUP(J9,CA_ingestion!A$1:J$78,4,0)),0))))/11 -> 0 | AB9: =(IF(AA9>1,1,AA9))*H9 -> 0 | AC9: =((IF(AND((O9="CA"),(I9="Adult (> 15 years)")),(AB9*(VLOOKUP(J9,CA_ingestion!A$1:J$78,10,0))),0))) -> 0 | AD9: =AB9/2 -> 0 | AE9: =AC9+AD9 -> 0
A10: Water | B10: 0 | E10: =Summary!C$23 -> Afghanistan | G10: [select from list] | H10: =VLOOKUP(G10,'List Data'!$A$100:$B$104,2,0) -> 0 | I10: Please select from list | J10: Please select from list | K10: 0 | M10: =R10*Summary!$H$27 -> 0 | N10: =S10*Summary!$H$25 -> 0 | O10: =VLOOKUP(J10,'List Data'!A$2:C$94,3,0) -> 0 | P10: =VLOOKUP(J10,'List Data'!A$2:B$94,2,0) -> -------- | Q10: =K10*B10/1000 -> 0 | R10: =T10+V10+Y10 -> 0 | S10: =U10+W10+X10+Z10+AE10 -> 0 | T10: =(IF(AND((O10="OP"),(I10="Child (0-7 years)")),VLOOKUP(K10,'OP Values'!$A$1:$Q$35,7),))*H10 -> 0 | U10: =(IF(O10="OP",VLOOKUP($Q10,'OP Values'!$A$1:$Q$35,17),))*H10 -> 0 | V10: =(IF(AND((O10="Pb"),(I10="Child (0-7 years)")),(VLOOKUP(Q10,Pb!$A$1:$AV$103,7)),0))*H10 -> 0 | W10: =(IF(AND((O10="Pb"),(I10="Child (0-7 years)")),(VLOOKUP(Q10,Pb!$C$2:$AV$103,20)),0))*H10 -> 0 | X10: =(IF(AND((O10="Pb"),(I10="Adult (> 15 years)")),(VLOOKUP(Q10,Pb!$A$2:$AV$103,46)),0))*H10 -> 0 | Y10: =(IF(AND((O10="Hg"),(I10="Child (0-7 years)")),(VLOOKUP(Q10,'Hg Values'!$A$1:$M$30,3)),0))*H10 -> 0 | Z10: =(IF(AND((O10="Hg"),(I10="Child (0-7 years)")),(VLOOKUP(Q10,'Hg Values'!$A$1:$M$30,13)),0))*H10 -> 0 | AA10: =(((IF(AND((O10="CA"),(I10="Adult (> 15 years)")),((Q10*1)/70)*(VLOOKUP(J10,CA_ingestion!A$1:J$78,4,0)),0))))/11 -> 0 | AB10: =(IF(AA10>1,1,AA10))*H10 -> 0 | AC10: =((IF(AND((O10="CA"),(I10="Adult (> 15 years)")),(AB10*(VLOOKUP(J10,CA_ingestion!A$1:J$78,10,0))),0))) -> 0 | AD10: =AB10/2 -> 0 | AE10: =AC10+AD10 -> 0
A11: Water | B11: 0 | E11: =Summary!C$23 -> Afghanistan | G11: [select from list] | H11: =VLOOKUP(G11,'List Data'!$A$100:$B$104,2,0) -> 0 | I11: Please select from list | J11: Please select from list | K11: 0 | M11: =R11*Summary!$H$27 -> 0 | N11: =S11*Summary!$H$25 -> 0 | O11: =VLOOKUP(J11,'List Data'!A$2:C$94,3,0) -> 0 | P11: =VLOOKUP(J11,'List Data'!A$2:B$94,2,0) -> -------- | Q11: =K11*B11/1000 -> 0 | R11: =T11+V11+Y11 -> 0 | S11: =U11+W11+X11+Z11+AE11 -> 0 | T11: =(IF(AND((O11="OP"),(I11="Child (0-7 years)")),VLOOKUP(K11,'OP Values'!$A$1:$Q$35,7),))*H11 -> 0 | U11: =(IF(O11="OP",VLOOKUP($Q11,'OP Values'!$A$1:$Q$35,17),))*H11 -> 0 | V11: =(IF(AND((O11="Pb"),(I11="Child (0-7 years)")),(VLOOKUP(Q11,Pb!$A$1:$AV$103,7)),0))*H11 -> 0 | W11: =(IF(AND((O11="Pb"),(I11="Child (0-7 years)")),(VLOOKUP(Q11,Pb!$C$2:$AV$103,20)),0))*H11 -> 0 | X11: =(IF(AND((O11="Pb"),(I11="Adult (> 15 years)")),(VLOOKUP(Q11,Pb!$A$2:$AV$103,46)),0))*H11 -> 0 | Y11: =(IF(AND((O11="Hg"),(I11="Child (0-7 years)")),(VLOOKUP(Q11,'Hg Values'!$A$1:$M$30,3)),0))*H11 -> 0 | Z11: =(IF(AND((O11="Hg"),(I11="Child (0-7 years)")),(VLOOKUP(Q11,'Hg Values'!$A$1:$M$30,13)),0))*H11 -> 0 | AA11: =(((IF(AND((O11="CA"),(I11="Adult (> 15 years)")),((Q11*1)/70)*(VLOOKUP(J11,CA_ingestion!A$1:J$78,4,0)),0))))/11 -> 0 | AB11: =(IF(AA11>1,1,AA11))*H11 -> 0 | AC11: =((IF(AND((O11="CA"),(I11="Adult (> 15 years)")),(AB11*(VLOOKUP(J11,CA_ingestion!A$1:J$78,10,0))),0))) -> 0 | AD11: =AB11/2 -> 0 | AE11: =AC11+AD11 -> 0
A12: Water | B12: 0 | E12: =Summary!C$23 -> Afghanistan | G12: [select from list] | H12: =VLOOKUP(G12,'List Data'!$A$100:$B$104,2,0) -> 0 | I12: Please select from list | J12: Please select from list | K12: 0 | M12: =R12*Summary!$H$27 -> 0 | N12: =S12*Summary!$H$25 -> 0 | O12: =VLOOKUP(J12,'List Data'!A$2:C$94,3,0) -> 0 | P12: =VLOOKUP(J12,'List Data'!A$2:B$94,2,0) -> -------- | Q12: =K12*B12/1000 -> 0 | R12: =T12+V12+Y12 -> 0 | S12: =U12+W12+X12+Z12+AE12 -> 0 | T12: =(IF(AND((O12="OP"),(I12="Child (0-7 years)")),VLOOKUP(K12,'OP Values'!$A$1:$Q$35,7),))*H12 -> 0 | U12: =(IF(O12="OP",VLOOKUP($Q12,'OP Values'!$A$1:$Q$35,17),))*H12 -> 0 | V12: =(IF(AND((O12="Pb"),(I12="Child (0-7 years)")),(VLOOKUP(Q12,Pb!$A$1:$AV$103,7)),0))*H12 -> 0 | W12: =(IF(AND((O12="Pb"),(I12="Child (0-7 years)")),(VLOOKUP(Q12,Pb!$C$2:$AV$103,20)),0))*H12 -> 0 | X12: =(IF(AND((O12="Pb"),(I12="Adult (> 15 years)")),(VLOOKUP(Q12,Pb!$A$2:$AV$103,46)),0))*H12 -> 0 | Y12: =(IF(AND((O12="Hg"),(I12="Child (0-7 years)")),(VLOOKUP(Q12,'Hg Values'!$A$1:$M$30,3)),0))*H12 -> 0 | Z12: =(IF(AND((O12="Hg"),(I12="Child (0-7 years)")),(VLOOKUP(Q12,'Hg Values'!$A$1:$M$30,13)),0))*H12 -> 0 | AA12: =(((IF(AND((O12="CA"),(I12="Adult (> 15 years)")),((Q12*1)/70)*(VLOOKUP(J12,CA_ingestion!A$1:J$78,4,0)),0))))/11 -> 0 | AB12: =(IF(AA12>1,1,AA12))*H12 -> 0 | AC12: =((IF(AND((O12="CA"),(I12="Adult (> 15 years)")),(AB12*(VLOOKUP(J12,CA_ingestion!A$1:J$78,10,0))),0))) -> 0 | AD12: =AB12/2 -> 0 | AE12: =AC12+AD12 -> 0
A13: Water | B13: 0 | E13: =Summary!C$23 -> Afghanistan | G13: [select from list] | H13: =VLOOKUP(G13,'List Data'!$A$100:$B$104,2,0) -> 0 | I13: Please select from list | J13: Please select from list | K13: 0 | M13: =R13*Summary!$H$27 -> 0 | N13: =S13*Summary!$H$25 -> 0 | O13: =VLOOKUP(J13,'List Data'!A$2:C$94,3,0) -> 0 | P13: =VLOOKUP(J13,'List Data'!A$2:B$94,2,0) -> -------- | Q13: =K13*B13/1000 -> 0 | R13: =T13+V13+Y13 -> 0 | S13: =U13+W13+X13+Z13+AE13 -> 0 | T13: =(IF(AND((O13="OP"),(I13="Child (0-7 years)")),VLOOKUP(K13,'OP Values'!$A$1:$Q$35,7),))*H13 -> 0 | U13: =(IF(O13="OP",VLOOKUP($Q13,'OP Values'!$A$1:$Q$35,17),))*H13 -> 0 | V13: =(IF(AND((O13="Pb"),(I13="Child (0-7 years)")),(VLOOKUP(Q13,Pb!$A$1:$AV$103,7)),0))*H13 -> 0 | W13: =(IF(AND((O13="Pb"),(I13="Child (0-7 years)")),(VLOOKUP(Q13,Pb!$C$2:$AV$103,20)),0))*H13 -> 0 | X13: =(IF(AND((O13="Pb"),(I13="Adult (> 15 years)")),(VLOOKUP(Q13,Pb!$A$2:$AV$103,46)),0))*H13 -> 0 | Y13: =(IF(AND((O13="Hg"),(I13="Child (0-7 years)")),(VLOOKUP(Q13,'Hg Values'!$A$1:$M$30,3)),0))*H13 -> 0 | Z13: =(IF(AND((O13="Hg"),(I13="Child (0-7 years)")),(VLOOKUP(Q13,'Hg Values'!$A$1:$M$30,13)),0))*H13 -> 0 | AA13: =(((IF(AND((O13="CA"),(I13="Adult (> 15 years)")),((Q13*1)/70)*(VLOOKUP(J13,CA_ingestion!A$1:J$78,4,0)),0))))/11 -> 0 | AB13: =(IF(AA13>1,1,AA13))*H13 -> 0 | AC13: =((IF(AND((O13="CA"),(I13="Adult (> 15 years)")),(AB13*(VLOOKUP(J13,CA_ingestion!A$1:J$78,10,0))),0))) -> 0 | AD13: =AB13/2 -> 0 | AE13: =AC13+AD13 -> 0
A14: Water | B14: 0 | E14: =Summary!C$23 -> Afghanistan | G14: [select from list] | H14: =VLOOKUP(G14,'List Data'!$A$100:$B$104,2,0) -> 0 | I14: Please select from list | J14: Please select from list | K14: 0 | M14: =R14*Summary!$H$27 -> 0 | N14: =S14*Summary!$H$25 -> 0 | O14: =VLOOKUP(J14,'List Data'!A$2:C$94,3,0) -> 0 | P14: =VLOOKUP(J14,'List Data'!A$2:B$94,2,0) -> -------- | Q14: =K14*B14/1000 -> 0 | R14: =T14+V14+Y14 -> 0 | S14: =U14+W14+X14+Z14+AE14 -> 0 | T14: =(IF(AND((O14="OP"),(I14="Child (0-7 years)")),VLOOKUP(K14,'OP Values'!$A$1:$Q$35,7),))*H14 -> 0 | U14: =(IF(O14="OP",VLOOKUP($Q14,'OP Values'!$A$1:$Q$35,17),))*H14 -> 0 | V14: =(IF(AND((O14="Pb"),(I14="Child (0-7 years)")),(VLOOKUP(Q14,Pb!$A$1:$AV$103,7)),0))*H14 -> 0 | W14: =(IF(AND((O14="Pb"),(I14="Child (0-7 years)")),(VLOOKUP(Q14,Pb!$C$2:$AV$103,20)),0))*H14 -> 0 | X14: =(IF(AND((O14="Pb"),(I14="Adult (> 15 years)")),(VLOOKUP(Q14,Pb!$A$2:$AV$103,46)),0))*H14 -> 0 | Y14: =(IF(AND((O14="Hg"),(I14="Child (0-7 years)")),(VLOOKUP(Q14,'Hg Values'!$A$1:$M$30,3)),0))*H14 -> 0 | Z14: =(IF(AND((O14="Hg"),(I14="Child (0-7 years)")),(VLOOKUP(Q14,'Hg Values'!$A$1:$M$30,13)),0))*H14 -> 0 | AA14: =(((IF(AND((O14="CA"),(I14="Adult (> 15 years)")),((Q14*1)/70)*(VLOOKUP(J14,CA_ingestion!A$1:J$78,4,0)),0))))/11 -> 0 | AB14: =(IF(AA14>1,1,AA14))*H14 -> 0 | AC14: =((IF(AND((O14="CA"),(I14="Adult (> 15 years)")),(AB14*(VLOOKUP(J14,CA_ingestion!A$1:J$78,10,0))),0))) -> 0 | AD14: =AB14/2 -> 0 | AE14: =AC14+AD14 -> 0
A15: Water | B15: 0 | E15: =Summary!C$23 -> Afghanistan | G15: [select from list] | H15: =VLOOKUP(G15,'List Data'!$A$100:$B$104,2,0) -> 0 | I15: Please select from list | J15: Please select from list | K15: 0 | M15: =R15*Summary!$H$27 -> 0 | N15: =S15*Summary!$H$25 -> 0 | O15: =VLOOKUP(J15,'List Data'!A$2:C$94,3,0) -> 0 | P15: =VLOOKUP(J15,'List Data'!A$2:B$94,2,0) -> -------- | Q15: =K15*B15/1000 -> 0 | R15: =T15+V15+Y15 -> 0 | S15: =U15+W15+X15+Z15+AE15 -> 0 | T15: =(IF(AND((O15="OP"),(I15="Child (0-7 years)")),VLOOKUP(K15,'OP Values'!$A$1:$Q$35,7),))*H15 -> 0 | U15: =(IF(O15="OP",VLOOKUP($Q15,'OP Values'!$A$1:$Q$35,17),))*H15 -> 0 | V15: =(IF(AND((O15="Pb"),(I15="Child (0-7 years)")),(VLOOKUP(Q15,Pb!$A$1:$AV$103,7)),0))*H15 -> 0 | W15: =(IF(AND((O15="Pb"),(I15="Child (0-7 years)")),(VLOOKUP(Q15,Pb!$C$2:$AV$103,20)),0))*H15 -> 0 | X15: =(IF(AND((O15="Pb"),(I15="Adult (> 15 years)")),(VLOOKUP(Q15,Pb!$A$2:$AV$103,46)),0))*H15 -> 0 | Y15: =(IF(AND((O15="Hg"),(I15="Child (0-7 years)")),(VLOOKUP(Q15,'Hg Values'!$A$1:$M$30,3)),0))*H15 -> 0 | Z15: =(IF(AND((O15="Hg"),(I15="Child (0-7 years)")),(VLOOKUP(Q15,'Hg Values'!$A$1:$M$30,13)),0))*H15 -> 0 | AA15: =(((IF(AND((O15="CA"),(I15="Adult (> 15 years)")),((Q15*1)/70)*(VLOOKUP(J15,CA_ingestion!A$1:J$78,4,0)),0))))/11 -> 0 | AB15: =(IF(AA15>1,1,AA15))*H15 -> 0 | AC15: =((IF(AND((O15="CA"),(I15="Adult (> 15 years)")),(AB15*(VLOOKUP(J15,CA_ingestion!A$1:J$78,10,0))),0))) -> 0 | AD15: =AB15/2 -> 0 | AE15: =AC15+AD15 -> 0
A16: Water | B16: 0 | E16: =Summary!C$23 -> Afghanistan | G16: [select from list] | H16: =VLOOKUP(G16,'List Data'!$A$100:$B$104,2,0) -> 0 | I16: Please select from list | J16: Please select from list | K16: 0 | M16: =R16*Summary!$H$27 -> 0 | N16: =S16*Summary!$H$25 -> 0 | O16: =VLOOKUP(J16,'List Data'!A$2:C$94,3,0) -> 0 | P16: =VLOOKUP(J16,'List Data'!A$2:B$94,2,0) -> -------- | Q16: =K16*B16/1000 -> 0 | R16: =T16+V16+Y16 -> 0 | S16: =U16+W16+X16+Z16+AE16 -> 0 | T16: =(IF(AND((O16="OP"),(I16="Child (0-7 years)")),VLOOKUP(K16,'OP Values'!$A$1:$Q$35,7),))*H16 -> 0 | U16: =(IF(O16="OP",VLOOKUP($Q16,'OP Values'!$A$1:$Q$35,17),))*H16 -> 0 | V16: =(IF(AND((O16="Pb"),(I16="Child (0-7 years)")),(VLOOKUP(Q16,Pb!$A$1:$AV$103,7)),0))*H16 -> 0 | W16: =(IF(AND((O16="Pb"),(I16="Child (0-7 years)")),(VLOOKUP(Q16,Pb!$C$2:$AV$103,20)),0))*H16 -> 0 | X16: =(IF(AND((O16="Pb"),(I16="Adult (> 15 years)")),(VLOOKUP(Q16,Pb!$A$2:$AV$103,46)),0))*H16 -> 0 | Y16: =(IF(AND((O16="Hg"),(I16="Child (0-7 years)")),(VLOOKUP(Q16,'Hg Values'!$A$1:$M$30,3)),0))*H16 -> 0 | Z16: =(IF(AND((O16="Hg"),(I16="Child (0-7 years)")),(VLOOKUP(Q16,'Hg Values'!$A$1:$M$30,13)),0))*H16 -> 0 | AA16: =(((IF(AND((O16="CA"),(I16="Adult (> 15 years)")),((Q16*1)/70)*(VLOOKUP(J16,CA_ingestion!A$1:J$78,4,0)),0))))/11 -> 0 | AB16: =(IF(AA16>1,1,AA16))*H16 -> 0 | AC16: =((IF(AND((O16="CA"),(I16="Adult (> 15 years)")),(AB16*(VLOOKUP(J16,CA_ingestion!A$1:J$78,10,0))),0))) -> 0 | AD16: =AB16/2 -> 0 | AE16: =AC16+AD16 -> 0
... A104: Water | B104: 0 | E104: =Summary!C$23 -> Afghanistan | G104: [select from list] | H104: =VLOOKUP(G104,'List Data'!$A$100:$B$104,2,0) -> 0 | I104: Please select from list | J104: Please select from list | K104: 0 | M104: =R104*Summary!$H$27 -> 0 | N104: =S104*Summary!$H$25 -> 0 | O104: =VLOOKUP(J104,'List Data'!A$2:C$94,3,0) -> 0 | P104: =VLOOKUP(J104,'List Data'!A$2:B$94,2,0) -> -------- | Q104: =K104*B104/1000 -> 0 | R104: =T104+V104+Y104 -> 0 | S104: =U104+W104+X104+Z104+AE104 -> 0 | T104: =(IF(AND((O104="OP"),(I104="Child (0-7 years)")),VLOOKUP(K104,'OP Values'!$A$1:$Q$35,7),))*H104 -> 0 | U104: =(IF(O104="OP",VLOOKUP($Q104,'OP Values'!$A$1:$Q$35,17),))*H104 -> 0 | V104: =(IF(AND((O104="Pb"),(I104="Child (0-7 years)")),(VLOOKUP(Q104,Pb!$A$1:$AV$103,7)),0))*H104 -> 0 | W104: =(IF(AND((O104="Pb"),(I104="Child (0-7 years)")),(VLOOKUP(Q104,Pb!$C$2:$AV$103,20)),0))*H104 -> 0 | X104: =(IF(AND((O104="Pb"),(I104="Adult (> 15 years)")),(VLOOKUP(Q104,Pb!$A$2:$AV$103,46)),0))*H104 -> 0 | Y104: =(IF(AND((O104="Hg"),(I104="Child (0-7 years)")),(VLOOKUP(Q104,'Hg Values'!$A$1:$M$30,3)),0))*H104 -> 0 | Z104: =(IF(AND((O104="Hg"),(I104="Child (0-7 years)")),(VLOOKUP(Q104,'Hg Values'!$A$1:$M$30,13)),0))*H104 -> 0 | AA104: =(((IF(AND((O104="CA"),(I104="Adult (> 15 years)")),((Q104*1)/70)*(VLOOKUP(J104,CA_ingestion!A$1:J$78,4,0)),0))))/11 -> 0 | AB104: =(IF(AA104>1,1,AA104))*H104 -> 0 | AC104: =((IF(AND((O104="CA"),(I104="Adult (> 15 years)")),(AB104*(VLOOKUP(J104,CA_ingestion!A$1:J$78,10,0))),0))) -> 0 | AD104: =AB104/2 -> 0 | AE104: =AC104+AD104 -> 0

Sheet Soil
A1: Soil Worksheet
A2: Total IQ Decrement | B2: =SUM(T:T) -> 4457.3506 | C2: Total DALYs | E2: =SUM(U:U) -> 9.5191228
A4: Site Name | B4: Latitude | C4: Longitude | D4: Population | E4: Population Value | F4: Concentration (mg/kg) | G4: District | H4: Region | I4: Country | J4: Data Source | K4: Adult or Child | L4: Chemical | M4: Site cost (IQ) | N4: Site cost (DALYs) | O4: Code | P4: CAS # | Q4: Estimated Dust Concentration | R4: Ingestion rate (mg/day) | S4: Total daily intake (mg/day) | T4: Total IQ decrement | U4: Total DALYS | V4: IQ decrement OP | W4: Attributable DALYS (OP) | X4: IQ Decrement (Lead) | Y4: Attributable Children DALYS (Lead) | Z4: Attributable Adult DALYS (Lead) | AA4: IQ Decrement (Hg) | AB4: Attributable DALYS (Hg) | AC4: Number of Attributable Cancer Cases/ person (raw) | AD4: Number of Attributable Cancer Cases (population) | AE4: Attributable YLD (Ca) | AF4: Attributable YLL | AG4: DALYs (Ca)
A5: TEST | D5: medium | E5: =VLOOKUP(D5,'List Data'!$A$100:$B$104,2,0) -> 1000 | F5: 1000 | I5: =Summary!C$23 -> Afghanistan | K5: Child (0-7 years) | L5: Lead | M5: =T5*Summary!$H$27 -> 923594.67 | N5: =U5*Summary!$H$25 -> 6807.5035 | O5: =VLOOKUP(L5,'List Data'!A$2:C$94,3,0) -> Pb | P5: =VLOOKUP(L5,'List Data'!A$2:B$94,2,0) -> 7439-92-1 | Q5: =F5*0.7+(10.7) -> 710.7 | R5: =IF(K5="Child (0-7 years)",135,50) -> 135 | S5: =(F5/1000000)*R5 -> 0.135 | T5: =V5+X5+AA5 -> 4457.3506 | U5: =W5+Y5+Z5+AB5+AG5 -> 9.5191228 | V5: =(IF(AND((O5="OP"),(K5="Child (0-7 years)")),VLOOKUP(($R5*(F5/1000000)),'OP Values'!$A$1:$Q$35,7),))*E5 -> 0 | W5: =(IF(O5="OP",VLOOKUP(($R5*(F5/1000000)),'OP Values'!$A$1:$Q$35,17),))*E5 -> 0 | X5: =(IF(AND((O5="Pb"),(K5="Child (0-7 years)")),(VLOOKUP(F5,Pb!$A$1:$AV$103,13)),0))*E5 -> 4457.3506 | Y5: =(IF(AND((O5="Pb"),(K5="Child (0-7 years)")),(VLOOKUP(F5,Pb!$A$2:$AV$103,22)),0))*E5 -> 9.5191228 | Z5: =(IF(AND((O5="Pb"),(K5="Adult (> 15 years)")),(VLOOKUP(F5,Pb!$A$2:$AV$103,48)),0))*E5 -> 0 | AA5: =(IF(AND((O5="Hg"),(K5="Child (0-7 years)")),(VLOOKUP(S5,'Hg Values'!$A$1:$M$30,3)),0))*E5 -> 0 | AB5: =(IF(AND((O5="Hg"),(K5="Child (0-7 years)")),(VLOOKUP(S5,'Hg Values'!$A$1:$M$30,13)),0))*E5 -> 0 | AC5: =((IF(AND((O5="CA"),(K5="Adult (> 15 years)")),(VLOOKUP(L5,CA_ingestion!A$1:J$78,7,0)),0))*((F5/1000000)*R5*70))/14 -> 0 | AD5: =(IF(AC5>1,1,AC5))*E5 -> 0 | AE5: =((IF(AND((O5="CA"),(K5="Adult (> 15 years)")),(AD5*(VLOOKUP(L5,CA_ingestion!A$1:J$78,10,0))),0))) -> 0 | AF5: =AD5/2 -> 0 | AG5: =AE5+AF5 -> 0
D6: [select from list] | E6: =VLOOKUP(D6,'List Data'!$A$100:$B$104,2,0) -> 0 | I6: =Summary!C$23 -> Afghanistan | K6: Please select from list | L6: Please select from list | M6: =T6*Summary!$H$27 -> 0 | N6: =U6*Summary!$H$25 -> 0 | O6: =VLOOKUP(L6,'List Data'!A$2:C$94,3,0) -> 0 | P6: =VLOOKUP(L6,'List Data'!A$2:B$94,2,0) -> -------- | Q6: =F6*0.7+(10.7) -> 10.7 | R6: =IF(K6="Child (0-7 years)",135,50) -> 50 | S6: =(F6/1000000)*R6 -> 0 | T6: =V6+X6+AA6 -> 0 | U6: =W6+Y6+Z6+AB6+AG6 -> 0 | V6: =(IF(AND((O6="OP"),(K6="Child (0-7 years)")),VLOOKUP(($R6*(F6/1000000)),'OP Values'!$A$1:$Q$35,7),))*E6 -> 0 | W6: =(IF(O6="OP",VLOOKUP(($R6*(F6/1000000)),'OP Values'!$A$1:$Q$35,17),))*E6 -> 0 | X6: =(IF(AND((O6="Pb"),(K6="Child (0-7 years)")),(VLOOKUP(F6,Pb!$A$1:$AV$103,13)),0))*E6 -> 0 | Y6: =(IF(AND((O6="Pb"),(K6="Child (0-7 years)")),(VLOOKUP(F6,Pb!$A$2:$AV$103,22)),0))*E6 -> 0 | Z6: =(IF(AND((O6="Pb"),(K6="Adult (> 15 years)")),(VLOOKUP(F6,Pb!$A$2:$AV$103,48)),0))*E6 -> 0 | AA6: =(IF(AND((O6="Hg"),(K6="Child (0-7 years)")),(VLOOKUP(S6,'Hg Values'!$A$1:$M$30,3)),0))*E6 -> 0 | AB6: =(IF(AND((O6="Hg"),(K6="Child (0-7 years)")),(VLOOKUP(S6,'Hg Values'!$A$1:$M$30,13)),0))*E6 -> 0 | AC6: =((IF(AND((O6="CA"),(K6="Adult (> 15 years)")),(VLOOKUP(L6,CA_ingestion!A$1:J$78,7,0)),0))*((F6/1000000)*R6*70))/14 -> 0 | AD6: =(IF(AC6>1,1,AC6))*E6 -> 0 | AE6: =((IF(AND((O6="CA"),(K6="Adult (> 15 years)")),(AD6*(VLOOKUP(L6,CA_ingestion!A$1:J$78,10,0))),0))) -> 0 | AF6: =AD6/2 -> 0 | AG6: =AE6+AF6 -> 0
D7: [select from list] | E7: =VLOOKUP(D7,'List Data'!$A$100:$B$104,2,0) -> 0 | I7: =Summary!C$23 -> Afghanistan | K7: Please select from list | L7: Please select from list | M7: =T7*Summary!$H$27 -> 0 | N7: =U7*Summary!$H$25 -> 0 | O7: =VLOOKUP(L7,'List Data'!A$2:C$94,3,0) -> 0 | P7: =VLOOKUP(L7,'List Data'!A$2:B$94,2,0) -> -------- | Q7: =F7*0.7+(10.7) -> 10.7 | R7: =IF(K7="Child (0-7 years)",135,50) -> 50 | S7: =(F7/1000000)*R7 -> 0 | T7: =V7+X7+AA7 -> 0 | U7: =W7+Y7+Z7+AB7+AG7 -> 0 | V7: =(IF(AND((O7="OP"),(K7="Child (0-7 years)")),VLOOKUP(($R7*(F7/1000000)),'OP Values'!$A$1:$Q$35,7),))*E7 -> 0 | W7: =(IF(O7="OP",VLOOKUP(($R7*(F7/1000000)),'OP Values'!$A$1:$Q$35,17),))*E7 -> 0 | X7: =(IF(AND((O7="Pb"),(K7="Child (0-7 years)")),(VLOOKUP(F7,Pb!$A$1:$AV$103,13)),0))*E7 -> 0 | Y7: =(IF(AND((O7="Pb"),(K7="Child (0-7 years)")),(VLOOKUP(F7,Pb!$A$2:$AV$103,22)),0))*E7 -> 0 | Z7: =(IF(AND((O7="Pb"),(K7="Adult (> 15 years)")),(VLOOKUP(F7,Pb!$A$2:$AV$103,48)),0))*E7 -> 0 | AA7: =(IF(AND((O7="Hg"),(K7="Child (0-7 years)")),(VLOOKUP(S7,'Hg Values'!$A$1:$M$30,3)),0))*E7 -> 0 | AB7: =(IF(AND((O7="Hg"),(K7="Child (0-7 years)")),(VLOOKUP(S7,'Hg Values'!$A$1:$M$30,13)),0))*E7 -> 0 | AC7: =((IF(AND((O7="CA"),(K7="Adult (> 15 years)")),(VLOOKUP(L7,CA_ingestion!A$1:J$78,7,0)),0))*((F7/1000000)*R7*70))/14 -> 0 | AD7: =(IF(AC7>1,1,AC7))*E7 -> 0 | AE7: =((IF(AND((O7="CA"),(K7="Adult (> 15 years)")),(AD7*(VLOOKUP(L7,CA_ingestion!A$1:J$78,10,0))),0))) -> 0 | AF7: =AD7/2 -> 0 | AG7: =AE7+AF7 -> 0
D8: [select from list] | E8: =VLOOKUP(D8,'List Data'!$A$100:$B$104,2,0) -> 0 | I8: =Summary!C$23 -> Afghanistan | K8: Please select from list | L8: Please select from list | M8: =T8*Summary!$H$27 -> 0 | N8: =U8*Summary!$H$25 -> 0 | O8: =VLOOKUP(L8,'List Data'!A$2:C$94,3,0) -> 0 | P8: =VLOOKUP(L8,'List Data'!A$2:B$94,2,0) -> -------- | Q8: =F8*0.7+(10.7) -> 10.7 | R8: =IF(K8="Child (0-7 years)",135,50) -> 50 | S8: =(F8/1000000)*R8 -> 0 | T8: =V8+X8+AA8 -> 0 | U8: =W8+Y8+Z8+AB8+AG8 -> 0 | V8: =(IF(AND((O8="OP"),(K8="Child (0-7 years)")),VLOOKUP(($R8*(F8/1000000)),'OP Values'!$A$1:$Q$35,7),))*E8 -> 0 | W8: =(IF(O8="OP",VLOOKUP(($R8*(F8/1000000)),'OP Values'!$A$1:$Q$35,17),))*E8 -> 0 | X8: =(IF(AND((O8="Pb"),(K8="Child (0-7 years)")),(VLOOKUP(F8,Pb!$A$1:$AV$103,13)),0))*E8 -> 0 | Y8: =(IF(AND((O8="Pb"),(K8="Child (0-7 years)")),(VLOOKUP(F8,Pb!$A$2:$AV$103,22)),0))*E8 -> 0 | Z8: =(IF(AND((O8="Pb"),(K8="Adult (> 15 years)")),(VLOOKUP(F8,Pb!$A$2:$AV$103,48)),0))*E8 -> 0 | AA8: =(IF(AND((O8="Hg"),(K8="Child (0-7 years)")),(VLOOKUP(S8,'Hg Values'!$A$1:$M$30,3)),0))*E8 -> 0 | AB8: =(IF(AND((O8="Hg"),(K8="Child (0-7 years)")),(VLOOKUP(S8,'Hg Values'!$A$1:$M$30,13)),0))*E8 -> 0 | AC8: =((IF(AND((O8="CA"),(K8="Adult (> 15 years)")),(VLOOKUP(L8,CA_ingestion!A$1:J$78,7,0)),0))*((F8/1000000)*R8*70))/14 -> 0 | AD8: =(IF(AC8>1,1,AC8))*E8 -> 0 | AE8: =((IF(AND((O8="CA"),(K8="Adult (> 15 years)")),(AD8*(VLOOKUP(L8,CA_ingestion!A$1:J$78,10,0))),0))) -> 0 | AF8: =AD8/2 -> 0 | AG8: =AE8+AF8 -> 0
D9: [select from list] | E9: =VLOOKUP(D9,'List Data'!$A$100:$B$104,2,0) -> 0 | I9: =Summary!C$23 -> Afghanistan | K9: Please select from list | L9: Please select from list | M9: =T9*Summary!$H$27 -> 0 | N9: =U9*Summary!$H$25 -> 0 | O9: =VLOOKUP(L9,'List Data'!A$2:C$94,3,0) -> 0 | P9: =VLOOKUP(L9,'List Data'!A$2:B$94,2,0) -> -------- | Q9: =F9*0.7+(10.7) -> 10.7 | R9: =IF(K9="Child (0-7 years)",135,50) -> 50 | S9: =(F9/1000000)*R9 -> 0 | T9: =V9+X9+AA9 -> 0 | U9: =W9+Y9+Z9+AB9+AG9 -> 0 | V9: =(IF(AND((O9="OP"),(K9="Child (0-7 years)")),VLOOKUP(($R9*(F9/1000000)),'OP Values'!$A$1:$Q$35,7),))*E9 -> 0 | W9: =(IF(O9="OP",VLOOKUP(($R9*(F9/1000000)),'OP Values'!$A$1:$Q$35,17),))*E9 -> 0 | X9: =(IF(AND((O9="Pb"),(K9="Child (0-7 years)")),(VLOOKUP(F9,Pb!$A$1:$AV$103,13)),0))*E9 -> 0 | Y9: =(IF(AND((O9="Pb"),(K9="Child (0-7 years)")),(VLOOKUP(F9,Pb!$A$2:$AV$103,22)),0))*E9 -> 0 | Z9: =(IF(AND((O9="Pb"),(K9="Adult (> 15 years)")),(VLOOKUP(F9,Pb!$A$2:$AV$103,48)),0))*E9 -> 0 | AA9: =(IF(AND((O9="Hg"),(K9="Child (0-7 years)")),(VLOOKUP(S9,'Hg Values'!$A$1:$M$30,3)),0))*E9 -> 0 | AB9: =(IF(AND((O9="Hg"),(K9="Child (0-7 years)")),(VLOOKUP(S9,'Hg Values'!$A$1:$M$30,13)),0))*E9 -> 0 | AC9: =((IF(AND((O9="CA"),(K9="Adult (> 15 years)")),(VLOOKUP(L9,CA_ingestion!A$1:J$78,7,0)),0))*((F9/1000000)*R9*70))/14 -> 0 | AD9: =(IF(AC9>1,1,AC9))*E9 -> 0 | AE9: =((IF(AND((O9="CA"),(K9="Adult (> 15 years)")),(AD9*(VLOOKUP(L9,CA_ingestion!A$1:J$78,10,0))),0))) -> 0 | AF9: =AD9/2 -> 0 | AG9: =AE9+AF9 -> 0
D10: [select from list] | E10: =VLOOKUP(D10,'List Data'!$A$100:$B$104,2,0) -> 0 | I10: =Summary!C$23 -> Afghanistan | K10: Please select from list | L10: Please select from list | M10: =T10*Summary!$H$27 -> 0 | N10: =U10*Summary!$H$25 -> 0 | O10: =VLOOKUP(L10,'List Data'!A$2:C$94,3,0) -> 0 | P10: =VLOOKUP(L10,'List Data'!A$2:B$94,2,0) -> -------- | Q10: =F10*0.7+(10.7) -> 10.7 | R10: =IF(K10="Child (0-7 years)",135,50) -> 50 | S10: =(F10/1000000)*R10 -> 0 | T10: =V10+X10+AA10 -> 0 | U10: =W10+Y10+Z10+AB10+AG10 -> 0 | V10: =(IF(AND((O10="OP"),(K10="Child (0-7 years)")),VLOOKUP(($R10*(F10/1000000)),'OP Values'!$A$1:$Q$35,7),))*E10 -> 0 | W10: =(IF(O10="OP",VLOOKUP(($R10*(F10/1000000)),'OP Values'!$A$1:$Q$35,17),))*E10 -> 0 | X10: =(IF(AND((O10="Pb"),(K10="Child (0-7 years)")),(VLOOKUP(F10,Pb!$A$1:$AV$103,13)),0))*E10 -> 0 | Y10: =(IF(AND((O10="Pb"),(K10="Child (0-7 years)")),(VLOOKUP(F10,Pb!$A$2:$AV$103,22)),0))*E10 -> 0 | Z10: =(IF(AND((O10="Pb"),(K10="Adult (> 15 years)")),(VLOOKUP(F10,Pb!$A$2:$AV$103,48)),0))*E10 -> 0 | AA10: =(IF(AND((O10="Hg"),(K10="Child (0-7 years)")),(VLOOKUP(S10,'Hg Values'!$A$1:$M$30,3)),0))*E10 -> 0 | AB10: =(IF(AND((O10="Hg"),(K10="Child (0-7 years)")),(VLOOKUP(S10,'Hg Values'!$A$1:$M$30,13)),0))*E10 -> 0 | AC10: =((IF(AND((O10="CA"),(K10="Adult (> 15 years)")),(VLOOKUP(L10,CA_ingestion!A$1:J$78,7,0)),0))*((F10/1000000)*R10*70))/14 -> 0 | AD10: =(IF(AC10>1,1,AC10))*E10 -> 0 | AE10: =((IF(AND((O10="CA"),(K10="Adult (> 15 years)")),(AD10*(VLOOKUP(L10,CA_ingestion!A$1:J$78,10,0))),0))) -> 0 | AF10: =AD10/2 -> 0 | AG10: =AE10+AF10 -> 0
D11: [select from list] | E11: =VLOOKUP(D11,'List Data'!$A$100:$B$104,2,0) -> 0 | I11: =Summary!C$23 -> Afghanistan | K11: Please select from list | L11: Please select from list | M11: =T11*Summary!$H$27 -> 0 | N11: =U11*Summary!$H$25 -> 0 | O11: =VLOOKUP(L11,'List Data'!A$2:C$94,3,0) -> 0 | P11: =VLOOKUP(L11,'List Data'!A$2:B$94,2,0) -> -------- | Q11: =F11*0.7+(10.7) -> 10.7 | R11: =IF(K11="Child (0-7 years)",135,50) -> 50 | S11: =(F11/1000000)*R11 -> 0 | T11: =V11+X11+AA11 -> 0 | U11: =W11+Y11+Z11+AB11+AG11 -> 0 | V11: =(IF(AND((O11="OP"),(K11="Child (0-7 years)")),VLOOKUP(($R11*(F11/1000000)),'OP Values'!$A$1:$Q$35,7),))*E11 -> 0 | W11: =(IF(O11="OP",VLOOKUP(($R11*(F11/1000000)),'OP Values'!$A$1:$Q$35,17),))*E11 -> 0 | X11: =(IF(AND((O11="Pb"),(K11="Child (0-7 years)")),(VLOOKUP(F11,Pb!$A$1:$AV$103,13)),0))*E11 -> 0 | Y11: =(IF(AND((O11="Pb"),(K11="Child (0-7 years)")),(VLOOKUP(F11,Pb!$A$2:$AV$103,22)),0))*E11 -> 0 | Z11: =(IF(AND((O11="Pb"),(K11="Adult (> 15 years)")),(VLOOKUP(F11,Pb!$A$2:$AV$103,48)),0))*E11 -> 0 | AA11: =(IF(AND((O11="Hg"),(K11="Child (0-7 years)")),(VLOOKUP(S11,'Hg Values'!$A$1:$M$30,3)),0))*E11 -> 0 | AB11: =(IF(AND((O11="Hg"),(K11="Child (0-7 years)")),(VLOOKUP(S11,'Hg Values'!$A$1:$M$30,13)),0))*E11 -> 0 | AC11: =((IF(AND((O11="CA"),(K11="Adult (> 15 years)")),(VLOOKUP(L11,CA_ingestion!A$1:J$78,7,0)),0))*((F11/1000000)*R11*70))/14 -> 0 | AD11: =(IF(AC11>1,1,AC11))*E11 -> 0 | AE11: =((IF(AND((O11="CA"),(K11="Adult (> 15 years)")),(AD11*(VLOOKUP(L11,CA_ingestion!A$1:J$78,10,0))),0))) -> 0 | AF11: =AD11/2 -> 0 | AG11: =AE11+AF11 -> 0
D12: [select from list] | E12: =VLOOKUP(D12,'List Data'!$A$100:$B$104,2,0) -> 0 | I12: =Summary!C$23 -> Afghanistan | K12: Please select from list | L12: Please select from list | M12: =T12*Summary!$H$27 -> 0 | N12: =U12*Summary!$H$25 -> 0 | O12: =VLOOKUP(L12,'List Data'!A$2:C$94,3,0) -> 0 | P12: =VLOOKUP(L12,'List Data'!A$2:B$94,2,0) -> -------- | Q12: =F12*0.7+(10.7) -> 10.7 | R12: =IF(K12="Child (0-7 years)",135,50) -> 50 | S12: =(F12/1000000)*R12 -> 0 | T12: =V12+X12+AA12 -> 0 | U12: =W12+Y12+Z12+AB12+AG12 -> 0 | V12: =(IF(AND((O12="OP"),(K12="Child (0-7 years)")),VLOOKUP(($R12*(F12/1000000)),'OP Values'!$A$1:$Q$35,7),))*E12 -> 0 | W12: =(IF(O12="OP",VLOOKUP(($R12*(F12/1000000)),'OP Values'!$A$1:$Q$35,17),))*E12 -> 0 | X12: =(IF(AND((O12="Pb"),(K12="Child (0-7 years)")),(VLOOKUP(F12,Pb!$A$1:$AV$103,13)),0))*E12 -> 0 | Y12: =(IF(AND((O12="Pb"),(K12="Child (0-7 years)")),(VLOOKUP(F12,Pb!$A$2:$AV$103,22)),0))*E12 -> 0 | Z12: =(IF(AND((O12="Pb"),(K12="Adult (> 15 years)")),(VLOOKUP(F12,Pb!$A$2:$AV$103,48)),0))*E12 -> 0 | AA12: =(IF(AND((O12="Hg"),(K12="Child (0-7 years)")),(VLOOKUP(S12,'Hg Values'!$A$1:$M$30,3)),0))*E12 -> 0 | AB12: =(IF(AND((O12="Hg"),(K12="Child (0-7 years)")),(VLOOKUP(S12,'Hg Values'!$A$1:$M$30,13)),0))*E12 -> 0 | AC12: =((IF(AND((O12="CA"),(K12="Adult (> 15 years)")),(VLOOKUP(L12,CA_ingestion!A$1:J$78,7,0)),0))*((F12/1000000)*R12*70))/14 -> 0 | AD12: =(IF(AC12>1,1,AC12))*E12 -> 0 | AE12: =((IF(AND((O12="CA"),(K12="Adult (> 15 years)")),(AD12*(VLOOKUP(L12,CA_ingestion!A$1:J$78,10,0))),0))) -> 0 | AF12: =AD12/2 -> 0 | AG12: =AE12+AF12 -> 0
D13: [select from list] | E13: =VLOOKUP(D13,'List Data'!$A$100:$B$104,2,0) -> 0 | I13: =Summary!C$23 -> Afghanistan | K13: Please select from list | L13: Please select from list | M13: =T13*Summary!$H$27 -> 0 | N13: =U13*Summary!$H$25 -> 0 | O13: =VLOOKUP(L13,'List Data'!A$2:C$94,3,0) -> 0 | P13: =VLOOKUP(L13,'List Data'!A$2:B$94,2,0) -> -------- | Q13: =F13*0.7+(10.7) -> 10.7 | R13: =IF(K13="Child (0-7 years)",135,50) -> 50 | S13: =(F13/1000000)*R13 -> 0 | T13: =V13+X13+AA13 -> 0 | U13: =W13+Y13+Z13+AB13+AG13 -> 0 | V13: =(IF(AND((O13="OP"),(K13="Child (0-7 years)")),VLOOKUP(($R13*(F13/1000000)),'OP Values'!$A$1:$Q$35,7),))*E13 -> 0 | W13: =(IF(O13="OP",VLOOKUP(($R13*(F13/1000000)),'OP Values'!$A$1:$Q$35,17),))*E13 -> 0 | X13: =(IF(AND((O13="Pb"),(K13="Child (0-7 years)")),(VLOOKUP(F13,Pb!$A$1:$AV$103,13)),0))*E13 -> 0 | Y13: =(IF(AND((O13="Pb"),(K13="Child (0-7 years)")),(VLOOKUP(F13,Pb!$A$2:$AV$103,22)),0))*E13 -> 0 | Z13: =(IF(AND((O13="Pb"),(K13="Adult (> 15 years)")),(VLOOKUP(F13,Pb!$A$2:$AV$103,48)),0))*E13 -> 0 | AA13: =(IF(AND((O13="Hg"),(K13="Child (0-7 years)")),(VLOOKUP(S13,'Hg Values'!$A$1:$M$30,3)),0))*E13 -> 0 | AB13: =(IF(AND((O13="Hg"),(K13="Child (0-7 years)")),(VLOOKUP(S13,'Hg Values'!$A$1:$M$30,13)),0))*E13 -> 0 | AC13: =((IF(AND((O13="CA"),(K13="Adult (> 15 years)")),(VLOOKUP(L13,CA_ingestion!A$1:J$78,7,0)),0))*((F13/1000000)*R13*70))/14 -> 0 | AD13: =(IF(AC13>1,1,AC13))*E13 -> 0 | AE13: =((IF(AND((O13="CA"),(K13="Adult (> 15 years)")),(AD13*(VLOOKUP(L13,CA_ingestion!A$1:J$78,10,0))),0))) -> 0 | AF13: =AD13/2 -> 0 | AG13: =AE13+AF13 -> 0
D14: [select from list] | E14: =VLOOKUP(D14,'List Data'!$A$100:$B$104,2,0) -> 0 | I14: =Summary!C$23 -> Afghanistan | K14: Please select from list | L14: Please select from list | M14: =T14*Summary!$H$27 -> 0 | N14: =U14*Summary!$H$25 -> 0 | O14: =VLOOKUP(L14,'List Data'!A$2:C$94,3,0) -> 0 | P14: =VLOOKUP(L14,'List Data'!A$2:B$94,2,0) -> -------- | Q14: =F14*0.7+(10.7) -> 10.7 | R14: =IF(K14="Child (0-7 years)",135,50) -> 50 | S14: =(F14/1000000)*R14 -> 0 | T14: =V14+X14+AA14 -> 0 | U14: =W14+Y14+Z14+AB14+AG14 -> 0 | V14: =(IF(AND((O14="OP"),(K14="Child (0-7 years)")),VLOOKUP(($R14*(F14/1000000)),'OP Values'!$A$1:$Q$35,7),))*E14 -> 0 | W14: =(IF(O14="OP",VLOOKUP(($R14*(F14/1000000)),'OP Values'!$A$1:$Q$35,17),))*E14 -> 0 | X14: =(IF(AND((O14="Pb"),(K14="Child (0-7 years)")),(VLOOKUP(F14,Pb!$A$1:$AV$103,13)),0))*E14 -> 0 | Y14: =(IF(AND((O14="Pb"),(K14="Child (0-7 years)")),(VLOOKUP(F14,Pb!$A$2:$AV$103,22)),0))*E14 -> 0 | Z14: =(IF(AND((O14="Pb"),(K14="Adult (> 15 years)")),(VLOOKUP(F14,Pb!$A$2:$AV$103,48)),0))*E14 -> 0 | AA14: =(IF(AND((O14="Hg"),(K14="Child (0-7 years)")),(VLOOKUP(S14,'Hg Values'!$A$1:$M$30,3)),0))*E14 -> 0 | AB14: =(IF(AND((O14="Hg"),(K14="Child (0-7 years)")),(VLOOKUP(S14,'Hg Values'!$A$1:$M$30,13)),0))*E14 -> 0 | AC14: =((IF(AND((O14="CA"),(K14="Adult (> 15 years)")),(VLOOKUP(L14,CA_ingestion!A$1:J$78,7,0)),0))*((F14/1000000)*R14*70))/14 -> 0 | AD14: =(IF(AC14>1,1,AC14))*E14 -> 0 | AE14: =((IF(AND((O14="CA"),(K14="Adult (> 15 years)")),(AD14*(VLOOKUP(L14,CA_ingestion!A$1:J$78,10,0))),0))) -> 0 | AF14: =AD14/2 -> 0 | AG14: =AE14+AF14 -> 0
D15: [select from list] | E15: =VLOOKUP(D15,'List Data'!$A$100:$B$104,2,0) -> 0 | I15: =Summary!C$23 -> Afghanistan | K15: Please select from list | L15: Please select from list | M15: =T15*Summary!$H$27 -> 0 | N15: =U15*Summary!$H$25 -> 0 | O15: =VLOOKUP(L15,'List Data'!A$2:C$94,3,0) -> 0 | P15: =VLOOKUP(L15,'List Data'!A$2:B$94,2,0) -> -------- | Q15: =F15*0.7+(10.7) -> 10.7 | R15: =IF(K15="Child (0-7 years)",135,50) -> 50 | S15: =(F15/1000000)*R15 -> 0 | T15: =V15+X15+AA15 -> 0 | U15: =W15+Y15+Z15+AB15+AG15 -> 0 | V15: =(IF(AND((O15="OP"),(K15="Child (0-7 years)")),VLOOKUP(($R15*(F15/1000000)),'OP Values'!$A$1:$Q$35,7),))*E15 -> 0 | W15: =(IF(O15="OP",VLOOKUP(($R15*(F15/1000000)),'OP Values'!$A$1:$Q$35,17),))*E15 -> 0 | X15: =(IF(AND((O15="Pb"),(K15="Child (0-7 years)")),(VLOOKUP(F15,Pb!$A$1:$AV$103,13)),0))*E15 -> 0 | Y15: =(IF(AND((O15="Pb"),(K15="Child (0-7 years)")),(VLOOKUP(F15,Pb!$A$2:$AV$103,22)),0))*E15 -> 0 | Z15: =(IF(AND((O15="Pb"),(K15="Adult (> 15 years)")),(VLOOKUP(F15,Pb!$A$2:$AV$103,48)),0))*E15 -> 0 | AA15: =(IF(AND((O15="Hg"),(K15="Child (0-7 years)")),(VLOOKUP(S15,'Hg Values'!$A$1:$M$30,3)),0))*E15 -> 0 | AB15: =(IF(AND((O15="Hg"),(K15="Child (0-7 years)")),(VLOOKUP(S15,'Hg Values'!$A$1:$M$30,13)),0))*E15 -> 0 | AC15: =((IF(AND((O15="CA"),(K15="Adult (> 15 years)")),(VLOOKUP(L15,CA_ingestion!A$1:J$78,7,0)),0))*((F15/1000000)*R15*70))/14 -> 0 | AD15: =(IF(AC15>1,1,AC15))*E15 -> 0 | AE15: =((IF(AND((O15="CA"),(K15="Adult (> 15 years)")),(AD15*(VLOOKUP(L15,CA_ingestion!A$1:J$78,10,0))),0))) -> 0 | AF15: =AD15/2 -> 0 | AG15: =AE15+AF15 -> 0
D16: [select from list] | E16: =VLOOKUP(D16,'List Data'!$A$100:$B$104,2,0) -> 0 | I16: =Summary!C$23 -> Afghanistan | K16: Please select from list | L16: Please select from list | M16: =T16*Summary!$H$27 -> 0 | N16: =U16*Summary!$H$25 -> 0 | O16: =VLOOKUP(L16,'List Data'!A$2:C$94,3,0) -> 0 | P16: =VLOOKUP(L16,'List Data'!A$2:B$94,2,0) -> -------- | Q16: =F16*0.7+(10.7) -> 10.7 | R16: =IF(K16="Child (0-7 years)",135,50) -> 50 | S16: =(F16/1000000)*R16 -> 0 | T16: =V16+X16+AA16 -> 0 | U16: =W16+Y16+Z16+AB16+AG16 -> 0 | V16: =(IF(AND((O16="OP"),(K16="Child (0-7 years)")),VLOOKUP(($R16*(F16/1000000)),'OP Values'!$A$1:$Q$35,7),))*E16 -> 0 | W16: =(IF(O16="OP",VLOOKUP(($R16*(F16/1000000)),'OP Values'!$A$1:$Q$35,17),))*E16 -> 0 | X16: =(IF(AND((O16="Pb"),(K16="Child (0-7 years)")),(VLOOKUP(F16,Pb!$A$1:$AV$103,13)),0))*E16 -> 0 | Y16: =(IF(AND((O16="Pb"),(K16="Child (0-7 years)")),(VLOOKUP(F16,Pb!$A$2:$AV$103,22)),0))*E16 -> 0 | Z16: =(IF(AND((O16="Pb"),(K16="Adult (> 15 years)")),(VLOOKUP(F16,Pb!$A$2:$AV$103,48)),0))*E16 -> 0 | AA16: =(IF(AND((O16="Hg"),(K16="Child (0-7 years)")),(VLOOKUP(S16,'Hg Values'!$A$1:$M$30,3)),0))*E16 -> 0 | AB16: =(IF(AND((O16="Hg"),(K16="Child (0-7 years)")),(VLOOKUP(S16,'Hg Values'!$A$1:$M$30,13)),0))*E16 -> 0 | AC16: =((IF(AND((O16="CA"),(K16="Adult (> 15 years)")),(VLOOKUP(L16,CA_ingestion!A$1:J$78,7,0)),0))*((F16/1000000)*R16*70))/14 -> 0 | AD16: =(IF(AC16>1,1,AC16))*E16 -> 0 | AE16: =((IF(AND((O16="CA"),(K16="Adult (> 15 years)")),(AD16*(VLOOKUP(L16,CA_ingestion!A$1:J$78,10,0))),0))) -> 0 | AF16: =AD16/2 -> 0 | AG16: =AE16+AF16 -> 0
D17: [select from list] | E17: =VLOOKUP(D17,'List Data'!$A$100:$B$104,2,0) -> 0 | I17: =Summary!C$23 -> Afghanistan | K17: Please select from list | L17: Please select from list | M17: =T17*Summary!$H$27 -> 0 | N17: =U17*Summary!$H$25 -> 0 | O17: =VLOOKUP(L17,'List Data'!A$2:C$94,3,0) -> 0 | P17: =VLOOKUP(L17,'List Data'!A$2:B$94,2,0) -> -------- | Q17: =F17*0.7+(10.7) -> 10.7 | R17: =IF(K17="Child (0-7 years)",135,50) -> 50 | S17: =(F17/1000000)*R17 -> 0 | T17: =V17+X17+AA17 -> 0 | U17: =W17+Y17+Z17+AB17+AG17 -> 0 | V17: =(IF(AND((O17="OP"),(K17="Child (0-7 years)")),VLOOKUP(($R17*(F17/1000000)),'OP Values'!$A$1:$Q$35,7),))*E17 -> 0 | W17: =(IF(O17="OP",VLOOKUP(($R17*(F17/1000000)),'OP Values'!$A$1:$Q$35,17),))*E17 -> 0 | X17: =(IF(AND((O17="Pb"),(K17="Child (0-7 years)")),(VLOOKUP(F17,Pb!$A$1:$AV$103,13)),0))*E17 -> 0 | Y17: =(IF(AND((O17="Pb"),(K17="Child (0-7 years)")),(VLOOKUP(F17,Pb!$A$2:$AV$103,22)),0))*E17 -> 0 | Z17: =(IF(AND((O17="Pb"),(K17="Adult (> 15 years)")),(VLOOKUP(F17,Pb!$A$2:$AV$103,48)),0))*E17 -> 0 | AA17: =(IF(AND((O17="Hg"),(K17="Child (0-7 years)")),(VLOOKUP(S17,'Hg Values'!$A$1:$M$30,3)),0))*E17 -> 0 | AB17: =(IF(AND((O17="Hg"),(K17="Child (0-7 years)")),(VLOOKUP(S17,'Hg Values'!$A$1:$M$30,13)),0))*E17 -> 0 | AC17: =((IF(AND((O17="CA"),(K17="Adult (> 15 years)")),(VLOOKUP(L17,CA_ingestion!A$1:J$78,7,0)),0))*((F17/1000000)*R17*70))/14 -> 0 | AD17: =(IF(AC17>1,1,AC17))*E17 -> 0 | AE17: =((IF(AND((O17="CA"),(K17="Adult (> 15 years)")),(AD17*(VLOOKUP(L17,CA_ingestion!A$1:J$78,10,0))),0))) -> 0 | AF17: =AD17/2 -> 0 | AG17: =AE17+AF17 -> 0
... D105: [select from list] | E105: =VLOOKUP(D105,'List Data'!$A$100:$B$104,2,0) -> 0 | I105: =Summary!C$23 -> Afghanistan | K105: Please select from list | L105: Please select from list | M105: =T105*Summary!$H$27 -> 0 | N105: =U105*Summary!$H$25 -> 0 | O105: =VLOOKUP(L105,'List Data'!A$2:C$94,3,0) -> 0 | P105: =VLOOKUP(L105,'List Data'!A$2:B$94,2,0) -> -------- | Q105: =F105*0.7+(10.7) -> 10.7 | R105: =IF(K105="Child (0-7 years)",135,50) -> 50 | S105: =(F105/1000000)*R105 -> 0 | T105: =V105+X105+AA105 -> 0 | U105: =W105+Y105+Z105+AB105+AG105 -> 0 | V105: =(IF(AND((O105="OP"),(K105="Child (0-7 years)")),VLOOKUP(($R105*(F105/1000000)),'OP Values'!$A$1:$Q$35,7),))*E105 -> 0 | W105: =(IF(O105="OP",VLOOKUP(($R105*(F105/1000000)),'OP Values'!$A$1:$Q$35,17),))*E105 -> 0 | X105: =(IF(AND((O105="Pb"),(K105="Child (0-7 years)")),(VLOOKUP(F105,Pb!$A$1:$AV$103,13)),0))*E105 -> 0 | Y105: =(IF(AND((O105="Pb"),(K105="Child (0-7 years)")),(VLOOKUP(F105,Pb!$A$2:$AV$103,22)),0))*E105 -> 0 | Z105: =(IF(AND((O105="Pb"),(K105="Adult (> 15 years)")),(VLOOKUP(F105,Pb!$A$2:$AV$103,48)),0))*E105 -> 0 | AA105: =(IF(AND((O105="Hg"),(K105="Child (0-7 years)")),(VLOOKUP(S105,'Hg Values'!$A$1:$M$30,3)),0))*E105 -> 0 | AB105: =(IF(AND((O105="Hg"),(K105="Child (0-7 years)")),(VLOOKUP(S105,'Hg Values'!$A$1:$M$30,13)),0))*E105 -> 0 | AC105: =((IF(AND((O105="CA"),(K105="Adult (> 15 years)")),(VLOOKUP(L105,CA_ingestion!A$1:J$78,7,0)),0))*((F105/1000000)*R105*70))/14 -> 0 | AD105: =(IF(AC105>1,1,AC105))*E105 -> 0 | AE105: =((IF(AND((O105="CA"),(K105="Adult (> 15 years)")),(AD105*(VLOOKUP(L105,CA_ingestion!A$1:J$78,10,0))),0))) -> 0 | AF105: =AD105/2 -> 0 | AG105: =AE105+AF105 -> 0

Sheet Dust
A1: Dust Worksheet
A2: Total IQ Decrement | E2: =SUM(T:T) -> 0 | F2: Total DALYs | H2: =SUM(U:U) -> 0
A4: Site name | B4: Latitude | C4: Longitude | D4: Population | E4: Population Value | F4: Concentration (mg/kg) | G4: District | H4: Region | I4: Country | J4: Data Source | K4: Adult or Child | L4: Chemical | M4: Site cost (IQ) | N4: Site cost (DALYs) | O4: Code | P4: CAS # | Q4: Estimated Soil Concentration | R4: Ingestion rate (mg/day) | S4: Total daily intake | T4: Total IQ decrement | U4: Total DALYS | V4: IQ decrement OP | W4: Attributable DALYS (OP) | X4: IQ Decrement (Lead) | Y4: Attributable Children DALYS (Lead) | Z4: Attributable Adult DALYS (Lead) | AA4: IQ Decrement (Hg) | AB4: Attributable DALYS (Hg) | AC4: Number of Attributable Cancer Cases/ person (raw) | AD4: Number of Attributable Cancer Cases (population) | AE4: Attributable YLD (Ca) | AF4: Attributable YLL | AG4: DALYs (Ca)
D5: [select from list] | E5: =VLOOKUP(D5,'List Data'!$A$100:$B$104,2,0) -> 0 | F5: -1 | I5: =Summary!C$23 -> Afghanistan | K5: Please select from list | L5: Please select from list | M5: =T5*Summary!$H$27 -> 0 | N5: =U5*Summary!$H$25 -> 0 | O5: =VLOOKUP(L5,'List Data'!A$2:C$94,3,0) -> 0 | P5: =VLOOKUP(L5,'List Data'!A$2:B$94,2,0) -> -------- | Q5: =IF(F5<8,0,(F5/0.7-(10.7))) -> 0 | R5: =IF(K5="Child (0-7 years)", 135,50) -> 50 | S5: =(F5/1000000)*R5 -> -5e-05 | T5: =V5+X5+AA5 -> 0 | U5: =W5+Y5+Z5+AB5+AG5 -> 0 | V5: =(IF(AND((O5="OP"),(K5="Child (0-7 years)")),VLOOKUP(($R5*(Q5/1000000)),'OP Values'!$A$1:$Q$35,7),))*E5 -> 0 | W5: =(IF(O5="OP",VLOOKUP(($R5*(F5/1000000)),'OP Values'!$A$1:$Q$35,17),))*E5 -> 0 | X5: =(IF(AND((O5="Pb"),(K5="Child (0-7 years)")),(VLOOKUP(Q5,Pb!$A$2:$AV$103,13)),0))*E5 -> 0 | Y5: =(IF(AND((O5="Pb"),(K5="Child (0-7 years)")),(VLOOKUP(Q5,Pb!$A$2:$AV$103,22)),0))*E5 -> 0 | Z5: =(IF(AND((O5="Pb"),(K5="Adult (> 15 years)")),(VLOOKUP(Q5,Pb!$A$2:$AV$103,48)),0))*E5 -> 0 | AA5: =(IF(AND((O5="Hg"),(K5="Child (0-7 years)")),(VLOOKUP(S5,'Hg Values'!$A$1:$M$30,3)),0))*E5 -> 0 | AB5: =(IF(AND((O5="Hg"),(K5="Child (0-7 years)")),(VLOOKUP(Q5,'Hg Values'!$A$1:$M$30,13)),0))*E5 -> 0 | AC5: =((IF(AND((O5="CA"),(K5="Adult (> 15 years)")),(VLOOKUP(L5,CA_ingestion!A$1:J$78,7,0)),0))*((Q5/1000000)*R5*70))/14 -> 0 | AD5: =(IF(AC5>1,1,AC5))*E5 -> 0 | AE5: =((IF(AND((O5="CA"),(K5="Adult (> 15 years)")),(AD5*(VLOOKUP(L5,CA_ingestion!A$1:J$78,10,0))),0))) -> 0 | AF5: =AD5/2 -> 0 | AG5: =AE5+AF5 -> 0
D6: [select from list] | E6: =VLOOKUP(D6,'List Data'!$A$100:$B$104,2,0) -> 0 | F6: 0 | I6: =Summary!C$23 -> Afghanistan | K6: Please select from list | L6: Please select from list | M6: =T6*Summary!$H$27 -> 0 | N6: =U6*Summary!$H$25 -> 0 | O6: =VLOOKUP(L6,'List Data'!A$2:C$94,3,0) -> 0 | P6: =VLOOKUP(L6,'List Data'!A$2:B$94,2,0) -> -------- | Q6: =IF(F6<8,0,(F6/0.7-(10.7))) -> 0 | R6: =IF(K6="Child (0-7 years)", 135,50) -> 50 | U6: =W6+Y6+Z6+AB6+AG6 -> 0 | V6: =(IF(AND((O6="OP"),(K6="Child (0-7 years)")),VLOOKUP(($R6*(Q6/1000000)),'OP Values'!$A$1:$Q$35,7),))*E6 -> 0 | W6: =(IF(O6="OP",VLOOKUP(($R6*(F6/1000000)),'OP Values'!$A$1:$Q$35,17),))*E6 -> 0 | X6: =(IF(AND((O6="Pb"),(K6="Child (0-7 years)")),(VLOOKUP(Q6,Pb!$A$2:$AV$103,13)),0))*E6 -> 0 | Y6: =(IF(AND((O6="Pb"),(K6="Child (0-7 years)")),(VLOOKUP(Q6,Pb!$A$2:$AV$103,22)),0))*E6 -> 0 | Z6: =(IF(AND((O6="Pb"),(K6="Adult (> 15 years)")),(VLOOKUP(Q6,Pb!$A$2:$AV$103,48)),0))*E6 -> 0 | AA6: =(IF(AND((O6="Hg"),(K6="Child (0-7 years)")),(VLOOKUP(S6,'Hg Values'!$A$1:$M$30,3)),0))*E6 -> 0 | AB6: =(IF(AND((O6="Hg"),(K6="Child (0-7 years)")),(VLOOKUP(Q6,'Hg Values'!$A$1:$M$30,13)),0))*E6 -> 0 | AC6: =((IF(AND((O6="CA"),(K6="Adult (> 15 years)")),(VLOOKUP(L6,CA_ingestion!A$1:J$78,7,0)),0))*((Q6/1000000)*R6*70))/14 -> 0 | AD6: =(IF(AC6>1,1,AC6))*E6 -> 0 | AE6: =((IF(AND((O6="CA"),(K6="Adult (> 15 years)")),(AD6*(VLOOKUP(L6,CA_ingestion!A$1:J$78,10,0))),0))) -> 0 | AF6: =AD6/2 -> 0 | AG6: =AE6+AF6 -> 0
D7: [select from list] | E7: =VLOOKUP(D7,'List Data'!$A$100:$B$104,2,0) -> 0 | F7: 0 | I7: =Summary!C$23 -> Afghanistan | K7: Please select from list | L7: Please select from list | M7: =T7*Summary!$H$27 -> 0 | N7: =U7*Summary!$H$25 -> 0 | O7: =VLOOKUP(L7,'List Data'!A$2:C$94,3,0) -> 0 | P7: =VLOOKUP(L7,'List Data'!A$2:B$94,2,0) -> -------- | Q7: =IF(F7<8,0,(F7/0.7-(10.7))) -> 0 | R7: =IF(K7="Child (0-7 years)", 135,50) -> 50 | S7: =(F7/1000000)*R7 -> 0 | T7: =V7+X7+AA7 -> 0 | U7: =W7+Y7+Z7+AB7+AG7 -> 0 | V7: =(IF(AND((O7="OP"),(K7="Child (0-7 years)")),VLOOKUP(($R7*(Q7/1000000)),'OP Values'!$A$1:$Q$35,7),))*E7 -> 0 | W7: =(IF(O7="OP",VLOOKUP(($R7*(F7/1000000)),'OP Values'!$A$1:$Q$35,17),))*E7 -> 0 | X7: =(IF(AND((O7="Pb"),(K7="Child (0-7 years)")),(VLOOKUP(Q7,Pb!$A$2:$AV$103,13)),0))*E7 -> 0 | Y7: =(IF(AND((O7="Pb"),(K7="Child (0-7 years)")),(VLOOKUP(Q7,Pb!$A$2:$AV$103,22)),0))*E7 -> 0 | Z7: =(IF(AND((O7="Pb"),(K7="Adult (> 15 years)")),(VLOOKUP(Q7,Pb!$A$2:$AV$103,48)),0))*E7 -> 0 | AA7: =(IF(AND((O7="Hg"),(K7="Child (0-7 years)")),(VLOOKUP(S7,'Hg Values'!$A$1:$M$30,3)),0))*E7 -> 0 | AB7: =(IF(AND((O7="Hg"),(K7="Child (0-7 years)")),(VLOOKUP(Q7,'Hg Values'!$A$1:$M$30,13)),0))*E7 -> 0 | AC7: =((IF(AND((O7="CA"),(K7="Adult (> 15 years)")),(VLOOKUP(L7,CA_ingestion!A$1:J$78,7,0)),0))*((Q7/1000000)*R7*70))/14 -> 0 | AD7: =(IF(AC7>1,1,AC7))*E7 -> 0 | AE7: =((IF(AND((O7="CA"),(K7="Adult (> 15 years)")),(AD7*(VLOOKUP(L7,CA_ingestion!A$1:J$78,10,0))),0))) -> 0 | AF7: =AD7/2 -> 0 | AG7: =AE7+AF7 -> 0
D8: [select from list] | E8: =VLOOKUP(D8,'List Data'!$A$100:$B$104,2,0) -> 0 | F8: 0 | I8: =Summary!C$23 -> Afghanistan | K8: Please select from list | L8: Please select from list | M8: =T8*Summary!$H$27 -> 0 | N8: =U8*Summary!$H$25 -> 0 | O8: =VLOOKUP(L8,'List Data'!A$2:C$94,3,0) -> 0 | P8: =VLOOKUP(L8,'List Data'!A$2:B$94,2,0) -> -------- | Q8: =IF(F8<8,0,(F8/0.7-(10.7))) -> 0 | R8: =IF(K8="Child (0-7 years)", 135,50) -> 50 | S8: =(F8/1000000)*R8 -> 0 | T8: =V8+X8+AA8 -> 0 | U8: =W8+Y8+Z8+AB8+AG8 -> 0 | V8: =(IF(AND((O8="OP"),(K8="Child (0-7 years)")),VLOOKUP(($R8*(Q8/1000000)),'OP Values'!$A$1:$Q$35,7),))*E8 -> 0 | W8: =(IF(O8="OP",VLOOKUP(($R8*(F8/1000000)),'OP Values'!$A$1:$Q$35,17),))*E8 -> 0 | X8: =(IF(AND((O8="Pb"),(K8="Child (0-7 years)")),(VLOOKUP(Q8,Pb!$A$2:$AV$103,13)),0))*E8 -> 0 | Y8: =(IF(AND((O8="Pb"),(K8="Child (0-7 years)")),(VLOOKUP(Q8,Pb!$A$2:$AV$103,22)),0))*E8 -> 0 | Z8: =(IF(AND((O8="Pb"),(K8="Adult (> 15 years)")),(VLOOKUP(Q8,Pb!$A$2:$AV$103,48)),0))*E8 -> 0 | AA8: =(IF(AND((O8="Hg"),(K8="Child (0-7 years)")),(VLOOKUP(S8,'Hg Values'!$A$1:$M$30,3)),0))*E8 -> 0 | AB8: =(IF(AND((O8="Hg"),(K8="Child (0-7 years)")),(VLOOKUP(Q8,'Hg Values'!$A$1:$M$30,13)),0))*E8 -> 0 | AC8: =((IF(AND((O8="CA"),(K8="Adult (> 15 years)")),(VLOOKUP(L8,CA_ingestion!A$1:J$78,7,0)),0))*((Q8/1000000)*R8*70))/14 -> 0 | AD8: =(IF(AC8>1,1,AC8))*E8 -> 0 | AE8: =((IF(AND((O8="CA"),(K8="Adult (> 15 years)")),(AD8*(VLOOKUP(L8,CA_ingestion!A$1:J$78,10,0))),0))) -> 0 | AF8: =AD8/2 -> 0 | AG8: =AE8+AF8 -> 0
D9: [select from list] | E9: =VLOOKUP(D9,'List Data'!$A$100:$B$104,2,0) -> 0 | F9: 0 | I9: =Summary!C$23 -> Afghanistan | K9: Please select from list | L9: Please select from list | M9: =T9*Summary!$H$27 -> 0 | N9: =U9*Summary!$H$25 -> 0 | O9: =VLOOKUP(L9,'List Data'!A$2:C$94,3,0) -> 0 | P9: =VLOOKUP(L9,'List Data'!A$2:B$94,2,0) -> -------- | Q9: =IF(F9<8,0,(F9/0.7-(10.7))) -> 0 | R9: =IF(K9="Child (0-7 years)", 135,50) -> 50 | S9: =(F9/1000000)*R9 -> 0 | T9: =V9+X9+AA9 -> 0 | U9: =W9+Y9+Z9+AB9+AG9 -> 0 | V9: =(IF(AND((O9="OP"),(K9="Child (0-7 years)")),VLOOKUP(($R9*(Q9/1000000)),'OP Values'!$A$1:$Q$35,7),))*E9 -> 0 | W9: =(IF(O9="OP",VLOOKUP(($R9*(F9/1000000)),'OP Values'!$A$1:$Q$35,17),))*E9 -> 0 | X9: =(IF(AND((O9="Pb"),(K9="Child (0-7 years)")),(VLOOKUP(Q9,Pb!$A$2:$AV$103,13)),0))*E9 -> 0 | Y9: =(IF(AND((O9="Pb"),(K9="Child (0-7 years)")),(VLOOKUP(Q9,Pb!$A$2:$AV$103,22)),0))*E9 -> 0 | Z9: =(IF(AND((O9="Pb"),(K9="Adult (> 15 years)")),(VLOOKUP(Q9,Pb!$A$2:$AV$103,48)),0))*E9 -> 0 | AA9: =(IF(AND((O9="Hg"),(K9="Child (0-7 years)")),(VLOOKUP(S9,'Hg Values'!$A$1:$M$30,3)),0))*E9 -> 0 | AB9: =(IF(AND((O9="Hg"),(K9="Child (0-7 years)")),(VLOOKUP(Q9,'Hg Values'!$A$1:$M$30,13)),0))*E9 -> 0 | AC9: =((IF(AND((O9="CA"),(K9="Adult (> 15 years)")),(VLOOKUP(L9,CA_ingestion!A$1:J$78,7,0)),0))*((Q9/1000000)*R9*70))/14 -> 0 | AD9: =(IF(AC9>1,1,AC9))*E9 -> 0 | AE9: =((IF(AND((O9="CA"),(K9="Adult (> 15 years)")),(AD9*(VLOOKUP(L9,CA_ingestion!A$1:J$78,10,0))),0))) -> 0 | AF9: =AD9/2 -> 0 | AG9: =AE9+AF9 -> 0
D10: [select from list] | E10: =VLOOKUP(D10,'List Data'!$A$100:$B$104,2,0) -> 0 | F10: 0 | I10: =Summary!C$23 -> Afghanistan | K10: Please select from list | L10: Please select from list | M10: =T10*Summary!$H$27 -> 0 | N10: =U10*Summary!$H$25 -> 0 | O10: =VLOOKUP(L10,'List Data'!A$2:C$94,3,0) -> 0 | P10: =VLOOKUP(L10,'List Data'!A$2:B$94,2,0) -> -------- | Q10: =IF(F10<8,0,(F10/0.7-(10.7))) -> 0 | R10: =IF(K10="Child (0-7 years)", 135,50) -> 50 | S10: =(F10/1000000)*R10 -> 0 | T10: =V10+X10+AA10 -> 0 | U10: =W10+Y10+Z10+AB10+AG10 -> 0 | V10: =(IF(AND((O10="OP"),(K10="Child (0-7 years)")),VLOOKUP(($R10*(Q10/1000000)),'OP Values'!$A$1:$Q$35,7),))*E10 -> 0 | W10: =(IF(O10="OP",VLOOKUP(($R10*(F10/1000000)),'OP Values'!$A$1:$Q$35,17),))*E10 -> 0 | X10: =(IF(AND((O10="Pb"),(K10="Child (0-7 years)")),(VLOOKUP(Q10,Pb!$A$2:$AV$103,13)),0))*E10 -> 0 | Y10: =(IF(AND((O10="Pb"),(K10="Child (0-7 years)")),(VLOOKUP(Q10,Pb!$A$2:$AV$103,22)),0))*E10 -> 0 | Z10: =(IF(AND((O10="Pb"),(K10="Adult (> 15 years)")),(VLOOKUP(Q10,Pb!$A$2:$AV$103,48)),0))*E10 -> 0 | AA10: =(IF(AND((O10="Hg"),(K10="Child (0-7 years)")),(VLOOKUP(S10,'Hg Values'!$A$1:$M$30,3)),0))*E10 -> 0 | AB10: =(IF(AND((O10="Hg"),(K10="Child (0-7 years)")),(VLOOKUP(Q10,'Hg Values'!$A$1:$M$30,13)),0))*E10 -> 0 | AC10: =((IF(AND((O10="CA"),(K10="Adult (> 15 years)")),(VLOOKUP(L10,CA_ingestion!A$1:J$78,7,0)),0))*((Q10/1000000)*R10*70))/14 -> 0 | AD10: =(IF(AC10>1,1,AC10))*E10 -> 0 | AE10: =((IF(AND((O10="CA"),(K10="Adult (> 15 years)")),(AD10*(VLOOKUP(L10,CA_ingestion!A$1:J$78,10,0))),0))) -> 0 | AF10: =AD10/2 -> 0 | AG10: =AE10+AF10 -> 0
D11: [select from list] | E11: =VLOOKUP(D11,'List Data'!$A$100:$B$104,2,0) -> 0 | F11: 0 | I11: =Summary!C$23 -> Afghanistan | K11: Please select from list | L11: Please select from list | M11: =T11*Summary!$H$27 -> 0 | N11: =U11*Summary!$H$25 -> 0 | O11: =VLOOKUP(L11,'List Data'!A$2:C$94,3,0) -> 0 | P11: =VLOOKUP(L11,'List Data'!A$2:B$94,2,0) -> -------- | Q11: =IF(F11<8,0,(F11/0.7-(10.7))) -> 0 | R11: =IF(K11="Child (0-7 years)", 135,50) -> 50 | S11: =(F11/1000000)*R11 -> 0 | T11: =V11+X11+AA11 -> 0 | U11: =W11+Y11+Z11+AB11+AG11 -> 0 | V11: =(IF(AND((O11="OP"),(K11="Child (0-7 years)")),VLOOKUP(($R11*(Q11/1000000)),'OP Values'!$A$1:$Q$35,7),))*E11 -> 0 | W11: =(IF(O11="OP",VLOOKUP(($R11*(F11/1000000)),'OP Values'!$A$1:$Q$35,17),))*E11 -> 0 | X11: =(IF(AND((O11="Pb"),(K11="Child (0-7 years)")),(VLOOKUP(Q11,Pb!$A$2:$AV$103,13)),0))*E11 -> 0 | Y11: =(IF(AND((O11="Pb"),(K11="Child (0-7 years)")),(VLOOKUP(Q11,Pb!$A$2:$AV$103,22)),0))*E11 -> 0 | Z11: =(IF(AND((O11="Pb"),(K11="Adult (> 15 years)")),(VLOOKUP(Q11,Pb!$A$2:$AV$103,48)),0))*E11 -> 0 | AA11: =(IF(AND((O11="Hg"),(K11="Child (0-7 years)")),(VLOOKUP(S11,'Hg Values'!$A$1:$M$30,3)),0))*E11 -> 0 | AB11: =(IF(AND((O11="Hg"),(K11="Child (0-7 years)")),(VLOOKUP(Q11,'Hg Values'!$A$1:$M$30,13)),0))*E11 -> 0 | AC11: =((IF(AND((O11="CA"),(K11="Adult (> 15 years)")),(VLOOKUP(L11,CA_ingestion!A$1:J$78,7,0)),0))*((Q11/1000000)*R11*70))/14 -> 0 | AD11: =(IF(AC11>1,1,AC11))*E11 -> 0 | AE11: =((IF(AND((O11="CA"),(K11="Adult (> 15 years)")),(AD11*(VLOOKUP(L11,CA_ingestion!A$1:J$78,10,0))),0))) -> 0 | AF11: =AD11/2 -> 0 | AG11: =AE11+AF11 -> 0
D12: [select from list] | E12: =VLOOKUP(D12,'List Data'!$A$100:$B$104,2,0) -> 0 | F12: 0 | I12: =Summary!C$23 -> Afghanistan | K12: Please select from list | L12: Please select from list | M12: =T12*Summary!$H$27 -> 0 | N12: =U12*Summary!$H$25 -> 0 | O12: =VLOOKUP(L12,'List Data'!A$2:C$94,3,0) -> 0 | P12: =VLOOKUP(L12,'List Data'!A$2:B$94,2,0) -> -------- | Q12: =IF(F12<8,0,(F12/0.7-(10.7))) -> 0 | R12: =IF(K12="Child (0-7 years)", 135,50) -> 50 | S12: =(F12/1000000)*R12 -> 0 | T12: =V12+X12+AA12 -> 0 | U12: =W12+Y12+Z12+AB12+AG12 -> 0 | V12: =(IF(AND((O12="OP"),(K12="Child (0-7 years)")),VLOOKUP(($R12*(Q12/1000000)),'OP Values'!$A$1:$Q$35,7),))*E12 -> 0 | W12: =(IF(O12="OP",VLOOKUP(($R12*(F12/1000000)),'OP Values'!$A$1:$Q$35,17),))*E12 -> 0 | X12: =(IF(AND((O12="Pb"),(K12="Child (0-7 years)")),(VLOOKUP(Q12,Pb!$A$2:$AV$103,13)),0))*E12 -> 0 | Y12: =(IF(AND((O12="Pb"),(K12="Child (0-7 years)")),(VLOOKUP(Q12,Pb!$A$2:$AV$103,22)),0))*E12 -> 0 | Z12: =(IF(AND((O12="Pb"),(K12="Adult (> 15 years)")),(VLOOKUP(Q12,Pb!$A$2:$AV$103,48)),0))*E12 -> 0 | AA12: =(IF(AND((O12="Hg"),(K12="Child (0-7 years)")),(VLOOKUP(S12,'Hg Values'!$A$1:$M$30,3)),0))*E12 -> 0 | AB12: =(IF(AND((O12="Hg"),(K12="Child (0-7 years)")),(VLOOKUP(Q12,'Hg Values'!$A$1:$M$30,13)),0))*E12 -> 0 | AC12: =((IF(AND((O12="CA"),(K12="Adult (> 15 years)")),(VLOOKUP(L12,CA_ingestion!A$1:J$78,7,0)),0))*((Q12/1000000)*R12*70))/14 -> 0 | AD12: =(IF(AC12>1,1,AC12))*E12 -> 0 | AE12: =((IF(AND((O12="CA"),(K12="Adult (> 15 years)")),(AD12*(VLOOKUP(L12,CA_ingestion!A$1:J$78,10,0))),0))) -> 0 | AF12: =AD12/2 -> 0 | AG12: =AE12+AF12 -> 0
D13: [select from list] | E13: =VLOOKUP(D13,'List Data'!$A$100:$B$104,2,0) -> 0 | F13: 0 | I13: =Summary!C$23 -> Afghanistan | K13: Please select from list | L13: Please select from list | M13: =T13*Summary!$H$27 -> 0 | N13: =U13*Summary!$H$25 -> 0 | O13: =VLOOKUP(L13,'List Data'!A$2:C$94,3,0) -> 0 | P13: =VLOOKUP(L13,'List Data'!A$2:B$94,2,0) -> -------- | Q13: =IF(F13<8,0,(F13/0.7-(10.7))) -> 0 | R13: =IF(K13="Child (0-7 years)", 135,50) -> 50 | S13: =(F13/1000000)*R13 -> 0 | T13: =V13+X13+AA13 -> 0 | U13: =W13+Y13+Z13+AB13+AG13 -> 0 | V13: =(IF(AND((O13="OP"),(K13="Child (0-7 years)")),VLOOKUP(($R13*(Q13/1000000)),'OP Values'!$A$1:$Q$35,7),))*E13 -> 0 | W13: =(IF(O13="OP",VLOOKUP(($R13*(F13/1000000)),'OP Values'!$A$1:$Q$35,17),))*E13 -> 0 | X13: =(IF(AND((O13="Pb"),(K13="Child (0-7 years)")),(VLOOKUP(Q13,Pb!$A$2:$AV$103,13)),0))*E13 -> 0 | Y13: =(IF(AND((O13="Pb"),(K13="Child (0-7 years)")),(VLOOKUP(Q13,Pb!$A$2:$AV$103,22)),0))*E13 -> 0 | Z13: =(IF(AND((O13="Pb"),(K13="Adult (> 15 years)")),(VLOOKUP(Q13,Pb!$A$2:$AV$103,48)),0))*E13 -> 0 | AA13: =(IF(AND((O13="Hg"),(K13="Child (0-7 years)")),(VLOOKUP(S13,'Hg Values'!$A$1:$M$30,3)),0))*E13 -> 0 | AB13: =(IF(AND((O13="Hg"),(K13="Child (0-7 years)")),(VLOOKUP(Q13,'Hg Values'!$A$1:$M$30,13)),0))*E13 -> 0 | AC13: =((IF(AND((O13="CA"),(K13="Adult (> 15 years)")),(VLOOKUP(L13,CA_ingestion!A$1:J$78,7,0)),0))*((Q13/1000000)*R13*70))/14 -> 0 | AD13: =(IF(AC13>1,1,AC13))*E13 -> 0 | AE13: =((IF(AND((O13="CA"),(K13="Adult (> 15 years)")),(AD13*(VLOOKUP(L13,CA_ingestion!A$1:J$78,10,0))),0))) -> 0 | AF13: =AD13/2 -> 0 | AG13: =AE13+AF13 -> 0
D14: [select from list] | E14: =VLOOKUP(D14,'List Data'!$A$100:$B$104,2,0) -> 0 | F14: 0 | I14: =Summary!C$23 -> Afghanistan | K14: Please select from list | L14: Please select from list | M14: =T14*Summary!$H$27 -> 0 | N14: =U14*Summary!$H$25 -> 0 | O14: =VLOOKUP(L14,'List Data'!A$2:C$94,3,0) -> 0 | P14: =VLOOKUP(L14,'List Data'!A$2:B$94,2,0) -> -------- | Q14: =IF(F14<8,0,(F14/0.7-(10.7))) -> 0 | R14: =IF(K14="Child (0-7 years)", 135,50) -> 50 | S14: =(F14/1000000)*R14 -> 0 | T14: =V14+X14+AA14 -> 0 | U14: =W14+Y14+Z14+AB14+AG14 -> 0 | V14: =(IF(AND((O14="OP"),(K14="Child (0-7 years)")),VLOOKUP(($R14*(Q14/1000000)),'OP Values'!$A$1:$Q$35,7),))*E14 -> 0 | W14: =(IF(O14="OP",VLOOKUP(($R14*(F14/1000000)),'OP Values'!$A$1:$Q$35,17),))*E14 -> 0 | X14: =(IF(AND((O14="Pb"),(K14="Child (0-7 years)")),(VLOOKUP(Q14,Pb!$A$2:$AV$103,13)),0))*E14 -> 0 | Y14: =(IF(AND((O14="Pb"),(K14="Child (0-7 years)")),(VLOOKUP(Q14,Pb!$A$2:$AV$103,22)),0))*E14 -> 0 | Z14: =(IF(AND((O14="Pb"),(K14="Adult (> 15 years)")),(VLOOKUP(Q14,Pb!$A$2:$AV$103,48)),0))*E14 -> 0 | AA14: =(IF(AND((O14="Hg"),(K14="Child (0-7 years)")),(VLOOKUP(S14,'Hg Values'!$A$1:$M$30,3)),0))*E14 -> 0 | AB14: =(IF(AND((O14="Hg"),(K14="Child (0-7 years)")),(VLOOKUP(Q14,'Hg Values'!$A$1:$M$30,13)),0))*E14 -> 0 | AC14: =((IF(AND((O14="CA"),(K14="Adult (> 15 years)")),(VLOOKUP(L14,CA_ingestion!A$1:J$78,7,0)),0))*((Q14/1000000)*R14*70))/14 -> 0 | AD14: =(IF(AC14>1,1,AC14))*E14 -> 0 | AE14: =((IF(AND((O14="CA"),(K14="Adult (> 15 years)")),(AD14*(VLOOKUP(L14,CA_ingestion!A$1:J$78,10,0))),0))) -> 0 | AF14: =AD14/2 -> 0 | AG14: =AE14+AF14 -> 0
D15: [select from list] | E15: =VLOOKUP(D15,'List Data'!$A$100:$B$104,2,0) -> 0 | F15: 0 | I15: =Summary!C$23 -> Afghanistan | K15: Please select from list | L15: Please select from list | M15: =T15*Summary!$H$27 -> 0 | N15: =U15*Summary!$H$25 -> 0 | O15: =VLOOKUP(L15,'List Data'!A$2:C$94,3,0) -> 0 | P15: =VLOOKUP(L15,'List Data'!A$2:B$94,2,0) -> -------- | Q15: =IF(F15<8,0,(F15/0.7-(10.7))) -> 0 | R15: =IF(K15="Child (0-7 years)", 135,50) -> 50 | S15: =(F15/1000000)*R15 -> 0 | T15: =V15+X15+AA15 -> 0 | U15: =W15+Y15+Z15+AB15+AG15 -> 0 | V15: =(IF(AND((O15="OP"),(K15="Child (0-7 years)")),VLOOKUP(($R15*(Q15/1000000)),'OP Values'!$A$1:$Q$35,7),))*E15 -> 0 | W15: =(IF(O15="OP",VLOOKUP(($R15*(F15/1000000)),'OP Values'!$A$1:$Q$35,17),))*E15 -> 0 | X15: =(IF(AND((O15="Pb"),(K15="Child (0-7 years)")),(VLOOKUP(Q15,Pb!$A$2:$AV$103,13)),0))*E15 -> 0 | Y15: =(IF(AND((O15="Pb"),(K15="Child (0-7 years)")),(VLOOKUP(Q15,Pb!$A$2:$AV$103,22)),0))*E15 -> 0 | Z15: =(IF(AND((O15="Pb"),(K15="Adult (> 15 years)")),(VLOOKUP(Q15,Pb!$A$2:$AV$103,48)),0))*E15 -> 0 | AA15: =(IF(AND((O15="Hg"),(K15="Child (0-7 years)")),(VLOOKUP(S15,'Hg Values'!$A$1:$M$30,3)),0))*E15 -> 0 | AB15: =(IF(AND((O15="Hg"),(K15="Child (0-7 years)")),(VLOOKUP(Q15,'Hg Values'!$A$1:$M$30,13)),0))*E15 -> 0 | AC15: =((IF(AND((O15="CA"),(K15="Adult (> 15 years)")),(VLOOKUP(L15,CA_ingestion!A$1:J$78,7,0)),0))*((Q15/1000000)*R15*70))/14 -> 0 | AD15: =(IF(AC15>1,1,AC15))*E15 -> 0 | AE15: =((IF(AND((O15="CA"),(K15="Adult (> 15 years)")),(AD15*(VLOOKUP(L15,CA_ingestion!A$1:J$78,10,0))),0))) -> 0 | AF15: =AD15/2 -> 0 | AG15: =AE15+AF15 -> 0
D16: [select from list] | E16: =VLOOKUP(D16,'List Data'!$A$100:$B$104,2,0) -> 0 | F16: 0 | I16: =Summary!C$23 -> Afghanistan | K16: Please select from list | L16: Please select from list | M16: =T16*Summary!$H$27 -> 0 | N16: =U16*Summary!$H$25 -> 0 | O16: =VLOOKUP(L16,'List Data'!A$2:C$94,3,0) -> 0 | P16: =VLOOKUP(L16,'List Data'!A$2:B$94,2,0) -> -------- | Q16: =IF(F16<8,0,(F16/0.7-(10.7))) -> 0 | R16: =IF(K16="Child (0-7 years)", 135,50) -> 50 | S16: =(F16/1000000)*R16 -> 0 | T16: =V16+X16+AA16 -> 0 | U16: =W16+Y16+Z16+AB16+AG16 -> 0 | V16: =(IF(AND((O16="OP"),(K16="Child (0-7 years)")),VLOOKUP(($R16*(Q16/1000000)),'OP Values'!$A$1:$Q$35,7),))*E16 -> 0 | W16: =(IF(O16="OP",VLOOKUP(($R16*(F16/1000000)),'OP Values'!$A$1:$Q$35,17),))*E16 -> 0 | X16: =(IF(AND((O16="Pb"),(K16="Child (0-7 years)")),(VLOOKUP(Q16,Pb!$A$2:$AV$103,13)),0))*E16 -> 0 | Y16: =(IF(AND((O16="Pb"),(K16="Child (0-7 years)")),(VLOOKUP(Q16,Pb!$A$2:$AV$103,22)),0))*E16 -> 0 | Z16: =(IF(AND((O16="Pb"),(K16="Adult (> 15 years)")),(VLOOKUP(Q16,Pb!$A$2:$AV$103,48)),0))*E16 -> 0 | AA16: =(IF(AND((O16="Hg"),(K16="Child (0-7 years)")),(VLOOKUP(S16,'Hg Values'!$A$1:$M$30,3)),0))*E16 -> 0 | AB16: =(IF(AND((O16="Hg"),(K16="Child (0-7 years)")),(VLOOKUP(Q16,'Hg Values'!$A$1:$M$30,13)),0))*E16 -> 0 | AC16: =((IF(AND((O16="CA"),(K16="Adult (> 15 years)")),(VLOOKUP(L16,CA_ingestion!A$1:J$78,7,0)),0))*((Q16/1000000)*R16*70))/14 -> 0 | AD16: =(IF(AC16>1,1,AC16))*E16 -> 0 | AE16: =((IF(AND((O16="CA"),(K16="Adult (> 15 years)")),(AD16*(VLOOKUP(L16,CA_ingestion!A$1:J$78,10,0))),0))) -> 0 | AF16: =AD16/2 -> 0 | AG16: =AE16+AF16 -> 0
D17: [select from list] | E17: =VLOOKUP(D17,'List Data'!$A$100:$B$104,2,0) -> 0 | F17: 0 | I17: =Summary!C$23 -> Afghanistan | K17: Please select from list | L17: Please select from list | M17: =T17*Summary!$H$27 -> 0 | N17: =U17*Summary!$H$25 -> 0 | O17: =VLOOKUP(L17,'List Data'!A$2:C$94,3,0) -> 0 | P17: =VLOOKUP(L17,'List Data'!A$2:B$94,2,0) -> -------- | Q17: =IF(F17<8,0,(F17/0.7-(10.7))) -> 0 | R17: =IF(K17="Child (0-7 years)", 135,50) -> 50 | S17: =(F17/1000000)*R17 -> 0 | T17: =V17+X17+AA17 -> 0 | U17: =W17+Y17+Z17+AB17+AG17 -> 0 | V17: =(IF(AND((O17="OP"),(K17="Child (0-7 years)")),VLOOKUP(($R17*(Q17/1000000)),'OP Values'!$A$1:$Q$35,7),))*E17 -> 0 | W17: =(IF(O17="OP",VLOOKUP(($R17*(F17/1000000)),'OP Values'!$A$1:$Q$35,17),))*E17 -> 0 | X17: =(IF(AND((O17="Pb"),(K17="Child (0-7 years)")),(VLOOKUP(Q17,Pb!$A$2:$AV$103,13)),0))*E17 -> 0 | Y17: =(IF(AND((O17="Pb"),(K17="Child (0-7 years)")),(VLOOKUP(Q17,Pb!$A$2:$AV$103,22)),0))*E17 -> 0 | Z17: =(IF(AND((O17="Pb"),(K17="Adult (> 15 years)")),(VLOOKUP(Q17,Pb!$A$2:$AV$103,48)),0))*E17 -> 0 | AA17: =(IF(AND((O17="Hg"),(K17="Child (0-7 years)")),(VLOOKUP(S17,'Hg Values'!$A$1:$M$30,3)),0))*E17 -> 0 | AB17: =(IF(AND((O17="Hg"),(K17="Child (0-7 years)")),(VLOOKUP(Q17,'Hg Values'!$A$1:$M$30,13)),0))*E17 -> 0 | AC17: =((IF(AND((O17="CA"),(K17="Adult (> 15 years)")),(VLOOKUP(L17,CA_ingestion!A$1:J$78,7,0)),0))*((Q17/1000000)*R17*70))/14 -> 0 | AD17: =(IF(AC17>1,1,AC17))*E17 -> 0 | AE17: =((IF(AND((O17="CA"),(K17="Adult (> 15 years)")),(AD17*(VLOOKUP(L17,CA_ingestion!A$1:J$78,10,0))),0))) -> 0 | AF17: =AD17/2 -> 0 | AG17: =AE17+AF17 -> 0
D18: [select from list] | E18: =VLOOKUP(D18,'List Data'!$A$100:$B$104,2,0) -> 0 | F18: 0 | I18: =Summary!C$23 -> Afghanistan | K18: Please select from list | L18: Please select from list | M18: =T18*Summary!$H$27 -> 0 | N18: =U18*Summary!$H$25 -> 0 | O18: =VLOOKUP(L18,'List Data'!A$2:C$94,3,0) -> 0 | P18: =VLOOKUP(L18,'List Data'!A$2:B$94,2,0) -> -------- | Q18: =IF(F18<8,0,(F18/0.7-(10.7))) -> 0 | R18: =IF(K18="Child (0-7 years)", 135,50) -> 50 | S18: =(F18/1000000)*R18 -> 0 | T18: =V18+X18+AA18 -> 0 | U18: =W18+Y18+Z18+AB18+AG18 -> 0 | V18: =(IF(AND((O18="OP"),(K18="Child (0-7 years)")),VLOOKUP(($R18*(Q18/1000000)),'OP Values'!$A$1:$Q$35,7),))*E18 -> 0 | W18: =(IF(O18="OP",VLOOKUP(($R18*(F18/1000000)),'OP Values'!$A$1:$Q$35,17),))*E18 -> 0 | X18: =(IF(AND((O18="Pb"),(K18="Child (0-7 years)")),(VLOOKUP(Q18,Pb!$A$2:$AV$103,13)),0))*E18 -> 0 | Y18: =(IF(AND((O18="Pb"),(K18="Child (0-7 years)")),(VLOOKUP(Q18,Pb!$A$2:$AV$103,22)),0))*E18 -> 0 | Z18: =(IF(AND((O18="Pb"),(K18="Adult (> 15 years)")),(VLOOKUP(Q18,Pb!$A$2:$AV$103,48)),0))*E18 -> 0 | AA18: =(IF(AND((O18="Hg"),(K18="Child (0-7 years)")),(VLOOKUP(S18,'Hg Values'!$A$1:$M$30,3)),0))*E18 -> 0 | AB18: =(IF(AND((O18="Hg"),(K18="Child (0-7 years)")),(VLOOKUP(Q18,'Hg Values'!$A$1:$M$30,13)),0))*E18 -> 0 | AC18: =((IF(AND((O18="CA"),(K18="Adult (> 15 years)")),(VLOOKUP(L18,CA_ingestion!A$1:J$78,7,0)),0))*((Q18/1000000)*R18*70))/14 -> 0 | AD18: =(IF(AC18>1,1,AC18))*E18 -> 0 | AE18: =((IF(AND((O18="CA"),(K18="Adult (> 15 years)")),(AD18*(VLOOKUP(L18,CA_ingestion!A$1:J$78,10,0))),0))) -> 0 | AF18: =AD18/2 -> 0 | AG18: =AE18+AF18 -> 0
... D105: [select from list] | E105: =VLOOKUP(D105,'List Data'!$A$100:$B$104,2,0) -> 0 | F105: 0 | I105: =Summary!C$23 -> Afghanistan | K105: Please select from list | L105: Please select from list | M105: =T105*Summary!$H$27 -> 0 | N105: =U105*Summary!$H$25 -> 0 | O105: =VLOOKUP(L105,'List Data'!A$2:C$94,3,0) -> 0 | P105: =VLOOKUP(L105,'List Data'!A$2:B$94,2,0) -> -------- | Q105: =IF(F105<8,0,(F105/0.7-(10.7))) -> 0 | R105: =IF(K105="Child (0-7 years)", 135,50) -> 50 | S105: =(F105/1000000)*R105 -> 0 | T105: =V105+X105+AA105 -> 0 | U105: =W105+Y105+Z105+AB105+AG105 -> 0 | V105: =(IF(AND((O105="OP"),(K105="Child (0-7 years)")),VLOOKUP(($R105*(Q105/1000000)),'OP Values'!$A$1:$Q$35,7),))*E105 -> 0 | W105: =(IF(O105="OP",VLOOKUP(($R105*(F105/1000000)),'OP Values'!$A$1:$Q$35,17),))*E105 -> 0 | X105: =(IF(AND((O105="Pb"),(K105="Child (0-7 years)")),(VLOOKUP(Q105,Pb!$A$2:$AV$103,13)),0))*E105 -> 0 | Y105: =(IF(AND((O105="Pb"),(K105="Child (0-7 years)")),(VLOOKUP(Q105,Pb!$A$2:$AV$103,22)),0))*E105 -> 0 | Z105: =(IF(AND((O105="Pb"),(K105="Adult (> 15 years)")),(VLOOKUP(Q105,Pb!$A$2:$AV$103,48)),0))*E105 -> 0 | AA105: =(IF(AND((O105="Hg"),(K105="Child (0-7 years)")),(VLOOKUP(S105,'Hg Values'!$A$1:$M$30,3)),0))*E105 -> 0 | AB105: =(IF(AND((O105="Hg"),(K105="Child (0-7 years)")),(VLOOKUP(Q105,'Hg Values'!$A$1:$M$30,13)),0))*E105 -> 0 | AC105: =((IF(AND((O105="CA"),(K105="Adult (> 15 years)")),(VLOOKUP(L105,CA_ingestion!A$1:J$78,7,0)),0))*((Q105/1000000)*R105*70))/14 -> 0 | AD105: =(IF(AC105>1,1,AC105))*E105 -> 0 | AE105: =((IF(AND((O105="CA"),(K105="Adult (> 15 years)")),(AD105*(VLOOKUP(L105,CA_ingestion!A$1:J$78,10,0))),0))) -> 0 | AF105: =AD105/2 -> 0 | AG105: =AE105+AF105 -> 0

Sheet Pb
A1: 1 | B1: 2 | C1: 3 | D1: 4 | E1: 5 | F1: 6 | G1: 7 | H1: 8 | I1: 9 | J1: 10 | K1: 11 | L1: 12 | M1: 13 | N1: 14 | O1: 15 | P1: 16 | Q1: 17 | R1: 18 | S1: 19 | T1: 20 | U1: 21 | V1: 22 | W1: 23 | X1: 24 | Y1: 25 | Z1: 26 | AA1: 27 | AB1: 28 | AC1: 29 | AD1: 30 | AE1: 31 | AF1: 32 | AG1: 33 | AH1: 34 | AI1: 35 | AJ1: 36 | AK1: 37 | AL1: 38 | AM1: 39 | AN1: 40 | AO1: 41 | AP1: 42 | AQ1: 43 | AR1: 44 | AS1: 45 | AT1: 46 | AU1: 47 | AV1: 48 | AW1: 49 | AX1: 50 | AY1: 51 | AZ1: 52 | BA1: 53 | BB1: 54 | BC1: 55
A2: Soil (µg/g) | B2: Dust (µg/g) | C2: Ingestion (mg/day) | D2: Child BLL | E2: Child GSD | F2: Adult BLL | G2: Adult GSD | H2: Fetus BLL | I2: Fetus GSD | K2: Mean IQ (Child 0-7) | L2: SD | M2: IQ Decrement (Child 0-7) | P2: Borderline (children) | Q2: Mild | R2: Moderate | S2: Severe | T2: Profound | V2: DALYs/ child (0-7 years) | X2: 5-10 µg/dL | Y2: 10-15 µg/dL | Z2: 15-20 µg/dL | AA2: > 20 µg/dL | AC2: Ischaemic (M) | AD2: Cerebro (M) | AE2: Hypertensive (M) | AF2: Other Cardiac (M) | AH2: Ischaemic (F) | AI2: Cerebro (F) | AJ2: Hypertensive (F) | AK2: Other Cardiac (F) | AM2: Ischaemic (Both sexes) | AN2: Cerebro (Both Sexes) | AO2: Hypertensive (F) | AP2: Other Cardiac (Both Sexes) | AR2: Isch (DALYs/person) | AS2: Hyp DALYs/person | AT2: Other DALYs/ person | AV2: Total CV DALYs/ Person
A3: 0 | B3: 0 | C3: 0 | D3: 0 | E3: 0 | F3: 0 | G3: 0 | H3: 0 | I3: 0 | J3: 0 | K3: 0 | L3: 0 | M3: 0 | N3: 0 | O3: 0 | P3: 0 | Q3: 0 | R3: 0 | S3: 0 | T3: 0 | U3: 0 | V3: 0 | W3: 0 | X3: 0 | Y3: 0 | Z3: 0 | AA3: 0 | AB3: 0 | AC3: 0 | AD3: 0 | AE3: 0 | AF3: 0 | AG3: 0 | AH3: 0 | AI3: 0 | AJ3: 0 | AK3: 0 | AL3: 0 | AM3: 0 | AN3: 0 | AO3: 0 | AP3: 0 | AR3: 0 | AS3: 0 | AT3: 0 | AV3: 0
A4: 100 | B4: 80 | C4: 0.0001 | D4: 0 | E4: 1.6 | F4: 0 | G4: 1.6 | H4: 5.0141239 | I4: 1.6 | K4: 100 | L4: 15 | M4: 0 | P4: =(2.1*(_xlfn.NORM.DIST((85+M4),$K4,$L4,TRUE)-_xlfn.NORM.DIST((70+M4),$K4,$L4,TRUE)-(_xlfn.NORM.DIST((85),$K4,$L4,TRUE)-_xlfn.NORM.DIST((70),$K4,$L4,TRUE))))*0.0034 -> 0 | Q4: =(2.1*(_xlfn.NORM.DIST((69+$M4),$K4,$L4,TRUE)-_xlfn.NORM.DIST((50+$M4),$K4,$L4,TRUE)-(_xlfn.NORM.DIST(69,$K4,$L4,TRUE)-_xlfn.NORM.DIST(50,$K4,$L4,TRUE))))*0.127 -> 0 | R4: =(2.1*(_xlfn.NORM.DIST((49+$M4),$K4,$L4,TRUE)-_xlfn.NORM.DIST((35+$M4),$K4,$L4,TRUE)-(_xlfn.NORM.DIST(49,$K4,$L4,TRUE)-_xlfn.NORM.DIST(35,$K4,$L4,TRUE))))*0.293 -> 0 | S4: =(2.1*(_xlfn.NORM.DIST((34+$M4),$K4,$L4,TRUE)-_xlfn.NORM.DIST((20+$M4),$K4,$L4,TRUE)-(_xlfn.NORM.DIST(34,$K4,$L4,TRUE)-_xlfn.NORM.DIST(20,$K4,$L4,TRUE))))*0.383 -> 0 | T4: =(2.1*(_xlfn.NORM.DIST((34+$M4),$K4,$L4,TRUE)-(_xlfn.NORM.DIST(34,$K4,$L4,TRUE))))*0.444 -> 0 | V4: =SUM(P4:T4) -> 0 | X4: =(1-LOGNORMDIST(5,LN(F5),LN(G4)))-(1-LOGNORMDIST(10,LN(F5),LN(G4))) -> 0.008915241 | Y4: =(1-LOGNORMDIST(10,LN(F5),LN(G4)))-(1-LOGNORMDIST(15,LN(F5),LN(G4))) -> 5.9902151e-05 | Z4: =(1-LOGNORMDIST(15,LN(F5),LN(G4)))-(1-LOGNORMDIST(20,LN(F5),LN(G4))) -> 1.2222902e-06 | AA4: =1-LOGNORMDIST(20,LN(F5),LN(G4)) -> 5.2998975e-08 | AC4: =((X4*0.021)+(Y4*0.063)+(Z4*0.107)+(AA4*0.13))/(((X4*0.021)+(Y4*0.063)+(Z4*0.107)+(AA4*0.13))+1) -> 0.00019109505 | AD4: =((X4*0.028)+(Y4*0.086)+(Z4*0.148)+(AA4*0.18))/(((X4*0.028)+(Y4*0.086)+(Z4*0.148)+(AA4*0.18))+1) -> 0.00025490378 | AE4: =((X4*0.049)+(Y4*0.155)+(Z4*0.271)+(AA4*0.333))/(((X4*0.049)+(Y4*0.155)+(Z4*0.271)+(AA4*0.333))+1) -> 0.00044628128 | AF4: =((X4*0.023)+(Y4*0.072)+(Z4*0.122)+(AA4*0.148))/(((X4*0.023)+(Y4*0.072)+(Z4*0.122)+(AA4*0.148))+1) -> 0.00020947657 | AH4: =((X4*0.013)+(Y4*0.04)+(Z4*0.067)+(AA4*0.081))/(((X4*0.013)+(Y4*0.04)+(Z4*0.067)+(AA4*0.081))+1) -> 0.00011836639 | AI4: =((X4*0.018)+(Y4*0.054)+(Z4*0.92)+(AA4*0.112))/(((X4*0.018)+(Y4*0.054)+(Z4*0.92)+(AA4*0.112))+1) -> 0.00016481233 | AJ4: =((X4*0.031)+(Y4*0.096)+(Z4*0.166)+(AA4*0.202))/(((X4*0.031)+(Y4*0.096)+(Z4*0.166)+(AA4*0.202))+1) -> 0.00028225699 | AK4: =((X4*0.015)+(Y4*0.045)+(Z4*0.076)+(AA4*0.093))/(((X4*0.015)+(Y4*0.045)+(Z4*0.076)+(AA4*0.093))+1) -> 0.0001365034 | AM4: =AC4+AH4 -> 0.00030946144 | AN4: =AD4+AI4 -> 0.00041971611 | AO4: =AE4+AJ4 -> 0.00072853827 | AP4: =AF4+AK4 -> 0.00034597997 | AR4: =(351021.9/49700000)*AM4 -> 2.1856689e-06 | AS4: =(74022.79/49700000)*AO4 -> 1.0850792e-06 | AT4: =((950651.56-74022.79-351021.9)/49700000)*(AN4+AP4) -> 8.0976885e-06 | AV4: =AT4+AS4+AR4 -> 1.1368437e-05
A5: 200 | B5: 150 | C5: 0.005 | D5: 1.3928571 | E5: 1.6 | F5: 1.644 | G5: 1.6 | H5: 5.4533172 | I5: 1.6 | K5: 99.027932 | L5: 15 | M5: 0.97206778 | P5: =(2.1*(_xlfn.NORM.DIST((85+M5),$K5,$L5,TRUE)-_xlfn.NORM.DIST((70+M5),$K5,$L5,TRUE)-(_xlfn.NORM.DIST((85),$K5,$L5,TRUE)-_xlfn.NORM.DIST((70),$K5,$L5,TRUE))))*0.0034 -> 9.2591459e-05 | Q5: =(2.1*(_xlfn.NORM.DIST((69+$M5),$K5,$L5,TRUE)-_xlfn.NORM.DIST((50+$M5),$K5,$L5,TRUE)-(_xlfn.NORM.DIST(69,$K5,$L5,TRUE)-_xlfn.NORM.DIST(50,$K5,$L5,TRUE))))*0.127 -> 0.00095521246 | R5: =(2.1*(_xlfn.NORM.DIST((49+$M5),$K5,$L5,TRUE)-_xlfn.NORM.DIST((35+$M5),$K5,$L5,TRUE)-(_xlfn.NORM.DIST(49,$K5,$L5,TRUE)-_xlfn.NORM.DIST(35,$K5,$L5,TRUE))))*0.293 -> 6.6149545e-05 | S5: =(2.1*(_xlfn.NORM.DIST((34+$M5),$K5,$L5,TRUE)-_xlfn.NORM.DIST((20+$M5),$K5,$L5,TRUE)-(_xlfn.NORM.DIST(34,$K5,$L5,TRUE)-_xlfn.NORM.DIST(20,$K5,$L5,TRUE))))*0.383 -> 1.9673914e-06 | T5: =(2.1*(_xlfn.NORM.DIST((34+$M5),$K5,$L5,TRUE)-(_xlfn.NORM.DIST(34,$K5,$L5,TRUE))))*0.444 -> 2.3076879e-06 | V5: =SUM(P5:T5) -> 0.0011182285 | X5: =(1-LOGNORMDIST(5,LN(F6),LN(G5)))-(1-LOGNORMDIST(10,LN(F6),LN(G5))) -> 0.014212168 | Y5: =(1-LOGNORMDIST(10,LN(F6),LN(G5)))-(1-LOGNORMDIST(15,LN(F6),LN(G5))) -> 0.00012176594 | Z5: =(1-LOGNORMDIST(15,LN(F6),LN(G5)))-(1-LOGNORMDIST(20,LN(F6),LN(G5))) -> 2.8749036e-06 | AA5: =1-LOGNORMDIST(20,LN(F6),LN(G5)) -> 1.3922299e-07 | AC5: =((X5*0.021)+(Y5*0.063)+(Z5*0.107)+(AA5*0.13))/(((X5*0.021)+(Y5*0.063)+(Z5*0.107)+(AA5*0.13))+1) -> 0.00030635861 | AD5: =((X5*0.028)+(Y5*0.086)+(Z5*0.148)+(AA5*0.18))/(((X5*0.028)+(Y5*0.086)+(Z5*0.148)+(AA5*0.18))+1) -> 0.00040869602 | AE5: =((X5*0.049)+(Y5*0.155)+(Z5*0.271)+(AA5*0.333))/(((X5*0.049)+(Y5*0.155)+(Z5*0.271)+(AA5*0.333))+1) -> 0.00071558299 | AF5: =((X5*0.023)+(Y5*0.072)+(Z5*0.122)+(AA5*0.148))/(((X5*0.023)+(Y5*0.072)+(Z5*0.122)+(AA5*0.148))+1) -> 0.00033590549 | AH5: =((X5*0.013)+(Y5*0.04)+(Z5*0.067)+(AA5*0.081))/(((X5*0.013)+(Y5*0.04)+(Z5*0.067)+(AA5*0.081))+1) -> 0.00018979669 | AI5: =((X5*0.018)+(Y5*0.054)+(Z5*0.92)+(AA5*0.112))/(((X5*0.018)+(Y5*0.054)+(Z5*0.92)+(AA5*0.112))+1) -> 0.00026498466 | AJ5: =((X5*0.031)+(Y5*0.096)+(Z5*0.166)+(AA5*0.202))/(((X5*0.031)+(Y5*0.096)+(Z5*0.166)+(AA5*0.202))+1) -> 0.00045256719 | AK5: =((X5*0.015)+(Y5*0.045)+(Z5*0.076)+(AA5*0.093))/(((X5*0.015)+(Y5*0.045)+(Z5*0.076)+(AA5*0.093))+1) -> 0.00021884553 | AM5: =AC5+AH5 -> 0.0004961553 | AN5: =AD5+AI5 -> 0.00067368068 | AO5: =AE5+AJ5 -> 0.0011681502 | AP5: =AF5+AK5 -> 0.00055475101 | AR5: =(351021.9/49700000)*AM5 -> 3.5042531e-06 | AS5: =(74022.79/49700000)*AO5 -> 1.7398337e-06 | AT5: =((950651.56-74022.79-351021.9)/49700000)*(AN5+AP5) -> 1.2991391e-05 | AV5: =AT5+AS5+AR5 -> 1.8235478e-05
A6: 300 | B6: 220 | C6: 0.01 | D6: 2.3057143 | E6: 1.6 | F6: 1.788 | G6: 1.6 | H6: 5.8925106 | I6: 1.6 | K6: 98.312448 | L6: 15 | M6: 1.6875521 | P6: =(2.1*(_xlfn.NORM.DIST((85+M6),$K6,$L6,TRUE)-_xlfn.NORM.DIST((70+M6),$K6,$L6,TRUE)-(_xlfn.NORM.DIST((85),$K6,$L6,TRUE)-_xlfn.NORM.DIST((70),$K6,$L6,TRUE))))*0.0034 -> 0.00016681421 | Q6: =(2.1*(_xlfn.NORM.DIST((69+$M6),$K6,$L6,TRUE)-_xlfn.NORM.DIST((50+$M6),$K6,$L6,TRUE)-(_xlfn.NORM.DIST(69,$K6,$L6,TRUE)-_xlfn.NORM.DIST(50,$K6,$L6,TRUE))))*0.127 -> 0.0018988663 | R6: =(2.1*(_xlfn.NORM.DIST((49+$M6),$K6,$L6,TRUE)-_xlfn.NORM.DIST((35+$M6),$K6,$L6,TRUE)-(_xlfn.NORM.DIST(49,$K6,$L6,TRUE)-_xlfn.NORM.DIST(35,$K6,$L6,TRUE))))*0.293 -> 0.00014523028 | S6: =(2.1*(_xlfn.NORM.DIST((34+$M6),$K6,$L6,TRUE)-_xlfn.NORM.DIST((20+$M6),$K6,$L6,TRUE)-(_xlfn.NORM.DIST(34,$K6,$L6,TRUE)-_xlfn.NORM.DIST(20,$K6,$L6,TRUE))))*0.383 -> 4.658025e-06 | T6: =(2.1*(_xlfn.NORM.DIST((34+$M6),$K6,$L6,TRUE)-(_xlfn.NORM.DIST(34,$K6,$L6,TRUE))))*0.444 -> 5.4683892e-06 | V6: =SUM(P6:T6) -> 0.0022210372 | X6: =(1-LOGNORMDIST(5,LN(F7),LN(G6)))-(1-LOGNORMDIST(10,LN(F7),LN(G6))) -> 0.021295002 | Y6: =(1-LOGNORMDIST(10,LN(F7),LN(G6)))-(1-LOGNORMDIST(15,LN(F7),LN(G6))) -> 0.00022797609 | Z6: =(1-LOGNORMDIST(15,LN(F7),LN(G6)))-(1-LOGNORMDIST(20,LN(F7),LN(G6))) -> 6.1553542e-06 | AA6: =1-LOGNORMDIST(20,LN(F7),LN(G6)) -> 3.3017208e-07 | AC6: =((X6*0.021)+(Y6*0.063)+(Z6*0.107)+(AA6*0.13))/(((X6*0.021)+(Y6*0.063)+(Z6*0.107)+(AA6*0.13))+1) -> 0.0004620455 | AD6: =((X6*0.028)+(Y6*0.086)+(Z6*0.148)+(AA6*0.18))/(((X6*0.028)+(Y6*0.086)+(Z6*0.148)+(AA6*0.18))+1) -> 0.00061645617 | AE6: =((X6*0.049)+(Y6*0.155)+(Z6*0.271)+(AA6*0.333))/(((X6*0.049)+(Y6*0.155)+(Z6*0.271)+(AA6*0.333))+1) -> 0.0010794031 | AF6: =((X6*0.023)+(Y6*0.072)+(Z6*0.122)+(AA6*0.148))/(((X6*0.023)+(Y6*0.072)+(Z6*0.122)+(AA6*0.148))+1) -> 0.00050674223 | AH6: =((X6*0.013)+(Y6*0.04)+(Z6*0.067)+(AA6*0.081))/(((X6*0.013)+(Y6*0.04)+(Z6*0.067)+(AA6*0.081))+1) -> 0.00028631123 | AI6: =((X6*0.018)+(Y6*0.054)+(Z6*0.92)+(AA6*0.112))/(((X6*0.018)+(Y6*0.054)+(Z6*0.92)+(AA6*0.112))+1) -> 0.00040115966 | AJ6: =((X6*0.031)+(Y6*0.096)+(Z6*0.166)+(AA6*0.202))/(((X6*0.031)+(Y6*0.096)+(Z6*0.166)+(AA6*0.202))+1) -> 0.00068265292 | AK6: =((X6*0.015)+(Y6*0.045)+(Z6*0.076)+(AA6*0.093))/(((X6*0.015)+(Y6*0.045)+(Z6*0.076)+(AA6*0.093))+1) -> 0.00033007348 | AM6: =AC6+AH6 -> 0.00074835672 | AN6: =AD6+AI6 -> 0.0010176158 | AO6: =AE6+AJ6 -> 0.001762056 | AP6: =AF6+AK6 -> 0.00083681571 | AR6: =(351021.9/49700000)*AM6 -> 5.285505e-06 | AS6: =(74022.79/49700000)*AO6 -> 2.6243924e-06 | AT6: =((950651.56-74022.79-351021.9)/49700000)*(AN6+AP6) -> 1.9611709e-05 | AV6: =AT6+AS6+AR6 -> 2.7521607e-05
A7: 400 | B7: 290 | C7: 0.015 | D7: 3.1842857 | E7: 1.6 | F7: 1.932 | G7: 1.6 | H7: 6.3317039 | I7: 1.6 | K7: 97.658317 | L7: 15 | M7: 2.3416827 | P7: =(2.1*(_xlfn.NORM.DIST((85+M7),$K7,$L7,TRUE)-_xlfn.NORM.DIST((70+M7),$K7,$L7,TRUE)-(_xlfn.NORM.DIST((85),$K7,$L7,TRUE)-_xlfn.NORM.DIST((70),$K7,$L7,TRUE))))*0.0034 -> 0.00023778759 | Q7: =(2.1*(_xlfn.NORM.DIST((69+$M7),$K7,$L7,TRUE)-_xlfn.NORM.DIST((50+$M7),$K7,$L7,TRUE)-(_xlfn.NORM.DIST(69,$K7,$L7,TRUE)-_xlfn.NORM.DIST(50,$K7,$L7,TRUE))))*0.127 -> 0.0029685469 | R7: =(2.1*(_xlfn.NORM.DIST((49+$M7),$K7,$L7,TRUE)-_xlfn.NORM.DIST((35+$M7),$K7,$L7,TRUE)-(_xlfn.NORM.DIST(49,$K7,$L7,TRUE)-_xlfn.NORM.DIST(35,$K7,$L7,TRUE))))*0.293 -> 0.00024891631 | S7: =(2.1*(_xlfn.NORM.DIST((34+$M7),$K7,$L7,TRUE)-_xlfn.NORM.DIST((20+$M7),$K7,$L7,TRUE)-(_xlfn.NORM.DIST(34,$K7,$L7,TRUE)-_xlfn.NORM.DIST(20,$K7,$L7,TRUE))))*0.383 -> 8.5643313e-06 | T7: =(2.1*(_xlfn.NORM.DIST((34+$M7),$K7,$L7,TRUE)-(_xlfn.NORM.DIST(34,$K7,$L7,TRUE))))*0.444 -> 1.0062873e-05 | V7: =SUM(P7:T7) -> 0.003473878 | X7: =(1-LOGNORMDIST(5,LN(F8),LN(G7)))-(1-LOGNORMDIST(10,LN(F8),LN(G7))) -> 0.030317411 | Y7: =(1-LOGNORMDIST(10,LN(F8),LN(G7)))-(1-LOGNORMDIST(15,LN(F8),LN(G7))) -> 0.00039857358 | Z7: =(1-LOGNORMDIST(15,LN(F8),LN(G7)))-(1-LOGNORMDIST(20,LN(F8),LN(G7))) -> 1.2183662e-05 | AA7: =1-LOGNORMDIST(20,LN(F8),LN(G7)) -> 7.1877303e-07 | AC7: =((X7*0.021)+(Y7*0.063)+(Z7*0.107)+(AA7*0.13))/(((X7*0.021)+(Y7*0.063)+(Z7*0.107)+(AA7*0.13))+1) -> 0.00066273336 | AD7: =((X7*0.028)+(Y7*0.086)+(Z7*0.148)+(AA7*0.18))/(((X7*0.028)+(Y7*0.086)+(Z7*0.148)+(AA7*0.18))+1) -> 0.0008843147 | AE7: =((X7*0.049)+(Y7*0.155)+(Z7*0.271)+(AA7*0.333))/(((X7*0.049)+(Y7*0.155)+(Z7*0.271)+(AA7*0.333))+1) -> 0.0015484717 | AF7: =((X7*0.023)+(Y7*0.072)+(Z7*0.122)+(AA7*0.148))/(((X7*0.023)+(Y7*0.072)+(Z7*0.122)+(AA7*0.148))+1) -> 0.00072706154 | AH7: =((X7*0.013)+(Y7*0.04)+(Z7*0.067)+(AA7*0.081))/(((X7*0.013)+(Y7*0.04)+(Z7*0.067)+(AA7*0.081))+1) -> 0.00041077501 | AI7: =((X7*0.018)+(Y7*0.054)+(Z7*0.92)+(AA7*0.112))/(((X7*0.018)+(Y7*0.054)+(Z7*0.92)+(AA7*0.112))+1) -> 0.00057819135 | AJ7: =((X7*0.031)+(Y7*0.096)+(Z7*0.166)+(AA7*0.202))/(((X7*0.031)+(Y7*0.096)+(Z7*0.166)+(AA7*0.202))+1) -> 0.00097931051 | AK7: =((X7*0.015)+(Y7*0.045)+(Z7*0.076)+(AA7*0.093))/(((X7*0.015)+(Y7*0.045)+(Z7*0.076)+(AA7*0.093))+1) -> 0.00047346551 | AM7: =AC7+AH7 -> 0.0010735084 | AN7: =AD7+AI7 -> 0.0014625061 | AO7: =AE7+AJ7 -> 0.0025277822 | AP7: =AF7+AK7 -> 0.001200527 | AR7: =(351021.9/49700000)*AM7 -> 7.5819909e-06 | AS7: =(74022.79/49700000)*AO7 -> 3.764859e-06 | AT7: =((950651.56-74022.79-351021.9)/49700000)*(AN7+AP7) -> 2.8163149e-05 | AV7: =AT7+AS7+AR7 -> 3.9509999e-05
A8: 500 | B8: 360 | C8: 0.02 | D8: 4.0285714 | E8: 1.6 | F8: 2.076 | G8: 1.6 | H8: 6.7708973 | I8: 1.6 | K8: 97.169098 | L8: 15 | M8: 2.8309022 | P8: =(2.1*(_xlfn.NORM.DIST((85+M8),$K8,$L8,TRUE)-_xlfn.NORM.DIST((70+M8),$K8,$L8,TRUE)-(_xlfn.NORM.DIST((85),$K8,$L8,TRUE)-_xlfn.NORM.DIST((70),$K8,$L8,TRUE))))*0.0034 -> 0.00029197609 | Q8: =(2.1*(_xlfn.NORM.DIST((69+$M8),$K8,$L8,TRUE)-_xlfn.NORM.DIST((50+$M8),$K8,$L8,TRUE)-(_xlfn.NORM.DIST(69,$K8,$L8,TRUE)-_xlfn.NORM.DIST(50,$K8,$L8,TRUE))))*0.127 -> 0.0039117602 | R8: =(2.1*(_xlfn.NORM.DIST((49+$M8),$K8,$L8,TRUE)-_xlfn.NORM.DIST((35+$M8),$K8,$L8,TRUE)-(_xlfn.NORM.DIST(49,$K8,$L8,TRUE)-_xlfn.NORM.DIST(35,$K8,$L8,TRUE))))*0.293 -> 0.00035160721 | S8: =(2.1*(_xlfn.NORM.DIST((34+$M8),$K8,$L8,TRUE)-_xlfn.NORM.DIST((20+$M8),$K8,$L8,TRUE)-(_xlfn.NORM.DIST(34,$K8,$L8,TRUE)-_xlfn.NORM.DIST(20,$K8,$L8,TRUE))))*0.383 -> 1.2758939e-05 | T8: =(2.1*(_xlfn.NORM.DIST((34+$M8),$K8,$L8,TRUE)-(_xlfn.NORM.DIST(34,$K8,$L8,TRUE))))*0.444 -> 1.5001743e-05 | V8: =SUM(P8:T8) -> 0.0045831041 | X8: =(1-LOGNORMDIST(5,LN(F9),LN(G8)))-(1-LOGNORMDIST(10,LN(F9),LN(G8))) -> 0.041357309 | Y8: =(1-LOGNORMDIST(10,LN(F9),LN(G8)))-(1-LOGNORMDIST(15,LN(F9),LN(G8))) -> 0.00065772782 | Z8: =(1-LOGNORMDIST(15,LN(F9),LN(G8)))-(1-LOGNORMDIST(20,LN(F9),LN(G8))) -> 2.2565758e-05 | AA8: =1-LOGNORMDIST(20,LN(F9),LN(G8)) -> 1.455238e-06 | AC8: =((X8*0.021)+(Y8*0.063)+(Z8*0.107)+(AA8*0.13))/(((X8*0.021)+(Y8*0.063)+(Z8*0.107)+(AA8*0.13))+1) -> 0.00091171209 | AD8: =((X8*0.028)+(Y8*0.086)+(Z8*0.148)+(AA8*0.18))/(((X8*0.028)+(Y8*0.086)+(Z8*0.148)+(AA8*0.18))+1) -> 0.0012166888 | AE8: =((X8*0.049)+(Y8*0.155)+(Z8*0.271)+(AA8*0.333))/(((X8*0.049)+(Y8*0.155)+(Z8*0.271)+(AA8*0.333))+1) -> 0.0021305071 | AF8: =((X8*0.023)+(Y8*0.072)+(Z8*0.122)+(AA8*0.148))/(((X8*0.023)+(Y8*0.072)+(Z8*0.122)+(AA8*0.148))+1) -> 0.0010005408 | AH8: =((X8*0.013)+(Y8*0.04)+(Z8*0.067)+(AA8*0.081))/(((X8*0.013)+(Y8*0.04)+(Z8*0.067)+(AA8*0.081))+1) -> 0.00056526421 | AI8: =((X8*0.018)+(Y8*0.054)+(Z8*0.92)+(AA8*0.112))/(((X8*0.018)+(Y8*0.054)+(Z8*0.92)+(AA8*0.112))+1) -> 0.00080023147 | AJ8: =((X8*0.031)+(Y8*0.096)+(Z8*0.166)+(AA8*0.202))/(((X8*0.031)+(Y8*0.096)+(Z8*0.166)+(AA8*0.202))+1) -> 0.0013474403 | AK8: =((X8*0.015)+(Y8*0.045)+(Z8*0.076)+(AA8*0.093))/(((X8*0.015)+(Y8*0.045)+(Z8*0.076)+(AA8*0.093))+1) -> 0.00065138315 | AM8: =AC8+AH8 -> 0.0014769763 | AN8: =AD8+AI8 -> 0.0020169203 | AO8: =AE8+AJ8 -> 0.0034779474 | AP8: =AF8+AK8 -> 0.001651924 | AR8: =(351021.9/49700000)*AM8 -> 1.043161e-05 | AS8: =(74022.79/49700000)*AO8 -> 5.1800276e-06 | AT8: =((950651.56-74022.79-351021.9)/49700000)*(AN8+AP8) -> 3.8800196e-05 | AV8: =AT8+AS8+AR8 -> 5.4411834e-05
A9: 600 | B9: 430 | C9: 0.025 | D9: 4.8414286 | E9: 1.6 | F9: 2.22 | G9: 1.6 | H9: 7.2100906 | I9: 1.6 | K9: 96.743192 | L9: 15 | M9: 3.2568077 | P9: =(2.1*(_xlfn.NORM.DIST((85+M9),$K9,$L9,TRUE)-_xlfn.NORM.DIST((70+M9),$K9,$L9,TRUE)-(_xlfn.NORM.DIST((85),$K9,$L9,TRUE)-_xlfn.NORM.DIST((70),$K9,$L9,TRUE))))*0.0034 -> 0.00033936643 | Q9: =(2.1*(_xlfn.NORM.DIST((69+$M9),$K9,$L9,TRUE)-_xlfn.NORM.DIST((50+$M9),$K9,$L9,TRUE)-(_xlfn.NORM.DIST(69,$K9,$L9,TRUE)-_xlfn.NORM.DIST(50,$K9,$L9,TRUE))))*0.127 -> 0.004840647 | R9: =(2.1*(_xlfn.NORM.DIST((49+$M9),$K9,$L9,TRUE)-_xlfn.NORM.DIST((35+$M9),$K9,$L9,TRUE)-(_xlfn.NORM.DIST(49,$K9,$L9,TRUE)-_xlfn.NORM.DIST(35,$K9,$L9,TRUE))))*0.293 -> 0.00046244354 | S9: =(2.1*(_xlfn.NORM.DIST((34+$M9),$K9,$L9,TRUE)-_xlfn.NORM.DIST((20+$M9),$K9,$L9,TRUE)-(_xlfn.NORM.DIST(34,$K9,$L9,TRUE)-_xlfn.NORM.DIST(20,$K9,$L9,TRUE))))*0.383 -> 1.7585093e-05 | T9: =(2.1*(_xlfn.NORM.DIST((34+$M9),$K9,$L9,TRUE)-(_xlfn.NORM.DIST(34,$K9,$L9,TRUE))))*0.444 -> 2.0689382e-05 | V9: =SUM(P9:T9) -> 0.0056807315 | X9: =(1-LOGNORMDIST(5,LN(F10),LN(G9)))-(1-LOGNORMDIST(10,LN(F10),LN(G9))) -> 0.054417058 | Y9: =(1-LOGNORMDIST(10,LN(F10),LN(G9)))-(1-LOGNORMDIST(15,LN(F10),LN(G9))) -> 0.0010332438 | Z9: =(1-LOGNORMDIST(15,LN(F10),LN(G9)))-(1-LOGNORMDIST(20,LN(F10),LN(G9))) -> 3.9486417e-05 | AA9: =1-LOGNORMDIST(20,LN(F10),LN(G9)) -> 2.7687466e-06 | AC9: =((X9*0.021)+(Y9*0.063)+(Z9*0.107)+(AA9*0.13))/(((X9*0.021)+(Y9*0.063)+(Z9*0.107)+(AA9*0.13))+1) -> 0.0012109693 | AD9: =((X9*0.028)+(Y9*0.086)+(Z9*0.148)+(AA9*0.18))/(((X9*0.028)+(Y9*0.086)+(Z9*0.148)+(AA9*0.18))+1) -> 0.0016162624 | AE9: =((X9*0.049)+(Y9*0.155)+(Z9*0.271)+(AA9*0.333))/(((X9*0.049)+(Y9*0.155)+(Z9*0.271)+(AA9*0.333))+1) -> 0.0028301788 | AF9: =((X9*0.023)+(Y9*0.072)+(Z9*0.122)+(AA9*0.148))/(((X9*0.023)+(Y9*0.072)+(Z9*0.122)+(AA9*0.148))+1) -> 0.0013294432 | AH9: =((X9*0.013)+(Y9*0.04)+(Z9*0.067)+(AA9*0.081))/(((X9*0.013)+(Y9*0.04)+(Z9*0.067)+(AA9*0.081))+1) -> 0.00075105685 | AI9: =((X9*0.018)+(Y9*0.054)+(Z9*0.92)+(AA9*0.112))/(((X9*0.018)+(Y9*0.054)+(Z9*0.92)+(AA9*0.112))+1) -> 0.001070792 | AJ9: =((X9*0.031)+(Y9*0.096)+(Z9*0.166)+(AA9*0.202))/(((X9*0.031)+(Y9*0.096)+(Z9*0.166)+(AA9*0.202))+1) -> 0.0017900243 | AK9: =((X9*0.015)+(Y9*0.045)+(Z9*0.076)+(AA9*0.093))/(((X9*0.015)+(Y9*0.045)+(Z9*0.076)+(AA9*0.093))+1) -> 0.00086526098 | AM9: =AC9+AH9 -> 0.0019620262 | AN9: =AD9+AI9 -> 0.0026870544 | AO9: =AE9+AJ9 -> 0.0046202031 | AP9: =AF9+AK9 -> 0.0021947042 | AR9: =(351021.9/49700000)*AM9 -> 1.3857428e-05 | AS9: =(74022.79/49700000)*AO9 -> 6.8812942e-06 | AT9: =((950651.56-74022.79-351021.9)/49700000)*(AN9+AP9) -> 5.1627482e-05 | AV9: =AT9+AS9+AR9 -> 7.2366204e-05
A10: 700 | B10: 500 | C10: 0.03 | D10: 5.6257143 | E10: 1.6 | F10: 2.364 | G10: 1.6 | H10: 7.6492839 | I10: 1.6 | K10: 96.410922 | L10: 15 | M10: 3.5890785 | P10: =(2.1*(_xlfn.NORM.DIST((85+M10),$K10,$L10,TRUE)-_xlfn.NORM.DIST((70+M10),$K10,$L10,TRUE)-(_xlfn.NORM.DIST((85),$K10,$L10,TRUE)-_xlfn.NORM.DIST((70),$K10,$L10,TRUE))))*0.0034 -> 0.00037616576 | Q10: =(2.1*(_xlfn.NORM.DIST((69+$M10),$K10,$L10,TRUE)-_xlfn.NORM.DIST((50+$M10),$K10,$L10,TRUE)-(_xlfn.NORM.DIST(69,$K10,$L10,TRUE)-_xlfn.NORM.DIST(50,$K10,$L10,TRUE))))*0.127 -> 0.0056388317 | R10: =(2.1*(_xlfn.NORM.DIST((49+$M10),$K10,$L10,TRUE)-_xlfn.NORM.DIST((35+$M10),$K10,$L10,TRUE)-(_xlfn.NORM.DIST(49,$K10,$L10,TRUE)-_xlfn.NORM.DIST(35,$K10,$L10,TRUE))))*0.293 -> 0.00056509097 | S10: =(2.1*(_xlfn.NORM.DIST((34+$M10),$K10,$L10,TRUE)-_xlfn.NORM.DIST((20+$M10),$K10,$L10,TRUE)-(_xlfn.NORM.DIST(34,$K10,$L10,TRUE)-_xlfn.NORM.DIST(20,$K10,$L10,TRUE))))*0.383 -> 2.2294116e-05 | T10: =(2.1*(_xlfn.NORM.DIST((34+$M10),$K10,$L10,TRUE)-(_xlfn.NORM.DIST(34,$K10,$L10,TRUE))))*0.444 -> 2.6243325e-05 | V10: =SUM(P10:T10) -> 0.0066286259 | X10: =(1-LOGNORMDIST(5,LN(F11),LN(G10)))-(1-LOGNORMDIST(10,LN(F11),LN(G10))) -> 0.069429283 | Y10: =(1-LOGNORMDIST(10,LN(F11),LN(G10)))-(1-LOGNORMDIST(15,LN(F11),LN(G10))) -> 0.0015558167 | Z10: =(1-LOGNORMDIST(15,LN(F11),LN(G10)))-(1-LOGNORMDIST(20,LN(F11),LN(G10))) -> 6.5787656e-05 | AA10: =1-LOGNORMDIST(20,LN(F11),LN(G10)) -> 4.9921775e-06 | AC10: =((X10*0.021)+(Y10*0.063)+(Z10*0.107)+(AA10*0.13))/(((X10*0.021)+(Y10*0.063)+(Z10*0.107)+(AA10*0.13))+1) -> 0.0015612782 | AD10: =((X10*0.028)+(Y10*0.086)+(Z10*0.148)+(AA10*0.18))/(((X10*0.028)+(Y10*0.086)+(Z10*0.148)+(AA10*0.18))+1) -> 0.0020841028 | AE10: =((X10*0.049)+(Y10*0.155)+(Z10*0.271)+(AA10*0.333))/(((X10*0.049)+(Y10*0.155)+(Z10*0.271)+(AA10*0.333))+1) -> 0.003649311 | AF10: =((X10*0.023)+(Y10*0.072)+(Z10*0.122)+(AA10*0.148))/(((X10*0.023)+(Y10*0.072)+(Z10*0.122)+(AA10*0.148))+1) -> 0.0017147119 | AH10: =((X10*0.013)+(Y10*0.04)+(Z10*0.067)+(AA10*0.081))/(((X10*0.013)+(Y10*0.04)+(Z10*0.067)+(AA10*0.081))+1) -> 0.00096868622 | AI10: =((X10*0.018)+(Y10*0.054)+(Z10*0.92)+(AA10*0.112))/(((X10*0.018)+(Y10*0.054)+(Z10*0.92)+(AA10*0.112))+1) -> 0.0013928821 | AJ10: =((X10*0.031)+(Y10*0.096)+(Z10*0.166)+(AA10*0.202))/(((X10*0.031)+(Y10*0.096)+(Z10*0.166)+(AA10*0.202))+1) -> 0.002308255 | AK10: =((X10*0.015)+(Y10*0.045)+(Z10*0.076)+(AA10*0.093))/(((X10*0.015)+(Y10*0.045)+(Z10*0.076)+(AA10*0.093))+1) -> 0.001115669 | AM10: =AC10+AH10 -> 0.0025299645 | AN10: =AD10+AI10 -> 0.0034769849 | AO10: =AE10+AJ10 -> 0.005957566 | AP10: =AF10+AK10 -> 0.002830381 | AR10: =(351021.9/49700000)*AM10 -> 1.7868671e-05 | AS10: =(74022.79/49700000)*AO10 -> 8.873152e-06 | AT10: =((950651.56-74022.79-351021.9)/49700000)*(AN10+AP10) -> 6.6704121e-05 | AV10: =AT10+AS10+AR10 -> 9.3445944e-05
A11: 800 | B11: 570 | C11: 0.035 | D11: 6.38 | E11: 1.6 | F11: 2.508 | G11: 1.6 | H11: 8.0884773 | I11: 1.6 | K11: 96.068152 | L11: 15 | M11: 3.9318476 | P11: =(2.1*(_xlfn.NORM.DIST((85+M11),$K11,$L11,TRUE)-_xlfn.NORM.DIST((70+M11),$K11,$L11,TRUE)-(_xlfn.NORM.DIST((85),$K11,$L11,TRUE)-_xlfn.NORM.DIST((70),$K11,$L11,TRUE))))*0.0034 -> 0.00041370257 | Q11: =(2.1*(_xlfn.NORM.DIST((69+$M11),$K11,$L11,TRUE)-_xlfn.NORM.DIST((50+$M11),$K11,$L11,TRUE)-(_xlfn.NORM.DIST(69,$K11,$L11,TRUE)-_xlfn.NORM.DIST(50,$K11,$L11,TRUE))))*0.127 -> 0.0065326895 | R11: =(2.1*(_xlfn.NORM.DIST((49+$M11),$K11,$L11,TRUE)-_xlfn.NORM.DIST((35+$M11),$K11,$L11,TRUE)-(_xlfn.NORM.DIST(49,$K11,$L11,TRUE)-_xlfn.NORM.DIST(35,$K11,$L11,TRUE))))*0.293 -> 0.00068795659 | S11: =(2.1*(_xlfn.NORM.DIST((34+$M11),$K11,$L11,TRUE)-_xlfn.NORM.DIST((20+$M11),$K11,$L11,TRUE)-(_xlfn.NORM.DIST(34,$K11,$L11,TRUE)-_xlfn.NORM.DIST(20,$K11,$L11,TRUE))))*0.383 -> 2.8199088e-05 | T11: =(2.1*(_xlfn.NORM.DIST((34+$M11),$K11,$L11,TRUE)-(_xlfn.NORM.DIST(34,$K11,$L11,TRUE))))*0.444 -> 3.3212898e-05 | V11: =SUM(P11:T11) -> 0.0076957606 | X11: =(1-LOGNORMDIST(5,LN(F12),LN(G11)))-(1-LOGNORMDIST(10,LN(F12),LN(G11))) -> 0.086266373 | Y11: =(1-LOGNORMDIST(10,LN(F12),LN(G11)))-(1-LOGNORMDIST(15,LN(F12),LN(G11))) -> 0.0022581066 | Z11: =(1-LOGNORMDIST(15,LN(F12),LN(G11)))-(1-LOGNORMDIST(20,LN(F12),LN(G11))) -> 0.00010502636 | AA11: =1-LOGNORMDIST(20,LN(F12),LN(G11)) -> 8.5890202e-06 | AC11: =((X11*0.021)+(Y11*0.063)+(Z11*0.107)+(AA11*0.13))/(((X11*0.021)+(Y11*0.063)+(Z11*0.107)+(AA11*0.13))+1) -> 0.0019623505 | AD11: =((X11*0.028)+(Y11*0.086)+(Z11*0.148)+(AA11*0.18))/(((X11*0.028)+(Y11*0.086)+(Z11*0.148)+(AA11*0.18))+1) -> 0.0026198638 | AE11: =((X11*0.049)+(Y11*0.155)+(Z11*0.271)+(AA11*0.333))/(((X11*0.049)+(Y11*0.155)+(Z11*0.271)+(AA11*0.333))+1) -> 0.0045872413 | AF11: =((X11*0.023)+(Y11*0.072)+(Z11*0.122)+(AA11*0.148))/(((X11*0.023)+(Y11*0.072)+(Z11*0.122)+(AA11*0.148))+1) -> 0.0021561357 | AH11: =((X11*0.013)+(Y11*0.04)+(Z11*0.067)+(AA11*0.081))/(((X11*0.013)+(Y11*0.04)+(Z11*0.067)+(AA11*0.081))+1) -> 0.0012180342 | AI11: =((X11*0.018)+(Y11*0.054)+(Z11*0.92)+(AA11*0.112))/(((X11*0.018)+(Y11*0.054)+(Z11*0.92)+(AA11*0.112))+1) -> 0.0017691831 | AJ11: =((X11*0.031)+(Y11*0.096)+(Z11*0.166)+(AA11*0.202))/(((X11*0.031)+(Y11*0.096)+(Z11*0.166)+(AA11*0.202))+1) -> 0.0029017604 | AK11: =((X11*0.015)+(Y11*0.045)+(Z11*0.076)+(AA11*0.093))/(((X11*0.015)+(Y11*0.045)+(Z11*0.076)+(AA11*0.093))+1) -> 0.0014024216 | AM11: =AC11+AH11 -> 0.0031803847 | AN11: =AD11+AI11 -> 0.0043890469 | AO11: =AE11+AJ11 -> 0.0074890017 | AP11: =AF11+AK11 -> 0.0035585573 | AR11: =(351021.9/49700000)*AM11 -> 2.2462469e-05 | AS11: =(74022.79/49700000)*AO11 -> 1.115406e-05 | AT11: =((950651.56-74022.79-351021.9)/49700000)*(AN11+AP11) -> 8.4050611e-05 | AV11: =AT11+AS11+AR11 -> 0.00011766714
A12: 900 | B12: 640 | C12: 0.04 | D12: 7.11 | E12: 1.6 | F12: 2.652 | G12: 1.6 | H12: 8.5276706 | I12: 1.6 | K12: 95.79494 | L12: 15 | M12: 4.2050605 | P12: =(2.1*(_xlfn.NORM.DIST((85+M12),$K12,$L12,TRUE)-_xlfn.NORM.DIST((70+M12),$K12,$L12,TRUE)-(_xlfn.NORM.DIST((85),$K12,$L12,TRUE)-_xlfn.NORM.DIST((70),$K12,$L12,TRUE))))*0.0034 -> 0.00044313884 | Q12: =(2.1*(_xlfn.NORM.DIST((69+$M12),$K12,$L12,TRUE)-_xlfn.NORM.DIST((50+$M12),$K12,$L12,TRUE)-(_xlfn.NORM.DIST(69,$K12,$L12,TRUE)-_xlfn.NORM.DIST(50,$K12,$L12,TRUE))))*0.127 -> 0.0072981037 | R12: =(2.1*(_xlfn.NORM.DIST((49+$M12),$K12,$L12,TRUE)-_xlfn.NORM.DIST((35+$M12),$K12,$L12,TRUE)-(_xlfn.NORM.DIST(49,$K12,$L12,TRUE)-_xlfn.NORM.DIST(35,$K12,$L12,TRUE))))*0.293 -> 0.00079969636 | S12: =(2.1*(_xlfn.NORM.DIST((34+$M12),$K12,$L12,TRUE)-_xlfn.NORM.DIST((20+$M12),$K12,$L12,TRUE)-(_xlfn.NORM.DIST(34,$K12,$L12,TRUE)-_xlfn.NORM.DIST(20,$K12,$L12,TRUE))))*0.383 -> 3.3799491e-05 | T12: =(2.1*(_xlfn.NORM.DIST((34+$M12),$K12,$L12,TRUE)-(_xlfn.NORM.DIST(34,$K12,$L12,TRUE))))*0.444 -> 3.9827532e-05 | V12: =SUM(P12:T12) -> 0.0086145659 | X12: =(1-LOGNORMDIST(5,LN(F13),LN(G12)))-(1-LOGNORMDIST(10,LN(F13),LN(G12))) -> 0.10475198 | Y12: =(1-LOGNORMDIST(10,LN(F13),LN(G12)))-(1-LOGNORMDIST(15,LN(F13),LN(G12))) -> 0.0031737096 | Z12: =(1-LOGNORMDIST(15,LN(F13),LN(G12)))-(1-LOGNORMDIST(20,LN(F13),LN(G12))) -> 0.00016150674 | AA12: =1-LOGNORMDIST(20,LN(F13),LN(G12)) -> 1.418141e-05 | AC12: =((X12*0.021)+(Y12*0.063)+(Z12*0.107)+(AA12*0.13))/(((X12*0.021)+(Y12*0.063)+(Z12*0.107)+(AA12*0.13))+1) -> 0.0024130232 | AD12: =((X12*0.028)+(Y12*0.086)+(Z12*0.148)+(AA12*0.18))/(((X12*0.028)+(Y12*0.086)+(Z12*0.148)+(AA12*0.18))+1) -> 0.0032220349 | AE12: =((X12*0.049)+(Y12*0.155)+(Z12*0.271)+(AA12*0.333))/(((X12*0.049)+(Y12*0.155)+(Z12*0.271)+(AA12*0.333))+1) -> 0.0056412582 | AF12: =((X12*0.023)+(Y12*0.072)+(Z12*0.122)+(AA12*0.148))/(((X12*0.023)+(Y12*0.072)+(Z12*0.122)+(AA12*0.148))+1) -> 0.0026525505 | AH12: =((X12*0.013)+(Y12*0.04)+(Z12*0.067)+(AA12*0.081))/(((X12*0.013)+(Y12*0.04)+(Z12*0.067)+(AA12*0.081))+1) -> 0.001498445 | AI12: =((X12*0.018)+(Y12*0.054)+(Z12*0.92)+(AA12*0.112))/(((X12*0.018)+(Y12*0.054)+(Z12*0.92)+(AA12*0.112))+1) -> 0.0022022299 | AJ12: =((X12*0.031)+(Y12*0.096)+(Z12*0.166)+(AA12*0.202))/(((X12*0.031)+(Y12*0.096)+(Z12*0.166)+(AA12*0.202))+1) -> 0.0035688796 | AK12: =((X12*0.015)+(Y12*0.045)+(Z12*0.076)+(AA12*0.093))/(((X12*0.015)+(Y12*0.045)+(Z12*0.076)+(AA12*0.093))+1) -> 0.0017247102 | AM12: =AC12+AH12 -> 0.0039114682 | AN12: =AD12+AI12 -> 0.0054242648 | AO12: =AE12+AJ12 -> 0.0092101378 | AP12: =AF12+AK12 -> 0.0043772606 | AR12: =(351021.9/49700000)*AM12 -> 2.7625976e-05 | AS12: =(74022.79/49700000)*AO12 -> 1.3717507e-05 | AT12: =((950651.56-74022.79-351021.9)/49700000)*(AN12+AP12) -> 0.00010365692 | AV12: =AT12+AS12+AR12 -> 0.00014500041
A13: 1000 | B13: 710 | C13: 0.045 | D13: 7.8185714 | E13: 1.6 | F13: 2.796 | G13: 1.6 | H13: 8.9668639 | I13: 1.6 | K13: 95.542649 | L13: 15 | M13: 4.4573506 | P13: =(2.1*(_xlfn.NORM.DIST((85+M13),$K13,$L13,TRUE)-_xlfn.NORM.DIST((70+M13),$K13,$L13,TRUE)-(_xlfn.NORM.DIST((85),$K13,$L13,TRUE)-_xlfn.NORM.DIST((70),$K13,$L13,TRUE))))*0.0034 -> 0.00046981083 | Q13: =(2.1*(_xlfn.NORM.DIST((69+$M13),$K13,$L13,TRUE)-_xlfn.NORM.DIST((50+$M13),$K13,$L13,TRUE)-(_xlfn.NORM.DIST(69,$K13,$L13,TRUE)-_xlfn.NORM.DIST(50,$K13,$L13,TRUE))))*0.127 -> 0.0080477291 | R13: =(2.1*(_xlfn.NORM.DIST((49+$M13),$K13,$L13,TRUE)-_xlfn.NORM.DIST((35+$M13),$K13,$L13,TRUE)-(_xlfn.NORM.DIST(49,$K13,$L13,TRUE)-_xlfn.NORM.DIST(35,$K13,$L13,TRUE))))*0.293 -> 0.00091489862 | S13: =(2.1*(_xlfn.NORM.DIST((34+$M13),$K13,$L13,TRUE)-_xlfn.NORM.DIST((20+$M13),$K13,$L13,TRUE)-(_xlfn.NORM.DIST(34,$K13,$L13,TRUE)-_xlfn.NORM.DIST(20,$K13,$L13,TRUE))))*0.383 -> 3.9784044e-05 | T13: =(2.1*(_xlfn.NORM.DIST((34+$M13),$K13,$L13,TRUE)-(_xlfn.NORM.DIST(34,$K13,$L13,TRUE))))*0.444 -> 4.6900182e-05 | V13: =SUM(P13:T13) -> 0.0095191228 | X13: =(1-LOGNORMDIST(5,LN(F14),LN(G13)))-(1-LOGNORMDIST(10,LN(F14),LN(G13))) -> 0.12467312 | Y13: =(1-LOGNORMDIST(10,LN(F14),LN(G13)))-(1-LOGNORMDIST(15,LN(F14),LN(G13))) -> 0.0043360993 | Z13: =(1-LOGNORMDIST(15,LN(F14),LN(G13)))-(1-LOGNORMDIST(20,LN(F14),LN(G13))) -> 0.00024028543 | AA13: =1-LOGNORMDIST(20,LN(F14),LN(G13)) -> 2.2578133e-05 | AC13: =((X13*0.021)+(Y13*0.063)+(Z13*0.107)+(AA13*0.13))/(((X13*0.021)+(Y13*0.063)+(Z13*0.107)+(AA13*0.13))+1) -> 0.0029114541 | AD13: =((X13*0.028)+(Y13*0.086)+(Z13*0.148)+(AA13*0.18))/(((X13*0.028)+(Y13*0.086)+(Z13*0.148)+(AA13*0.18))+1) -> 0.003888201 | AE13: =((X13*0.049)+(Y13*0.155)+(Z13*0.271)+(AA13*0.333))/(((X13*0.049)+(Y13*0.155)+(Z13*0.271)+(AA13*0.333))+1) -> 0.0068070604 | AF13: =((X13*0.023)+(Y13*0.072)+(Z13*0.122)+(AA13*0.148))/(((X13*0.023)+(Y13*0.072)+(Z13*0.122)+(AA13*0.148))+1) -> 0.0032020512 | AH13: =((X13*0.013)+(Y13*0.04)+(Z13*0.067)+(AA13*0.081))/(((X13*0.013)+(Y13*0.04)+(Z13*0.067)+(AA13*0.081))+1) -> 0.0018088446 | AI13: =((X13*0.018)+(Y13*0.054)+(Z13*0.92)+(AA13*0.112))/(((X13*0.018)+(Y13*0.054)+(Z13*0.92)+(AA13*0.112))+1) -> 0.0026945765 | AJ13: =((X13*0.031)+(Y13*0.096)+(Z13*0.166)+(AA13*0.202))/(((X13*0.031)+(Y13*0.096)+(Z13*0.166)+(AA13*0.202))+1) -> 0.0043069503 | AK13: =((X13*0.015)+(Y13*0.045)+(Z13*0.076)+(AA13*0.093))/(((X13*0.015)+(Y13*0.045)+(Z13*0.076)+(AA13*0.093))+1) -> 0.0020812421 | AM13: =AC13+AH13 -> 0.0047202987 | AN13: =AD13+AI13 -> 0.0065827775 | AO13: =AE13+AJ13 -> 0.011114011 | AP13: =AF13+AK13 -> 0.0052832933 | AR13: =(351021.9/49700000)*AM13 -> 3.3338596e-05 | AS13: =(74022.79/49700000)*AO13 -> 1.655312e-05 | AT13: =((950651.56-74022.79-351021.9)/49700000)*(AN13+AP13) -> 0.00012549071 | AV13: =AT13+AS13+AR13 -> 0.00017538243
A14: 1100 | B14: 780 | C14: 0.05 | D14: 8.5028571 | E14: 1.6 | F14: 2.94 | G14: 1.6 | H14: 9.4060573 | I14: 1.6 | K14: 95.340779 | L14: 15 | M14: 4.6592208 | P14: =(2.1*(_xlfn.NORM.DIST((85+M14),$K14,$L14,TRUE)-_xlfn.NORM.DIST((70+M14),$K14,$L14,TRUE)-(_xlfn.NORM.DIST((85),$K14,$L14,TRUE)-_xlfn.NORM.DIST((70),$K14,$L14,TRUE))))*0.0034 -> 0.00049072335 | Q14: =(2.1*(_xlfn.NORM.DIST((69+$M14),$K14,$L14,TRUE)-_xlfn.NORM.DIST((50+$M14),$K14,$L14,TRUE)-(_xlfn.NORM.DIST(69,$K14,$L14,TRUE)-_xlfn.NORM.DIST(50,$K14,$L14,TRUE))))*0.127 -> 0.008677746 | R14: =(2.1*(_xlfn.NORM.DIST((49+$M14),$K14,$L14,TRUE)-_xlfn.NORM.DIST((35+$M14),$K14,$L14,TRUE)-(_xlfn.NORM.DIST(49,$K14,$L14,TRUE)-_xlfn.NORM.DIST(35,$K14,$L14,TRUE))))*0.293 -> 0.0010161003 | S14: =(2.1*(_xlfn.NORM.DIST((34+$M14),$K14,$L14,TRUE)-_xlfn.NORM.DIST((20+$M14),$K14,$L14,TRUE)-(_xlfn.NORM.DIST(34,$K14,$L14,TRUE)-_xlfn.NORM.DIST(20,$K14,$L14,TRUE))))*0.383 -> 4.5205877e-05 | T14: =(2.1*(_xlfn.NORM.DIST((34+$M14),$K14,$L14,TRUE)-(_xlfn.NORM.DIST(34,$K14,$L14,TRUE))))*0.444 -> 5.3311256e-05 | V14: =SUM(P14:T14) -> 0.010283087 | X14: =(1-LOGNORMDIST(5,LN(F15),LN(G14)))-(1-LOGNORMDIST(10,LN(F15),LN(G14))) -> 0.14579198 | Y14: =(1-LOGNORMDIST(10,LN(F15),LN(G14)))-(1-LOGNORMDIST(15,LN(F15),LN(G14))) -> 0.0057776019 | Z14: =(1-LOGNORMDIST(15,LN(F15),LN(G14)))-(1-LOGNORMDIST(20,LN(F15),LN(G14))) -> 0.00034714867 | AA14: =1-LOGNORMDIST(20,LN(F15),LN(G14)) -> 3.4801452e-05 | AC14: =((X14*0.021)+(Y14*0.063)+(Z14*0.107)+(AA14*0.13))/(((X14*0.021)+(Y14*0.063)+(Z14*0.107)+(AA14*0.13))+1) -> 0.0034553091 | AD14: =((X14*0.028)+(Y14*0.086)+(Z14*0.148)+(AA14*0.18))/(((X14*0.028)+(Y14*0.086)+(Z14*0.148)+(AA14*0.18))+1) -> 0.0046152918 | AE14: =((X14*0.049)+(Y14*0.155)+(Z14*0.271)+(AA14*0.333))/(((X14*0.049)+(Y14*0.155)+(Z14*0.271)+(AA14*0.333))+1) -> 0.0080791965 | AF14: =((X14*0.023)+(Y14*0.072)+(Z14*0.122)+(AA14*0.148))/(((X14*0.023)+(Y14*0.072)+(Z14*0.122)+(AA14*0.148))+1) -> 0.0038021938 | AH14: =((X14*0.013)+(Y14*0.04)+(Z14*0.067)+(AA14*0.081))/(((X14*0.013)+(Y14*0.04)+(Z14*0.067)+(AA14*0.081))+1) -> 0.0021478545 | AI14: =((X14*0.018)+(Y14*0.054)+(Z14*0.92)+(AA14*0.112))/(((X14*0.018)+(Y14*0.054)+(Z14*0.92)+(AA14*0.112))+1) -> 0.0032489307 | AJ14: =((X14*0.031)+(Y14*0.096)+(Z14*0.166)+(AA14*0.202))/(((X14*0.031)+(Y14*0.096)+(Z14*0.166)+(AA14*0.202))+1) -> 0.0051125849 | AK14: =((X14*0.015)+(Y14*0.045)+(Z14*0.076)+(AA14*0.093))/(((X14*0.015)+(Y14*0.045)+(Z14*0.076)+(AA14*0.093))+1) -> 0.0024703738 | AM14: =AC14+AH14 -> 0.0056031635 | AN14: =AD14+AI14 -> 0.0078642225 | AO14: =AE14+AJ14 -> 0.013191781 | AP14: =AF14+AK14 -> 0.0062725676 | AR14: =(351021.9/49700000)*AM14 -> 3.9574107e-05 | AS14: =(74022.79/49700000)*AO14 -> 1.9647736e-05 | AT14: =((950651.56-74022.79-351021.9)/49700000)*(AN14+AP14) -> 0.00014950491 | AV14: =AT14+AS14+AR14 -> 0.00020872675
A15: 1200 | B15: 850 | C15: 0.055 | D15: 9.1685714 | E15: 1.6 | F15: 3.084 | G15: 1.6 | H15: 9.8452506 | I15: 1.6 | K15: 95.1199 | L15: 15 | M15: 4.8801003 | P15: =(2.1*(_xlfn.NORM.DIST((85+M15),$K15,$L15,TRUE)-_xlfn.NORM.DIST((70+M15),$K15,$L15,TRUE)-(_xlfn.NORM.DIST((85),$K15,$L15,TRUE)-_xlfn.NORM.DIST((70),$K15,$L15,TRUE))))*0.0034 -> 0.00051309485 | Q15: =(2.1*(_xlfn.NORM.DIST((69+$M15),$K15,$L15,TRUE)-_xlfn.NORM.DIST((50+$M15),$K15,$L15,TRUE)-(_xlfn.NORM.DIST(69,$K15,$L15,TRUE)-_xlfn.NORM.DIST(50,$K15,$L15,TRUE))))*0.127 -> 0.0093983487 | R15: =(2.1*(_xlfn.NORM.DIST((49+$M15),$K15,$L15,TRUE)-_xlfn.NORM.DIST((35+$M15),$K15,$L15,TRUE)-(_xlfn.NORM.DIST(49,$K15,$L15,TRUE)-_xlfn.NORM.DIST(35,$K15,$L15,TRUE))))*0.293 -> 0.0011367352 | S15: =(2.1*(_xlfn.NORM.DIST((34+$M15),$K15,$L15,TRUE)-_xlfn.NORM.DIST((20+$M15),$K15,$L15,TRUE)-(_xlfn.NORM.DIST(34,$K15,$L15,TRUE)-_xlfn.NORM.DIST(20,$K15,$L15,TRUE))))*0.383 -> 5.1857753e-05 | T15: =(2.1*(_xlfn.NORM.DIST((34+$M15),$K15,$L15,TRUE)-(_xlfn.NORM.DIST(34,$K15,$L15,TRUE))))*0.444 -> 6.1180879e-05 | V15: =SUM(P15:T15) -> 0.011161217 | X15: =(1-LOGNORMDIST(5,LN(F16),LN(G15)))-(1-LOGNORMDIST(10,LN(F16),LN(G15))) -> 0.16785667 | Y15: =(1-LOGNORMDIST(10,LN(F16),LN(G15)))-(1-LOGNORMDIST(15,LN(F16),LN(G15))) -> 0.0075284556 | Z15: =(1-LOGNORMDIST(15,LN(F16),LN(G15)))-(1-LOGNORMDIST(20,LN(F16),LN(G15))) -> 0.00048856314 | AA15: =1-LOGNORMDIST(20,LN(F16),LN(G15)) -> 5.2111653e-05 | AC15: =((X15*0.021)+(Y15*0.063)+(Z15*0.107)+(AA15*0.13))/(((X15*0.021)+(Y15*0.063)+(Z15*0.107)+(AA15*0.13))+1) -> 0.0040419301 | AD15: =((X15*0.028)+(Y15*0.086)+(Z15*0.148)+(AA15*0.18))/(((X15*0.028)+(Y15*0.086)+(Z15*0.148)+(AA15*0.18))+1) -> 0.0053998052 | AE15: =((X15*0.049)+(Y15*0.155)+(Z15*0.271)+(AA15*0.333))/(((X15*0.049)+(Y15*0.155)+(Z15*0.271)+(AA15*0.333))+1) -> 0.0094514588 | AF15: =((X15*0.023)+(Y15*0.072)+(Z15*0.122)+(AA15*0.148))/(((X15*0.023)+(Y15*0.072)+(Z15*0.122)+(AA15*0.148))+1) -> 0.0044501768 | AH15: =((X15*0.013)+(Y15*0.04)+(Z15*0.067)+(AA15*0.081))/(((X15*0.013)+(Y15*0.04)+(Z15*0.067)+(AA15*0.081))+1) -> 0.0025138941 | AI15: =((X15*0.018)+(Y15*0.054)+(Z15*0.92)+(AA15*0.112))/(((X15*0.018)+(Y15*0.054)+(Z15*0.92)+(AA15*0.112))+1) -> 0.0038682498 | AJ15: =((X15*0.031)+(Y15*0.096)+(Z15*0.166)+(AA15*0.202))/(((X15*0.031)+(Y15*0.096)+(Z15*0.166)+(AA15*0.202))+1) -> 0.0059819179 | AK15: =((X15*0.015)+(Y15*0.045)+(Z15*0.076)+(AA15*0.093))/(((X15*0.015)+(Y15*0.045)+(Z15*0.076)+(AA15*0.093))+1) -> 0.0028902301 | AM15: =AC15+AH15 -> 0.0065558242 | AN15: =AD15+AI15 -> 0.009268055 | AO15: =AE15+AJ15 -> 0.015433377 | AP15: =AF15+AK15 -> 0.0073404069 | AR15: =(351021.9/49700000)*AM15 -> 4.6302573e-05 | AS15: =(74022.79/49700000)*AO15 -> 2.298635e-05 | AT15: =((950651.56-74022.79-351021.9)/49700000)*(AN15+AP15) -> 0.0001756443 | AV15: =AT15+AS15+AR15 -> 0.00024493322
... A103: 10000 | B103: 7010 | C103: 0.495 | D103: 39.588571 | E103: 1.6 | F103: 15.756 | G103: 1.6 | H103: 48.494264 | I103: 1.6 | K103: 90.738824 | L103: 15 | M103: 9.2611756 | P103: =(2.1*(_xlfn.NORM.DIST((85+M103),$K103,$L103,TRUE)-_xlfn.NORM.DIST((70+M103),$K103,$L103,TRUE)-(_xlfn.NORM.DIST((85),$K103,$L103,TRUE)-_xlfn.NORM.DIST((70),$K103,$L103,TRUE))))*0.0034 -> 0.0007363264 | Q103: =(2.1*(_xlfn.NORM.DIST((69+$M103),$K103,$L103,TRUE)-_xlfn.NORM.DIST((50+$M103),$K103,$L103,TRUE)-(_xlfn.NORM.DIST(69,$K103,$L103,TRUE)-_xlfn.NORM.DIST(50,$K103,$L103,TRUE))))*0.127 -> 0.030534492 | R103: =(2.1*(_xlfn.NORM.DIST((49+$M103),$K103,$L103,TRUE)-_xlfn.NORM.DIST((35+$M103),$K103,$L103,TRUE)-(_xlfn.NORM.DIST(49,$K103,$L103,TRUE)-_xlfn.NORM.DIST(35,$K103,$L103,TRUE))))*0.293 -> 0.0071494617 | S103: =(2.1*(_xlfn.NORM.DIST((34+$M103),$K103,$L103,TRUE)-_xlfn.NORM.DIST((20+$M103),$K103,$L103,TRUE)-(_xlfn.NORM.DIST(34,$K103,$L103,TRUE)-_xlfn.NORM.DIST(20,$K103,$L103,TRUE))))*0.383 -> 0.00054511711 | T103: =(2.1*(_xlfn.NORM.DIST((34+$M103),$K103,$L103,TRUE)-(_xlfn.NORM.DIST(34,$K103,$L103,TRUE))))*0.444 -> 0.00065020102 | V103: =SUM(P103:T103) -> 0.039615598 | X103: =(1-LOGNORMDIST(5,LN(F104),LN(G103)))-(1-LOGNORMDIST(10,LN(F104),LN(G103))) -> #NUM! | Y103: =(1-LOGNORMDIST(10,LN(F104),LN(G103)))-(1-LOGNORMDIST(15,LN(F104),LN(G103))) -> #NUM! | Z103: =(1-LOGNORMDIST(15,LN(F104),LN(G103)))-(1-LOGNORMDIST(20,LN(F104),LN(G103))) -> #NUM! | AA103: =1-LOGNORMDIST(20,LN(F104),LN(G103)) -> #NUM! | AC103: =((X103*0.021)+(Y103*0.063)+(Z103*0.107)+(AA103*0.13))/(((X103*0.021)+(Y103*0.063)+(Z103*0.107)+(AA103*0.13))+1) -> #NUM! | AD103: =((X103*0.028)+(Y103*0.086)+(Z103*0.148)+(AA103*0.18))/(((X103*0.028)+(Y103*0.086)+(Z103*0.148)+(AA103*0.18))+1) -> #NUM! | AE103: =((X103*0.049)+(Y103*0.155)+(Z103*0.271)+(AA103*0.333))/(((X103*0.049)+(Y103*0.155)+(Z103*0.271)+(AA103*0.333))+1) -> #NUM! | AF103: =((X103*0.023)+(Y103*0.072)+(Z103*0.122)+(AA103*0.148))/(((X103*0.023)+(Y103*0.072)+(Z103*0.122)+(AA103*0.148))+1) -> #NUM! | AH103: =((X103*0.013)+(Y103*0.04)+(Z103*0.067)+(AA103*0.081))/(((X103*0.013)+(Y103*0.04)+(Z103*0.067)+(AA103*0.081))+1) -> #NUM! | AI103: =((X103*0.018)+(Y103*0.054)+(Z103*0.92)+(AA103*0.112))/(((X103*0.018)+(Y103*0.054)+(Z103*0.92)+(AA103*0.112))+1) -> #NUM! | AJ103: =((X103*0.031)+(Y103*0.096)+(Z103*0.166)+(AA103*0.202))/(((X103*0.031)+(Y103*0.096)+(Z103*0.166)+(AA103*0.202))+1) -> #NUM! | AK103: =((X103*0.015)+(Y103*0.045)+(Z103*0.076)+(AA103*0.093))/(((X103*0.015)+(Y103*0.045)+(Z103*0.076)+(AA103*0.093))+1) -> #NUM! | AM103: =AC103+AH103 -> #NUM! | AN103: =AD103+AI103 -> #NUM! | AO103: =AE103+AJ103 -> #NUM! | AP103: =AF103+AK103 -> #NUM! | AR103: =(351021.9/49700000)*AM103 -> #NUM! | AS103: =(74022.79/49700000)*AO103 -> #NUM! | AT103: =((950651.56-74022.79-351021.9)/49700000)*(AN103+AP103) -> #NUM! | AV103: =AT103+AS103+AR103 -> #NUM!

Sheet Economic Inputs
A1: Country | C1: Discounted lifetime earnings (3%) | D1: Discounted lifetime earnings (1.5%) | E1: IQ point (1.4 %) low | F1: IQ point (1.4 %) high | G1: DALYs>>> | H1: 15-19 | I1: 20-24 | J1: 25-29 | K1: 30-34 | L1: 35-39 | M1: 40-44 | N1: 45-49 | O1: 50-54 | P1: 55-59 | Q1: 60-64 | R1: 65+ | S1: Total
A2: Afghanistan | C2: 14800.507 | D2: 23693.59 | E2: 207.2071 | F2: 331.71026 | H2: 715.13979 | I2: 875.42352 | J2: 945.8184 | K2: 1011.8813 | L2: 1019.4623 | M2: 991.30433 | N2: 964.22937 | O2: 904.66447 | P2: 867.84253 | Q2: 735.71676 | R2: 581.93102 | S2: 873.25753
A3: Albania | C3: 89315.365 | D3: 148326.29 | E3: 1250.4151 | F3: 2076.568 | H3: 2502.8636 | I3: 4532.4895 | J3: 5906.0746 | K3: 6131.5886 | L3: 6049.5835 | M3: 6075.2101 | N3: 6023.957 | O3: 5880.4481 | P3: 5603.6809 | Q3: 4394.1059 | R3: 2507.9889 | S3: 4799.006
A4: Algeria | C4: 64722.171 | D4: 105186.34 | E4: 906.1104 | F4: 1472.6088 | H4: 2218.8818 | I4: 3564.7345 | J4: 4581.3858 | K4: 4586.227 | L4: 4363.532 | M4: 4198.9313 | N4: 4150.5193 | O4: 3743.8588 | P4: 3221.0095 | Q4: 2441.5769 | R4: 1879.9981 | S4: 3637.3525
A5: Angola | C5: 62236.568 | D5: 101563.2 | E5: 871.31195 | F5: 1421.8848 | H5: 2465.86 | I5: 3490.1403 | J5: 4133.4081 | K5: 4316.492 | L5: 4390.7152 | M5: 4450.0938 | N5: 4450.0938 | O5: 4375.8706 | P5: 4202.6831 | Q5: 3950.3242 | R5: 3638.5867 | S5: 3806.826
A6: Argentina | C6: 213564.5 | D6: 353142.88 | E6: 2989.903 | F6: 4944.0004 | H6: 6258.8767 | I6: 11653.887 | J6: 13809.4 | K6: 14544.516 | L6: 14556.976 | M6: 14831.087 | N6: 14656.653 | O6: 14208.107 | P6: 13173.96 | Q6: 11055.826 | R6: 6321.1748 | S6: 11666.347
A7: Armenia | C7: 51874.077 | D7: 85839.964 | E7: 726.23708 | F7: 1201.7595 | H7: 1561.8171 | I7: 2909.8082 | J7: 3267.4988 | K7: 3403.4804 | L7: 3430.0855 | M7: 3521.7252 | N7: 3512.8568 | O7: 3400.5243 | P7: 3223.157 | Q7: 2971.8867 | R7: 2463.434 | S7: 3081.2632
A8: Aruba | C8: 591299.34 | D8: 963805.03 | E8: 8278.1908 | F8: 13493.27 | H8: 22569.499 | I8: 30626.159 | J8: 38682.819 | K8: 39301.31 | L8: 39919.801 | M8: 39171.102 | N8: 38422.402 | O8: 34402.21 | P8: 30382.018 | Q8: 21820.799 | R8: 13259.581 | S8: 31619
A9: Australia | C9: 770023.21 | D9: 1251370.2 | E9: 10780.325 | F9: 17519.183 | H9: 34734.327 | I9: 44508.283 | J9: 46636.483 | K9: 46518.249 | L9: 46636.483 | M9: 47030.594 | N9: 46912.36 | O9: 45887.671 | P9: 42655.96 | Q9: 36192.538 | R9: 18930.471 | S9: 39148.371
A10: Austria | C10: 726757.67 | D10: 1187712.7 | E10: 10174.607 | F10: 16627.977 | H10: 26362.701 | I10: 41069.642 | J10: 45742.159 | K10: 46814.54 | L10: 47427.33 | M10: 47427.33 | N10: 47389.03 | O10: 46431.547 | P10: 42065.424 | Q10: 24945.626 | R10: 14566.51 | S10: 36282.226
A11: Azerbaijan | C11: 56458.8 | D11: 92610.653 | E11: 790.4232 | F11: 1296.5491 | H11: 1626.2646 | I11: 3335.458 | J11: 3797.4895 | K11: 3694.0978 | L11: 3623.0161 | M11: 4001.0418 | N11: 4253.059 | O11: 4214.2871 | P11: 3002.6661 | Q11: 2046.2933 | R11: 1280.5488 | S11: 3225.6044
A12: Bahamas | C12: 563747.82 | D12: 914846.42 | E12: 7892.4695 | F12: 12807.85 | H12: 21124.81 | I12: 37071.453 | J12: 38593.2 | K12: 35565.558 | L12: 35565.558 | M12: 35565.558 | N12: 35565.558 | O12: 35565.558 | P12: 35565.558 | Q12: 32537.915 | R12: 16844.896 | S12: 34249.88
A13: Bahrain | C13: 268902.09 | D13: 442351.48 | E13: 3764.6292 | F13: 6192.9208 | H13: 6159.962 | I13: 16486.491 | J13: 19087.951 | K13: 17818.946 | L13: 18612.074 | M13: 18564.486 | N13: 17676.183 | O13: 17057.543 | P13: 14535.395 | Q13: 11584.959 | R13: 9031.086 | S13: 16645.116
... A19: Benin | C19: 22764.217 | D19: 37679.976 | E19: 318.69904 | F19: 527.51966 | H19: 772.47741 | I19: 1156.3378 | J19: 1453.1518 | K19: 1610.1207 | L19: 1668.6273 | M19: 1715.718 | N19: 1728.5609 | O19: 1668.6273 | P19: 1588.7159 | Q19: 1473.1296 | R19: 1217.6984 | S19: 1370.3863
A20: Bermuda | C20: 1696923.5 | D20: 2805705.2 | E20: 23756.929 | F20: 39279.872 | H20: 56482.55 | I20: 90967.248 | J20: 108209.6 | K20: 110047.61 | L20: 109434.94 | M20: 108997.32 | N20: 110047.61 | O20: 108122.07 | P20: 103308.22 | Q20: 95868.626 | R20: #VALUE! | S20: 102695.55
A21: Bhutan | C21: 47763.124 | D21: 79237.431 | E21: 668.68374 | F21: 1109.324 | H21: 1227.0081 | I21: 2541.0515 | J21: 3182.4635 | K21: 3349.9118 | L21: 3375.4548 | M21: 3352.7499 | N21: 3474.7885 | O21: 3477.6266 | P21: 2753.9094 | Q21: 2447.3939 | R21: 1916.668 | S21: 2736.8808
A22: Bolivia (Plurinational State of) | C22: 54763.836 | D22: 90029.703 | E22: 766.6937 | F22: 1260.4158 | H22: 2264.2033 | I22: 2774.5604 | J22: 3321.3715 | K22: 3546.1717 | L22: 3646.4204 | M22: 3655.5339 | N22: 3661.6096 | O22: 3682.8745 | P22: 3552.2473 | Q22: 3120.8741 | R22: 2519.3818 | S22: 3160.366
A23: Bosnia and Herzegovina | C23: 163079.5 | D23: 266814.04 | E23: 2283.1129 | F23: 3735.3965 | H23: 5033.2842 | I23: 8894.3385 | J23: 11054.442 | K23: 11367.5 | L23: 11419.677 | M23: 11054.442 | N23: 10532.678 | O23: 9937.8667 | P23: 8769.1151 | Q23: 6431.612 | R23: 4188.0264 | S23: 7840.375
A24: Botswana | C24: 98424.19 | D24: 159744.34 | E24: 1377.9387 | F24: 2236.4208 | H24: 3073.0538 | I24: 5939.2469 | J24: 7078.0468 | K24: 7410.7299 | L24: 7660.2423 | M24: 7557.8782 | N24: 7314.7636 | O24: 7026.8648 | P24: 6713.3749 | Q24: 5728.121 | R24: 4026.3189 | S24: 6220.748
A25: Brazil | C25: 126395.65 | D25: 204335.66 | E25: 1769.5391 | F25: 2860.6992 | H25: 5117.3101 | I25: 7750.0945 | J25: 8223.5652 | K25: 8359.8674 | L25: 8345.5198 | M25: 8237.9128 | N25: 8008.3513 | O25: 7534.8805 | P25: 6659.677 | Q25: 5411.4359 | R25: 3510.3791 | S25: 7004.0194
A26: British Virgin Islands | C26: 954341.53 | D26: 1554816.8 | E26: 13360.781 | F26: 21767.435 | H26: 34650.676 | I26: 58919.25 | J26: 60687.81 | K26: 59705.277 | L26: 60393.05 | M26: 60294.797 | N26: 60835.19 | O26: 55431.256 | P26: 49339.55 | Q26: 44770.77 | R26: 29050.236 | S26: 54055.71
A27: Brunei Darussalam | C27: 369424.04 | D27: 603030.99 | E27: 5171.9365 | F27: 8442.4338 | H27: 10822.958 | I27: 20485.278 | J27: 26121.631 | K27: 26295.727 | L27: 26099.869 | M27: 24902.96 | N27: 25316.438 | O27: 23379.621 | P27: 19527.751 | Q27: 12912.109 | R27: 9865.4313 | S27: 21268.709
A28: Bulgaria | C28: 162001.54 | D28: 270992.06 | E28: 2268.0215 | F28: 3793.8888 | H28: 3835.7323 | I28: 7404.2343 | J28: 10835.862 | K28: 11500.679 | L28: 11754.874 | M28: 11979.738 | N28: 12048.175 | O28: 11569.116 | P28: 11080.28 | Q28: 8538.3336 | R28: 3913.946 | S28: 8792.5282
A29: Burkina Faso | C29: 17806.207 | D29: 29025.576 | E29: 249.28689 | F29: 406.35806 | H29: 686.23774 | I29: 965.22224 | J29: 1183.7372 | K29: 1301.9277 | L29: 1300.5534 | M29: 1290.9332 | N29: 1288.1846 | O29: 1152.1281 | P29: 1121.8933 | Q29: 994.08271 | R29: 746.70729 | S29: 1075.1669
A30: Burundi | C30: 5015.1773 | D30: 8192.7201 | E30: 70.212483 | F30: 114.69808 | H30: 190.81496 | I30: 287.52816 | J30: 339.39669 | K30: 351.28322 | L30: 353.71456 | M30: 352.90412 | N30: 351.82352 | O30: 349.66233 | P30: 346.6907 | Q30: 327.7803 | R30: 255.92077 | S30: 303.19677
A31: Cabo Verde (Cape Verde) | C31: 70622.088 | D31: 116118.13 | E31: 988.70923 | F31: 1625.6538 | H31: 2089.1453 | I31: 3949.722 | J31: 4600.4871 | K31: 4928.0535 | L31: 4984.8316 | M31: 4954.2588 | N31: 4818.8647 | O31: 4600.4871 | P31: 4207.4075 | Q31: 3312.0596 | R31: 1931.9134 | S31: 4041.4406
A32: Cambodia | C32: 22809.711 | D32: 37036.8 | E32: 319.33595 | F32: 518.51521 | H32: 918.58731 | I32: 1345.146 | J32: 1475.2826 | K32: 1505.4068 | L32: 1510.2266 | M32: 1498.1769 | N32: 1468.0527 | O32: 1431.9037 | P32: 1343.941 | Q32: 1210.1896 | R32: 853.51904 | S32: 1317.4317
... A106: Malawi | C106: 13732.296 | D106: 22176.83 | E106: 192.25214 | F106: 310.47563 | H106: 630.81636 | I106: 810.27274 | J106: 887.76527 | K106: 926.10368 | L106: 925.28797 | M106: 933.44508 | N106: 909.78946 | O106: 899.18522 | P106: 872.26677 | Q106: 833.92836 | R106: 731.96451 | S106: 823.32412
A107: Malaysia | C107: 167533.25 | D107: 272759.84 | E107: 2345.4655 | F107: 3818.6378 | H107: 5301.0268 | I107: 9868.4148 | J107: 11553.187 | K107: 11592.141 | L107: 11436.324 | M107: 11290.246 | N107: 10998.089 | O107: 10394.297 | P107: 8904.2966 | Q107: 6557.3019 | R107: #VALUE! | S107: 9936.5848
A108: Maldives | C108: 216325.34 | D108: 353405.87 | E108: 3028.5547 | F108: 4947.6822 | H108: 8164.1862 | I108: 13337.614 | J108: 13587.538 | K108: 13087.69 | L108: 13375.103 | M108: 13375.103 | N108: 12950.232 | O108: 13062.698 | P108: 12287.933 | Q108: 10838.374 | R108: 6777.1076 | S108: 12112.986
A109: Mali | C109: 20360.387 | D109: 33162.907 | E109: 285.04541 | F109: 464.28069 | H109: 926.89869 | I109: 1149.1033 | J109: 1260.8333 | K109: 1361.2648 | L109: 1388.8834 | M109: 1408.9697 | N109: 1436.5884 | O109: 1393.905 | P109: 1415.2467 | Q109: 1196.8082 | R109: 855.34127 | S109: 1219.4053
A110: Malta | C110: 559598.36 | D110: 914240.87 | E110: 7834.3771 | F110: 12799.372 | H110: 17532.808 | I110: 33249.109 | J110: 37855.611 | K110: 36711.512 | L110: 36500.757 | M110: 35958.816 | N110: 35477.09 | O110: 34332.991 | P110: 30449.078 | Q110: 20814.564 | R110: 11872.531 | S110: 28552.283
A111: Mauritania | C111: 53853.608 | D111: 89278.605 | E111: 753.95051 | F111: 1249.9005 | H111: 1924.5763 | I111: 2622.0461 | J111: 3311.2618 | K111: 3558.8842 | L111: 3843.65 | M111: 3868.4122 | N111: 3843.65 | O111: 3831.2688 | P111: 3563.0112 | Q111: 3286.4996 | R111: 2362.0426 | S111: 3071.8935
A112: Mauritius | C112: 194148.45 | D112: 316551.37 | E112: 2718.0784 | F112: 4431.7192 | H112: 6066.9525 | I112: 11278.703 | J112: 13694.746 | K112: 13395.616 | L112: 13292.072 | M112: 13038.962 | N112: 12992.943 | O112: 11888.466 | P112: 11290.207 | Q112: 8344.936 | R112: 4858.931 | S112: 10634.424
A113: Mexico | C113: 174875.98 | D113: 285377.88 | E113: 2448.2638 | F113: 3995.2903 | H113: 6765.2012 | I113: 9893.2729 | J113: 11283.527 | K113: 11452.043 | L113: 11536.3 | M113: 11536.3 | N113: 11430.978 | O113: 10999.157 | P113: 10156.579 | Q113: 8766.3245 | R113: 6375.5087 | S113: 9851.144
A114: Moldova (Republic of) | C114: 83170.22 | D114: 137589.67 | E114: 1164.3831 | F114: 1926.2554 | H114: 2508.9468 | I114: 4198.9002 | J114: 5358.7945 | K114: 5670.594 | L114: 5863.9097 | M114: 5932.5056 | N114: 6001.1015 | O114: 5920.0336 | P114: 5489.7503 | Q114: 3868.3927 | R114: 2552.5988 | S114: 4716.4875
A115: Mongolia | C115: 57554.458 | D115: 93577.574 | E115: 805.76241 | F115: 1310.086 | H115: 1744.7622 | I115: 3352.0003 | J115: 3979.8277 | K115: 4112.5683 | L115: 4238.1338 | M115: 4299.1227 | N115: 4202.2579 | O115: 3943.9518 | P115: 3147.5079 | Q115: 2275.7248 | R115: 1698.1236 | S115: 3456.0403
A116: Montenegro | C116: 117711.66 | D116: 193635.26 | E116: 1647.9633 | F116: 2710.8936 | H116: 3518.0601 | I116: 6302.5073 | J116: 7814.2653 | K116: 8144.7426 | L116: 8264.277 | M116: 8088.4912 | N116: 7722.8567 | O116: 7540.0394 | P116: 6808.7705 | Q116: 5451.704 | R116: 2969.6083 | S116: 6379.8531
A117: Morocco | C117: 51736.045 | D117: 84461.474 | E117: 724.30463 | F117: 1182.4606 | H117: 1974.9022 | I117: 2883.095 | J117: 3344.3425 | K117: 3383.6737 | L117: 3380.0981 | M117: 3394.4004 | N117: 3355.0692 | O117: 3294.2846 | P117: 3111.931 | Q117: 2439.7253 | R117: 1849.7575 | S117: 2922.4262
A118: Mozambique | C118: 8572.6231 | D118: 13711.547 | E118: 120.01672 | F118: 191.96166 | H118: 425.36148 | I118: 541.05453 | J118: 585.05744 | K118: 603.8452 | L118: 611.75583 | M118: 619.66647 | N118: 621.64413 | O118: 616.69998 | P118: 597.41781 | Q118: 585.05744 | R118: 532.64948 | S118: 555.39255
A119: Myanmar | C119: 17102.659 | D119: 27660.798 | E119: 239.43723 | F119: 387.25117 | H119: 622.18717 | I119: 1056.44 | J119: 1180.8083 | K119: 1163.1894 | L119: 1150.7526 | M119: 1130.0246 | N119: 1094.7869 | O119: 1037.7847 | P119: 962.1273 | Q119: 745.51911 | R119: 493.67322 | S119: 972.49133
... A186: Zimbabwe | C186: 29691.179 | D186: 47685.983 | E186: 415.67651 | F186: 667.60376 | H186: 1375.4417 | I186: 1791.2156 | J186: 1998.1786 | K186: 2064.7025 | L186: 2096.1165 | M186: 2090.5728 | N186: 2101.6601 | O186: 2085.0292 | P186: 1996.3308 | Q186: 1868.8268 | R186: 1490.0105 | S186: 1831.8691

Sheet CA_ingestion
A1: Chemical | B1: CASRN | C1: Tumor Type | D1: Oral Slope Factor (mg/kg-body weight) | E1: Extrapolation Method | F1: Risk at 1ppb (water) (70kg adult) | G1: Lifetime risk at 1ppm (soil) (70kg adult) | H1: Disability Weight (Diagnosis) | I1: Disability Weight (Metastasis) | J1: Morbitity Factor
A2: Acrylonitrile | B2: 107-13-1 | C2: Brain and spinal cord astrocytomas, Zymbal gland carcinomas and stomach papillomas/ carcinomas | D2: 0.54 | E2: Linearized multistage procedure, extra risk | F2: =D2/70/1000 -> 7.7142857e-06 | G2: =(D2/70) -> 0.0077142857 | H2: 0.3 | I2: 0.5 | J2: =((H2*0.6)+(I2*0.4)) -> 0.38
A3: Aldrin | B3: 309-00-2 | C3: Liver carcinoma | D3: 17 | E3: Linearized multistage procedure, extra risk | F3: =D3/70/1000 -> 0.00024285714 | G3: =(D3/70) -> 0.24285714 | H3: 0.3 | I3: 0.5 | J3: =((H3*0.6)+(I3*0.4)) -> 0.38
A4: Aniline | B4: 62-53-3 | C4: Spleen, combined fibrosarcoma, stromal sarcoma, capsular sarcoma and hemangiosarcoma | D4: 0.0057 | E4: Linearized multistage procedure, extra risk | F4: =D4/70/1000 -> 8.1428571e-08 | G4: =(D4/70) -> 8.1428571e-05 | H4: 0.3 | I4: 0.5 | J4: =((H4*0.6)+(I4*0.4)) -> 0.38
A5: Aramite | B5: 140-57-8 | C5: Neoplastic liver nodules and carcinomas | D5: 0.025 | E5: Linearized multistage procedure, extra risk | F5: =D5/70/1000 -> 3.5714286e-07 | G5: =(D5/70) -> 0.00035714286 | H5: 0.3 | I5: 0.5 | J5: =((H5*0.6)+(I5*0.4)) -> 0.38
A6: Arsenic, inorganic | B6: 7440-38-2 | C6: Skin cancer | D6: 1.5 | E6: Time- and dose-related formulation of the multistage model | F6: =D6/70/1000 -> 2.1428571e-05 | G6: =(D6/70) -> 0.021428571 | H6: 0.3 | I6: 0.5 | J6: =((H6*0.6)+(I6*0.4)) -> 0.38
A7: Azobenzene | B7: 103-33-3 | C7: Abdominal cavity sarcomas | D7: 0.11 | E7: Linearized multistage procedure, extra risk | F7: =D7/70/1000 -> 1.5714286e-06 | G7: =(D7/70) -> 0.0015714286 | H7: 0.3 | I7: 0.5 | J7: =((H7*0.6)+(I7*0.4)) -> 0.38
A8: Benzene | B8: 71-43-2 | C8: Leukemia | D8: 0.055 | E8: Linear extrapolation of human occupational data | F8: =D8/70/1000 -> 7.8571429e-07 | G8: =(D8/70) -> 0.00078571429 | H8: 0.3 | I8: 0.5 | J8: =((H8*0.6)+(I8*0.4)) -> 0.38
A9: Benzene | B9: 71-43-2 | C9: Leukemia | D9: 0.015 | E9: Linear extrapolation of human occupational data | F9: =D9/70/1000 -> 2.1428571e-07 | G9: =(D9/70) -> 0.00021428571 | H9: 0.3 | I9: 0.5 | J9: =((H9*0.6)+(I9*0.4)) -> 0.38
A10: Benzidine | B10: 92-87-5 | C10: Bladder tumors | D10: 230 | E10: One-hit with time factor, extra risk | F10: =D10/70/1000 -> 0.0032857143 | G10: =(D10/70) -> 3.2857143 | H10: 0.3 | I10: 0.5 | J10: =((H10*0.6)+(I10*0.4)) -> 0.38
A11: Benzotrichloride | B11: 98-07-7 | C11: Lung, adenocarcinoma | D11: 13 | E11: Linearized multistage procedure, extra risk | F11: =D11/70/1000 -> 0.00018571429 | G11: =(D11/70) -> 0.18571429 | H11: 0.3 | I11: 0.5 | J11: =((H11*0.6)+(I11*0.4)) -> 0.38
A12: Benzyl chloride | B12: 100-44-7 | C12: Thyroid, C-cell adenoma/ carcinoma | D12: 0.17 | E12: Linearized multistage procedure, extra risk | F12: =D12/70/1000 -> 2.4285714e-06 | G12: =(D12/70) -> 0.0024285714 | H12: 0.3 | I12: 0.5 | J12: =((H12*0.6)+(I12*0.4)) -> 0.38
A13: Biphenyl | B13: 92-52-4 | C13: Liver adenomas or carcinomas | D13: 0.008 | E13: Multistage model with linear extrapolation from the POD (LED10). | F13: =D13/70/1000 -> 1.1428571e-07 | G13: =(D13/70) -> 0.00011428571 | H13: 0.3 | I13: 0.5 | J13: =((H13*0.6)+(I13*0.4)) -> 0.38
... A37: Dieldrin | B37: 60-57-1 | C37: Liver carcinoma | D37: 16 | E37: Linearized multistage procedure, extra risk | F37: =D37/70/1000 -> 0.00022857143 | G37: =(D37/70) -> 0.22857143 | H37: 0.3 | I37: 0.5 | J37: =((H37*0.6)+(I37*0.4)) -> 0.38
A38: 2,4-/2,6-Dinitrotoluene mixture | C38: Liver: hepatocellular carcinomas, neoplastic nodules; mammary gland: adenomas, fibroadenomas, fibromas, adenocarcinomas/ carcinomas | D38: 0.68 | E38: Linearized multistage procedure | F38: =D38/70/1000 -> 9.7142857e-06 | G38: =(D38/70) -> 0.0097142857 | H38: 0.3 | I38: 0.5 | J38: =((H38*0.6)+(I38*0.4)) -> 0.38
A39: 1,4-Dioxane | B39: 123-91-1 | C39: Hepatocellular adenoma and carcinoma | D39: 0.1 | E39: Log-logistic model with linear extrapolation from the POD (BMDL50HED) associated with 50% extra cancer risk. | F39: =D39/70/1000 -> 1.4285714e-06 | G39: =(D39/70) -> 0.0014285714 | H39: 0.3 | I39: 0.5 | J39: =((H39*0.6)+(I39*0.4)) -> 0.38
A40: 1,2-Diphenylhydrazine | B40: 122-66-7 | C40: Hepatocellular carcinomas and neoplastic liver nodules | D40: 0.8 | E40: Linearized multistage procedure, extra risk | F40: =D40/70/1000 -> 1.1428571e-05 | G40: =(D40/70) -> 0.011428571 | H40: 0.3 | I40: 0.5 | J40: =((H40*0.6)+(I40*0.4)) -> 0.38
A41: Epichlorohydrin | B41: 106-89-8 | C41: Papillomas and carcinomas of the forestomach | D41: 0.0099 | E41: Linearized multistage procedure, extra risk | F41: =D41/70/1000 -> 1.4142857e-07 | G41: =(D41/70) -> 0.00014142857 | H41: 0.3 | I41: 0.5 | J41: =((H41*0.6)+(I41*0.4)) -> 0.38
A42: Furmecyclox | B42: 60568-05-0 | C42: Combined liver nodules and carcinomas | D42: 0.03 | E42: Linearized multistage procedure, extra risk | F42: =D42/70/1000 -> 4.2857143e-07 | G42: =(D42/70) -> 0.00042857143 | H42: 0.3 | I42: 0.5 | J42: =((H42*0.6)+(I42*0.4)) -> 0.38
A43: Heptachlor | B43: 76-44-8 | C43: Hepatocellular carcinomas | D43: 4.5 | E43: Linearized multistage procedure, extra risk | F43: =D43/70/1000 -> 6.4285714e-05 | G43: =(D43/70) -> 0.064285714 | H43: 0.3 | I43: 0.5 | J43: =((H43*0.6)+(I43*0.4)) -> 0.38
A44: Heptachlor epoxide | B44: 1024-57-3 | C44: Hepatocellular carcinomas | D44: 9.1 | E44: Linearized multistage procedure, extra risk | F44: =D44/70/1000 -> 0.00013 | G44: =(D44/70) -> 0.13 | H44: 0.3 | I44: 0.5 | J44: =((H44*0.6)+(I44*0.4)) -> 0.38
A45: Hexachlorobenzene | B45: 118-74-1 | C45: Hepatocellular carcinoma | D45: 1.6 | E45: Linearized multistage, extra risk | F45: =D45/70/1000 -> 2.2857143e-05 | G45: =(D45/70) -> 0.022857143 | H45: 0.3 | I45: 0.5 | J45: =((H45*0.6)+(I45*0.4)) -> 0.38
A46: Hexachlorobutadiene | B46: 87-68-3 | C46: Renal tubular adenomas and adenocarcinomas | D46: 0.078 | E46: Linearized multistage procedure, extra risk | F46: =D46/70/1000 -> 1.1142857e-06 | G46: =(D46/70) -> 0.0011142857 | H46: 0.3 | I46: 0.5 | J46: =((H46*0.6)+(I46*0.4)) -> 0.38
A47: alpha-Hexachlorocyclohexane (alpha-HCH) | B47: 319-84-6 | C47: Hepatic nodules and hepatocellular carcinomas | D47: 6.3 | E47: Linearized multistage procedure, extra risk | F47: =D47/70/1000 -> 9e-05 | G47: =(D47/70) -> 0.09 | H47: 0.3 | I47: 0.5 | J47: =((H47*0.6)+(I47*0.4)) -> 0.38
A48: beta-Hexachlorocyclohexane (beta-HCH) | B48: 319-85-7 | C48: Hepatic nodules and hepatocellular carcinomas | D48: 1.8 | E48: Linearized multistage procedure, extra risk | F48: =D48/70/1000 -> 2.5714286e-05 | G48: =(D48/70) -> 0.025714286 | H48: 0.3 | I48: 0.5 | J48: =((H48*0.6)+(I48*0.4)) -> 0.38
A49: technical Hexachlorocyclohexane (t-HCH) | B49: 608-73-1 | C49: Liver nodules and hepatocellular carcinomas | D49: 1.8 | E49: Linearized multistage procedure, extra risk | F49: =D49/70/1000 -> 2.5714286e-05 | G49: =(D49/70) -> 0.025714286 | H49: 0.3 | I49: 0.5 | J49: =((H49*0.6)+(I49*0.4)) -> 0.38
A50: Hexachlorodibenzo-p-dioxin (HxCDD), mixture of 1,2,3,6,7,8-HxCDD and 1,2,3,7,8,9-HxCDD | B50: 57653-85-7 | C50: Liver tumors (adenomas and carcinomas; neoplastic nodules and hepatocellular carcinomas) | D50: 6200 | E50: Linearized multistage procedure, extra risk | F50: =D50/70/1000 -> 0.088571429 | G50: =(D50/70) -> 88.571429 | H50: 0.3 | I50: 0.5 | J50: =((H50*0.6)+(I50*0.4)) -> 0.38
... A78: Vinyl chloride | B78: 75-01-4 | C78: Total of liver angiosarcoma, hepatocellular carcinoma, and neoplastic nodules | D78: 1.5 | E78: LED 10/ linear method | F78: =D78/70/1000 -> 2.1428571e-05 | G78: =(D78/70) -> 0.021428571 | H78: 0.3 | I78: 0.5 | J78: =((H78*0.6)+(I78*0.4)) -> 0.38

Sheet Hg Values
A1: Dietary Intake (mg/day) | B1: Dietary Intake (µg/day) | C1: IQ Decrement (Child 0-7) | D1: Mean IQ (Child 0-7) | E1: SD | G1: Borderline | H1: Mild | I1: Moderate | J1: Severe | K1: Profound | M1: DALYs/ child (0-7 years)
A2: 0 | B2: =A2*1000 -> 0 | C2: =B2*0.036 -> 0 | D2: 100 | E2: 15 | G2: =(2.1*(_xlfn.NORM.DIST((85+C2),$D2,$E2,TRUE)-_xlfn.NORM.DIST((70+C2),$D2,$E2,TRUE)-(_xlfn.NORM.DIST((85),$D2,$E2,TRUE)-_xlfn.NORM.DIST((70),$D2,$E2,TRUE))))*0.0034 -> 0 | H2: =(2.1*(_xlfn.NORM.DIST((69+$C2),$D2,$E2,TRUE)-_xlfn.NORM.DIST((50+$C2),$D2,$E2,TRUE)-(_xlfn.NORM.DIST(69,$D2,$E2,TRUE)-_xlfn.NORM.DIST(50,$D2,$E2,TRUE))))*0.0034 -> 0 | I2: =(2.1*(_xlfn.NORM.DIST((49+$C2),$D2,$E2,TRUE)-_xlfn.NORM.DIST((35+$C2),$D2,$E2,TRUE)-(_xlfn.NORM.DIST(49,$D2,$E2,TRUE)-_xlfn.NORM.DIST(35,$D2,$E2,TRUE))))*0.0034 -> 0 | J2: =(2.1*(_xlfn.NORM.DIST((34+$C2),$D2,$E2,TRUE)-_xlfn.NORM.DIST((20+$C2),$D2,$E2,TRUE)-(_xlfn.NORM.DIST(34,$D2,$E2,TRUE)-_xlfn.NORM.DIST(20,$D2,$E2,TRUE))))*0.0034 -> 0 | K2: =(2.1*(_xlfn.NORM.DIST((34+$C2),$D2,$E2,TRUE)-(_xlfn.NORM.DIST(34,$D2,$E2,TRUE))))*0.0034 -> 0 | M2: =SUM(G2:K2) -> 0
A3: 0.01 | B3: =A3*1000 -> 10 | C3: =B3*0.036 -> 0.36 | D3: 99.027932 | E3: 15 | G3: =(2.1*(_xlfn.NORM.DIST((85+C3),$D3,$E3,TRUE)-_xlfn.NORM.DIST((70+C3),$D3,$E3,TRUE)-(_xlfn.NORM.DIST((85),$D3,$E3,TRUE)-_xlfn.NORM.DIST((70),$D3,$E3,TRUE))))*0.0034 -> 3.3885245e-05 | H3: =(2.1*(_xlfn.NORM.DIST((69+$C3),$D3,$E3,TRUE)-_xlfn.NORM.DIST((50+$C3),$D3,$E3,TRUE)-(_xlfn.NORM.DIST(69,$D3,$E3,TRUE)-_xlfn.NORM.DIST(50,$D3,$E3,TRUE))))*0.0034 -> 9.1011118e-06 | I3: =(2.1*(_xlfn.NORM.DIST((49+$C3),$D3,$E3,TRUE)-_xlfn.NORM.DIST((35+$C3),$D3,$E3,TRUE)-(_xlfn.NORM.DIST(49,$D3,$E3,TRUE)-_xlfn.NORM.DIST(35,$D3,$E3,TRUE))))*0.0034 -> 2.6546394e-07 | J3: =(2.1*(_xlfn.NORM.DIST((34+$C3),$D3,$E3,TRUE)-_xlfn.NORM.DIST((20+$C3),$D3,$E3,TRUE)-(_xlfn.NORM.DIST(34,$D3,$E3,TRUE)-_xlfn.NORM.DIST(20,$D3,$E3,TRUE))))*0.0034 -> 5.9090713e-09 | K3: =(2.1*(_xlfn.NORM.DIST((34+$C3),$D3,$E3,TRUE)-(_xlfn.NORM.DIST(34,$D3,$E3,TRUE))))*0.0034 -> 5.9774752e-09 | M3: =SUM(G3:K3) -> 4.3263708e-05
A4: 0.02 | B4: =A4*1000 -> 20 | C4: =B4*0.036 -> 0.72 | D4: 98.312448 | E4: 15 | G4: =(2.1*(_xlfn.NORM.DIST((85+C4),$D4,$E4,TRUE)-_xlfn.NORM.DIST((70+C4),$D4,$E4,TRUE)-(_xlfn.NORM.DIST((85),$D4,$E4,TRUE)-_xlfn.NORM.DIST((70),$D4,$E4,TRUE))))*0.0034 -> 7.0080838e-05 | H4: =(2.1*(_xlfn.NORM.DIST((69+$C4),$D4,$E4,TRUE)-_xlfn.NORM.DIST((50+$C4),$D4,$E4,TRUE)-(_xlfn.NORM.DIST(69,$D4,$E4,TRUE)-_xlfn.NORM.DIST(50,$D4,$E4,TRUE))))*0.0034 -> 2.040507e-05 | I4: =(2.1*(_xlfn.NORM.DIST((49+$C4),$D4,$E4,TRUE)-_xlfn.NORM.DIST((35+$C4),$D4,$E4,TRUE)-(_xlfn.NORM.DIST(49,$D4,$E4,TRUE)-_xlfn.NORM.DIST(35,$D4,$E4,TRUE))))*0.0034 -> 6.4560376e-07 | J4: =(2.1*(_xlfn.NORM.DIST((34+$C4),$D4,$E4,TRUE)-_xlfn.NORM.DIST((20+$C4),$D4,$E4,TRUE)-(_xlfn.NORM.DIST(34,$D4,$E4,TRUE)-_xlfn.NORM.DIST(20,$D4,$E4,TRUE))))*0.0034 -> 1.5279264e-08 | K4: =(2.1*(_xlfn.NORM.DIST((34+$C4),$D4,$E4,TRUE)-(_xlfn.NORM.DIST(34,$D4,$E4,TRUE))))*0.0034 -> 1.5466517e-08 | M4: =SUM(G4:K4) -> 9.1162257e-05
A5: 0.03 | B5: =A5*1000 -> 30 | C5: =B5*0.036 -> 1.08 | D5: 97.658317 | E5: 15 | G5: =(2.1*(_xlfn.NORM.DIST((85+C5),$D5,$E5,TRUE)-_xlfn.NORM.DIST((70+C5),$D5,$E5,TRUE)-(_xlfn.NORM.DIST((85),$D5,$E5,TRUE)-_xlfn.NORM.DIST((70),$D5,$E5,TRUE))))*0.0034 -> 0.00010793926 | H5: =(2.1*(_xlfn.NORM.DIST((69+$C5),$D5,$E5,TRUE)-_xlfn.NORM.DIST((50+$C5),$D5,$E5,TRUE)-(_xlfn.NORM.DIST(69,$D5,$E5,TRUE)-_xlfn.NORM.DIST(50,$D5,$E5,TRUE))))*0.0034 -> 3.3930889e-05 | I5: =(2.1*(_xlfn.NORM.DIST((49+$C5),$D5,$E5,TRUE)-_xlfn.NORM.DIST((35+$C5),$D5,$E5,TRUE)-(_xlfn.NORM.DIST(49,$D5,$E5,TRUE)-_xlfn.NORM.DIST(35,$D5,$E5,TRUE))))*0.0034 -> 1.1585707e-06 | J5: =(2.1*(_xlfn.NORM.DIST((34+$C5),$D5,$E5,TRUE)-_xlfn.NORM.DIST((20+$C5),$D5,$E5,TRUE)-(_xlfn.NORM.DIST(34,$D5,$E5,TRUE)-_xlfn.NORM.DIST(20,$D5,$E5,TRUE))))*0.0034 -> 2.9043461e-08 | K5: =(2.1*(_xlfn.NORM.DIST((34+$C5),$D5,$E5,TRUE)-(_xlfn.NORM.DIST(34,$D5,$E5,TRUE))))*0.0034 -> 2.9418999e-08 | M5: =SUM(G5:K5) -> 0.00014308718
A6: 0.04 | B6: =A6*1000 -> 40 | C6: =B6*0.036 -> 1.44 | D6: 97.169098 | E6: 15 | G6: =(2.1*(_xlfn.NORM.DIST((85+C6),$D6,$E6,TRUE)-_xlfn.NORM.DIST((70+C6),$D6,$E6,TRUE)-(_xlfn.NORM.DIST((85),$D6,$E6,TRUE)-_xlfn.NORM.DIST((70),$D6,$E6,TRUE))))*0.0034 -> 0.00014649449 | H6: =(2.1*(_xlfn.NORM.DIST((69+$C6),$D6,$E6,TRUE)-_xlfn.NORM.DIST((50+$C6),$D6,$E6,TRUE)-(_xlfn.NORM.DIST(69,$D6,$E6,TRUE)-_xlfn.NORM.DIST(50,$D6,$E6,TRUE))))*0.0034 -> 4.9029297e-05 | I6: =(2.1*(_xlfn.NORM.DIST((49+$C6),$D6,$E6,TRUE)-_xlfn.NORM.DIST((35+$C6),$D6,$E6,TRUE)-(_xlfn.NORM.DIST(49,$D6,$E6,TRUE)-_xlfn.NORM.DIST(35,$D6,$E6,TRUE))))*0.0034 -> 1.7806449e-06 | J6: =(2.1*(_xlfn.NORM.DIST((34+$C6),$D6,$E6,TRUE)-_xlfn.NORM.DIST((20+$C6),$D6,$E6,TRUE)-(_xlfn.NORM.DIST(34,$D6,$E6,TRUE)-_xlfn.NORM.DIST(20,$D6,$E6,TRUE))))*0.0034 -> 4.6772733e-08 | K6: =(2.1*(_xlfn.NORM.DIST((34+$C6),$D6,$E6,TRUE)-(_xlfn.NORM.DIST(34,$D6,$E6,TRUE))))*0.0034 -> 4.7404488e-08 | M6: =SUM(G6:K6) -> 0.00019739861
A7: 0.05 | B7: =A7*1000 -> 50 | C7: =B7*0.036 -> 1.8 | D7: 96.743192 | E7: 15 | G7: =(2.1*(_xlfn.NORM.DIST((85+C7),$D7,$E7,TRUE)-_xlfn.NORM.DIST((70+C7),$D7,$E7,TRUE)-(_xlfn.NORM.DIST((85),$D7,$E7,TRUE)-_xlfn.NORM.DIST((70),$D7,$E7,TRUE))))*0.0034 -> 0.00018556581 | H7: =(2.1*(_xlfn.NORM.DIST((69+$C7),$D7,$E7,TRUE)-_xlfn.NORM.DIST((50+$C7),$D7,$E7,TRUE)-(_xlfn.NORM.DIST(69,$D7,$E7,TRUE)-_xlfn.NORM.DIST(50,$D7,$E7,TRUE))))*0.0034 -> 6.5797771e-05 | I7: =(2.1*(_xlfn.NORM.DIST((49+$C7),$D7,$E7,TRUE)-_xlfn.NORM.DIST((35+$C7),$D7,$E7,TRUE)-(_xlfn.NORM.DIST(49,$D7,$E7,TRUE)-_xlfn.NORM.DIST(35,$D7,$E7,TRUE))))*0.0034 -> 2.5281002e-06 | J7: =(2.1*(_xlfn.NORM.DIST((34+$C7),$D7,$E7,TRUE)-_xlfn.NORM.DIST((20+$C7),$D7,$E7,TRUE)-(_xlfn.NORM.DIST(34,$D7,$E7,TRUE)-_xlfn.NORM.DIST(20,$D7,$E7,TRUE))))*0.0034 -> 6.9308402e-08 | K7: =(2.1*(_xlfn.NORM.DIST((34+$C7),$D7,$E7,TRUE)-(_xlfn.NORM.DIST(34,$D7,$E7,TRUE))))*0.0034 -> 7.0282798e-08 | M7: =SUM(G7:K7) -> 0.00025403127
A8: 0.06 | B8: =A8*1000 -> 60 | C8: =B8*0.036 -> 2.16 | D8: 96.410922 | E8: 15 | G8: =(2.1*(_xlfn.NORM.DIST((85+C8),$D8,$E8,TRUE)-_xlfn.NORM.DIST((70+C8),$D8,$E8,TRUE)-(_xlfn.NORM.DIST((85),$D8,$E8,TRUE)-_xlfn.NORM.DIST((70),$D8,$E8,TRUE))))*0.0034 -> 0.0002247031 | H8: =(2.1*(_xlfn.NORM.DIST((69+$C8),$D8,$E8,TRUE)-_xlfn.NORM.DIST((50+$C8),$D8,$E8,TRUE)-(_xlfn.NORM.DIST(69,$D8,$E8,TRUE)-_xlfn.NORM.DIST(50,$D8,$E8,TRUE))))*0.0034 -> 8.3736201e-05 | I8: =(2.1*(_xlfn.NORM.DIST((49+$C8),$D8,$E8,TRUE)-_xlfn.NORM.DIST((35+$C8),$D8,$E8,TRUE)-(_xlfn.NORM.DIST(49,$D8,$E8,TRUE)-_xlfn.NORM.DIST(35,$D8,$E8,TRUE))))*0.0034 -> 3.3761229e-06 | J8: =(2.1*(_xlfn.NORM.DIST((34+$C8),$D8,$E8,TRUE)-_xlfn.NORM.DIST((20+$C8),$D8,$E8,TRUE)-(_xlfn.NORM.DIST(34,$D8,$E8,TRUE)-_xlfn.NORM.DIST(20,$D8,$E8,TRUE))))*0.0034 -> 9.6021779e-08 | K8: =(2.1*(_xlfn.NORM.DIST((34+$C8),$D8,$E8,TRUE)-(_xlfn.NORM.DIST(34,$D8,$E8,TRUE))))*0.0034 -> 9.7419175e-08 | M8: =SUM(G8:K8) -> 0.00031200887
A9: 0.07 | B9: =A9*1000 -> 70 | C9: =B9*0.036 -> 2.52 | D9: 96.068152 | E9: 15 | G9: =(2.1*(_xlfn.NORM.DIST((85+C9),$D9,$E9,TRUE)-_xlfn.NORM.DIST((70+C9),$D9,$E9,TRUE)-(_xlfn.NORM.DIST((85),$D9,$E9,TRUE)-_xlfn.NORM.DIST((70),$D9,$E9,TRUE))))*0.0034 -> 0.00026403967 | H9: =(2.1*(_xlfn.NORM.DIST((69+$C9),$D9,$E9,TRUE)-_xlfn.NORM.DIST((50+$C9),$D9,$E9,TRUE)-(_xlfn.NORM.DIST(69,$D9,$E9,TRUE)-_xlfn.NORM.DIST(50,$D9,$E9,TRUE))))*0.0034 -> 0.00010359457 | I9: =(2.1*(_xlfn.NORM.DIST((49+$C9),$D9,$E9,TRUE)-_xlfn.NORM.DIST((35+$C9),$D9,$E9,TRUE)-(_xlfn.NORM.DIST(49,$D9,$E9,TRUE)-_xlfn.NORM.DIST(35,$D9,$E9,TRUE))))*0.0034 -> 4.3885023e-06 | J9: =(2.1*(_xlfn.NORM.DIST((34+$C9),$D9,$E9,TRUE)-_xlfn.NORM.DIST((20+$C9),$D9,$E9,TRUE)-(_xlfn.NORM.DIST(34,$D9,$E9,TRUE)-_xlfn.NORM.DIST(20,$D9,$E9,TRUE))))*0.0034 -> 1.2962247e-07 | K9: =(2.1*(_xlfn.NORM.DIST((34+$C9),$D9,$E9,TRUE)-(_xlfn.NORM.DIST(34,$D9,$E9,TRUE))))*0.0034 -> 1.3157717e-07 | M9: =SUM(G9:K9) -> 0.00037228394
A10: 0.08 | B10: =A10*1000 -> 80 | C10: =B10*0.036 -> 2.88 | D10: 95.79494 | E10: 15 | G10: =(2.1*(_xlfn.NORM.DIST((85+C10),$D10,$E10,TRUE)-_xlfn.NORM.DIST((70+C10),$D10,$E10,TRUE)-(_xlfn.NORM.DIST((85),$D10,$E10,TRUE)-_xlfn.NORM.DIST((70),$D10,$E10,TRUE))))*0.0034 -> 0.0003030867 | H10: =(2.1*(_xlfn.NORM.DIST((69+$C10),$D10,$E10,TRUE)-_xlfn.NORM.DIST((50+$C10),$D10,$E10,TRUE)-(_xlfn.NORM.DIST(69,$D10,$E10,TRUE)-_xlfn.NORM.DIST(50,$D10,$E10,TRUE))))*0.0034 -> 0.0001244463 | I10: =(2.1*(_xlfn.NORM.DIST((49+$C10),$D10,$E10,TRUE)-_xlfn.NORM.DIST((35+$C10),$D10,$E10,TRUE)-(_xlfn.NORM.DIST(49,$D10,$E10,TRUE)-_xlfn.NORM.DIST(35,$D10,$E10,TRUE))))*0.0034 -> 5.5058727e-06 | J10: =(2.1*(_xlfn.NORM.DIST((34+$C10),$D10,$E10,TRUE)-_xlfn.NORM.DIST((20+$C10),$D10,$E10,TRUE)-(_xlfn.NORM.DIST(34,$D10,$E10,TRUE)-_xlfn.NORM.DIST(20,$D10,$E10,TRUE))))*0.0034 -> 1.6814568e-07 | K10: =(2.1*(_xlfn.NORM.DIST((34+$C10),$D10,$E10,TRUE)-(_xlfn.NORM.DIST(34,$D10,$E10,TRUE))))*0.0034 -> 1.7076261e-07 | M10: =SUM(G10:K10) -> 0.00043337779
A11: 0.09 | B11: =A11*1000 -> 90 | C11: =B11*0.036 -> 3.24 | D11: 95.542649 | E11: 15 | G11: =(2.1*(_xlfn.NORM.DIST((85+C11),$D11,$E11,TRUE)-_xlfn.NORM.DIST((70+C11),$D11,$E11,TRUE)-(_xlfn.NORM.DIST((85),$D11,$E11,TRUE)-_xlfn.NORM.DIST((70),$D11,$E11,TRUE))))*0.0034 -> 0.00034185309 | H11: =(2.1*(_xlfn.NORM.DIST((69+$C11),$D11,$E11,TRUE)-_xlfn.NORM.DIST((50+$C11),$D11,$E11,TRUE)-(_xlfn.NORM.DIST(69,$D11,$E11,TRUE)-_xlfn.NORM.DIST(50,$D11,$E11,TRUE))))*0.0034 -> 0.00014668705 | I11: =(2.1*(_xlfn.NORM.DIST((49+$C11),$D11,$E11,TRUE)-_xlfn.NORM.DIST((35+$C11),$D11,$E11,TRUE)-(_xlfn.NORM.DIST(49,$D11,$E11,TRUE)-_xlfn.NORM.DIST(35,$D11,$E11,TRUE))))*0.0034 -> 6.7670849e-06 | J11: =(2.1*(_xlfn.NORM.DIST((34+$C11),$D11,$E11,TRUE)-_xlfn.NORM.DIST((20+$C11),$D11,$E11,TRUE)-(_xlfn.NORM.DIST(34,$D11,$E11,TRUE)-_xlfn.NORM.DIST(20,$D11,$E11,TRUE))))*0.0034 -> 2.1343784e-07 | K11: =(2.1*(_xlfn.NORM.DIST((34+$C11),$D11,$E11,TRUE)-(_xlfn.NORM.DIST(34,$D11,$E11,TRUE))))*0.0034 -> 2.1686286e-07 | M11: =SUM(G11:K11) -> 0.00049573752
A12: 0.1 | B12: =A12*1000 -> 100 | C12: =B12*0.036 -> 3.6 | D12: 95.340779 | E12: 15 | G12: =(2.1*(_xlfn.NORM.DIST((85+C12),$D12,$E12,TRUE)-_xlfn.NORM.DIST((70+C12),$D12,$E12,TRUE)-(_xlfn.NORM.DIST((85),$D12,$E12,TRUE)-_xlfn.NORM.DIST((70),$D12,$E12,TRUE))))*0.0034 -> 0.00038016397 | H12: =(2.1*(_xlfn.NORM.DIST((69+$C12),$D12,$E12,TRUE)-_xlfn.NORM.DIST((50+$C12),$D12,$E12,TRUE)-(_xlfn.NORM.DIST(69,$D12,$E12,TRUE)-_xlfn.NORM.DIST(50,$D12,$E12,TRUE))))*0.0034 -> 0.00016972235 | I12: =(2.1*(_xlfn.NORM.DIST((49+$C12),$D12,$E12,TRUE)-_xlfn.NORM.DIST((35+$C12),$D12,$E12,TRUE)-(_xlfn.NORM.DIST(49,$D12,$E12,TRUE)-_xlfn.NORM.DIST(35,$D12,$E12,TRUE))))*0.0034 -> 8.1291539e-06 | J12: =(2.1*(_xlfn.NORM.DIST((34+$C12),$D12,$E12,TRUE)-_xlfn.NORM.DIST((20+$C12),$D12,$E12,TRUE)-(_xlfn.NORM.DIST(34,$D12,$E12,TRUE)-_xlfn.NORM.DIST(20,$D12,$E12,TRUE))))*0.0034 -> 2.639761e-07 | K12: =(2.1*(_xlfn.NORM.DIST((34+$C12),$D12,$E12,TRUE)-(_xlfn.NORM.DIST(34,$D12,$E12,TRUE))))*0.0034 -> 2.6833132e-07 | M12: =SUM(G12:K12) -> 0.00055854778
A13: 0.11 | B13: =A13*1000 -> 110 | C13: =B13*0.036 -> 3.96 | D13: 95.1199 | E13: 15 | G13: =(2.1*(_xlfn.NORM.DIST((85+C13),$D13,$E13,TRUE)-_xlfn.NORM.DIST((70+C13),$D13,$E13,TRUE)-(_xlfn.NORM.DIST((85),$D13,$E13,TRUE)-_xlfn.NORM.DIST((70),$D13,$E13,TRUE))))*0.0034 -> 0.00041799747 | H13: =(2.1*(_xlfn.NORM.DIST((69+$C13),$D13,$E13,TRUE)-_xlfn.NORM.DIST((50+$C13),$D13,$E13,TRUE)-(_xlfn.NORM.DIST(69,$D13,$E13,TRUE)-_xlfn.NORM.DIST(50,$D13,$E13,TRUE))))*0.0034 -> 0.00019464309 | I13: =(2.1*(_xlfn.NORM.DIST((49+$C13),$D13,$E13,TRUE)-_xlfn.NORM.DIST((35+$C13),$D13,$E13,TRUE)-(_xlfn.NORM.DIST(49,$D13,$E13,TRUE)-_xlfn.NORM.DIST(35,$D13,$E13,TRUE))))*0.0034 -> 9.6985908e-06 | J13: =(2.1*(_xlfn.NORM.DIST((34+$C13),$D13,$E13,TRUE)-_xlfn.NORM.DIST((20+$C13),$D13,$E13,TRUE)-(_xlfn.NORM.DIST(34,$D13,$E13,TRUE)-_xlfn.NORM.DIST(20,$D13,$E13,TRUE))))*0.0034 -> 3.2476007e-07 | K13: =(2.1*(_xlfn.NORM.DIST((34+$C13),$D13,$E13,TRUE)-(_xlfn.NORM.DIST(34,$D13,$E13,TRUE))))*0.0034 -> 3.3027734e-07 | M13: =SUM(G13:K13) -> 0.00062299419
... A30: 0.28 | B30: =A30*1000 -> 280 | C30: =B30*0.036 -> 10.08 | D30: 93.155429 | E30: 15 | G30: =(2.1*(_xlfn.NORM.DIST((85+C30),$D30,$E30,TRUE)-_xlfn.NORM.DIST((70+C30),$D30,$E30,TRUE)-(_xlfn.NORM.DIST((85),$D30,$E30,TRUE)-_xlfn.NORM.DIST((70),$D30,$E30,TRUE))))*0.0034 -> 0.00090938083 | H30: =(2.1*(_xlfn.NORM.DIST((69+$C30),$D30,$E30,TRUE)-_xlfn.NORM.DIST((50+$C30),$D30,$E30,TRUE)-(_xlfn.NORM.DIST(69,$D30,$E30,TRUE)-_xlfn.NORM.DIST(50,$D30,$E30,TRUE))))*0.0034 -> 0.0007757677 | I30: =(2.1*(_xlfn.NORM.DIST((49+$C30),$D30,$E30,TRUE)-_xlfn.NORM.DIST((35+$C30),$D30,$E30,TRUE)-(_xlfn.NORM.DIST(49,$D30,$E30,TRUE)-_xlfn.NORM.DIST(35,$D30,$E30,TRUE))))*0.0034 -> 6.6462616e-05 | J30: =(2.1*(_xlfn.NORM.DIST((34+$C30),$D30,$E30,TRUE)-_xlfn.NORM.DIST((20+$C30),$D30,$E30,TRUE)-(_xlfn.NORM.DIST(34,$D30,$E30,TRUE)-_xlfn.NORM.DIST(20,$D30,$E30,TRUE))))*0.0034 -> 3.440708e-06 | K30: =(2.1*(_xlfn.NORM.DIST((34+$C30),$D30,$E30,TRUE)-(_xlfn.NORM.DIST(34,$D30,$E30,TRUE))))*0.0034 -> 3.5300578e-06 | M30: =SUM(G30:K30) -> 0.0017585819

Sheet OP Values
A1: Dose (mg/day) | B1: Absorption | C1: Excretion (DAP) (g) | D1: Excretion (DAP) (moles) | E1: Excretion (DAP) (nmols) | F1: Excretion (DAP) (nmols)/ L | G1: IQ decrement/ nmol (0.01) | H1: Mean IQ (Child 0-7) | I1: SD | K1: Borderline | L1: Mild | M1: Moderate | N1: Severe | O1: Profound | Q1: DALYs/ child (0-7 years)
A2: 0 | B2: =A2*0.75 -> 0 | C2: =B2/1000 -> 0 | D2: =C2/229.26 -> 0 | E2: =D2*(1000000000) -> 0 | F2: =E2/2 -> 0 | G2: =F2*0.01 -> 0 | H2: 100 | I2: 15 | K2: =(2.1*(_xlfn.NORM.DIST((85+G2),$H2,$I2,TRUE)-_xlfn.NORM.DIST((70+G2),$H2,$I2,TRUE)-(_xlfn.NORM.DIST((85),$H2,$I2,TRUE)-_xlfn.NORM.DIST((70),$H2,$I2,TRUE))))*0.0034 -> 0 | L2: =(2.1*(_xlfn.NORM.DIST((69.9+$G2),$H2,$I2,TRUE)-_xlfn.NORM.DIST((50+$G2),$H2,$I2,TRUE)-(_xlfn.NORM.DIST(69.9,$H2,$I2,TRUE)-_xlfn.NORM.DIST(50,$H2,$I2,TRUE))))*0.0034 -> 0 | M2: =(2.1*(_xlfn.NORM.DIST((49.9+$G2),$H2,$I2,TRUE)-_xlfn.NORM.DIST((35+$G2),$H2,$I2,TRUE)-(_xlfn.NORM.DIST(49.9,$H2,$I2,TRUE)-_xlfn.NORM.DIST(35,$H2,$I2,TRUE))))*0.0034 -> 0 | N2: =(2.1*(_xlfn.NORM.DIST((34.9+$G2),$H2,$I2,TRUE)-_xlfn.NORM.DIST((20+$G2),$H2,$I2,TRUE)-(_xlfn.NORM.DIST(34.9,$H2,$I2,TRUE)-_xlfn.NORM.DIST(20,$H2,$I2,TRUE))))*0.0034 -> 0 | O2: =(2.1*(_xlfn.NORM.DIST((34.9+$G2),$H2,$I2,TRUE)-(_xlfn.NORM.DIST(34.9,$H2,$I2,TRUE))))*0.0034 -> 0 | Q2: =SUM(K2:O2) -> 0
A3: 0.01 | B3: =A3*0.75 -> 0.0075 | C3: =B3/1000 -> 7.5e-06 | D3: =C3/229.26 -> 3.2713949e-08 | E3: =D3*(1000000000) -> 32.713949 | F3: =E3/2 -> 16.356975 | G3: 0 | H3: =100-G3 -> 100 | I3: 15 | K3: =(2.1*(_xlfn.NORM.DIST((85+G3),$H3,$I3,TRUE)-_xlfn.NORM.DIST((70+G3),$H3,$I3,TRUE)-(_xlfn.NORM.DIST((85),$H3,$I3,TRUE)-_xlfn.NORM.DIST((70),$H3,$I3,TRUE))))*0.0034 -> 0 | L3: =(2.1*(_xlfn.NORM.DIST((69.9+$G3),$H3,$I3,TRUE)-_xlfn.NORM.DIST((50+$G3),$H3,$I3,TRUE)-(_xlfn.NORM.DIST(69.9,$H3,$I3,TRUE)-_xlfn.NORM.DIST(50,$H3,$I3,TRUE))))*0.0034 -> 0 | M3: =(2.1*(_xlfn.NORM.DIST((49.9+$G3),$H3,$I3,TRUE)-_xlfn.NORM.DIST((35+$G3),$H3,$I3,TRUE)-(_xlfn.NORM.DIST(49.9,$H3,$I3,TRUE)-_xlfn.NORM.DIST(35,$H3,$I3,TRUE))))*0.0034 -> 0 | N3: =(2.1*(_xlfn.NORM.DIST((34.9+$G3),$H3,$I3,TRUE)-_xlfn.NORM.DIST((20+$G3),$H3,$I3,TRUE)-(_xlfn.NORM.DIST(34.9,$H3,$I3,TRUE)-_xlfn.NORM.DIST(20,$H3,$I3,TRUE))))*0.0034 -> 0 | O3: =(2.1*(_xlfn.NORM.DIST((34.9+$G3),$H3,$I3,TRUE)-(_xlfn.NORM.DIST(34.9,$H3,$I3,TRUE))))*0.0034 -> 0 | Q3: =SUM(K3:O3) -> 0
A4: 0.02 | B4: =A4*0.75 -> 0.015 | C4: =B4/1000 -> 1.5e-05 | D4: =C4/229.26 -> 6.5427898e-08 | E4: =D4*(1000000000) -> 65.427898 | F4: =E4/2 -> 32.713949 | G4: 0 | H4: =100-G4 -> 100 | I4: 15 | K4: =(2.1*(_xlfn.NORM.DIST((85+G4),$H4,$I4,TRUE)-_xlfn.NORM.DIST((70+G4),$H4,$I4,TRUE)-(_xlfn.NORM.DIST((85),$H4,$I4,TRUE)-_xlfn.NORM.DIST((70),$H4,$I4,TRUE))))*0.0034 -> 0 | L4: =(2.1*(_xlfn.NORM.DIST((69.9+$G4),$H4,$I4,TRUE)-_xlfn.NORM.DIST((50+$G4),$H4,$I4,TRUE)-(_xlfn.NORM.DIST(69.9,$H4,$I4,TRUE)-_xlfn.NORM.DIST(50,$H4,$I4,TRUE))))*0.0034 -> 0 | M4: =(2.1*(_xlfn.NORM.DIST((49.9+$G4),$H4,$I4,TRUE)-_xlfn.NORM.DIST((35+$G4),$H4,$I4,TRUE)-(_xlfn.NORM.DIST(49.9,$H4,$I4,TRUE)-_xlfn.NORM.DIST(35,$H4,$I4,TRUE))))*0.0034 -> 0 | N4: =(2.1*(_xlfn.NORM.DIST((34.9+$G4),$H4,$I4,TRUE)-_xlfn.NORM.DIST((20+$G4),$H4,$I4,TRUE)-(_xlfn.NORM.DIST(34.9,$H4,$I4,TRUE)-_xlfn.NORM.DIST(20,$H4,$I4,TRUE))))*0.0034 -> 0 | O4: =(2.1*(_xlfn.NORM.DIST((34.9+$G4),$H4,$I4,TRUE)-(_xlfn.NORM.DIST(34.9,$H4,$I4,TRUE))))*0.0034 -> 0 | Q4: =SUM(K4:O4) -> 0
A5: 0.03 | B5: =A5*0.75 -> 0.0225 | C5: =B5/1000 -> 2.25e-05 | D5: =C5/229.26 -> 9.8141848e-08 | E5: =D5*(1000000000) -> 98.141848 | F5: =E5/2 -> 49.070924 | G5: =F5*0.01 -> 0.49070924 | H5: =100-G5 -> 99.509291 | I5: 15 | K5: =(2.1*(_xlfn.NORM.DIST((85+G5),$H5,$I5,TRUE)-_xlfn.NORM.DIST((70+G5),$H5,$I5,TRUE)-(_xlfn.NORM.DIST((85),$H5,$I5,TRUE)-_xlfn.NORM.DIST((70),$H5,$I5,TRUE))))*0.0034 -> 4.5393346e-05 | L5: =(2.1*(_xlfn.NORM.DIST((69.9+$G5),$H5,$I5,TRUE)-_xlfn.NORM.DIST((50+$G5),$H5,$I5,TRUE)-(_xlfn.NORM.DIST(69.9,$H5,$I5,TRUE)-_xlfn.NORM.DIST(50,$H5,$I5,TRUE))))*0.0034 -> 1.3292731e-05 | M5: =(2.1*(_xlfn.NORM.DIST((49.9+$G5),$H5,$I5,TRUE)-_xlfn.NORM.DIST((35+$G5),$H5,$I5,TRUE)-(_xlfn.NORM.DIST(49.9,$H5,$I5,TRUE)-_xlfn.NORM.DIST(35,$H5,$I5,TRUE))))*0.0034 -> 4.0510693e-07 | N5: =(2.1*(_xlfn.NORM.DIST((34.9+$G5),$H5,$I5,TRUE)-_xlfn.NORM.DIST((20+$G5),$H5,$I5,TRUE)-(_xlfn.NORM.DIST(34.9,$H5,$I5,TRUE)-_xlfn.NORM.DIST(20,$H5,$I5,TRUE))))*0.0034 -> 9.2852544e-09 | O5: =(2.1*(_xlfn.NORM.DIST((34.9+$G5),$H5,$I5,TRUE)-(_xlfn.NORM.DIST(34.9,$H5,$I5,TRUE))))*0.0034 -> 9.3658603e-09 | Q5: =SUM(K5:O5) -> 5.9109836e-05
A6: 0.04 | B6: =A6*0.75 -> 0.03 | C6: =B6/1000 -> 3e-05 | D6: =C6/229.26 -> 1.308558e-07 | E6: =D6*(1000000000) -> 130.8558 | F6: =E6/2 -> 65.427898 | G6: =F6*0.01 -> 0.65427898 | H6: =100-G6 -> 99.345721 | I6: 15 | K6: =(2.1*(_xlfn.NORM.DIST((85+G6),$H6,$I6,TRUE)-_xlfn.NORM.DIST((70+G6),$H6,$I6,TRUE)-(_xlfn.NORM.DIST((85),$H6,$I6,TRUE)-_xlfn.NORM.DIST((70),$H6,$I6,TRUE))))*0.0034 -> 6.1152474e-05 | L6: =(2.1*(_xlfn.NORM.DIST((69.9+$G6),$H6,$I6,TRUE)-_xlfn.NORM.DIST((50+$G6),$H6,$I6,TRUE)-(_xlfn.NORM.DIST(69.9,$H6,$I6,TRUE)-_xlfn.NORM.DIST(50,$H6,$I6,TRUE))))*0.0034 -> 1.8286655e-05 | M6: =(2.1*(_xlfn.NORM.DIST((49.9+$G6),$H6,$I6,TRUE)-_xlfn.NORM.DIST((35+$G6),$H6,$I6,TRUE)-(_xlfn.NORM.DIST(49.9,$H6,$I6,TRUE)-_xlfn.NORM.DIST(35,$H6,$I6,TRUE))))*0.0034 -> 5.6990249e-07 | N6: =(2.1*(_xlfn.NORM.DIST((34.9+$G6),$H6,$I6,TRUE)-_xlfn.NORM.DIST((20+$G6),$H6,$I6,TRUE)-(_xlfn.NORM.DIST(34.9,$H6,$I6,TRUE)-_xlfn.NORM.DIST(20,$H6,$I6,TRUE))))*0.0034 -> 1.3284658e-08 | O6: =(2.1*(_xlfn.NORM.DIST((34.9+$G6),$H6,$I6,TRUE)-(_xlfn.NORM.DIST(34.9,$H6,$I6,TRUE))))*0.0034 -> 1.3401928e-08 | Q6: =SUM(K6:O6) -> 8.0035717e-05
A7: 0.05 | B7: =A7*0.75 -> 0.0375 | C7: =B7/1000 -> 3.75e-05 | D7: =C7/229.26 -> 1.6356975e-07 | E7: =D7*(1000000000) -> 163.56975 | F7: =E7/2 -> 81.784873 | G7: =F7*0.01 -> 0.81784873 | H7: =100-G7 -> 99.182151 | I7: 15 | K7: =(2.1*(_xlfn.NORM.DIST((85+G7),$H7,$I7,TRUE)-_xlfn.NORM.DIST((70+G7),$H7,$I7,TRUE)-(_xlfn.NORM.DIST((85),$H7,$I7,TRUE)-_xlfn.NORM.DIST((70),$H7,$I7,TRUE))))*0.0034 -> 7.7203588e-05 | L7: =(2.1*(_xlfn.NORM.DIST((69.9+$G7),$H7,$I7,TRUE)-_xlfn.NORM.DIST((50+$G7),$H7,$I7,TRUE)-(_xlfn.NORM.DIST(69.9,$H7,$I7,TRUE)-_xlfn.NORM.DIST(50,$H7,$I7,TRUE))))*0.0034 -> 2.3578226e-05 | M7: =(2.1*(_xlfn.NORM.DIST((49.9+$G7),$H7,$I7,TRUE)-_xlfn.NORM.DIST((35+$G7),$H7,$I7,TRUE)-(_xlfn.NORM.DIST(49.9,$H7,$I7,TRUE)-_xlfn.NORM.DIST(35,$H7,$I7,TRUE))))*0.0034 -> 7.5148606e-07 | N7: =(2.1*(_xlfn.NORM.DIST((34.9+$G7),$H7,$I7,TRUE)-_xlfn.NORM.DIST((20+$G7),$H7,$I7,TRUE)-(_xlfn.NORM.DIST(34.9,$H7,$I7,TRUE)-_xlfn.NORM.DIST(20,$H7,$I7,TRUE))))*0.0034 -> 1.7816812e-08 | O7: =(2.1*(_xlfn.NORM.DIST((34.9+$G7),$H7,$I7,TRUE)-(_xlfn.NORM.DIST(34.9,$H7,$I7,TRUE))))*0.0034 -> 1.7976756e-08 | Q7: =SUM(K7:O7) -> 0.00010156909
A8: 0.06 | B8: =A8*0.75 -> 0.045 | C8: =B8/1000 -> 4.5e-05 | D8: =C8/229.26 -> 1.962837e-07 | E8: =D8*(1000000000) -> 196.2837 | F8: =E8/2 -> 98.141848 | G8: =F8*0.01 -> 0.98141848 | H8: =100-G8 -> 99.018582 | I8: 15 | K8: =(2.1*(_xlfn.NORM.DIST((85+G8),$H8,$I8,TRUE)-_xlfn.NORM.DIST((70+G8),$H8,$I8,TRUE)-(_xlfn.NORM.DIST((85),$H8,$I8,TRUE)-_xlfn.NORM.DIST((70),$H8,$I8,TRUE))))*0.0034 -> 9.3532113e-05 | L8: =(2.1*(_xlfn.NORM.DIST((69.9+$G8),$H8,$I8,TRUE)-_xlfn.NORM.DIST((50+$G8),$H8,$I8,TRUE)-(_xlfn.NORM.DIST(69.9,$H8,$I8,TRUE)-_xlfn.NORM.DIST(50,$H8,$I8,TRUE))))*0.0034 -> 2.9177212e-05 | M8: =(2.1*(_xlfn.NORM.DIST((49.9+$G8),$H8,$I8,TRUE)-_xlfn.NORM.DIST((35+$G8),$H8,$I8,TRUE)-(_xlfn.NORM.DIST(49.9,$H8,$I8,TRUE)-_xlfn.NORM.DIST(35,$H8,$I8,TRUE))))*0.0034 -> 9.5110684e-07 | N8: =(2.1*(_xlfn.NORM.DIST((34.9+$G8),$H8,$I8,TRUE)-_xlfn.NORM.DIST((20+$G8),$H8,$I8,TRUE)-(_xlfn.NORM.DIST(34.9,$H8,$I8,TRUE)-_xlfn.NORM.DIST(20,$H8,$I8,TRUE))))*0.0034 -> 2.2936689e-08 | O8: =(2.1*(_xlfn.NORM.DIST((34.9+$G8),$H8,$I8,TRUE)-(_xlfn.NORM.DIST(34.9,$H8,$I8,TRUE))))*0.0034 -> 2.3146105e-08 | Q8: =SUM(K8:O8) -> 0.00012370651
A9: 0.07 | B9: =A9*0.75 -> 0.0525 | C9: =B9/1000 -> 5.25e-05 | D9: =C9/229.26 -> 2.2899764e-07 | E9: =D9*(1000000000) -> 228.99764 | F9: =E9/2 -> 114.49882 | G9: =F9*0.01 -> 1.1449882 | H9: =100-G9 -> 98.855012 | I9: 15 | K9: =(2.1*(_xlfn.NORM.DIST((85+G9),$H9,$I9,TRUE)-_xlfn.NORM.DIST((70+G9),$H9,$I9,TRUE)-(_xlfn.NORM.DIST((85),$H9,$I9,TRUE)-_xlfn.NORM.DIST((70),$H9,$I9,TRUE))))*0.0034 -> 0.00011012256 | L9: =(2.1*(_xlfn.NORM.DIST((69.9+$G9),$H9,$I9,TRUE)-_xlfn.NORM.DIST((50+$G9),$H9,$I9,TRUE)-(_xlfn.NORM.DIST(69.9,$H9,$I9,TRUE)-_xlfn.NORM.DIST(50,$H9,$I9,TRUE))))*0.0034 -> 3.5093408e-05 | M9: =(2.1*(_xlfn.NORM.DIST((49.9+$G9),$H9,$I9,TRUE)-_xlfn.NORM.DIST((35+$G9),$H9,$I9,TRUE)-(_xlfn.NORM.DIST(49.9,$H9,$I9,TRUE)-_xlfn.NORM.DIST(35,$H9,$I9,TRUE))))*0.0034 -> 1.170088e-06 | N9: =(2.1*(_xlfn.NORM.DIST((34.9+$G9),$H9,$I9,TRUE)-_xlfn.NORM.DIST((20+$G9),$H9,$I9,TRUE)-(_xlfn.NORM.DIST(34.9,$H9,$I9,TRUE)-_xlfn.NORM.DIST(20,$H9,$I9,TRUE))))*0.0034 -> 2.870417e-08 | O9: =(2.1*(_xlfn.NORM.DIST((34.9+$G9),$H9,$I9,TRUE)-(_xlfn.NORM.DIST(34.9,$H9,$I9,TRUE))))*0.0034 -> 2.8970737e-08 | Q9: =SUM(K9:O9) -> 0.00014644374
A10: 0.08 | B10: =A10*0.75 -> 0.06 | C10: =B10/1000 -> 6e-05 | D10: =C10/229.26 -> 2.6171159e-07 | E10: =D10*(1000000000) -> 261.71159 | F10: =E10/2 -> 130.8558 | G10: =F10*0.01 -> 1.308558 | H10: =100-G10 -> 98.691442 | I10: 15 | K10: =(2.1*(_xlfn.NORM.DIST((85+G10),$H10,$I10,TRUE)-_xlfn.NORM.DIST((70+G10),$H10,$I10,TRUE)-(_xlfn.NORM.DIST((85),$H10,$I10,TRUE)-_xlfn.NORM.DIST((70),$H10,$I10,TRUE))))*0.0034 -> 0.00012695856 | L10: =(2.1*(_xlfn.NORM.DIST((69.9+$G10),$H10,$I10,TRUE)-_xlfn.NORM.DIST((50+$G10),$H10,$I10,TRUE)-(_xlfn.NORM.DIST(69.9,$H10,$I10,TRUE)-_xlfn.NORM.DIST(50,$H10,$I10,TRUE))))*0.0034 -> 4.1336628e-05 | M10: =(2.1*(_xlfn.NORM.DIST((49.9+$G10),$H10,$I10,TRUE)-_xlfn.NORM.DIST((35+$G10),$H10,$I10,TRUE)-(_xlfn.NORM.DIST(49.9,$H10,$I10,TRUE)-_xlfn.NORM.DIST(35,$H10,$I10,TRUE))))*0.0034 -> 1.4098301e-06 | N10: =(2.1*(_xlfn.NORM.DIST((34.9+$G10),$H10,$I10,TRUE)-_xlfn.NORM.DIST((20+$G10),$H10,$I10,TRUE)-(_xlfn.NORM.DIST(34.9,$H10,$I10,TRUE)-_xlfn.NORM.DIST(20,$H10,$I10,TRUE))))*0.0034 -> 3.5184429e-08 | O10: =(2.1*(_xlfn.NORM.DIST((34.9+$G10),$H10,$I10,TRUE)-(_xlfn.NORM.DIST(34.9,$H10,$I10,TRUE))))*0.0034 -> 3.5516809e-08 | Q10: =SUM(K10:O10) -> 0.00016977572
A11: 0.09 | B11: =A11*0.75 -> 0.0675 | C11: =B11/1000 -> 6.75e-05 | D11: =C11/229.26 -> 2.9442554e-07 | E11: =D11*(1000000000) -> 294.42554 | F11: =E11/2 -> 147.21277 | G11: =F11*0.01 -> 1.4721277 | H11: =100-G11 -> 98.527872 | I11: 15 | K11: =(2.1*(_xlfn.NORM.DIST((85+G11),$H11,$I11,TRUE)-_xlfn.NORM.DIST((70+G11),$H11,$I11,TRUE)-(_xlfn.NORM.DIST((85),$H11,$I11,TRUE)-_xlfn.NORM.DIST((70),$H11,$I11,TRUE))))*0.0034 -> 0.0001440228 | L11: =(2.1*(_xlfn.NORM.DIST((69.9+$G11),$H11,$I11,TRUE)-_xlfn.NORM.DIST((50+$G11),$H11,$I11,TRUE)-(_xlfn.NORM.DIST(69.9,$H11,$I11,TRUE)-_xlfn.NORM.DIST(50,$H11,$I11,TRUE))))*0.0034 -> 4.791668e-05 | M11: =(2.1*(_xlfn.NORM.DIST((49.9+$G11),$H11,$I11,TRUE)-_xlfn.NORM.DIST((35+$G11),$H11,$I11,TRUE)-(_xlfn.NORM.DIST(49.9,$H11,$I11,TRUE)-_xlfn.NORM.DIST(35,$H11,$I11,TRUE))))*0.0034 -> 1.6718144e-06 | N11: =(2.1*(_xlfn.NORM.DIST((34.9+$G11),$H11,$I11,TRUE)-_xlfn.NORM.DIST((20+$G11),$H11,$I11,TRUE)-(_xlfn.NORM.DIST(34.9,$H11,$I11,TRUE)-_xlfn.NORM.DIST(20,$H11,$I11,TRUE))))*0.0034 -> 4.2448351e-08 | O11: =(2.1*(_xlfn.NORM.DIST((34.9+$G11),$H11,$I11,TRUE)-(_xlfn.NORM.DIST(34.9,$H11,$I11,TRUE))))*0.0034 -> 4.28563e-08 | Q11: =SUM(K11:O11) -> 0.0001936966
A12: 0.1 | B12: =A12*0.75 -> 0.075 | C12: =B12/1000 -> 7.5e-05 | D12: =C12/229.26 -> 3.2713949e-07 | E12: =D12*(1000000000) -> 327.13949 | F12: =E12/2 -> 163.56975 | G12: =F12*0.01 -> 1.6356975 | H12: =100-G12 -> 98.364303 | I12: 15 | K12: =(2.1*(_xlfn.NORM.DIST((85+G12),$H12,$I12,TRUE)-_xlfn.NORM.DIST((70+G12),$H12,$I12,TRUE)-(_xlfn.NORM.DIST((85),$H12,$I12,TRUE)-_xlfn.NORM.DIST((70),$H12,$I12,TRUE))))*0.0034 -> 0.00016129712 | L12: =(2.1*(_xlfn.NORM.DIST((69.9+$G12),$H12,$I12,TRUE)-_xlfn.NORM.DIST((50+$G12),$H12,$I12,TRUE)-(_xlfn.NORM.DIST(69.9,$H12,$I12,TRUE)-_xlfn.NORM.DIST(50,$H12,$I12,TRUE))))*0.0034 -> 5.484335e-05 | M12: =(2.1*(_xlfn.NORM.DIST((49.9+$G12),$H12,$I12,TRUE)-_xlfn.NORM.DIST((35+$G12),$H12,$I12,TRUE)-(_xlfn.NORM.DIST(49.9,$H12,$I12,TRUE)-_xlfn.NORM.DIST(35,$H12,$I12,TRUE))))*0.0034 -> 1.957606e-06 | N12: =(2.1*(_xlfn.NORM.DIST((34.9+$G12),$H12,$I12,TRUE)-_xlfn.NORM.DIST((20+$G12),$H12,$I12,TRUE)-(_xlfn.NORM.DIST(34.9,$H12,$I12,TRUE)-_xlfn.NORM.DIST(20,$H12,$I12,TRUE))))*0.0034 -> 5.0572968e-08 | O12: =(2.1*(_xlfn.NORM.DIST((34.9+$G12),$H12,$I12,TRUE)-(_xlfn.NORM.DIST(34.9,$H12,$I12,TRUE))))*0.0034 -> 5.1067463e-08 | Q12: =SUM(K12:O12) -> 0.00021819972
A13: 0.11 | B13: =A13*0.75 -> 0.0825 | C13: =B13/1000 -> 8.25e-05 | D13: =C13/229.26 -> 3.5985344e-07 | E13: =D13*(1000000000) -> 359.85344 | F13: =E13/2 -> 179.92672 | G13: =F13*0.01 -> 1.7992672 | H13: =100-G13 -> 98.200733 | I13: 15 | K13: =(2.1*(_xlfn.NORM.DIST((85+G13),$H13,$I13,TRUE)-_xlfn.NORM.DIST((70+G13),$H13,$I13,TRUE)-(_xlfn.NORM.DIST((85),$H13,$I13,TRUE)-_xlfn.NORM.DIST((70),$H13,$I13,TRUE))))*0.0034 -> 0.00017876246 | L13: =(2.1*(_xlfn.NORM.DIST((69.9+$G13),$H13,$I13,TRUE)-_xlfn.NORM.DIST((50+$G13),$H13,$I13,TRUE)-(_xlfn.NORM.DIST(69.9,$H13,$I13,TRUE)-_xlfn.NORM.DIST(50,$H13,$I13,TRUE))))*0.0034 -> 6.2126387e-05 | M13: =(2.1*(_xlfn.NORM.DIST((49.9+$G13),$H13,$I13,TRUE)-_xlfn.NORM.DIST((35+$G13),$H13,$I13,TRUE)-(_xlfn.NORM.DIST(49.9,$H13,$I13,TRUE)-_xlfn.NORM.DIST(35,$H13,$I13,TRUE))))*0.0034 -> 2.268858e-06 | N13: =(2.1*(_xlfn.NORM.DIST((34.9+$G13),$H13,$I13,TRUE)-_xlfn.NORM.DIST((20+$G13),$H13,$I13,TRUE)-(_xlfn.NORM.DIST(34.9,$H13,$I13,TRUE)-_xlfn.NORM.DIST(20,$H13,$I13,TRUE))))*0.0034 -> 5.9641932e-08 | O13: =(2.1*(_xlfn.NORM.DIST((34.9+$G13),$H13,$I13,TRUE)-(_xlfn.NORM.DIST(34.9,$H13,$I13,TRUE))))*0.0034 -> 6.0235311e-08 | Q13: =SUM(K13:O13) -> 0.00024327758
A14: 0.12 | B14: =A14*0.75 -> 0.09 | C14: =B14/1000 -> 9e-05 | D14: =C14/229.26 -> 3.9256739e-07 | E14: =D14*(1000000000) -> 392.56739 | F14: =E14/2 -> 196.2837 | G14: =F14*0.01 -> 1.962837 | H14: =100-G14 -> 98.037163 | I14: 15 | K14: =(2.1*(_xlfn.NORM.DIST((85+G14),$H14,$I14,TRUE)-_xlfn.NORM.DIST((70+G14),$H14,$I14,TRUE)-(_xlfn.NORM.DIST((85),$H14,$I14,TRUE)-_xlfn.NORM.DIST((70),$H14,$I14,TRUE))))*0.0034 -> 0.00019639889 | L14: =(2.1*(_xlfn.NORM.DIST((69.9+$G14),$H14,$I14,TRUE)-_xlfn.NORM.DIST((50+$G14),$H14,$I14,TRUE)-(_xlfn.NORM.DIST(69.9,$H14,$I14,TRUE)-_xlfn.NORM.DIST(50,$H14,$I14,TRUE))))*0.0034 -> 6.9775474e-05 | M14: =(2.1*(_xlfn.NORM.DIST((49.9+$G14),$H14,$I14,TRUE)-_xlfn.NORM.DIST((35+$G14),$H14,$I14,TRUE)-(_xlfn.NORM.DIST(49.9,$H14,$I14,TRUE)-_xlfn.NORM.DIST(35,$H14,$I14,TRUE))))*0.0034 -> 2.6073144e-06 | N14: =(2.1*(_xlfn.NORM.DIST((34.9+$G14),$H14,$I14,TRUE)-_xlfn.NORM.DIST((20+$G14),$H14,$I14,TRUE)-(_xlfn.NORM.DIST(34.9,$H14,$I14,TRUE)-_xlfn.NORM.DIST(20,$H14,$I14,TRUE))))*0.0034 -> 6.9746018e-08 | O14: =(2.1*(_xlfn.NORM.DIST((34.9+$G14),$H14,$I14,TRUE)-(_xlfn.NORM.DIST(34.9,$H14,$I14,TRUE))))*0.0034 -> 7.0452131e-08 | Q14: =SUM(K14:O14) -> 0.00026892188
A15: 0.13 | B15: =A15*0.75 -> 0.0975 | C15: =B15/1000 -> 9.75e-05 | D15: =C15/229.26 -> 4.2528134e-07 | E15: =D15*(1000000000) -> 425.28134 | F15: =E15/2 -> 212.64067 | G15: =F15*0.01 -> 2.1264067 | H15: =100-G15 -> 97.873593 | I15: 15 | K15: =(2.1*(_xlfn.NORM.DIST((85+G15),$H15,$I15,TRUE)-_xlfn.NORM.DIST((70+G15),$H15,$I15,TRUE)-(_xlfn.NORM.DIST((85),$H15,$I15,TRUE)-_xlfn.NORM.DIST((70),$H15,$I15,TRUE))))*0.0034 -> 0.00021418565 | L15: =(2.1*(_xlfn.NORM.DIST((69.9+$G15),$H15,$I15,TRUE)-_xlfn.NORM.DIST((50+$G15),$H15,$I15,TRUE)-(_xlfn.NORM.DIST(69.9,$H15,$I15,TRUE)-_xlfn.NORM.DIST(50,$H15,$I15,TRUE))))*0.0034 -> 7.7800216e-05 | M15: =(2.1*(_xlfn.NORM.DIST((49.9+$G15),$H15,$I15,TRUE)-_xlfn.NORM.DIST((35+$G15),$H15,$I15,TRUE)-(_xlfn.NORM.DIST(49.9,$H15,$I15,TRUE)-_xlfn.NORM.DIST(35,$H15,$I15,TRUE))))*0.0034 -> 2.9748139e-06 | N15: =(2.1*(_xlfn.NORM.DIST((34.9+$G15),$H15,$I15,TRUE)-_xlfn.NORM.DIST((20+$G15),$H15,$I15,TRUE)-(_xlfn.NORM.DIST(34.9,$H15,$I15,TRUE)-_xlfn.NORM.DIST(20,$H15,$I15,TRUE))))*0.0034 -> 8.0983659e-08 | O15: =(2.1*(_xlfn.NORM.DIST((34.9+$G15),$H15,$I15,TRUE)-(_xlfn.NORM.DIST(34.9,$H15,$I15,TRUE))))*0.0034 -> 8.1818036e-08 | Q15: =SUM(K15:O15) -> 0.00029512348
A16: 0.14 | B16: =A16*0.75 -> 0.105 | C16: =B16/1000 -> 0.000105 | D16: =C16/229.26 -> 4.5799529e-07 | E16: =D16*(1000000000) -> 457.99529 | F16: =E16/2 -> 228.99764 | G16: =F16*0.01 -> 2.2899764 | H16: =100-G16 -> 97.710024 | I16: 15 | K16: =(2.1*(_xlfn.NORM.DIST((85+G16),$H16,$I16,TRUE)-_xlfn.NORM.DIST((70+G16),$H16,$I16,TRUE)-(_xlfn.NORM.DIST((85),$H16,$I16,TRUE)-_xlfn.NORM.DIST((70),$H16,$I16,TRUE))))*0.0034 -> 0.00023210111 | L16: =(2.1*(_xlfn.NORM.DIST((69.9+$G16),$H16,$I16,TRUE)-_xlfn.NORM.DIST((50+$G16),$H16,$I16,TRUE)-(_xlfn.NORM.DIST(69.9,$H16,$I16,TRUE)-_xlfn.NORM.DIST(50,$H16,$I16,TRUE))))*0.0034 -> 8.6210109e-05 | M16: =(2.1*(_xlfn.NORM.DIST((49.9+$G16),$H16,$I16,TRUE)-_xlfn.NORM.DIST((35+$G16),$H16,$I16,TRUE)-(_xlfn.NORM.DIST(49.9,$H16,$I16,TRUE)-_xlfn.NORM.DIST(35,$H16,$I16,TRUE))))*0.0034 -> 3.373294e-06 | N16: =(2.1*(_xlfn.NORM.DIST((34.9+$G16),$H16,$I16,TRUE)-_xlfn.NORM.DIST((20+$G16),$H16,$I16,TRUE)-(_xlfn.NORM.DIST(34.9,$H16,$I16,TRUE)-_xlfn.NORM.DIST(20,$H16,$I16,TRUE))))*0.0034 -> 9.346151e-08 | O16: =(2.1*(_xlfn.NORM.DIST((34.9+$G16),$H16,$I16,TRUE)-(_xlfn.NORM.DIST(34.9,$H16,$I16,TRUE))))*0.0034 -> 9.4441551e-08 | Q16: =SUM(K16:O16) -> 0.00032187242
... A64: 0.62 | B64: =A64*0.75 -> 0.465 | C64: =B64/1000 -> 0.000465 | D64: =C64/229.26 -> 2.0282649e-06 | E64: =D64*(1000000000) -> 2028.2649 | F64: =E64/2 -> 1014.1324 | G64: =F64*0.01 -> 10.141324 | H64: =100-G64 -> 89.858676 | I64: 15 | K64: =(2.1*(_xlfn.NORM.DIST((85+G64),$H64,$I64,TRUE)-_xlfn.NORM.DIST((70+G64),$H64,$I64,TRUE)-(_xlfn.NORM.DIST((85),$H64,$I64,TRUE)-_xlfn.NORM.DIST((70),$H64,$I64,TRUE))))*0.0034 -> 0.00070586928 | L64: =(2.1*(_xlfn.NORM.DIST((69.9+$G64),$H64,$I64,TRUE)-_xlfn.NORM.DIST((50+$G64),$H64,$I64,TRUE)-(_xlfn.NORM.DIST(69.9,$H64,$I64,TRUE)-_xlfn.NORM.DIST(50,$H64,$I64,TRUE))))*0.0034 -> 0.0010344891 | M64: =(2.1*(_xlfn.NORM.DIST((49.9+$G64),$H64,$I64,TRUE)-_xlfn.NORM.DIST((35+$G64),$H64,$I64,TRUE)-(_xlfn.NORM.DIST(49.9,$H64,$I64,TRUE)-_xlfn.NORM.DIST(35,$H64,$I64,TRUE))))*0.0034 -> 0.00013027202 | N64: =(2.1*(_xlfn.NORM.DIST((34.9+$G64),$H64,$I64,TRUE)-_xlfn.NORM.DIST((20+$G64),$H64,$I64,TRUE)-(_xlfn.NORM.DIST(34.9,$H64,$I64,TRUE)-_xlfn.NORM.DIST(20,$H64,$I64,TRUE))))*0.0034 -> 8.9105409e-06 | O64: =(2.1*(_xlfn.NORM.DIST((34.9+$G64),$H64,$I64,TRUE)-(_xlfn.NORM.DIST(34.9,$H64,$I64,TRUE))))*0.0034 -> 9.1439332e-06 | Q64: =SUM(K64:O64) -> 0.0018886848

Sheet List Data
A1: Chemical | B1: CASRN
A2: Please select from list | B2: --------
A3: --------
A4: Commonly Used
A5: --------
A6: Aldrin | B6: 309-00-2 | C6: CA
A7: Chlorpyrifos | B7: 2921-88-2 | C7: OP
A8: p,p'-Dichlorodiphenyltrichloroethane (DDT) | B8: 50-29-3 | C8: CA
A9: Lead | B9: 7439-92-1 | C9: Pb
A10: Malathion | B10: 121-75-5 | C10: OP
A11: Mercury, elemental | B11: 7439-97-6 | C11: Hg
A12: Dimethoate | B12: 60-51-5 | C12: OP
A14: --------
A15: Full list
A16: --------
A17: Acrylonitrile | B17: 107-13-1 | C17: CA
A18: Aldrin | B18: 309-00-2 | C18: CA
A19: Aniline | B19: 62-53-3 | C19: CA
A20: Aramite | B20: 140-57-8 | C20: CA
A21: Arsenic, inorganic | B21: 7440-38-2 | C21: CA
A22: Azobenzene | B22: 103-33-3 | C22: CA
A23: Benzene | B23: 71-43-2 | C23: CA
A24: Benzene | B24: 71-43-2 | C24: CA
A25: Benzidine | B25: 92-87-5 | C25: CA
A26: Benzotrichloride | B26: 98-07-7 | C26: CA
A27: Benzyl chloride | B27: 100-44-7 | C27: CA
A28: Biphenyl | B28: 92-52-4 | C28: CA
... A52: Dieldrin | B52: 60-57-1 | C52: CA
A53: 2,4-/2,6-Dinitrotoluene mixture | C53: CA
A54: 1,4-Dioxane | B54: 123-91-1 | C54: CA
A55: 1,2-Diphenylhydrazine | B55: 122-66-7 | C55: CA
A56: Epichlorohydrin | B56: 106-89-8 | C56: CA
A57: Furmecyclox | B57: 60568-05-0 | C57: CA
A58: Heptachlor | B58: 76-44-8 | C58: CA
A59: Heptachlor epoxide | B59: 1024-57-3 | C59: CA
A60: Hexachlorobenzene | B60: 118-74-1 | C60: CA
A61: Hexachlorobutadiene | B61: 87-68-3 | C61: CA
A62: alpha-Hexachlorocyclohexane (alpha-HCH) | B62: 319-84-6 | C62: CA
A63: beta-Hexachlorocyclohexane (beta-HCH) | B63: 319-85-7 | C63: CA
A64: technical Hexachlorocyclohexane (t-HCH) | B64: 608-73-1 | C64: CA
A65: Hexachlorodibenzo-p-dioxin (HxCDD), mixture of 1,2,3,6,7,8-HxCDD and 1,2,3,7,8,9-HxCDD | B65: 57653-85-7 | C65: CA
... A94: Vinyl chloride | B94: 75-01-4 | C94: CA
A96: Please select from list
A97: Child (0-7 years)
A98: Adult (> 15 years)
A100: [select from list] | B100: 0
A101: small | B101: 100
A102: medium | B102: 1000
A103: large | B103: 10000
A104: very large | B104: 100000
A106: [select from list] | B106: 0
A107: Daily | B107: 1
A108: 2-3 times per week | B108: 0.5
A109: 1-2 times per week | B109: 0.25
