Workbook
Name gold_price_range: '5-Site Interview | Extraction'!$C$22:$L$22,'5-Site Interview | Extraction'!#REF!,'5-Site Interview | Extraction'!#REF!
Name gold_price_range: '5-Site Interview | Extraction'!$C$22:$L$22,'5-Site Interview | Extraction'!#REF!,'5-Site Interview | Extraction'!#REF!
Name gold_price_range: '5-Site Interview | Processing'!$C$25:$L$25,'5-Site Interview | Processing'!#REF!,'5-Site Interview | Processing'!#REF!
Name gold_price_range: '5-Site Interview | Transport'!#REF!,'5-Site Interview | Transport'!#REF!,'5-Site Interview | Transport'!#REF!
Name gold_price_range: '5-Site Interview | Extraction'!$C$22:$L$22,'5-Site Interview | Extraction'!#REF!,'5-Site Interview | Extraction'!#REF!
Name Gold_Purity_Range: '5-Site Interview | Extraction'!$C$9:$L$9,'5-Site Interview | Extraction'!#REF!,'5-Site Interview | Extraction'!#REF!,'5-Site Interview | Extraction'!#REF!
Name Gold_Purity_Range: '3-Gold Trader'!#REF!,'3-Gold Trader'!#REF!,'3-Gold Trader'!#REF!,'3-Gold Trader'!#REF!
Name Gold_Purity_Range: '5-Site Interview | Extraction'!$C$9:$L$9,'5-Site Interview | Extraction'!#REF!,'5-Site Interview | Extraction'!#REF!,'5-Site Interview | Extraction'!#REF!
Name Gold_Purity_Range: '5-Site Interview | Processing'!$C$9:$L$9,'5-Site Interview | Processing'!#REF!,'5-Site Interview | Processing'!#REF!,'5-Site Interview | Processing'!#REF!
Name Gold_Purity_Range: '5-Site Interview | Transport'!$C$9:$L$9,'5-Site Interview | Transport'!#REF!,'5-Site Interview | Transport'!#REF!,'5-Site Interview | Transport'!#REF!
Name Gold_Purity_Range: '5-Site Interview | Extraction'!$C$9:$L$9,'5-Site Interview | Extraction'!#REF!,'5-Site Interview | Extraction'!#REF!,'5-Site Interview | Extraction'!#REF!
Name goldpricerange: '[1]3-ASGM Site Interviews'!$C$16:$G$16,'[1]3-ASGM Site Interviews'!$C$29:$G$29,'[1]3-ASGM Site Interviews'!$C$43:$G$43
Name goldpricerange_: '[1]3-ASGM Site Interviews'!$C$16:$G$16,'[1]3-ASGM Site Interviews'!$C$29:$G$29,'[1]3-ASGM Site Interviews'!$C$43:$G$43
Name goldpurityrange: '[1]3-ASGM Site Interviews'!$C$8:$G$8,'[1]3-ASGM Site Interviews'!$C$22:$G$22,'[1]3-ASGM Site Interviews'!$C$36:$G$36,'[1]3-ASGM Site Interviews'!$C$50:$G$50
Name graderange: '[1]3-ASGM Site Interviews'!$C$7:$G$7,'[1]3-ASGM Site Interviews'!$C$21:$G$21,'[1]3-ASGM Site Interviews'!$C$35:$G$35,'[1]3-ASGM Site Interviews'!$C$49:$G$49
Name interviewee: 'drop-downs (hidden)'!$A$129:$A$140
Name Ore_Grade_Range: '5-Site Interview | Extraction'!$C$8:$L$8,'5-Site Interview | Extraction'!#REF!,'5-Site Interview | Extraction'!#REF!,'5-Site Interview | Extraction'!#REF!
Name Ore_Grade_Range: '3-Gold Trader'!#REF!,'3-Gold Trader'!$C$8:$H$8,'3-Gold Trader'!#REF!,'3-Gold Trader'!#REF!
Name Ore_Grade_Range: '5-Site Interview | Extraction'!$C$8:$L$8,'5-Site Interview | Extraction'!#REF!,'5-Site Interview | Extraction'!#REF!,'5-Site Interview | Extraction'!#REF!
Name Ore_Grade_Range: '5-Site Interview | Processing'!$C$8:$L$8,'5-Site Interview | Processing'!#REF!,'5-Site Interview | Processing'!#REF!,'5-Site Interview | Processing'!#REF!
Name Ore_Grade_Range: '5-Site Interview | Transport'!$C$8:$L$8,'5-Site Interview | Transport'!#REF!,'5-Site Interview | Transport'!#REF!,'5-Site Interview | Transport'!#REF!
Name Ore_Grade_Range: '5-Site Interview | Extraction'!$C$8:$L$8,'5-Site Interview | Extraction'!#REF!,'5-Site Interview | Extraction'!#REF!,'5-Site Interview | Extraction'!#REF!
Name oregraderange: '[1]3-ASGM Site Interviews'!$C$7:$G$7,'[1]3-ASGM Site Interviews'!$C$21:$G$21,'[1]3-ASGM Site Interviews'!$C$35:$G$35,'[1]3-ASGM Site Interviews'!$C$49:$G$49
Name price_gold: '5-Site Interview | Extraction'!$C$22:$L$22,'5-Site Interview | Extraction'!#REF!,'5-Site Interview | Extraction'!#REF!
Name price_gold: '5-Site Interview | Extraction'!$C$22:$L$22,'5-Site Interview | Extraction'!#REF!,'5-Site Interview | Extraction'!#REF!
Name price_gold: '5-Site Interview | Processing'!$C$25:$L$25,'5-Site Interview | Processing'!#REF!,'5-Site Interview | Processing'!#REF!
Name price_gold: '5-Site Interview | Transport'!#REF!,'5-Site Interview | Transport'!#REF!,'5-Site Interview | Transport'!#REF!
Name price_gold: '5-Site Interview | Extraction'!$C$22:$L$22,'5-Site Interview | Extraction'!#REF!,'5-Site Interview | Extraction'!#REF!
Name purityrange: '[1]3-ASGM Site Interviews'!$C$8:$G$8,'[1]3-ASGM Site Interviews'!$C$22:$G$22,'[1]3-ASGM Site Interviews'!$C$36:$G$36,'[1]3-ASGM Site Interviews'!$C$50:$G$50
Name SiteType: 'drop-downs (hidden)'!$A$124:$A$126
Name stakeholder_list: 'drop-downs (hidden)'!$A$129:$A$142
Name stakeholderlist: 'drop-downs (hidden)'!$A$128:$A$142

Sheet 0-Unit Conversion Tool
A1: Conversion Tool: Informal Units to ISO Units
B3: * The ASGM baseline workbook operates in SI units. Ensure that your data is converted to SI units before entering it.
B4: For example, an ore grade unit of blades/sack must be converted to g/T before entering it in the following sheets.
C6: Quantity of Gold | H6: example
D7: informal unit for weight of gold | E7: blade | I7: blade
D8: grams per informal unit for weight of gold | E8: 1.3 | F8: =" g/"&E7 -> g/blade | I8: 1.3 | J8: g/blade
D10: ="weight of gold, in informal units ("&E7&")" -> weight of gold, in informal units (blade) | E10: 10 | F10: =" "&E7&"s" -> blades | I10: 10 | J10: blades
D11: weight of gold, in grams (g) | E11: =E8*E10 -> 13 | F11: g | I11: 13 | J11: g
C13: Purity of Gold
D14: gold purity in karats | E14: 18 | F14: K | I14: 18 | J14: K
D15: gold purity in % | E15: =IFERROR(IF(E14/24=0,"n/a",E14/24),"n/a") -> 0.75 | I15: =I14/24 -> 0.75
C17: Quantity of Ore | H17: example
D18: informal unit for weight of ore | E18: sack | I18: sack
D19: kg per informal unit for weight of ore | E19: 60 | F19: =" kg/"&E18 -> kg/sack | I19: 60 | J19: kg/sack
D20: tonnes informal unit for weight of ore | E20: =IFERROR(IF(E19/1000=0,"n/a",E19/1000),"n/a") -> 0.06 | F20: =" T/"&E18 -> T/sack | I20: =I19/1000 -> 0.06 | J20: T/sack
D22: ="weight of ore, in informal units ("&E18&")" -> weight of ore, in informal units (sack) | E22: 100 | F22: =" "&E18&"s" -> sacks | I22: 100 | J22: sacks
D23: weight of ore, in tonnes (T) | E23: =IFERROR(IF(E20*E22=0,"n/a",E20*E22),"n/a") -> 6 | F23: T | I23: 6 | J23: T
C25: Grade of Ore
D26: informal unit for ore grade | E26: g/sack | I26: g/sack
D27: unit for weight of gold | E27: g | I27: g
D28: ="grams per unit of gold weight ("&E27&")" -> grams per unit of gold weight (g) | E28: 1 | F28: =" g/"&E27 -> g/g | I28: 1 | J28: g/g
D29: unit for weight of ore | E29: sack | I29: sack
D30: ="tonnes per unit of ore weight ("&E29&")" -> tonnes per unit of ore weight (sack) | E30: 0.06 | F30: =" T/"&E29 -> T/sack | I30: 0.06 | J30: T/sack
D32: ="ore grade in informal units ("&E27&"/"&E29&")" -> ore grade in informal units (g/sack) | E32: 2 | F32: =" "&E26 -> g/sack | I32: 2 | J32: g/sack
D33: ore grade in ISO units (g/T) | E33: =IFERROR(E32*E28/E30,"n/a") -> 33.333333 | F33: g/T | I33: 16.666667 | J33: g/T

Sheet 1-Location Info
A1: ="ASGM Site: "&C3&" | Location Information" -> ASGM Site: Placerton | Location Information
B3: ASGM Site | C3: Placerton | D3: Associted Communities | E3: Korfalo Village
B4: Concession/Mining Title | C4: - | D4: County / District | E4: Malika District
B5: ASGM Mining Region | C5: Goldu | D5: Province / State / Depertment | E5: Goldu Province
B6: Lat | C6: 1.216667 | D6: Country | E6: Goldaguay
B7: Long | C7: 123.5
B8: GPS device & datum | C8: Trimble handheld GPS, NAD83
B10: Date(s) of data collection | C10: Oct 26-30, 2017 | D10: Name of field researcher(s) | E10: Marie Cooke
B12: Site contact(s): name | C12: Ana Fleur | D12: Eli Strong | E12: Jimmy Jones
B13: role | C13: Community Chief | D13: Mining Coordinator | E13: Cooperative Leader
B14: phone number | C14: 1(234)567-1234 | D14: 1(234)567-8910
B15: email | E15: jjones@email.com

Sheet 2-Community
A1: ="ASGM Site: "&'1-Location Info'!C3&" | Information from nearby Mining Communities" -> ASGM Site: Placerton | Information from nearby Mining Communities
A2: Data Collection Form "Community Interview"
B4: Location & Access
C6: Community 1 | F6: Community 2 | I6: Community 3
B7: community name | C7: Korfalo Village
B8: general description (location, size, proximity and direction to ASGM site(s), etc.) | C8: Small mining community bordered on the west by mountain in which hard rock extraction occurs. ~ 100 km south of two large open pit extraction sites.
B9: access (Describe route, river access/names, road type, condition) | C9: Access using 4x4 vehicle. North from Favar City. 300 km on paved road, followed by 200 km on rough dirt roads. Roads flood Sept through Jan.
B11: Community Demographics
C12: M | D12: W | E12: Y | F12: M | G12: W | H12: Y | I12: M | J12: W | K12: Y
B13: estimated community population (M|W|Y)
B14: gender of community leader(s) (M|W)
B16: typical occupation - Male | C16: miner
B17: average income - Male | C17: 5000USD
B18: typical occupation - Female | C18: shop owner, home maker
B19: average income - Female | C19: 10000USD
B20: education facilities | C20: school
B21: health facilities | C21: medical clinic
B22: other facilities (e.g., market, bank, insurance branch, temple, mosque, church) | C22: market, bank, temple
B23: occupation notes | C23: Women: teachers, health care workers, shop owners, farmers, pit/shaft owners, processing centre owners. Men: miners, health care workers, shop owners, farmers, gold traders, pit/shaft owners, processing centre owners, security workers, transport workers.
B24: community governance (police, mayor, council, other authority) | C24: Community chief (Ana Fluer), 6-person council (3 men, 3 women), security workers
B26: Other Information
B28: other information

Sheet 3-Gold Trader
A1: ="ASGM Site: "&'1-Location Info'!C3&" | Gold Trader Interviews" -> ASGM Site: Placerton | Gold Trader Interviews
A2: Data Collection Form: "Gold Trader Interview"
B4: Gold Trader Interviews | C4: Interview 1 | D4: Interview 2 | E4: Interview 3 | F4: Interview 4 | G4: Interview 5 | H4: Interview 6 | I4: Interview 7 | J4: Interview 8 | K4: Interview 9 | L4: Interview 10 | M4: Key Averages | N4: Range | O4: Comments
B5: Data Entry
B6: interviewee type | C6: GOLD TRADER | D6: GOLD TRADER
B7: interviewee Name | C7: Shamus | D7: Johnny
B8: Ore grade (g/T) | C8: 10 | D8: 2 | M8: =IFERROR(AVERAGEIF(C8:L8, "<>0"),"---") -> 6 | N8: =_xlfn.MINIFS(C8:H8, C8:H8, "<>0")&" – "&_xlfn.MAXIFS(C8:H8, C8:H8, "<>0") -> 2 – 10
B9: Gold purity (%) | C9: 0.7 | D9: 0.9 | M9: =IFERROR(AVERAGEIF(C9:L9, "<>0"),"---") -> 0.8 | N9: =100*_xlfn.MINIFS(C9:H9, C9:H9, "<>0")&" – "&100*_xlfn.MAXIFS(C9:H9, C9:H9, "<>0")&"%" -> 70 – 90%
B10: signs of mercury? (Y/N/na) | C10: Y | D10: Y
B11: proportion of Au showing Hg use (%) | C11: 1 | D11: 1 | M11: =IFERROR(AVERAGEIF(C11:L11, "<>0"),"---") -> 1 | N11: =(_xlfn.MINIFS(C11:H11, C11:H11, "<>0"))*100&"% – "&(_xlfn.MAXIFS(C11:H11, C11:H11, "<>0"))*100&"%" -> 100% – 100%
B12: average price charged for pure gold (local currency/g Au) | C12: 38 | D12: 38 | M12: =IFERROR(AVERAGEIF(C12:L12, "<>0"),"---") -> 38 | N12: =ROUND(_xlfn.MINIFS(C12:H12,C12:H12,"<>0"),2)&" – "&ROUND(_xlfn.MAXIFS(C12:H12,C12:H12,"<>0"),2) -> 38 – 38
B13: average price charged for pure gold (USD/g Au) | C13: 38 | D13: 38 | M13: =IFERROR(AVERAGEIF(C13:L13, "<>0"),"---") -> 38 | N13: ="$"&ROUND(_xlfn.MINIFS(C13:H13, C13:H13, "<>0"),2)&" – $"&ROUND(_xlfn.MAXIFS(C13:H13, C13:H13, "<>0"),2) -> $38 – $38
B14: amount of mercury bought per month (kg/mo) | M14: =IFERROR(AVERAGEIF(C14:L14, "<>0"),"---") -> --- | N14: =_xlfn.MINIFS(C14:H14, C14:H14, "<>0")&" – "&_xlfn.MAXIFS(C14:H14, C14:H14, "<>0") -> 0 – 0
B15: amount of mercury sold per month (kg/mo) | M15: =IFERROR(AVERAGEIF(C15:L15, "<>0"),"---") -> --- | N15: =_xlfn.MINIFS(C15:H15, C15:H15, "<>0")&" – "&_xlfn.MAXIFS(C15:H15, C15:H15, "<>0") -> 0 – 0
B16: price of mercury when buying (local currency/kg) | M16: =IFERROR(AVERAGEIF(C16:L16, "<>0"),"---") -> --- | N16: =_xlfn.MINIFS(C16:H16, C16:H16, "<>0")&" – "&_xlfn.MAXIFS(C16:H16, C16:H16, "<>0") -> 0 – 0
B17: price of mercury when selling (local currency/kg) | M17: =IFERROR(AVERAGEIF(C17:L17, "<>0"),"---") -> --- | N17: =_xlfn.MINIFS(C17:H17, C17:H17, "<>0")&" – "&_xlfn.MAXIFS(C17:H17, C17:H17, "<>0") -> 0 – 0
B18: number of gold buyers on site | C18: 6 | D18: 6 | M18: =IFERROR(AVERAGEIF(C18:L18, "<>0"),"---") -> 6 | N18: =_xlfn.MINIFS(C18:H18, C18:H18, "<>0")&" – "&_xlfn.MAXIFS(C18:H18, C18:H18, "<>0") -> 6 – 6
B19: number of mercury sellers for the site | C19: 6 | D19: 6 | M19: =IFERROR(AVERAGEIF(C19:L19, "<>0"),"---") -> 6 | N19: =_xlfn.MINIFS(C19:H19, C19:H19, "<>0")&" – "&_xlfn.MAXIFS(C19:H19, C19:H19, "<>0") -> 6 – 6
B21: Gold purchased - type, price, amount
B22: Sponge gold
B23: price (USD/g) | C23: 38 | D23: 38 | M23: =IFERROR(AVERAGEIF(C23:L23, "<>0"),"---") -> 38 | N23: ="$"&_xlfn.MINIFS(C23:H23, C23:H23, "<>0")&" – $"&_xlfn.MAXIFS(C23:H23, C23:H23, "<>0") -> $38 – $38
B24: typical purity (%) | C24: 0.7 | D24: 0.9 | M24: =IFERROR(AVERAGEIF(C24:L24, "<>0"),"---") -> 0.8 | N24: =(100*(_xlfn.MINIFS(C24:H24,C24:H24,"<>0"))&" – "&(100*(_xlfn.MAXIFS(C24:H24,C24:H24,"<>0"))))&"%" -> 70 – 90%
B25: purchased per month, impure gold (g Au/mo) | C25: 0.5 | D25: 0.4 | M25: =IFERROR(AVERAGEIF(C25:L25, "<>0"),"---") -> 0.45 | N25: =_xlfn.MINIFS(C25:H25, C25:H25, "<>0")&" – "&_xlfn.MAXIFS(C25:H25, C25:H25, "<>0") -> 0.4 – 0.5
B26: purchased per month, pure gold (g pure Au/mo) | C26: =IF(C25*C24=0,"---",C25*C24) -> 0.35 | D26: =IF(D25*D24=0,"---",D25*D24) -> 0.36 | E26: =IF(E25*E24=0,"---",E25*E24) -> --- | F26: =IF(F25*F24=0,"---",F25*F24) -> --- | G26: =IF(G25*G24=0,"---",G25*G24) -> --- | H26: =IF(H25*H24=0,"---",H25*H24) -> --- | I26: =IF(I25*I24=0,"---",I25*I24) -> --- | J26: =IF(J25*J24=0,"---",J25*J24) -> --- | ... L26: =IF(L25*L24=0,"---",L25*L24) -> --- | M26: =IFERROR(AVERAGEIF(C26:L26, "<>0"),"---") -> 0.355 | N26: =_xlfn.MINIFS(C26:H26, C26:H26, "<>0")&" – "&_xlfn.MAXIFS(C26:H26, C26:H26, "<>0") -> 0.35 – 0.36
B27: Flake Gold
B28: price (USD/g) | M28: =IFERROR(AVERAGEIF(C28:L28, "<>0"),"---") -> --- | N28: ="$"&_xlfn.MINIFS(C28:H28, C28:H28, "<>0")&" – $"&_xlfn.MAXIFS(C28:H28, C28:H28, "<>0") -> $0 – $0
B29: typical purity (%) | M29: =IFERROR(AVERAGEIF(C29:L29, "<>0"),"---") -> --- | N29: =(100*(_xlfn.MINIFS(C29:H29,C29:H29,"<>0"))&" – "&(100*(_xlfn.MAXIFS(C29:H29,C29:H29,"<>0"))))&"%" -> 0 – 0%
B30: purchased per month, impure gold (g Au/mo) | M30: =IFERROR(AVERAGEIF(C30:L30, "<>0"),"---") -> --- | N30: =_xlfn.MINIFS(C30:H30, C30:H30, "<>0")&" – "&_xlfn.MAXIFS(C30:H30, C30:H30, "<>0") -> 0 – 0
B31: purchased per month, pure gold (g pure Au/mo) | C31: =IF(C30*C29=0,"---",C30*C29) -> --- | D31: =IF(D30*D29=0,"---",D30*D29) -> --- | E31: =IF(E30*E29=0,"---",E30*E29) -> --- | F31: =IF(F30*F29=0,"---",F30*F29) -> --- | G31: =IF(G30*G29=0,"---",G30*G29) -> --- | H31: =IF(H30*H29=0,"---",H30*H29) -> --- | I31: =IF(I30*I29=0,"---",I30*I29) -> --- | J31: =IF(J30*J29=0,"---",J30*J29) -> --- | ... L31: =IF(L30*L29=0,"---",L30*L29) -> --- | M31: =IFERROR(AVERAGEIF(C31:L31, "<>0"),"---") -> --- | N31: =_xlfn.MINIFS(C31:H31, C31:H31, "<>0")&" – "&_xlfn.MAXIFS(C31:H31, C31:H31, "<>0") -> 0 – 0
B32: Doré Gold
B33: price (USD/g) | M33: =IFERROR(AVERAGEIF(C33:L33, "<>0"),"---") -> --- | N33: ="$"&_xlfn.MINIFS(C33:H33, C33:H33, "<>0")&" – $"&_xlfn.MAXIFS(C33:H33, C33:H33, "<>0") -> $0 – $0
B34: typical purity (%) | M34: =IFERROR(AVERAGEIF(C34:L34, "<>0"),"---") -> --- | N34: =(100*(_xlfn.MINIFS(C34:H34,C34:H34,"<>0"))&" – "&(100*(_xlfn.MAXIFS(C34:H34,C34:H34,"<>0"))))&"%" -> 0 – 0%
B35: purchased per month, impure gold (g Au/mo) | M35: =IFERROR(AVERAGEIF(C35:L35, "<>0"),"---") -> --- | N35: =_xlfn.MINIFS(C35:H35, C35:H35, "<>0")&" – "&_xlfn.MAXIFS(C35:H35, C35:H35, "<>0") -> 0 – 0
B36: purchased per month, pure gold (g pure Au/mo) | C36: =IF(C35*C34=0,"---",C35*C34) -> --- | D36: =IF(D35*D34=0,"---",D35*D34) -> --- | E36: =IF(E35*E34=0,"---",E35*E34) -> --- | F36: =IF(F35*F34=0,"---",F35*F34) -> --- | G36: =IF(G35*G34=0,"---",G35*G34) -> --- | H36: =IF(H35*H34=0,"---",H35*H34) -> --- | I36: =IF(I35*I34=0,"---",I35*I34) -> --- | J36: =IF(J35*J34=0,"---",J35*J34) -> --- | ... L36: =IF(L35*L34=0,"---",L35*L34) -> --- | M36: =IFERROR(AVERAGEIF(C36:L36, "<>0"),"---") -> --- | N36: =_xlfn.MINIFS(C36:H36, C36:H36, "<>0")&" – "&_xlfn.MAXIFS(C36:H36, C36:H36, "<>0") -> 0 – 0
B37: Sum of all gold types
B38: purchased per month, pure gold (g pure Au/mo) | C38: =IF(SUM(C36,C31,C26)=0,"---",SUM(C36,C31,C26)) -> 0.35 | D38: =IF(SUM(D36,D31,D26)=0,"---",SUM(D36,D31,D26)) -> 0.36 | E38: =IF(SUM(E36,E31,E26)=0,"---",SUM(E36,E31,E26)) -> --- | F38: =IF(SUM(F36,F31,F26)=0,"---",SUM(F36,F31,F26)) -> --- | G38: =IF(SUM(G36,G31,G26)=0,"---",SUM(G36,G31,G26)) -> --- | H38: =IF(SUM(H36,H31,H26)=0,"---",SUM(H36,H31,H26)) -> --- | I38: =IF(SUM(I36,I31,I26)=0,"---",SUM(I36,I31,I26)) -> --- | J38: =IF(SUM(J36,J31,J26)=0,"---",SUM(J36,J31,J26)) -> --- | ... L38: =IF(SUM(L36,L31,L26)=0,"---",SUM(L36,L31,L26)) -> --- | M38: =IFERROR(AVERAGEIF(C38:L38, "<>0"),"---") -> 0.355 | N38: =ROUND(_xlfn.MINIFS(C38:H38, C38:H38, "<>0"),0)&" – "&_xlfn.MAXIFS(C38:H38, C38:H38, "<>0") -> 0 – 0.36
B39: purchased per year, pure gold (g pure Au/yr) | C39: =IFERROR(C38*12, "---") -> 4.2 | D39: =IFERROR(D38*12, "---") -> 4.32 | E39: =IFERROR(E38*12, "---") -> --- | F39: =IFERROR(F38*12, "---") -> --- | G39: =IFERROR(G38*12, "---") -> --- | H39: =IFERROR(H38*12, "---") -> --- | I39: =IFERROR(I38*12, "---") -> --- | J39: =IFERROR(J38*12, "---") -> --- | ... L39: =IFERROR(L38*12, "---") -> --- | M39: =IFERROR(AVERAGEIF(C39:L39, "<>0"),"---") -> 4.26 | N39: =ROUND(_xlfn.MINIFS(C39:H39, C39:H39, "<>0"),0)&" – "&_xlfn.MAXIFS(C39:H39, C39:H39, "<>0") -> 4 – 4.32
B41: Calculations of site-level information | O41: Comments
B42: purchased per year, pure gold, entire site (g pure Au/y) | M42: =IFERROR(M18*M39, "---") -> 25.56 | N42: =ROUND((_xlfn.MINIFS(C18:L18, C18:L18, "<>0"))*(_xlfn.MINIFS(C39:L39, C39:L39, "<>0")),0)&" – "&ROUND((_xlfn.MAXIFS(C18:L18, C18:L18, "<>0"))*(_xlfn.MAXIFS(C39:L39, C39:L39, "<>0")),0) -> 25 – 26
B43: purchased per year, mercury, entire site (kg Hg/y) | M43: =IFERROR(M19*M15*12, "---") -> --- | N43: =ROUND((_xlfn.MINIFS(C19:L19, C19:L19, "<>0"))*(_xlfn.MINIFS(C15:L15, C15:L15, "<>0")),0)&" – "&ROUND((_xlfn.MAXIFS(C19:L19, C19:L19, "<>0"))*(_xlfn.MAXIFS(C15:L15, C15:L15, "<>0")),0) -> 0 – 0

Sheet 4-ASGM Site Observations
A1: ="ASGM Site: "&'1-Location Info'!C3&" | Observations" -> ASGM Site: Placerton | Observations
A2: Data Collection Form "ASGM Site: General Observations"
B4: site type | C4: EXTRACTION & PROCESSING
B6: Extraction Observations | C6: Extraction Type 1 | F6: Extraction Type 2 | G6: Extraction Type 3
B7: extraction unit type (e.g., open pit, shaft) | C7: shaft | F7: open pit
B8: type of deposit (hard, soft, both) | C8: hard | F8: soft
B9: number of units on site - total | C9: 20 | F9: 2
B10: number of units on site - active | C10: 10 | F10: 2
B11: average workers per unit | C11: 10 | F11: 50
B12: daily production per extraction unit (T ore/d)
B13: description of extraction method | C13: Hard rock mining from shafts on the mountain immediately to the east of the community. Packed in ~50kg bags. Transported on motorcycles to processing site in the community below. Extracting and processing are done by separate workers (extraction workers do not process and vice versa) | F13: Soft rock (alluvial) mining from two large open pits in the valley 100 km north of the community. Extraction with high pressure water spray and buckets. Processing occurs at the same location. Extracting and processing are done by separate workers (extraction workers do not process and vice versa)
B15: Ore Transport Observations | C15: Transport Type 1 | F15: Transport Type 2 | G15: Transport Type 3
B16: unit type (e.g., truck, bike, person) | C16: truck | F16: motorcycle
B17: unit capacity (T ore) | C17: 4 | F17: 0.1
B18: number of units active during a shift | C18: 4 | F18: 10
B19: number of shifts per day | C19: 2 | F19: 2
B20: typical number of trips in one shift | C20: 10 | F20: 16
B21: average workers per unit | C21: 2 | F21: 1
B22: days per week active | C22: 6 | F22: 6
B23: description of transport method | C23: A truck that can carry 40 bags of ore. Each bag is 50 kg. (2T capacity) | F23: A motorcycle that can carry 2 bags of ore. Each bag is 50 kg.
B25: Processing Observations | C25: Processing Type 1 | F25: Processing Type 2 | G25: Processing Type 3
B26: processing unit type | C26: crushing x2, milling, WOA, retort | F26: wash, sluice, conc amalgamation, no retort
B27: mercury used? | C27: yes | F27: yes
B28: amalgamation type | C28: whole ore | F28: concentrate
B29: number of units on site - total | C29: 15 | F29: 5
B30: number of units on site - active | C30: 10 | F30: 5
B31: average workers per unit | C31: 6 | F31: 1
B32: ore throughput per system (T/d)
B33: description of processing method | C33: Primary crushing is manual crushing with hammer. Secondary crushing is manual crushing with mortar and pestel. Ore is then milled in ball mills with mercury to undergo whole ore amalgamation. Recipe for one mill: One half bag (~25kg) of ore added to mill with one basin of water, ~200mL of mercury, and balls. Mill turned by hand for 1 hour. The amalgam is retrieved from the ore by squeezing (the liquid is saved for later use). Alalgam is heated to yield sponge gold. A retort is used. Extracting and processing are done by separate workers (extraction workers do not process and vice versa) | F33: The alliuvial material is concentrated by washing/sluicing. Ore concentrate is then amalgamated. The amalgam is retrieved from the ore by squeezing (the liquid is saved for later use). The amalgam is heated to yield sponge gold. No retort is used here. Extracting and processing are done by separate workers (extraction workers do not process and vice versa)
B35: Workforce Observations
C37: M | D37: W | E37: Y
B38: Number of ASGM workers on site | C38: 1000 | D38: 800 | E38: 700 | F38: Role of women on site | G38: Some women are processing workers, but none take part in extraction. Some are pit, shaft, or processing centre owners. Also teachers, healthcare workers, shop keeps, farmers, and homemakers.
B39: extraction workers | C39: 400 | D39: 100 | E39: 0
B40: processing workers | C40: 400 | D40: 100 | E40: 0
C41: L | D41: F
B42: % of workers that are local / foreign | C42: 75 | D42: 25
B43: origin of foreign workers | C43: Goldougou, Goldibique | F43: Role of youth and children following parents in the field
B45: Number of gold buyers on site | C45: 6
B47: Operations Observations
B49: Spatial information (size, location, distance between extraction & processing sites, mode of ore transport)
...

Sheet 5-Site Interview | Extraction
A1: ="ASGM Site: "&'1-Location Info'!C3&" | Interviews with ASGM workers about Extraction" -> ASGM Site: Placerton | Interviews with ASGM workers about Extraction
A2: Data Collection Form "ASGM Site Interview: Extraction"
B4: Extraction Unit Interviews - Extraction Type 1 | C4: Interview 1 | D4: Interview 2 | E4: Interview 3 | F4: Interview 4 | G4: Interview 5 | H4: Interview 6 | I4: Interview 7 | J4: Interview 8 | K4: Interview 9 | L4: Interview 10 | M4: Average | N4: Range | O4: Comments | Q4: Description of Extraction Type 1
B5: Data entry | Q5: =IF('4-ASGM Site Observations'!C13=0,"n/a",'4-ASGM Site Observations'!C13) -> Hard rock mining from shafts on the mountain immediately to the east of the community. Packed in ~50kg bags. Transported on motorcycles to processing site in the community below. Extracting and processing are done by separate workers (extraction workers do not process and vice versa)
B6: interviewee type | C6: EXTRACTION WORKER | D6: EXTRACTION BOSS
B7: interviewee name | C7: Eli | D7: Jonas
B8: ore grade (g/T) | C8: 10 | D8: 10 | M8: =IFERROR(AVERAGEIF(C8:L8, "<>0"),"---") -> 10 | N8: =_xlfn.MINIFS(C8:L8, C8:L8, "<>0")&" – "&_xlfn.MAXIFS(C8:L8, C8:L8, "<>0") -> 10 – 10
B9: gold purity (%) | C9: 0.7 | D9: 0.7 | M9: =IFERROR(AVERAGEIF(C9:L9, "<>0"),"---") -> 0.7 | N9: =(100*(_xlfn.MINIFS(C9:L9,C9:L9,"<>0"))&"% – "&(100*(_xlfn.MAXIFS(C9:L9,C9:L9,"<>0"))))&"%" -> 70% – 70%
B10: daily extraction per miner (T ore/shift) | C10: 0.1 | D10: 0.1 | M10: =IFERROR(AVERAGEIF(C10:L10, "<>0"),"---") -> 0.1 | N10: =_xlfn.MINIFS(C10:L10, C10:L10, "<>0")&" – "&_xlfn.MAXIFS(C10:L10, C10:L10, "<>0") -> 0.1 – 0.1
B11: average active miners per unit | C11: 10 | D11: 10 | M11: =IFERROR(AVERAGEIF(C11:L11, "<>0"),"---") -> 10 | N11: =_xlfn.MINIFS(C11:L11, C11:L11, "<>0")&" – "&_xlfn.MAXIFS(C11:L11, C11:L11, "<>0") -> 10 – 10
B12: number of units on site - total | C12: 20 | D12: 20 | M12: =IFERROR(AVERAGEIF(C12:L12, "<>0"),"---") -> 20 | N12: =_xlfn.MINIFS(C12:L12, C12:L12, "<>0")&" – "&_xlfn.MAXIFS(C12:L12, C12:L12, "<>0") -> 20 – 20
B13: number of units on site - active | C13: 10 | D13: 11 | M13: =IFERROR(AVERAGEIF(C13:L13, "<>0"),"---") -> 10.5 | N13: =_xlfn.MINIFS(C13:L13, C13:L13, "<>0")&" – "&_xlfn.MAXIFS(C13:L13, C13:L13, "<>0") -> 10 – 11
B14: shift length (hr) | C14: 8 | D14: 8 | M14: =IFERROR(AVERAGEIF(C14:L14, "<>0"),"---") -> 8 | N14: =_xlfn.MINIFS(C14:L14, C14:L14, "<>0")&" – "&_xlfn.MAXIFS(C14:L14, C14:L14, "<>0") -> 8 – 8
B15: shifts per day | C15: 2 | D15: 2 | M15: =IFERROR(AVERAGEIF(C15:L15, "<>0"),"---") -> 2 | N15: =_xlfn.MINIFS(C15:L15, C15:L15, "<>0")&" – "&_xlfn.MAXIFS(C15:L15, C15:L15, "<>0") -> 2 – 2
B16: days active per week (d/w) | C16: 6 | D16: 6 | M16: =IFERROR(AVERAGEIF(C16:L16, "<>0"),"---") -> 6 | N16: =_xlfn.MINIFS(C16:L16, C16:L16, "<>0")&" – "&_xlfn.MAXIFS(C16:L16, C16:L16, "<>0") -> 6 – 6
B17: months active per year (m/y ) | C17: 10 | D17: 10 | M17: =IFERROR(AVERAGEIF(C17:L17, "<>0"),"---") -> 10 | N17: =_xlfn.MINIFS(C17:L17, C17:L17, "<>0")&" – "&_xlfn.MAXIFS(C17:L17, C17:L17, "<>0") -> 10 – 10
B18: days active per year (d/y) | C18: 200 | D18: 200 | M18: =IFERROR(AVERAGEIF(C18:L18, "<>0"),"---") -> 200 | N18: =_xlfn.MINIFS(C18:L18, C18:L18, "<>0")&" – "&_xlfn.MAXIFS(C18:L18, C18:L18, "<>0") -> 200 – 200
B19: daily earnings per miner (g 24K Au) | C19: 0.5 | D19: 0.5 | M19: =IFERROR(AVERAGEIF(C19:L19, "<>0"),"---") -> 0.5 | N19: =_xlfn.MINIFS(C19:L19, C19:L19, "<>0")&" – "&_xlfn.MAXIFS(C19:L19, C19:L19, "<>0") -> 0.5 – 0.5
B20: annual earning per miner (g 24K Au) | C20: 100 | D20: 120 | M20: =IFERROR(AVERAGEIF(C20:L20, "<>0"),"---") -> 110 | N20: =_xlfn.MINIFS(C20:L20, C20:L20, "<>0")&" – "&_xlfn.MAXIFS(C20:L20, C20:L20, "<>0") -> 100 – 120
B21: price per g of pure gold (local currency/g 24K Au) | C21: 38 | D21: 35 | M21: =IFERROR(AVERAGEIF(C21:L21, "<>0"),"---") -> 36.5 | N21: =_xlfn.MINIFS(C21:L21, C21:L21, "<>0")&" – "&_xlfn.MAXIFS(C21:L21, C21:L21, "<>0") -> 35 – 38
B22: price per g of pure gold ($USD/g 24K Au) | C22: 38 | D22: 35 | M22: =IFERROR(AVERAGEIF(C22:L22, "<>0"),"---") -> 36.5 | N22: ="$"&(ROUND(_xlfn.MINIFS(C22:L22, C22:L22, "<>0"),2))&" – $"&(ROUND(_xlfn.MAXIFS(C22:L22, C22:L22, "<>0"),2)) -> $35 – $38
B23: Calculations of site-level information
B24: total miners on site (assumed = miners active/d) | C24: =IFERROR(IF(C11*C13*C15=0, "---",C11*C13*C15),"---") -> 200 | D24: =IFERROR(IF(D11*D13*D15=0, "---",D11*D13*D15),"---") -> 220 | E24: =IFERROR(IF(E11*E13*E15=0, "---",E11*E13*E15),"---") -> --- | F24: =IFERROR(IF(F11*F13*F15=0, "---",F11*F13*F15),"---") -> --- | G24: =IFERROR(IF(G11*G13*G15=0, "---",G11*G13*G15),"---") -> --- | H24: =IFERROR(IF(H11*H13*H15=0, "---",H11*H13*H15),"---") -> --- | I24: =IFERROR(IF(I11*I13*I15=0, "---",I11*I13*I15),"---") -> --- | J24: =IFERROR(IF(J11*J13*J15=0, "---",J11*J13*J15),"---") -> --- | ... L24: =IFERROR(IF(L11*L13*L15=0, "---",L11*L13*L15),"---") -> --- | M24: =IFERROR(AVERAGEIF(C24:L24, "<>0"),"---") -> 210 | N24: =ROUND(_xlfn.MINIFS(C24:L24, C24:L24, "<>0"),1)&" – "&ROUND(_xlfn.MAXIFS(C24:L24, C24:L24, "<>0"),1) -> 200 – 220
B25: daily ore extraction per unit (T ore/d/unit) | C25: =IFERROR(IF(C10*C11*C15=0, "---",C10*C11*C15),"---") -> 2 | D25: =IFERROR(IF(D10*D11*D15=0, "---",D10*D11*D15),"---") -> 2 | E25: =IFERROR(IF(E10*E11*E15=0, "---",E10*E11*E15),"---") -> --- | F25: =IFERROR(IF(F10*F11*F15=0, "---",F10*F11*F15),"---") -> --- | G25: =IFERROR(IF(G10*G11*G15=0, "---",G10*G11*G15),"---") -> --- | H25: =IFERROR(IF(H10*H11*H15=0, "---",H10*H11*H15),"---") -> --- | I25: =IFERROR(IF(I10*I11*I15=0, "---",I10*I11*I15),"---") -> --- | J25: =IFERROR(IF(J10*J11*J15=0, "---",J10*J11*J15),"---") -> --- | ... L25: =IFERROR(IF(L10*L11*L15=0, "---",L10*L11*L15),"---") -> --- | M25: =IFERROR(AVERAGEIF(C25:L25, "<>0"),"---") -> 2 | N25: =ROUND(_xlfn.MINIFS(C25:L25, C25:L25, "<>0"),1)&" – "&ROUND(_xlfn.MAXIFS(C25:L25, C25:L25, "<>0"),1) -> 2 – 2
B26: daily ore extraction on site (T ore/d/site) | C26: =IFERROR(IF(C10*C11*C15*C13=0, "---",C10*C11*C15*C13),"---") -> 20 | D26: =IFERROR(IF(D10*D11*D15*D13=0, "---",D10*D11*D15*D13),"---") -> 22 | E26: =IFERROR(IF(E10*E11*E15*E13=0, "---",E10*E11*E15*E13),"---") -> --- | F26: =IFERROR(IF(F10*F11*F15*F13=0, "---",F10*F11*F15*F13),"---") -> --- | G26: =IFERROR(IF(G10*G11*G15*G13=0, "---",G10*G11*G15*G13),"---") -> --- | H26: =IFERROR(IF(H10*H11*H15*H13=0, "---",H10*H11*H15*H13),"---") -> --- | I26: =IFERROR(IF(I10*I11*I15*I13=0, "---",I10*I11*I15*I13),"---") -> --- | J26: =IFERROR(IF(J10*J11*J15*J13=0, "---",J10*J11*J15*J13),"---") -> --- | ... L26: =IFERROR(IF(L10*L11*L15*L13=0, "---",L10*L11*L15*L13),"---") -> --- | M26: =IFERROR(AVERAGEIF(C26:L26, "<>0"),"---") -> 21 | N26: =ROUND(_xlfn.MINIFS(C26:L26, C26:L26, "<>0"),1)&" – "&ROUND(_xlfn.MAXIFS(C26:L26, C26:L26, "<>0"),1) -> 20 – 22
B27: yearly ore extraction on site (T ore/y/site) | C27: =IFERROR(IF(C10*C11*C15*C13*C18=0, "---",C10*C11*C15*C13*C18),"---") -> 4000 | D27: =IFERROR(IF(D10*D11*D15*D13*D18=0, "---",D10*D11*D15*D13*D18),"---") -> 4400 | E27: =IFERROR(IF(E10*E11*E15*E13*E18=0, "---",E10*E11*E15*E13*E18),"---") -> --- | F27: =IFERROR(IF(F10*F11*F15*F13*F18=0, "---",F10*F11*F15*F13*F18),"---") -> --- | G27: =IFERROR(IF(G10*G11*G15*G13*G18=0, "---",G10*G11*G15*G13*G18),"---") -> --- | H27: =IFERROR(IF(H10*H11*H15*H13*H18=0, "---",H10*H11*H15*H13*H18),"---") -> --- | I27: =IFERROR(IF(I10*I11*I15*I13*I18=0, "---",I10*I11*I15*I13*I18),"---") -> --- | J27: =IFERROR(IF(J10*J11*J15*J13*J18=0, "---",J10*J11*J15*J13*J18),"---") -> --- | ... L27: =IFERROR(IF(L10*L11*L15*L13*L18=0, "---",L10*L11*L15*L13*L18),"---") -> --- | M27: =IFERROR(AVERAGEIF(C27:L27, "<>0"),"---") -> 4200 | N27: =ROUND(_xlfn.MINIFS(C27:L27, C27:L27, "<>0"),0)&" – "&ROUND(_xlfn.MAXIFS(C27:L27, C27:L27, "<>0"),0) -> 4000 – 4400
B28: yearly Au extracted on site - impure (kg Au/y/site) | C28: =IFERROR(IF(C10*C11*C15*C13*C18*C8/1000=0, "---",C10*C11*C15*C13*C18*C8/1000),"---") -> 40 | D28: =IFERROR(IF(D10*D11*D15*D13*D18*D8/1000=0, "---",D10*D11*D15*D13*D18*D8/1000),"---") -> 44 | E28: =IFERROR(IF(E10*E11*E15*E13*E18*E8/1000=0, "---",E10*E11*E15*E13*E18*E8/1000),"---") -> --- | F28: =IFERROR(IF(F10*F11*F15*F13*F18*F8/1000=0, "---",F10*F11*F15*F13*F18*F8/1000),"---") -> --- | G28: =IFERROR(IF(G10*G11*G15*G13*G18*G8/1000=0, "---",G10*G11*G15*G13*G18*G8/1000),"---") -> --- | H28: =IFERROR(IF(H10*H11*H15*H13*H18*H8/1000=0, "---",H10*H11*H15*H13*H18*H8/1000),"---") -> --- | I28: =IFERROR(IF(I10*I11*I15*I13*I18*I8/1000=0, "---",I10*I11*I15*I13*I18*I8/1000),"---") -> --- | J28: =IFERROR(IF(J10*J11*J15*J13*J18*J8/1000=0, "---",J10*J11*J15*J13*J18*J8/1000),"---") -> --- | ... L28: =IFERROR(IF(L10*L11*L15*L13*L18*L8/1000=0, "---",L10*L11*L15*L13*L18*L8/1000),"---") -> --- | M28: =IFERROR(AVERAGEIF(C28:L28, "<>0"),"---") -> 42 | N28: =ROUND(_xlfn.MINIFS(C28:L28, C28:L28, "<>0"),0)&" – "&ROUND(_xlfn.MAXIFS(C28:L28, C28:L28, "<>0"),0) -> 40 – 44
B29: yearly Au extracted on site - pure (kg Au/y/site) | C29: =IFERROR(IF(C10*C11*C15*C13*C18*C8*C9/1000=0, "---",C10*C11*C15*C13*C18*C8*C9/1000),"---") -> 28 | D29: =IFERROR(IF(D10*D11*D15*D13*D18*D8*D9/1000=0, "---",D10*D11*D15*D13*D18*D8*D9/1000),"---") -> 30.8 | E29: =IFERROR(IF(E10*E11*E15*E13*E18*E8*E9/1000=0, "---",E10*E11*E15*E13*E18*E8*E9/1000),"---") -> --- | F29: =IFERROR(IF(F10*F11*F15*F13*F18*F8*F9/1000=0, "---",F10*F11*F15*F13*F18*F8*F9/1000),"---") -> --- | G29: =IFERROR(IF(G10*G11*G15*G13*G18*G8*G9/1000=0, "---",G10*G11*G15*G13*G18*G8*G9/1000),"---") -> --- | H29: =IFERROR(IF(H10*H11*H15*H13*H18*H8*H9/1000=0, "---",H10*H11*H15*H13*H18*H8*H9/1000),"---") -> --- | I29: =IFERROR(IF(I10*I11*I15*I13*I18*I8*I9/1000=0, "---",I10*I11*I15*I13*I18*I8*I9/1000),"---") -> --- | J29: =IFERROR(IF(J10*J11*J15*J13*J18*J8*J9/1000=0, "---",J10*J11*J15*J13*J18*J8*J9/1000),"---") -> --- | ... L29: =IFERROR(IF(L10*L11*L15*L13*L18*L8*L9/1000=0, "---",L10*L11*L15*L13*L18*L8*L9/1000),"---") -> --- | M29: =IFERROR(AVERAGEIF(C29:L29, "<>0"),"---") -> 29.4 | N29: =ROUND(_xlfn.MINIFS(C29:L29, C29:L29, "<>0"),0)&" – "&ROUND(_xlfn.MAXIFS(C29:L29, C29:L29, "<>0"),0) -> 28 – 31
B30: value of yearly Au extracted on site (local currency/y/site) | C30: =IFERROR(IF(C29*1000*C21=0, "---", C29*1000*C21), "---") -> 1064000 | D30: =IFERROR(IF(D29*1000*D21=0, "---", D29*1000*D21), "---") -> 1078000 | E30: =IFERROR(IF(E29*1000*E21=0, "---", E29*1000*E21), "---") -> --- | F30: =IFERROR(IF(F29*1000*F21=0, "---", F29*1000*F21), "---") -> --- | G30: =IFERROR(IF(G29*1000*G21=0, "---", G29*1000*G21), "---") -> --- | H30: =IFERROR(IF(H29*1000*H21=0, "---", H29*1000*H21), "---") -> --- | I30: =IFERROR(IF(I29*1000*I21=0, "---", I29*1000*I21), "---") -> --- | J30: =IFERROR(IF(J29*1000*J21=0, "---", J29*1000*J21), "---") -> --- | ... L30: =IFERROR(IF(L29*1000*L21=0, "---", L29*1000*L21), "---") -> --- | M30: =IFERROR(AVERAGEIF(C30:L30, "<>0"),"---") -> 1071000 | N30: =ROUND(_xlfn.MINIFS(C30:L30, C30:L30, "<>0"),0)&" – "&ROUND(_xlfn.MAXIFS(C30:L30, C30:L30, "<>0"),0) -> 1064000 – 1078000
B31: value produced yearly per miner (local currency/y/miner) | C31: =IFERROR(IF(C30/C24=0,"---",C30/C24),"---") -> 5320 | D31: =IFERROR(IF(D30/D24=0,"---",D30/D24),"---") -> 4900 | E31: =IFERROR(IF(E30/E24=0,"---",E30/E24),"---") -> --- | F31: =IFERROR(IF(F30/F24=0,"---",F30/F24),"---") -> --- | G31: =IFERROR(IF(G30/G24=0,"---",G30/G24),"---") -> --- | H31: =IFERROR(IF(H30/H24=0,"---",H30/H24),"---") -> --- | I31: =IFERROR(IF(I30/I24=0,"---",I30/I24),"---") -> --- | J31: =IFERROR(IF(J30/J24=0,"---",J30/J24),"---") -> --- | ... L31: =IFERROR(IF(L30/L24=0,"---",L30/L24),"---") -> --- | M31: =IFERROR(AVERAGEIF(C31:L31, "<>0"),"---") -> 5110 | N31: =ROUND(_xlfn.MINIFS(C31:L31, C31:L31, "<>0"),0)&" – "&ROUND(_xlfn.MAXIFS(C31:L31, C31:L31, "<>0"),0) -> 4900 – 5320
B32: value produced yearly per miner ($USD/y/miner) | C32: =IFERROR(IF(C29*1000*C22/C24=0, "---", C29*1000*C22/C24), "---") -> 5320 | D32: =IFERROR(IF(D29*1000*D22/D24=0, "---", D29*1000*D22/D24), "---") -> 4900 | E32: =IFERROR(IF(E29*1000*E22/E24=0, "---", E29*1000*E22/E24), "---") -> --- | F32: =IFERROR(IF(F29*1000*F22/F24=0, "---", F29*1000*F22/F24), "---") -> --- | G32: =IFERROR(IF(G29*1000*G22/G24=0, "---", G29*1000*G22/G24), "---") -> --- | H32: =IFERROR(IF(H29*1000*H22/H24=0, "---", H29*1000*H22/H24), "---") -> --- | I32: =IFERROR(IF(I29*1000*I22/I24=0, "---", I29*1000*I22/I24), "---") -> --- | J32: =IFERROR(IF(J29*1000*J22/J24=0, "---", J29*1000*J22/J24), "---") -> --- | ... L32: =IFERROR(IF(L29*1000*L22/L24=0, "---", L29*1000*L22/L24), "---") -> --- | M32: =IFERROR(AVERAGEIF(C32:L32, "<>0"),"---") -> 5110 | N32: ="$"&(ROUND(_xlfn.MINIFS(C32:L32, C32:L32, "<>0"),0))&" – $"&(ROUND(_xlfn.MAXIFS(C32:L32, C32:L32, "<>0"),0)) -> $4900 – $5320
B34: Extraction Unit Interviews - Extraction Type 2 | C34: Interview 1 | D34: Interview 2 | E34: Interview 3 | F34: Interview 4 | G34: Interview 5 | H34: Interview 6 | I34: Interview 7 | J34: Interview 8 | K34: Interview 9 | L34: Interview 10 | M34: Average | N34: Range | O34: Comments | Q34: Description of Extraction Type 2
B35: Data entry | Q35: =IF('4-ASGM Site Observations'!F13=0,"n/a",'4-ASGM Site Observations'!F13) -> Soft rock (alluvial) mining from two large open pits in the valley 100 km north of the community. Extraction with high pressure water spray and buckets. Processing occurs at the same location. Extracting and processing are done by separate workers (extraction workers do not process and vice versa)
B36: interviewee type | C36: EXTRACTION BOSS | D36: EXTRACTION BOSS
B37: interviewee name | C37: Samuel | D37: Rose
B38: ore grade (g/T) | C38: 2 | D38: 2 | M38: =IFERROR(AVERAGEIF(C38:L38, "<>0"),"---") -> 2 | N38: =_xlfn.MINIFS(C38:L38, C38:L38, "<>0")&" – "&_xlfn.MAXIFS(C38:L38, C38:L38, "<>0") -> 2 – 2
B39: gold purity (%) | C39: 0.9 | D39: 0.9 | M39: =IFERROR(AVERAGEIF(C39:L39, "<>0"),"---") -> 0.9 | N39: =(100*(_xlfn.MINIFS(C39:L39,C39:L39,"<>0"))&"% – "&(100*(_xlfn.MAXIFS(C39:L39,C39:L39,"<>0"))))&"%" -> 90% – 90%
B40: daily extraction per miner (T ore/d) | C40: 0.35 | D40: 0.4 | M40: =IFERROR(AVERAGEIF(C40:L40, "<>0"),"---") -> 0.375 | N40: =_xlfn.MINIFS(C40:L40, C40:L40, "<>0")&" – "&_xlfn.MAXIFS(C40:L40, C40:L40, "<>0") -> 0.35 – 0.4
B41: average active miners per unit | C41: 50 | D41: 60 | M41: =IFERROR(AVERAGEIF(C41:L41, "<>0"),"---") -> 55 | N41: =_xlfn.MINIFS(C41:L41, C41:L41, "<>0")&" – "&_xlfn.MAXIFS(C41:L41, C41:L41, "<>0") -> 50 – 60
B42: number of units on site - total | C42: 2 | D42: 2 | M42: =IFERROR(AVERAGEIF(C42:L42, "<>0"),"---") -> 2 | N42: =_xlfn.MINIFS(C42:L42, C42:L42, "<>0")&" – "&_xlfn.MAXIFS(C42:L42, C42:L42, "<>0") -> 2 – 2
...

Sheet 5-Site Interview | Transport
A1: ="ASGM Site: "&'1-Location Info'!C3&" | Interviews with ASGM workers about Transport" -> ASGM Site: Placerton | Interviews with ASGM workers about Transport
A2: Data Collection Form "ASGM Site Interview: Transport"
B4: Transport Interviews - Transport Type 1 | C4: Interview 1 | D4: Interview 2 | E4: Interview 3 | F4: Interview 4 | G4: Interview 5 | H4: Interview 6 | I4: Interview 7 | J4: Interview 8 | K4: Interview 9 | L4: Interview 10 | M4: Average | N4: Range | O4: Comments | Q4: Description of Transport Type 1
B5: Data entry | Q5: =IF('4-ASGM Site Observations'!C23=0,"n/a",'4-ASGM Site Observations'!C23) -> A truck that can carry 40 bags of ore. Each bag is 50 kg. (2T capacity)
B6: interviewee type | C6: TRANSPORT WORKER | D6: TRANSPORT WORKER
B7: interviewee name | C7: Alassane | D7: Albert
B8: ore grade (g/T) | C8: 10 | D8: 10 | M8: =IFERROR(AVERAGEIF(C8:L8, "<>0"),"---") -> 10 | N8: =_xlfn.MINIFS(C8:L8, C8:L8, "<>0")&" – "&_xlfn.MAXIFS(C8:L8, C8:L8, "<>0") -> 10 – 10
B9: gold purity (%) | C9: 0.7 | D9: 0.7 | M9: =IFERROR(AVERAGEIF(C9:L9, "<>0"),"---") -> 0.7 | N9: =(100*(_xlfn.MINIFS(C9:L9,C9:L9,"<>0"))&"% – "&(100*(_xlfn.MAXIFS(C9:L9,C9:L9,"<>0"))))&"%" -> 70% – 70%
B10: unit type (e.g., truck, bike, person) | C10: truck | D10: truck | M10: =C10 -> truck | N10: =_xlfn.MINIFS(C10:L10, C10:L10, "<>0")&" – "&_xlfn.MAXIFS(C10:L10, C10:L10, "<>0") -> 0 – 0
B11: capacity of unit (T ore) | C11: 2 | D11: 1.5 | M11: =IFERROR(AVERAGEIF(C11:L11, "<>0"),"---") -> 1.75 | N11: =_xlfn.MINIFS(C11:L11, C11:L11, "<>0")&" – "&_xlfn.MAXIFS(C11:L11, C11:L11, "<>0") -> 1.5 – 2
B12: number of units on site - active during a shift | C12: 4 | D12: 4 | M12: =IFERROR(AVERAGEIF(C12:L12, "<>0"),"---") -> 4 | N12: =_xlfn.MINIFS(C12:L12, C12:L12, "<>0")&" – "&_xlfn.MAXIFS(C12:L12, C12:L12, "<>0") -> 4 – 4
B13: shifts per day | C13: 1 | D13: 1 | M13: =IFERROR(AVERAGEIF(C13:L13, "<>0"),"---") -> 1 | N13: =_xlfn.MINIFS(C13:L13, C13:L13, "<>0")&" – "&_xlfn.MAXIFS(C13:L13, C13:L13, "<>0") -> 1 – 1
B14: typical number of trips in one shift | C14: 2 | D14: 2 | M14: =IFERROR(AVERAGEIF(C14:L14, "<>0"),"---") -> 2 | N14: =_xlfn.MINIFS(C14:L14, C14:L14, "<>0")&" – "&_xlfn.MAXIFS(C14:L14, C14:L14, "<>0") -> 2 – 2
B15: average number workers per unit | C15: 2 | D15: 2 | M15: =IFERROR(AVERAGEIF(C15:L15, "<>0"),"---") -> 2 | N15: =_xlfn.MINIFS(C15:L15, C15:L15, "<>0")&" – "&_xlfn.MAXIFS(C15:L15, C15:L15, "<>0") -> 2 – 2
B16: days active per week (d/w) | C16: 6 | D16: 6 | M16: =IFERROR(AVERAGEIF(C16:L16, "<>0"),"---") -> 6 | N16: =_xlfn.MINIFS(C16:L16, C16:L16, "<>0")&" – "&_xlfn.MAXIFS(C16:L16, C16:L16, "<>0") -> 6 – 6
B17: months active per year (m/y ) | C17: 10 | D17: 10 | M17: =IFERROR(AVERAGEIF(C17:L17, "<>0"),"---") -> 10 | N17: =_xlfn.MINIFS(C17:L17, C17:L17, "<>0")&" – "&_xlfn.MAXIFS(C17:L17, C17:L17, "<>0") -> 10 – 10
B18: days active per year (d/y) | C18: 200 | D18: 200 | M18: =IFERROR(AVERAGEIF(C18:L18, "<>0"),"---") -> 200 | N18: =_xlfn.MINIFS(C18:L18, C18:L18, "<>0")&" – "&_xlfn.MAXIFS(C18:L18, C18:L18, "<>0") -> 200 – 200
B19: daily earning per worker (g 24K Au) | C19: 0.5 | D19: 0.5 | M19: =IFERROR(AVERAGEIF(C19:L19, "<>0"),"---") -> 0.5 | N19: =_xlfn.MINIFS(C19:L19, C19:L19, "<>0")&" – "&_xlfn.MAXIFS(C19:L19, C19:L19, "<>0") -> 0.5 – 0.5
B20: annual earning per worker (g 24K Au) | C20: 120 | D20: 110 | M20: =IFERROR(AVERAGEIF(C20:L20, "<>0"),"---") -> 115 | N20: =_xlfn.MINIFS(C20:L20, C20:L20, "<>0")&" – "&_xlfn.MAXIFS(C20:L20, C20:L20, "<>0") -> 110 – 120
B21: price per g of pure gold (local currency/g 24K Au) | C21: 38 | D21: 38 | M21: =IFERROR(AVERAGEIF(C21:L21, "<>0"),"---") -> 38 | N21: =_xlfn.MINIFS(C21:L21, C21:L21, "<>0")&" – "&_xlfn.MAXIFS(C21:L21, C21:L21, "<>0") -> 38 – 38
B22: price per g of pure gold ($USD/g 24K Au) | C22: 38 | D22: 38 | M22: =IFERROR(AVERAGEIF(C22:L22, "<>0"),"---") -> 38 | N22: ="$"&_xlfn.MINIFS(C22:L22, C22:L22, "<>0")&" – $"&_xlfn.MAXIFS(C22:L22, C22:L22, "<>0") -> $38 – $38
B23: Calculations of site-level information
B24: total active workers on site (assumed = workers active/d) | C24: =IFERROR(IF(C15*C12*C13=0, "---",C15*C12*C13),"---") -> 8 | D24: =IFERROR(IF(D15*D12*D13=0, "---",D15*D12*D13),"---") -> 8 | E24: =IFERROR(IF(E15*E12*E13=0, "---",E15*E12*E13),"---") -> --- | F24: =IFERROR(IF(F15*F12*F13=0, "---",F15*F12*F13),"---") -> --- | G24: =IFERROR(IF(G15*G12*G13=0, "---",G15*G12*G13),"---") -> --- | H24: =IFERROR(IF(H15*H12*H13=0, "---",H15*H12*H13),"---") -> --- | I24: =IFERROR(IF(I15*I12*I13=0, "---",I15*I12*I13),"---") -> --- | J24: =IFERROR(IF(J15*J12*J13=0, "---",J15*J12*J13),"---") -> --- | ... L24: =IFERROR(IF(L15*L12*L13=0, "---",L15*L12*L13),"---") -> --- | M24: =IFERROR(AVERAGEIF(C24:L24, "<>0"),"---") -> 8 | N24: =ROUND(_xlfn.MINIFS(C24:L24, C24:L24, "<>0"),1)&" – "&ROUND(_xlfn.MAXIFS(C24:L24, C24:L24, "<>0"),1) -> 8 – 8
B25: daily ore transported per unit (T ore/d/unit) | C25: =IFERROR(IF(C11*C14*C13=0, "---",C11*C14*C13),"---") -> 4 | D25: =IFERROR(IF(D11*D14*D13=0, "---",D11*D14*D13),"---") -> 3 | E25: =IFERROR(IF(E11*E14*E13=0, "---",E11*E14*E13),"---") -> --- | F25: =IFERROR(IF(F11*F14*F13=0, "---",F11*F14*F13),"---") -> --- | G25: =IFERROR(IF(G11*G14*G13=0, "---",G11*G14*G13),"---") -> --- | H25: =IFERROR(IF(H11*H14*H13=0, "---",H11*H14*H13),"---") -> --- | I25: =IFERROR(IF(I11*I14*I13=0, "---",I11*I14*I13),"---") -> --- | J25: =IFERROR(IF(J11*J14*J13=0, "---",J11*J14*J13),"---") -> --- | ... L25: =IFERROR(IF(L11*L14*L13=0, "---",L11*L14*L13),"---") -> --- | M25: =IFERROR(AVERAGEIF(C25:L25, "<>0"),"---") -> 3.5 | N25: =ROUND(_xlfn.MINIFS(C25:L25, C25:L25, "<>0"),1)&" – "&ROUND(_xlfn.MAXIFS(C25:L25, C25:L25, "<>0"),1) -> 3 – 4
B26: daily ore transported on site (T ore/d/site) | C26: =IFERROR(IF(C11*C14*C13*C12=0, "---",C11*C14*C13*C12),"---") -> 16 | D26: =IFERROR(IF(D11*D14*D13*D12=0, "---",D11*D14*D13*D12),"---") -> 12 | E26: =IFERROR(IF(E11*E14*E13*E12=0, "---",E11*E14*E13*E12),"---") -> --- | F26: =IFERROR(IF(F11*F14*F13*F12=0, "---",F11*F14*F13*F12),"---") -> --- | G26: =IFERROR(IF(G11*G14*G13*G12=0, "---",G11*G14*G13*G12),"---") -> --- | H26: =IFERROR(IF(H11*H14*H13*H12=0, "---",H11*H14*H13*H12),"---") -> --- | I26: =IFERROR(IF(I11*I14*I13*I12=0, "---",I11*I14*I13*I12),"---") -> --- | J26: =IFERROR(IF(J11*J14*J13*J12=0, "---",J11*J14*J13*J12),"---") -> --- | ... L26: =IFERROR(IF(L11*L14*L13*L12=0, "---",L11*L14*L13*L12),"---") -> --- | M26: =IFERROR(AVERAGEIF(C26:L26, "<>0"),"---") -> 14 | N26: =ROUND(_xlfn.MINIFS(C26:L26, C26:L26, "<>0"),1)&" – "&ROUND(_xlfn.MAXIFS(C26:L26, C26:L26, "<>0"),1) -> 12 – 16
B27: yearly ore transport on site (T ore/y/site) | C27: =IFERROR(IF(C26*C18=0, "---",C26*C18),"---") -> 3200 | D27: =IFERROR(IF(D26*D18=0, "---",D26*D18),"---") -> 2400 | E27: =IFERROR(IF(E26*E18=0, "---",E26*E18),"---") -> --- | F27: =IFERROR(IF(F26*F18=0, "---",F26*F18),"---") -> --- | G27: =IFERROR(IF(G26*G18=0, "---",G26*G18),"---") -> --- | H27: =IFERROR(IF(H26*H18=0, "---",H26*H18),"---") -> --- | I27: =IFERROR(IF(I26*I18=0, "---",I26*I18),"---") -> --- | J27: =IFERROR(IF(J26*J18=0, "---",J26*J18),"---") -> --- | ... L27: =IFERROR(IF(L26*L18=0, "---",L26*L18),"---") -> --- | M27: =IFERROR(AVERAGEIF(C27:L27, "<>0"),"---") -> 2800 | N27: =ROUND(_xlfn.MINIFS(C27:L27, C27:L27, "<>0"),0)&" – "&ROUND(_xlfn.MAXIFS(C27:L27, C27:L27, "<>0"),0) -> 2400 – 3200
B28: yearly Au produced on site - impure (kg Au/y/site) | C28: =IFERROR(IF(C27*C8/1000=0, "---",C27*C8/1000),"---") -> 32 | D28: =IFERROR(IF(D27*D8/1000=0, "---",D27*D8/1000),"---") -> 24 | E28: =IFERROR(IF(E27*E8/1000=0, "---",E27*E8/1000),"---") -> --- | F28: =IFERROR(IF(F27*F8/1000=0, "---",F27*F8/1000),"---") -> --- | G28: =IFERROR(IF(G27*G8/1000=0, "---",G27*G8/1000),"---") -> --- | H28: =IFERROR(IF(H27*H8/1000=0, "---",H27*H8/1000),"---") -> --- | I28: =IFERROR(IF(I27*I8/1000=0, "---",I27*I8/1000),"---") -> --- | J28: =IFERROR(IF(J27*J8/1000=0, "---",J27*J8/1000),"---") -> --- | ... L28: =IFERROR(IF(L27*L8/1000=0, "---",L27*L8/1000),"---") -> --- | M28: =IFERROR(AVERAGEIF(C28:L28, "<>0"),"---") -> 28 | N28: =ROUND(_xlfn.MINIFS(C28:L28, C28:L28, "<>0"),0)&" – "&ROUND(_xlfn.MAXIFS(C28:L28, C28:L28, "<>0"),0) -> 24 – 32
B29: yearly Au produced on site - pure (kg Au/y/site) | C29: =IFERROR(IF(C28*C9=0, "---",C28*C9),"---") -> 22.4 | D29: =IFERROR(IF(D28*D9=0, "---",D28*D9),"---") -> 16.8 | E29: =IFERROR(IF(E28*E9=0, "---",E28*E9),"---") -> --- | F29: =IFERROR(IF(F28*F9=0, "---",F28*F9),"---") -> --- | G29: =IFERROR(IF(G28*G9=0, "---",G28*G9),"---") -> --- | H29: =IFERROR(IF(H28*H9=0, "---",H28*H9),"---") -> --- | I29: =IFERROR(IF(I28*I9=0, "---",I28*I9),"---") -> --- | J29: =IFERROR(IF(J28*J9=0, "---",J28*J9),"---") -> --- | ... L29: =IFERROR(IF(L28*L9=0, "---",L28*L9),"---") -> --- | M29: =IFERROR(AVERAGEIF(C29:L29, "<>0"),"---") -> 19.6 | N29: =ROUND(_xlfn.MINIFS(C29:L29, C29:L29, "<>0"),0)&" – "&ROUND(_xlfn.MAXIFS(C29:L29, C29:L29, "<>0"),0) -> 17 – 22
B30: value of yearly Au produced on site (local currency/y/site) | C30: =IFERROR(IF(C29*1000*C21=0, "---", C29*1000*C21), "---") -> 851200 | D30: =IFERROR(IF(D29*1000*D21=0, "---", D29*1000*D21), "---") -> 638400 | E30: =IFERROR(IF(E29*1000*E21=0, "---", E29*1000*E21), "---") -> --- | F30: =IFERROR(IF(F29*1000*F21=0, "---", F29*1000*F21), "---") -> --- | G30: =IFERROR(IF(G29*1000*G21=0, "---", G29*1000*G21), "---") -> --- | H30: =IFERROR(IF(H29*1000*H21=0, "---", H29*1000*H21), "---") -> --- | I30: =IFERROR(IF(I29*1000*I21=0, "---", I29*1000*I21), "---") -> --- | J30: =IFERROR(IF(J29*1000*J21=0, "---", J29*1000*J21), "---") -> --- | ... L30: =IFERROR(IF(L29*1000*L21=0, "---", L29*1000*L21), "---") -> --- | M30: =IFERROR(AVERAGEIF(C30:L30, "<>0"),"---") -> 744800 | N30: =ROUND(_xlfn.MINIFS(C30:L30, C30:L30, "<>0"),0)&" – "&ROUND(_xlfn.MAXIFS(C30:L30, C30:L30, "<>0"),0) -> 638400 – 851200
B32: Transport Interviews - Transport Type 2 | C32: Interview 1 | D32: Interview 2 | E32: Interview 3 | F32: Interview 4 | G32: Interview 5 | H32: Interview 6 | I32: Interview 7 | J32: Interview 8 | K32: Interview 9 | L32: Interview 10 | M32: Average | N32: Range | O32: Comments | Q32: Description of Transport Type 2
B33: Data entry | Q33: =IF('4-ASGM Site Observations'!F23=0,"n/a",'4-ASGM Site Observations'!F23) -> A motorcycle that can carry 2 bags of ore. Each bag is 50 kg.
B34: interviewee type | C34: TRANSPORT WORKER | D34: TRANSPORT WORKER
B35: interviewee name | C35: Mamadou | D35: Jack
B36: ore grade (g/T) | C36: 10 | D36: 10 | M36: =IFERROR(AVERAGEIF(C36:L36, "<>0"),"---") -> 10 | N36: =_xlfn.MINIFS(C36:L36, C36:L36, "<>0")&" – "&_xlfn.MAXIFS(C36:L36, C36:L36, "<>0") -> 10 – 10
B37: gold purity (%) | C37: 0.7 | D37: 0.7 | M37: =IFERROR(AVERAGEIF(C37:L37, "<>0"),"---") -> 0.7 | N37: =(100*(_xlfn.MINIFS(C37:L37,C37:L37,"<>0"))&"% – "&(100*(_xlfn.MAXIFS(C37:L37,C37:L37,"<>0"))))&"%" -> 70% – 70%
B38: unit type (e.g., truck, bike, person) | C38: motorcycle | D38: motorcycle | M38: =C38 -> motorcycle | N38: =_xlfn.MINIFS(C38:L38, C38:L38, "<>0")&" – "&_xlfn.MAXIFS(C38:L38, C38:L38, "<>0") -> 0 – 0
B39: capacity of unit (T ore) | C39: 0.1 | D39: 0.1 | M39: =IFERROR(AVERAGEIF(C39:L39, "<>0"),"---") -> 0.1 | N39: =_xlfn.MINIFS(C39:L39, C39:L39, "<>0")&" – "&_xlfn.MAXIFS(C39:L39, C39:L39, "<>0") -> 0.1 – 0.1
B40: number of units on site - active during a shift | C40: 20 | D40: 24 | M40: =IFERROR(AVERAGEIF(C40:L40, "<>0"),"---") -> 22 | N40: =_xlfn.MINIFS(C40:L40, C40:L40, "<>0")&" – "&_xlfn.MAXIFS(C40:L40, C40:L40, "<>0") -> 20 – 24
B41: shifts per day | C41: 1 | D41: 1 | M41: =IFERROR(AVERAGEIF(C41:L41, "<>0"),"---") -> 1 | N41: =_xlfn.MINIFS(C41:L41, C41:L41, "<>0")&" – "&_xlfn.MAXIFS(C41:L41, C41:L41, "<>0") -> 1 – 1
B42: typical number of trips in one shift | C42: 4 | D42: 4 | M42: =IFERROR(AVERAGEIF(C42:L42, "<>0"),"---") -> 4 | N42: =_xlfn.MINIFS(C42:L42, C42:L42, "<>0")&" – "&_xlfn.MAXIFS(C42:L42, C42:L42, "<>0") -> 4 – 4
...

Sheet 5-Site Interview | Processing
A1: ="ASGM Site: "&'1-Location Info'!C3&" | Interviews with ASGM workers about Processing" -> ASGM Site: Placerton | Interviews with ASGM workers about Processing
A2: Data Collection Form "ASGM Site Interview: Processing"
B4: Processing Unit Interviews - Processing Type 1 | C4: Interview 1 | D4: Interview 2 | E4: Interview 3 | F4: Interview 4 | G4: Interview 5 | H4: Interview 6 | I4: Interview 7 | J4: Interview 8 | K4: Interview 9 | L4: Interview 10 | M4: Average | N4: Range | O4: Comments | Q4: Description of Processing Type 1
B5: Data entry | Q5: =IF('4-ASGM Site Observations'!C33=0,"n/a",'4-ASGM Site Observations'!C33) -> Primary crushing is manual crushing with hammer. Secondary crushing is manual crushing with mortar and pestel. Ore is then milled in ball mills with mercury to undergo whole ore amalgamation. Recipe for one mill: One half bag (~25kg) of ore added to mill with one basin of water, ~200mL of mercury, and balls. Mill turned by hand for 1 hour. The amalgam is retrieved from the ore by squeezing (the liquid is saved for later use). Alalgam is heated to yield sponge gold. A retort is used. Extracting and processing are done by separate workers (extraction workers do not process and vice versa)
B6: interviewee type | C6: PROCESSING WORKER | D6: PROCESSING BOSS
B7: interviewee name | C7: Fatima | D7: Waly
B8: ore grade (g/T) | C8: 10 | D8: 10 | M8: =IFERROR(AVERAGEIF(C8:L8, "<>0"),"---") -> 10 | N8: =_xlfn.MINIFS(C8:L8, C8:L8, "<>0")&" – "&_xlfn.MAXIFS(C8:L8, C8:L8, "<>0") -> 10 – 10
B9: gold purity (%) | C9: 0.7 | D9: 0.7 | M9: =IFERROR(AVERAGEIF(C9:L9, "<>0"),"---") -> 0.7 | N9: =(100*(_xlfn.MINIFS(C9:L9,C9:L9,"<>0"))&"% – "&(100*(_xlfn.MAXIFS(C9:L9,C9:L9,"<>0"))))&"%" -> 70% – 70%
B10: ore throughput per unit per shift (T ore/shift/unit) | C10: 0.4 | D10: 0.4 | M10: =IFERROR(AVERAGEIF(C10:L10, "<>0"),"---") -> 0.4 | N10: =_xlfn.MINIFS(C10:L10, C10:L10, "<>0")&" – "&_xlfn.MAXIFS(C10:L10, C10:L10, "<>0") -> 0.4 – 0.4
B11: average active workers per unit | C11: 4 | D11: 4 | M11: =IFERROR(AVERAGEIF(C11:L11, "<>0"),"---") -> 4 | N11: =_xlfn.MINIFS(C11:L11, C11:L11, "<>0")&" – "&_xlfn.MAXIFS(C11:L11, C11:L11, "<>0") -> 4 – 4
B12: number of units on site - total | C12: 30 | D12: 30 | M12: =IFERROR(AVERAGEIF(C12:L12, "<>0"),"---") -> 30 | N12: =_xlfn.MINIFS(C12:L12, C12:L12, "<>0")&" – "&_xlfn.MAXIFS(C12:L12, C12:L12, "<>0") -> 30 – 30
B13: number of units on site - active | C13: 26 | D13: 25 | M13: =IFERROR(AVERAGEIF(C13:L13, "<>0"),"---") -> 25.5 | N13: =_xlfn.MINIFS(C13:L13, C13:L13, "<>0")&" – "&_xlfn.MAXIFS(C13:L13, C13:L13, "<>0") -> 25 – 26
B14: shift length (hr) | C14: 8 | D14: 8 | M14: =IFERROR(AVERAGEIF(C14:L14, "<>0"),"---") -> 8 | N14: =_xlfn.MINIFS(C14:L14, C14:L14, "<>0")&" – "&_xlfn.MAXIFS(C14:L14, C14:L14, "<>0") -> 8 – 8
B15: shifts per day | C15: 2 | D15: 2 | M15: =IFERROR(AVERAGEIF(C15:L15, "<>0"),"---") -> 2 | N15: =_xlfn.MINIFS(C15:L15, C15:L15, "<>0")&" – "&_xlfn.MAXIFS(C15:L15, C15:L15, "<>0") -> 2 – 2
B16: days active per week (d/w) | C16: 6 | D16: 6 | M16: =IFERROR(AVERAGEIF(C16:L16, "<>0"),"---") -> 6 | N16: =_xlfn.MINIFS(C16:L16, C16:L16, "<>0")&" – "&_xlfn.MAXIFS(C16:L16, C16:L16, "<>0") -> 6 – 6
B17: months active per year (m/y ) | C17: 10 | D17: 10 | M17: =IFERROR(AVERAGEIF(C17:L17, "<>0"),"---") -> 10 | N17: =_xlfn.MINIFS(C17:L17, C17:L17, "<>0")&" – "&_xlfn.MAXIFS(C17:L17, C17:L17, "<>0") -> 10 – 10
B18: days active per year (d/y) | C18: 200 | D18: 200 | M18: =IFERROR(AVERAGEIF(C18:L18, "<>0"),"---") -> 200 | N18: =_xlfn.MINIFS(C18:L18, C18:L18, "<>0")&" – "&_xlfn.MAXIFS(C18:L18, C18:L18, "<>0") -> 200 – 200
B19: daily earning per worker (g 24K Au) | C19: 0.5 | D19: 0.5 | M19: =IFERROR(AVERAGEIF(C19:L19, "<>0"),"---") -> 0.5 | N19: =_xlfn.MINIFS(C19:L19, C19:L19, "<>0")&" – "&_xlfn.MAXIFS(C19:L19, C19:L19, "<>0") -> 0.5 – 0.5
B20: annual earning per worker (g 24K Au) | C20: 100 | D20: 80 | M20: =IFERROR(AVERAGEIF(C20:L20, "<>0"),"---") -> 90 | N20: =_xlfn.MINIFS(C20:L20, C20:L20, "<>0")&" – "&_xlfn.MAXIFS(C20:L20, C20:L20, "<>0") -> 80 – 100
B21: pure gold sold from unit per month (g 24K Au/mo) | M21: =IFERROR(AVERAGEIF(C21:L21, "<>0"),"---") -> --- | N21: =_xlfn.MINIFS(C21:L21, C21:L21, "<>0")&" – "&_xlfn.MAXIFS(C21:L21, C21:L21, "<>0") -> 0 – 0
B22: mercury bought for system per month (kg Hg/mo) | M22: =IFERROR(AVERAGEIF(C22:L22, "<>0"),"---") -> --- | N22: =_xlfn.MINIFS(C22:L22, C22:L22, "<>0")&" – "&_xlfn.MAXIFS(C22:L22, C22:L22, "<>0") -> 0 – 0
B23: price per g of pure gold (local currency/g 24K Au) | C23: 35 | D23: 38 | M23: =IFERROR(AVERAGEIF(C23:L23, "<>0"),"---") -> 36.5 | N23: =_xlfn.MINIFS(C23:L23, C23:L23, "<>0")&" – "&_xlfn.MAXIFS(C23:L23, C23:L23, "<>0") -> 35 – 38
B24: price per kg of mercury (local currency/kg Hg) | C24: 40 | D24: 30 | M24: =IFERROR(AVERAGEIF(C24:L24, "<>0"),"---") -> 35 | N24: =_xlfn.MINIFS(C24:L24, C24:L24, "<>0")&" – "&_xlfn.MAXIFS(C24:L24, C24:L24, "<>0") -> 30 – 40
B25: estimated Hg:Au ratio for unit (as per interview) | C25: 5 | D25: 10 | M25: =IFERROR(AVERAGEIF(C25:L25, "<>0"),"---") -> 7.5 | N25: =(ROUND(_xlfn.MINIFS(C25:L25, C25:L25, "<>0"),2))&" – "&(ROUND(_xlfn.MAXIFS(C25:L25, C25:L25, "<>0"),2)) -> 5 – 10
B26: Calculations of site-level information
B27: total active workers on site (assumed = workers active/d) | C27: =IFERROR(IF(C11*C13*C15=0, "---",C11*C13*C15),"---") -> 208 | D27: =IFERROR(IF(D11*D13*D15=0, "---",D11*D13*D15),"---") -> 200 | E27: =IFERROR(IF(E11*E13*E15=0, "---",E11*E13*E15),"---") -> --- | F27: =IFERROR(IF(F11*F13*F15=0, "---",F11*F13*F15),"---") -> --- | G27: =IFERROR(IF(G11*G13*G15=0, "---",G11*G13*G15),"---") -> --- | H27: =IFERROR(IF(H11*H13*H15=0, "---",H11*H13*H15),"---") -> --- | I27: =IFERROR(IF(I11*I13*I15=0, "---",I11*I13*I15),"---") -> --- | J27: =IFERROR(IF(J11*J13*J15=0, "---",J11*J13*J15),"---") -> --- | ... L27: =IFERROR(IF(L11*L13*L15=0, "---",L11*L13*L15),"---") -> --- | M27: =IFERROR(AVERAGEIF(C27:L27, "<>0"),"0") -> 204 | N27: =ROUND(_xlfn.MINIFS(C27:L27, C27:L27, "<>0"),1)&" – "&ROUND(_xlfn.MAXIFS(C27:L27, C27:L27, "<>0"),1) -> 200 – 208
B28: daily ore throughput per unit (T ore/d/unit) | C28: =IFERROR(IF(C10*C15=0, "---",C10*C15),"---") -> 0.8 | D28: =IFERROR(IF(D10*D15=0, "---",D10*D15),"---") -> 0.8 | E28: =IFERROR(IF(E10*E15=0, "---",E10*E15),"---") -> --- | F28: =IFERROR(IF(F10*F15=0, "---",F10*F15),"---") -> --- | G28: =IFERROR(IF(G10*G15=0, "---",G10*G15),"---") -> --- | H28: =IFERROR(IF(H10*H15=0, "---",H10*H15),"---") -> --- | I28: =IFERROR(IF(I10*I15=0, "---",I10*I15),"---") -> --- | J28: =IFERROR(IF(J10*J15=0, "---",J10*J15),"---") -> --- | ... L28: =IFERROR(IF(L10*L15=0, "---",L10*L15),"---") -> --- | M28: =IFERROR(AVERAGEIF(C28:L28, "<>0"),"0") -> 0.8 | N28: =ROUND(_xlfn.MINIFS(C28:L28, C28:L28, "<>0"),1)&" – "&ROUND(_xlfn.MAXIFS(C28:L28, C28:L28, "<>0"),1) -> 0.8 – 0.8
B29: daily ore throughput on site (T ore/d/site) | C29: =IFERROR(IF(C10*C15*C13=0, "---",C10*C15*C13),"---") -> 20.8 | D29: =IFERROR(IF(D10*D15*D13=0, "---",D10*D15*D13),"---") -> 20 | E29: =IFERROR(IF(E10*E15*E13=0, "---",E10*E15*E13),"---") -> --- | F29: =IFERROR(IF(F10*F15*F13=0, "---",F10*F15*F13),"---") -> --- | G29: =IFERROR(IF(G10*G15*G13=0, "---",G10*G15*G13),"---") -> --- | H29: =IFERROR(IF(H10*H15*H13=0, "---",H10*H15*H13),"---") -> --- | I29: =IFERROR(IF(I10*I15*I13=0, "---",I10*I15*I13),"---") -> --- | J29: =IFERROR(IF(J10*J15*J13=0, "---",J10*J15*J13),"---") -> --- | ... L29: =IFERROR(IF(L10*L15*L13=0, "---",L10*L15*L13),"---") -> --- | M29: =IFERROR(AVERAGEIF(C29:L29, "<>0"),"0") -> 20.4 | N29: =ROUND(_xlfn.MINIFS(C29:L29, C29:L29, "<>0"),1)&" – "&ROUND(_xlfn.MAXIFS(C29:L29, C29:L29, "<>0"),1) -> 20 – 20.8
B30: yearly ore throughput on site (T ore/y/site) | C30: =IFERROR(IF(C10*C15*C13*C18=0, "---",C10*C15*C13*C18),"---") -> 4160 | D30: =IFERROR(IF(D10*D15*D13*D18=0, "---",D10*D15*D13*D18),"---") -> 4000 | E30: =IFERROR(IF(E10*E15*E13*E18=0, "---",E10*E15*E13*E18),"---") -> --- | F30: =IFERROR(IF(F10*F15*F13*F18=0, "---",F10*F15*F13*F18),"---") -> --- | G30: =IFERROR(IF(G10*G15*G13*G18=0, "---",G10*G15*G13*G18),"---") -> --- | H30: =IFERROR(IF(H10*H15*H13*H18=0, "---",H10*H15*H13*H18),"---") -> --- | I30: =IFERROR(IF(I10*I15*I13*I18=0, "---",I10*I15*I13*I18),"---") -> --- | J30: =IFERROR(IF(J10*J15*J13*J18=0, "---",J10*J15*J13*J18),"---") -> --- | ... L30: =IFERROR(IF(L10*L15*L13*L18=0, "---",L10*L15*L13*L18),"---") -> --- | M30: =IFERROR(AVERAGEIF(C30:L30, "<>0"),"0") -> 4080 | N30: =ROUND(_xlfn.MINIFS(C30:L30, C30:L30, "<>0"),0)&" – "&ROUND(_xlfn.MAXIFS(C30:L30, C30:L30, "<>0"),0) -> 4000 – 4160
B31: yearly Au produced on site - impure (kg Au/y/site) | C31: =IFERROR(IF(C30*C8/1000=0, "---",C30*C8/1000),"---") -> 41.6 | D31: =IFERROR(IF(D30*D8/1000=0, "---",D30*D8/1000),"---") -> 40 | E31: =IFERROR(IF(E30*E8/1000=0, "---",E30*E8/1000),"---") -> --- | F31: =IFERROR(IF(F30*F8/1000=0, "---",F30*F8/1000),"---") -> --- | G31: =IFERROR(IF(G30*G8/1000=0, "---",G30*G8/1000),"---") -> --- | H31: =IFERROR(IF(H30*H8/1000=0, "---",H30*H8/1000),"---") -> --- | I31: =IFERROR(IF(I30*I8/1000=0, "---",I30*I8/1000),"---") -> --- | J31: =IFERROR(IF(J30*J8/1000=0, "---",J30*J8/1000),"---") -> --- | ... L31: =IFERROR(IF(L30*L8/1000=0, "---",L30*L8/1000),"---") -> --- | M31: =IFERROR(AVERAGEIF(C31:L31, "<>0"),"0") -> 40.8 | N31: =ROUND(_xlfn.MINIFS(C31:L31, C31:L31, "<>0"),0)&" – "&ROUND(_xlfn.MAXIFS(C31:L31, C31:L31, "<>0"),0) -> 40 – 42
B32: yearly Au produced on site - pure (kg Au/y/site) | C32: =IFERROR(IF(C30*C8/1000*C9=0, "---",C30*C8/1000*C9),"---") -> 29.12 | D32: =IFERROR(IF(D30*D8/1000*D9=0, "---",D30*D8/1000*D9),"---") -> 28 | E32: =IFERROR(IF(E30*E8/1000*E9=0, "---",E30*E8/1000*E9),"---") -> --- | F32: =IFERROR(IF(F30*F8/1000*F9=0, "---",F30*F8/1000*F9),"---") -> --- | G32: =IFERROR(IF(G30*G8/1000*G9=0, "---",G30*G8/1000*G9),"---") -> --- | H32: =IFERROR(IF(H30*H8/1000*H9=0, "---",H30*H8/1000*H9),"---") -> --- | I32: =IFERROR(IF(I30*I8/1000*I9=0, "---",I30*I8/1000*I9),"---") -> --- | J32: =IFERROR(IF(J30*J8/1000*J9=0, "---",J30*J8/1000*J9),"---") -> --- | ... L32: =IFERROR(IF(L30*L8/1000*L9=0, "---",L30*L8/1000*L9),"---") -> --- | M32: =IFERROR(AVERAGEIF(C32:L32, "<>0"),"0") -> 28.56 | N32: =ROUND(_xlfn.MINIFS(C32:L32, C32:L32, "<>0"),0)&" – "&ROUND(_xlfn.MAXIFS(C32:L32, C32:L32, "<>0"),0) -> 28 – 29
