Workbook
Name CountryID: 'E-waste'!#REF!
Name CountryID: 'Waste generation'!#REF!
Name CountryID: 'Waste generation-Basel'!#REF!
Name CountryID: 'Waste recycled'!#REF!
Name CountryID: 'Waste recycled-Basel'!#REF!
Name CountryName: 'E-waste'!#REF!
Name CountryName: 'Waste generation'!#REF!
Name CountryName: 'Waste generation-Basel'!#REF!
Name CountryName: 'Waste recycled'!#REF!
Name CountryName: 'Waste recycled-Basel'!#REF!
Name Data: 'E-waste'!$F$4:$AW$20
Name Data: 'Waste generation'!$D$4:$AQ$11
Name Data: 'Waste generation-Basel'!$D$4:$AQ$27
Name Data: 'Waste recycled'!$F$3:$AW$22
Name Data: 'Waste recycled-Basel'!$D$3:$AU$70
Name Foot: 'E-waste'!$A$45:$AW$55
Name Foot: 'Waste generation'!$A$21:$AQ$42
Name Foot: 'Waste generation-Basel'!$A$37:$AQ$58
Name Foot: 'Waste recycled'!$A$32:$AW$54
Name Foot: 'Waste recycled-Basel'!$A$80:$AU$102
Name FootLng: 'E-waste'!$B$43
Name FootLng: 'Waste generation'!#REF!
Name FootLng: 'Waste generation-Basel'!#REF!
Name FootLng: 'Waste recycled'!$B$29
Name FootLng: 'Waste recycled-Basel'!#REF!
Name Inc: 'E-waste'!$B$4
Name Inc: 'Waste generation'!#REF!
Name Inc: 'Waste generation-Basel'!#REF!
Name Inc: 'Waste recycled'!$B$3
Name Inc: 'Waste recycled-Basel'!#REF!
Name Ind: 'E-waste'!$B$2
Name Ind: 'Waste generation'!#REF!
Name Ind: 'Waste generation-Basel'!#REF!
Name Ind: 'Waste recycled'!$B$1
Name Ind: 'Waste recycled-Basel'!#REF!
Name Type: 'E-waste'!#REF!
Name Type: 'Waste generation'!#REF!
Name Type: 'Waste generation-Basel'!#REF!
Name Type: 'Waste recycled'!#REF!
Name Type: 'Waste recycled-Basel'!#REF!
Name Unit: 'E-waste'!$E$5:$E$20
Name Unit: 'Waste generation'!$C$5:$C$10
Name Unit: 'Waste generation-Basel'!$C$5:$C$26
Name Unit: 'Waste recycled'!$E$10:$E$22
Name Unit: 'Waste recycled-Basel'!$C$26:$C$70
Name VarsID: 'E-waste'!$B$5:$B$20
Name VarsID: 'Waste generation'!#REF!
Name VarsID: 'Waste generation-Basel'!#REF!
Name VarsID: 'Waste recycled'!$B$10:$B$22
Name VarsID: 'Waste recycled-Basel'!#REF!

Sheet Introduction
A1: Благодаря этому руководству национальные органы смогут объединить данные по показателю ЦУР 12.5.1 «‎Национальный уровень переработки отходов, масса утилизированных материалов в тоннах» и, в частности, определить национальный уровень переработки, общий объем образованных отходов, типы образующихся отходов, включая электронные отходы, и интенсивность образования отходов.
A3: Содержание
A4: Лист | B4: Sheet | C4: Описание
A5: Введение | B5: Introduction | C5: Вводная информация о вкладках.
A6: Определения | B6: Definitions | C6: Ряд полезных определений.
A7: Образование отходов | B7: Waste Generation | C7: Этот лист составлен на основе Вопросника СОООН/ЮНЕП по статистике окружающей среды (раздел «Отходы», таблица R1) и содержит данные по отходам, полученным из источников, которые описаны в МСОК. Общий объем образованных отходов — это общее количество отходов (как опасных, так и неопасных), образующихся в стране в течение года. Он не включает нерудные ископаемые (включая строительный мусор и шахтные отходы из потока муниципальных отходов) и сельскохозяйственные отходы. Сюда также не относятся отходы, образующиеся в результате деятельности по обращению с отходами (подраздел МСОК 38), поскольку их учет приведет к удвоению результатов.
A8: Образование отходов (2) | B8: Waste generation (2) | C8: Этот лист можно использовать для описания образующихся отходов с учетом их категорий, предусмотренных Базельской конвенцией (Y1-18 и Y46: отходы, собираемые из жилищ).
A9: Электронные отходы | B9: E-waste | C9: Этот лист содержит данные по общему количеству образованных и собранных электронных отходов, уровню их переработки и общему количеству переработанных электронных отходов.
A10: Переработанные отходы | B10: Waste recycled | C10: Этот лист содержит данные по общему количеству отходов, поступающих на переработку, а также отходам, импортированным и экспортированным для переработки в течение года, с учетом категорий, установленных СОООН/ЮНЕП.
A11: Переработанные отходы (2) | B11: Waste recycled (2) | C11: Этот лист содержит данные по общему количеству отходов, поступающих на переработку, а также отходам, импортированным и экспортированным для переработки в течение года, с учетом их категорий, предусмотренных Базельской конвенцией.
A12: Национальный уровень переработки | B12: National recycling rate | C12: Этот лист описывает национальный уровень переработки с учетом категорий отходов, предусмотренных СОООН/ЮНЕП и Базельской конвенцией. При наличии данных о показателе внутреннего материального потребления его также можно использовать для расчета интенсивности образования отходов.
A13: Национальный уровень переработки по типам | B13: National recycling rate by type | C13: Национальный уровень переработки в разбивке по типам, предусмотренным СОООН/ЮНЕП, и категориям, предусмотренным Базельской конвенцией.

Sheet Definitions
B2: Код(-ы) МСОК | C2: Категория МСОК | D2: МСОК 4
B3: A 01–03 | C3: Сельское хозяйство, лесоводство и рыболовство | D3: Сельское хозяйство, лесоводство и рыболовство: выращивание растений и разведение животных, охота и сопутствующие услуги; лесное хозяйство и лесозаготовки; рыболовство и аквакультура. Данный раздел охватывает использование растительных и животных природных ресурсов и включает такую деятельность, как выращивание сельскохозяйственных культур, разведение животных, в том числе племенных, заготовка леса и заготовка прочих растений, животных или продуктов животного происхождения как на фермах, так и в естественной среде обитания.
B4: B 05–09 | C4: Горнодобывающая промышленность и разработка карьеров | D4: Горнодобывающая промышленность и разработка карьеров: добыча полезных ископаемых, встречающихся в природе в виде твердых пород (уголь и руды), в жидком (нефть) или газообразном состоянии (природный газ). Добыча может производиться различными способами, такими как подземная или открытая разработка месторождений, эксплуатация скважин, добыча на морском дне и т. д. Этот раздел включает дополнительные виды деятельности, связанные с подготовкой сырьевых материалов к сбыту. Эти операции часто осуществляются предприятиями, которые добывают полезное ископаемое, и/или другими предприятиями, расположенными в непосредственной близости.
B5: C 10–33 | C5: Обрабатывающая промышленность | D5: Данный раздел охватывает физическое или химическое преобразование материалов, веществ или компонентов в новые продукты. Преобразуемые материалы, вещества или компоненты — это сырьевые материалы, являющиеся продукцией сельского и лесного хозяйства, рыболовства, горнодобывающей промышленности и разработки карьеров, а также продукцией других отраслей обрабатывающей промышленности. Под обрабатывающим производством обычно понимается существенное изменение, обновление или реконструкция товаров.
B6: D 35 | C6: Снабжение электричеством, газом, паром и кондиционированным воздухом | D6: Данный раздел охватывает деятельность по снабжению электроэнергией, природным газом, паром, горячей водой и т. п., осуществляемую с помощью постоянной инфраструктуры (сетей), состоящей из линий, магистралей и трубопроводов. Параметры такой сети не играют решающей роли; в данный подраздел также включено энерго-, газо- и пароснабжение и снабжение горячей водой промышленных предприятий и жилых массивов. Таким образом, данный раздел охватывает деятельность электроэнергетических компаний энергосистем общего пользования и компаний газоснабжения общего пользования, которые производят электроэнергию или газ, осуществляют за ними контроль и распределяют их. Сюда также включено снабжение паром и кондиционированным воздухом. В данный раздел не включена деятельность коммунальных предприятий водоснабжения и канализации. В данный раздел также не включена транспортировка (как правило, на дальние расстояния) газа по трубопроводам.
B7: E 38 | C7: Сбор, обработка и удаление отходов; вторичное использование материалов | D7: Данный подраздел охватывает сбор, обработку и удаление отходов. Сюда также включены местная перевозка отходов и эксплуатация предприятий по утилизации отходов (то есть предприятий, где производится сортировка с целью извлечения поддающихся вторичной переработке материалов из отходов).
B8: F 41–43 | C8: Строительство | D8: Данный подраздел охватывает общие и специальные работы по строительству зданий и гражданских объектов. Он включает новое строительство, ремонтные работы, дополнения и изменения, возведение зданий или сооружений из готовых конструкций на строительном участке, а также строений временного характера.
B11: Термин | D11: Определения
B12: Электронные отходы | D12: Под электронными отходами следует понимать электрическое и электронное оборудование (ЭЭО) и его детали, которые были выброшены владельцем без намерения использовать их повторно.
B13: Крупногабаритное оборудование | D13: Сюда относятся: системы центрального отопления (бытовые); фотоэлектрические панели (включая инверторы); системы профессионального отопления и вентиляции (кроме холодильного оборудования); посудомоечные машины; кухонное оборудование (например, большие печи, духовые шкафы, оборудование для приготовления пищи); стиральные машины (включая комбинированные сушилки); сушильные аппараты (сушильные машины для белья, центрифуги); системы бытового отопления и вентиляции (например, вытяжки, вентиляторы, обогреватели помещений); профессиональное IT-оборудование (например, серверы, маршрутизаторы, хранилища данных, копировальные аппараты); профессиональные инструменты (например, для сварки, пайки, фрезерования); оборудование для отдыха и досуга (например, крупногабаритное тренажерное оборудование, спортивный инвентарь); профессиональное медицинское оборудование (например, для больниц, стоматологических клиник, диагностики); оборудование для профессионального мониторинга и контроля (например, лабораторные приборы, панели управления); и неохлаждаемые диспенсеры (например, для торговли, розлива горячих напитков, выдачи билетов, денег).
B14: |||UNTRANSLATED_CONTENT_START|||Screens, monitors, and equipment containing screens (..)|||UNTRANSLATED_CONTENT_END||| | D14: Сюда относятся: портативные компьютеры (включая планшеты); мониторы с электронно-лучевой трубкой; мониторы с плоским экраном (жидкокристаллические, светодиодные); телевизоры с электронно-лучевой трубкой; телевизоры с плоским экраном (жидкокристаллические, светодиодные, плазменные).
B15: Терморегулирующее оборудование (холодильное и морозильное оборудование) | D15: Сюда относятся: морозильные камеры; кондиционеры (устанавливаемые внутри домохозяйства и портативные); другое охлаждающее оборудование (например, влагопоглотители, тепловые насосы для сушки); профессиональное охлаждающее оборудование (например, крупногабаритные кондиционеры, охлаждаемые прилавки-витрины); и охлаждаемое вендинговое оборудование (например, автоматы для продажи каких-либо товаров, холодных напитков).
B16: Мелкие электронные отходы | D16: Совокупность ламп, малогабаритного оборудования и малогабаритного оборудования ИТ и электросвязи. Определения для каждой из этих категорий приведены ниже.
B17: Лампы | D17: Сюда относятся: компактные люминесцентные лампы (как модернизированные, так и немодернизированные); люминесцентные лампы с прямыми трубками; специализированные лампы (например, профессиональные ртутные, натриевые лампы высокого и низкого давления); и светодиодные лампы (включая модернизированные светодиодные лампы).
B18: Малогабаритное оборудование | D18: Сюда относятся: микроволновые печи (в т. ч. комбинированные, за исключением грилей); другие небольшие бытовые приборы (например, небольшие вентиляторы, утюги, часы, адаптеры); устройства для приготовления пищи (например, тостеры, грили, кухонные комбайны, сковороды); приборы для нагревания воды (например, устройства для приготовления кофе, чай, электрические чайники); пылесосы (кроме профессиональных моделей); приборы личной гигиены (например, зубные щетки, фены, бритвы); малогабаритная бытовая электроника (например, наушники, пульты дистанционного управления); портативная аудио- и видеоаппаратура (например, MP3-плееры, устройства для чтения электронных книг, автомобильные навигационные системы); музыкальные инструменты, радиоприемники, HiFi-аппаратура (в т. ч. аудиокомплекты); видеооборудование (например, видеомагнитофоны, DVD-проигрыватели, устройства blue-ray, абонентские приставки); колонки; фото- и видеокамеры (например, портативные видеокамеры, фотокамеры и цифровые фотоаппараты); малогабаритное осветительное оборудование (кроме светодиодных ламп и ламп накаливания); бытовые светильники (включая бытовые осветительные приборы с лампами накаливания и бытовые светодиодные светильники); профессиональные светильники (для офисов, общественных мест, промышленных объектов); бытовые инструменты (например, дрели, пилы, очистители высокого давления, газонокосилки); игрушки (например, наборы гоночных машинок, электропоезда, музыкальные игрушки, велосипедные компьютеры); бытовые медицинские приборы (например, термометры, приборы для измерения артериального давления); приборы для бытового мониторинга и контроля (системы сигнализации, отопления, дымоудаления, кроме экранов).
B19: Малогабаритное оборудование ИТ и электросвязи | D19: Сюда относятся: малогабаритное оборудование ИТ (например, маршрутизаторы, мыши, клавиатуры, внешние приводы и вспомогательное оборудование); настольные ПК (за исключением мониторов, вспомогательного оборудования); принтеры (например, сканеры, многофункциональные устройства, факсы); оборудование электросвязи (например, (беспроводные) телефоны, автоответчики); мобильные телефоны (включая смартфоны, пейджеры); и игровые приставки.
B21: Переработка (рециклинг) | D21: В целях обеспечения согласованности с докладами, предусмотренными Базельской конвенцией, и системой отчетности ЕВРОСТАТА операции R2-R12, перечисленные в Приложении IV к Базельской конвенции, которые могут привести к повторному использованию материалов, должны быть отнесены к категории «переработка».
B22: Внутреннее материальное потребление (ВМП) | D22: «Внутреннее потребление материалов (ВПМ) является стандартным показателем учета материальных потоков (УМП) и сообщает о видимом потреблении материалов в экономике страны». См. Показатель ЦУР 8.4.2/12.2.2: «Внутреннее потребление материалов (ВПМ)» и «ВПМ на душу населения, в расчете на единицу ВВП».

Sheet Waste generation
A2: Образование отходов в разбивке по источникам (на основе Вопросника СОООН/ЮНЕП по статистике окружающей среды, раздел «Отходы», таблица R1)
A4: Категория | C4: Единица измерения | D4: 2000 | F4: 2001 | H4: 2002 | J4: 2003 | L4: 2004 | N4: 2005 | P4: 2006 | R4: 2007 | T4: 2008 | V4: 2009 | X4: 2010 | Z4: 2011 | AB4: 2012 | AD4: 2013 | AF4: 2014 | AH4: 2015 | AJ4: 2016 | AL4: 2017 | AN4: 2018 | AP4: 2019 | AR4: 2020 | AT4: 2021 | AV4: 2022 | AX4: 2023 | AZ4: 2024 | BB4: 2025 | BD4: 2026 | BF4: 2027 | BH4: 2028 | BJ4: 2029 | BL4: 2030
A5: Обрабатывающая промышленность (подразделы МСОК 10–33) | C5: 1000 т
A6: Снабжение электричеством, газом, паром и кондиционированным воздухом (подраздел МСОК 35) | C6: 1000 т
A7: Прочие виды хозяйственно-экономической деятельности, кроме тех, которые перечислены в подразделе 38 МСОК | C7: 1000 т
A8: Отходы от домашних хозяйств | C8: 1000 т
A9: Электронные отходы | C9: 1000 т | D9: ='E-waste'!F$5 -> 0 | F9: ='E-waste'!H$5 -> 0 | H9: ='E-waste'!J$5 -> 0 | J9: ='E-waste'!L$5 -> 0 | L9: ='E-waste'!N$5 -> 0 | N9: ='E-waste'!P$5 -> 0 | P9: ='E-waste'!R$5 -> 0 | R9: ='E-waste'!T$5 -> 0 | T9: ='E-waste'!V$5 -> 0 | V9: ='E-waste'!X$5 -> 0 | X9: ='E-waste'!Z$5 -> 0 | Z9: ='E-waste'!AB$5 -> 0 | AB9: ='E-waste'!AD$5 -> 0 | AD9: ='E-waste'!AF$5 -> 0 | AF9: ='E-waste'!AH$5 -> 0 | AH9: ='E-waste'!AJ$5 -> 0 | AJ9: ='E-waste'!AL$5 -> 0 | AL9: ='E-waste'!AN$5 -> 0 | AN9: ='E-waste'!AP$5 -> 0 | AP9: ='E-waste'!AR$5 -> 0 | AR9: ='E-waste'!AT$5 -> 0 | AT9: ='E-waste'!AV$5 -> 0 | AV9: ='E-waste'!AX$5 -> 0 | AX9: ='E-waste'!AZ$5 -> 0 | AZ9: ='E-waste'!BB$5 -> 0 | BB9: ='E-waste'!BD$5 -> 0 | BD9: ='E-waste'!BF$5 -> 0 | BF9: ='E-waste'!BH$5 -> 0 | BH9: ='E-waste'!BJ$5 -> 0 | BJ9: ='E-waste'!BL$5 -> 0 | BL9: ='E-waste'!BN$5 -> 0
A10: Общий объем образующихся отходов | C10: 1000 т | D10: =SUM(D5:D9) -> 0 | F10: =SUM(F5:F9) -> 0 | H10: =SUM(H5:H9) -> 0 | J10: =SUM(J5:J9) -> 0 | L10: =SUM(L5:L9) -> 0 | N10: =SUM(N5:N9) -> 0 | P10: =SUM(P5:P9) -> 0 | R10: =SUM(R5:R9) -> 0 | T10: =SUM(T5:T9) -> 0 | V10: =SUM(V5:V9) -> 0 | X10: =SUM(X5:X9) -> 0 | Z10: =SUM(Z5:Z9) -> 0 | AB10: =SUM(AB5:AB9) -> 0 | AD10: =SUM(AD5:AD9) -> 0 | AF10: =SUM(AF5:AF9) -> 0 | AH10: =SUM(AH5:AH9) -> 0 | AJ10: =SUM(AJ5:AJ9) -> 0 | AL10: =SUM(AL5:AL9) -> 0 | AN10: =SUM(AN5:AN9) -> 0 | AP10: =SUM(AP5:AP9) -> 0 | AR10: =SUM(AR5:AR9) -> 0 | AT10: =SUM(AT5:AT9) -> 0 | AV10: =SUM(AV5:AV9) -> 0 | AX10: =SUM(AX5:AX9) -> 0 | AZ10: =SUM(AZ5:AZ9) -> 0 | BB10: =SUM(BB5:BB9) -> 0 | BD10: =SUM(BD5:BD9) -> 0 | BF10: =SUM(BF5:BF9) -> 0 | BH10: =SUM(BH5:BH9) -> 0 | BJ10: =SUM(BJ5:BJ9) -> 0 | BL10: =SUM(BL5:BL9) -> 0
A11: 9 | B11: ВВП | C11: долл. США
A12: Примечания.
A13: • | B13: Отходы от экономической деятельности включают в себя все виды отходов, образующихся в результате деятельности хозяйственных структур. Дополнительная информация представлена в описании к таблице R1 в разделе «Руководство».
A14: • | B14: Если запрошенные данные отсутствуют, оставьте ячейку пустой. Если запрашиваемая переменная неприменима (явление не имеет отношения) к стране или значение составляет менее половины единицы измерения, в ячейке следует указать «0».
A15: • | B15: Просьба представить в разделе «Сноски» информацию об источнике и методологии сбора данных по указанным значениям, в частности о методах оценки (если таковые имеются) и типах первоисточников данных (например, опросы или административные данные).
A18: Сноски
A20: Код | B20: Текст сноски

Sheet Waste generation-Basel
A2: Образование отходов в разбивке по категориям, предусмотренным Базельской конвенцией
A4: Категория, предусмотренная Базельской конвенцией | C4: Единица измерения | D4: 2000 | F4: 2001 | H4: 2002 | J4: 2003 | L4: 2004 | N4: 2005 | P4: 2006 | R4: 2007 | T4: 2008 | V4: 2009 | X4: 2010 | Z4: 2011 | AB4: 2012 | AD4: 2013 | AF4: 2014 | AH4: 2015 | AJ4: 2016 | AL4: 2017 | AN4: 2018 | AP4: 2019 | AR4: 2020 | AT4: 2021 | AV4: 2022 | AX4: 2023 | AZ4: 2024 | BB4: 2025 | BD4: 2026 | BF4: 2027 | BH4: 2028 | BJ4: 2029 | BL4: 2030
A5: Y1 | B5: Медицинские отходы, полученные в результате врачебного ухода за пациентами в больницах, поликлиниках и клиниках | C5: 1000 т
A6: Y2 | B6: Отходы производства и переработки фармацевтической продукции | C6: 1000 т
A7: Y3 | B7: Ненужные фармацевтические товары, лекарства и препараты | C7: 1000 т
A8: Y4 | B8: Отходы производства… биоцидов и фитофармацевтических препаратов | C8: 1000 т
A9: Y5 | B9: Отходы производства… консервантов древесины | C9: 1000 т
A10: Y6 | B10: Отходы производства, получения и применения органических растворителей | C10: 1000 т
A11: Y7 | B11: Отходы тепловой обработки и облагораживания материалов, содержащие цианиды | C11: 1000 т
A12: Y8 | B12: Ненужные минеральные масла, не пригодные для первоначально запланированного применения | C12: 1000 т
A13: Y9 | B13: Отходы в виде смесей и эмульсий масел/воды, углеводородов/воды | C13: 1000 т
A14: Y10 | B14: Ненужные вещества… содержащие ПХБ, ПХТ, ПББ | C14: 1000 т
A15: Y11 | B15: Ненужные смолистые отходы перегонки, дистилляции или любой пиролитической обработки | C15: 1000 т
A16: Y12 | B16: Отходы производства… чернил, красителей, пигментов, красок, и т. д. | C16: 1000 т
... A24: E-W | B24: Электронные отходы | C24: 1000 т
A25: NEC | B25: Отходы, не классифицируемые в других категориях | C25: 1000 т | D25: ='E-waste'!F$5 -> 0 | F25: ='E-waste'!H$5 -> 0 | H25: ='E-waste'!J$5 -> 0 | J25: ='E-waste'!L$5 -> 0 | L25: ='E-waste'!N$5 -> 0 | N25: ='E-waste'!P$5 -> 0 | P25: ='E-waste'!R$5 -> 0 | R25: ='E-waste'!T$5 -> 0 | T25: ='E-waste'!V$5 -> 0 | V25: ='E-waste'!X$5 -> 0 | X25: ='E-waste'!Z$5 -> 0 | Z25: ='E-waste'!AB$5 -> 0 | AB25: ='E-waste'!AD$5 -> 0 | AD25: ='E-waste'!AF$5 -> 0 | AF25: ='E-waste'!AH$5 -> 0 | AH25: ='E-waste'!AJ$5 -> 0 | AJ25: ='E-waste'!AL$5 -> 0 | AL25: ='E-waste'!AN$5 -> 0 | AN25: ='E-waste'!AP$5 -> 0 | AP25: ='E-waste'!AR$5 -> 0 | AR25: ='E-waste'!AT$5 -> 0 | AT25: ='E-waste'!AV$5 -> 0 | AV25: ='E-waste'!AX$5 -> 0 | AX25: ='E-waste'!AZ$5 -> 0 | AZ25: ='E-waste'!BB$5 -> 0 | BB25: ='E-waste'!BD$5 -> 0 | BD25: ='E-waste'!BF$5 -> 0 | BF25: ='E-waste'!BH$5 -> 0 | BH25: ='E-waste'!BJ$5 -> 0 | BJ25: ='E-waste'!BL$5 -> 0 | BL25: ='E-waste'!BN$5 -> 0
A26: Общий объем образующихся отходов | C26: 1000 т | D26: =SUM(D5:D25) -> 0 | F26: =SUM(F5:F25) -> 0 | H26: =SUM(H5:H25) -> 0 | J26: =SUM(J5:J25) -> 0 | L26: =SUM(L5:L25) -> 0 | N26: =SUM(N5:N25) -> 0 | P26: =SUM(P5:P25) -> 0 | R26: =SUM(R5:R25) -> 0 | T26: =SUM(T5:T25) -> 0 | V26: =SUM(V5:V25) -> 0 | X26: =SUM(X5:X25) -> 0 | Z26: =SUM(Z5:Z25) -> 0 | AB26: =SUM(AB5:AB25) -> 0 | AD26: =SUM(AD5:AD25) -> 0 | AF26: =SUM(AF5:AF25) -> 0 | AH26: =SUM(AH5:AH25) -> 0 | AJ26: =SUM(AJ5:AJ25) -> 0 | AL26: =SUM(AL5:AL25) -> 0 | AN26: =SUM(AN5:AN25) -> 0 | AP26: =SUM(AP5:AP25) -> 0 | AR26: =SUM(AR5:AR25) -> 0 | AT26: =SUM(AT5:AT25) -> 0 | AV26: =SUM(AV5:AV25) -> 0 | AX26: =SUM(AX5:AX25) -> 0 | AZ26: =SUM(AZ5:AZ25) -> 0 | BB26: =SUM(BB5:BB25) -> 0 | BD26: =SUM(BD5:BD25) -> 0 | BF26: =SUM(BF5:BF25) -> 0 | BH26: =SUM(BH5:BH25) -> 0 | BJ26: =SUM(BJ5:BJ25) -> 0 | BL26: =SUM(BL5:BL25) -> 0
A27: 9 | B27: ВВП | C27: долл. США
A28: Примечания.
A29: • | B29: Отходы от экономической деятельности включают в себя все виды отходов, образующихся в результате деятельности хозяйственных структур. Дополнительная информация представлена в описании к таблице R1 в разделе «Руководство».
A30: • | B30: Если запрошенные данные отсутствуют, оставьте ячейку пустой. Если запрашиваемая переменная неприменима (явление не имеет отношения) к стране или значение составляет менее половины единицы измерения, в ячейке следует указать «0».
A31: • | B31: Просьба представить в разделе «Сноски» информацию об источнике и методологии сбора данных по указанным значениям, в частности о методах оценки (если таковые имеются) и типах первоисточников данных (например, опросы или административные данные).
A34: Сноски
A36: Код | B36: Текст сноски

Sheet E-waste
B2: 170 | C2: Производство и сбор электронных отходов (Вопросник СОООН/ЮНЕП по статистике окружающей среды, раздел «Отходы», таблица R6)
F3: • Пожалуйста, проверьте верность данных, если цвет шрифта переменился на красный.
B4: 2 | C4: Линия | D4: Категория | E4: Единица измерения | F4: 2000 | H4: 2001 | J4: 2002 | L4: 2003 | N4: 2004 | P4: 2005 | R4: 2006 | T4: 2007 | V4: 2008 | X4: 2009 | Z4: 2010 | AB4: 2011 | AD4: 2012 | AF4: 2013 | AH4: 2014 | AJ4: 2015 | AL4: 2016 | AN4: 2017 | AP4: 2018 | AR4: 2019 | AT4: 2020 | AV4: 2021 | AX4: 2022 | AZ4: 2023 | BB4: 2024 | BD4: 2025 | BF4: 2026 | BH4: 2027 | BJ4: 2028 | BL4: 2029 | BN4: 2030
B5: 3550 | C5: 1 | D5: Общий объем образующихся электронных отходов | E5: 1000 т | F5: =SUM(F6:F9) -> 0 | H5: =SUM(H6:H9) -> 0 | J5: =SUM(J6:J9) -> 0 | L5: =SUM(L6:L9) -> 0 | N5: =SUM(N6:N9) -> 0 | P5: =SUM(P6:P9) -> 0 | R5: =SUM(R6:R9) -> 0 | T5: =SUM(T6:T9) -> 0 | V5: =SUM(V6:V9) -> 0 | X5: =SUM(X6:X9) -> 0 | Z5: =SUM(Z6:Z9) -> 0 | AB5: =SUM(AB6:AB9) -> 0 | AD5: =SUM(AD6:AD9) -> 0 | AF5: =SUM(AF6:AF9) -> 0 | AH5: =SUM(AH6:AH9) -> 0 | AJ5: =SUM(AJ6:AJ9) -> 0 | AL5: =SUM(AL6:AL9) -> 0 | AN5: =SUM(AN6:AN9) -> 0 | AP5: =SUM(AP6:AP9) -> 0 | AR5: =SUM(AR6:AR9) -> 0 | AT5: =SUM(AT6:AT9) -> 0 | AV5: =SUM(AV6:AV9) -> 0 | AX5: =SUM(AX6:AX9) -> 0 | AZ5: =SUM(AZ6:AZ9) -> 0 | BB5: =SUM(BB6:BB9) -> 0 | BD5: =SUM(BD6:BD9) -> 0 | BF5: =SUM(BF6:BF9) -> 0 | BH5: =SUM(BH6:BH9) -> 0 | BJ5: =SUM(BJ6:BJ9) -> 0 | BL5: =SUM(BL6:BL9) -> 0 | BN5: =SUM(BN6:BN9) -> 0
B6: 3560 | C6: 2 | D6: Объем отходов, направляемых на: Крупногабаритное оборудование | E6: 1000 т
B7: 3570 | C7: 3 | D7: Экраны, мониторы и оборудование, содержащее экраны | E7: 1000 т
B8: 3580 | C8: 4 | D8: Терморегулирующее оборудование (холодильное и морозильное оборудование) | E8: 1000 т
B9: 3590 | C9: 5 | D9: Мелкие электронные отходы | E9: 1000 т | F9: =SUM(F10:F12) -> 0 | H9: =SUM(H10:H12) -> 0 | J9: =SUM(J10:J12) -> 0 | L9: =SUM(L10:L12) -> 0 | N9: =SUM(N10:N12) -> 0 | P9: =SUM(P10:P12) -> 0 | R9: =SUM(R10:R12) -> 0 | T9: =SUM(T10:T12) -> 0 | V9: =SUM(V10:V12) -> 0 | X9: =SUM(X10:X12) -> 0 | Z9: =SUM(Z10:Z12) -> 0 | AB9: =SUM(AB10:AB12) -> 0 | AD9: =SUM(AD10:AD12) -> 0 | AF9: =SUM(AF10:AF12) -> 0 | AH9: =SUM(AH10:AH12) -> 0 | AJ9: =SUM(AJ10:AJ12) -> 0 | AL9: =SUM(AL10:AL12) -> 0 | AN9: =SUM(AN10:AN12) -> 0 | AP9: =SUM(AP10:AP12) -> 0 | AR9: =SUM(AR10:AR12) -> 0 | AT9: =SUM(AT10:AT12) -> 0 | AV9: =SUM(AV10:AV12) -> 0 | AX9: =SUM(AX10:AX12) -> 0 | AZ9: =SUM(AZ10:AZ12) -> 0 | BB9: =SUM(BB10:BB12) -> 0 | BD9: =SUM(BD10:BD12) -> 0 | BF9: =SUM(BF10:BF12) -> 0 | BH9: =SUM(BH10:BH12) -> 0 | BJ9: =SUM(BJ10:BJ12) -> 0 | BL9: =SUM(BL10:BL12) -> 0 | BN9: =SUM(BN10:BN12) -> 0
B10: 3591 | C10: 6 | D10: в том числе: лампы | E10: 1000 т
B11: 3592 | C11: 7 | D11: в том числе: малогабаритное оборудование | E11: 1000 т
B12: 3593 | C12: 8 | D12: в том числе: малогабаритное оборудование ИТ и электросвязи | E12: 1000 т
B13: 3650 | C13: 9 | D13: Всего собранных электронных отходов | E13: 1000 т | F13: =SUM(F14:F17) -> 0 | H13: =SUM(H14:H17) -> 0 | J13: =SUM(J14:J17) -> 0 | L13: =SUM(L14:L17) -> 0 | N13: =SUM(N14:N17) -> 0 | P13: =SUM(P14:P17) -> 0 | R13: =SUM(R14:R17) -> 0 | T13: =SUM(T14:T17) -> 0 | V13: =SUM(V14:V17) -> 0 | X13: =SUM(X14:X17) -> 0 | Z13: =SUM(Z14:Z17) -> 0 | AB13: =SUM(AB14:AB17) -> 0 | AD13: =SUM(AD14:AD17) -> 0 | AF13: =SUM(AF14:AF17) -> 0 | AH13: =SUM(AH14:AH17) -> 0 | AJ13: =SUM(AJ14:AJ17) -> 0 | AL13: =SUM(AL14:AL17) -> 0 | AN13: =SUM(AN14:AN17) -> 0 | AP13: =SUM(AP14:AP17) -> 0 | AR13: =SUM(AR14:AR17) -> 0 | AT13: =SUM(AT14:AT17) -> 0 | AV13: =SUM(AV14:AV17) -> 0 | AX13: =SUM(AX14:AX17) -> 0 | AZ13: =SUM(AZ14:AZ17) -> 0 | BB13: =SUM(BB14:BB17) -> 0 | BD13: =SUM(BD14:BD17) -> 0 | BF13: =SUM(BF14:BF17) -> 0 | BH13: =SUM(BH14:BH17) -> 0 | BJ13: =SUM(BJ14:BJ17) -> 0 | BL13: =SUM(BL14:BL17) -> 0 | BN13: =SUM(BN14:BN17) -> 0
B14: 3660 | C14: 10 | D14: Объем отходов, направляемых на: Крупногабаритное оборудование | E14: 1000 т
B15: 3670 | C15: 11 | D15: Экраны, мониторы и оборудование, содержащее экраны | E15: 1000 т
B16: 3680 | C16: 12 | D16: Терморегулирующее оборудование (холодильное и морозильное оборудование) | E16: 1000 т
B17: 3690 | C17: 13 | D17: Мелкие электронные отходы (=14+15+16) | E17: 1000 т | F17: =SUM(F18:F20) -> 0 | H17: =SUM(H18:H20) -> 0 | J17: =SUM(J18:J20) -> 0 | L17: =SUM(L18:L20) -> 0 | N17: =SUM(N18:N20) -> 0 | P17: =SUM(P18:P20) -> 0 | R17: =SUM(R18:R20) -> 0 | T17: =SUM(T18:T20) -> 0 | V17: =SUM(V18:V20) -> 0 | X17: =SUM(X18:X20) -> 0 | Z17: =SUM(Z18:Z20) -> 0 | AB17: =SUM(AB18:AB20) -> 0 | AD17: =SUM(AD18:AD20) -> 0 | AF17: =SUM(AF18:AF20) -> 0 | AH17: =SUM(AH18:AH20) -> 0 | AJ17: =SUM(AJ18:AJ20) -> 0 | AL17: =SUM(AL18:AL20) -> 0 | AN17: =SUM(AN18:AN20) -> 0 | AP17: =SUM(AP18:AP20) -> 0 | AR17: =SUM(AR18:AR20) -> 0 | AT17: =SUM(AT18:AT20) -> 0 | AV17: =SUM(AV18:AV20) -> 0 | AX17: =SUM(AX18:AX20) -> 0 | AZ17: =SUM(AZ18:AZ20) -> 0 | BB17: =SUM(BB18:BB20) -> 0 | BD17: =SUM(BD18:BD20) -> 0 | BF17: =SUM(BF18:BF20) -> 0 | BH17: =SUM(BH18:BH20) -> 0 | BJ17: =SUM(BJ18:BJ20) -> 0 | BL17: =SUM(BL18:BL20) -> 0 | BN17: =SUM(BN18:BN20) -> 0
B18: 3691 | C18: 14 | D18: в том числе: лампы | E18: 1000 т
B19: 3692 | C19: 15 | D19: в том числе: малогабаритное оборудование | E19: 1000 т
B20: 3693 | C20: 16 | D20: в том числе: малогабаритное оборудование ИТ и электросвязи | E20: 1000 т
B21: 3650 | C21: 9 | D21: Скорость переработки электронных отходов (% от производства) | E21: % | F21: =F29/F5 -> #DIV/0! | H21: =H29/H5 -> #DIV/0! | J21: =J29/J5 -> #DIV/0! | L21: =L29/L5 -> #DIV/0! | N21: =N29/N5 -> #DIV/0! | P21: =P29/P5 -> #DIV/0! | R21: =R29/R5 -> #DIV/0! | T21: =T29/T5 -> #DIV/0! | V21: =V29/V5 -> #DIV/0! | X21: =X29/X5 -> #DIV/0! | Z21: =Z29/Z5 -> #DIV/0! | AB21: =AB29/AB5 -> #DIV/0! | AD21: =AD29/AD5 -> #DIV/0! | AF21: =AF29/AF5 -> #DIV/0! | AH21: =AH29/AH5 -> #DIV/0! | AJ21: =AJ29/AJ5 -> #DIV/0! | AL21: =AL29/AL5 -> #DIV/0! | AN21: =AN29/AN5 -> #DIV/0! | AP21: =AP29/AP5 -> #DIV/0! | AR21: =AR29/AR5 -> #DIV/0! | AT21: =AT29/AT5 -> #DIV/0! | AV21: =AV29/AV5 -> #DIV/0! | AX21: =AX29/AX5 -> #DIV/0! | AZ21: =AZ29/AZ5 -> #DIV/0! | BB21: =BB29/BB5 -> #DIV/0! | BD21: =BD29/BD5 -> #DIV/0! | BF21: =BF29/BF5 -> #DIV/0! | BH21: =BH29/BH5 -> #DIV/0! | BJ21: =BJ29/BJ5 -> #DIV/0! | BL21: =BL29/BL5 -> #DIV/0! | BN21: =BN29/BN5 -> #DIV/0!
B22: 3660 | C22: 10 | D22: Объем отходов, направляемых на: Крупногабаритное оборудование | E22: %
B23: 3670 | C23: 11 | D23: Экраны, мониторы и оборудование, содержащее экраны | E23: %
B24: 3680 | C24: 12 | D24: Терморегулирующее оборудование (холодильное и морозильное оборудование) | E24: %
B25: 3690 | C25: 13 | D25: Мелкие электронные отходы (=14+15+16) | E25: % | F25: =SUM(F26:F28) -> 0 | H25: =SUM(H26:H28) -> 0 | J25: =SUM(J26:J28) -> 0 | L25: =SUM(L26:L28) -> 0 | N25: =SUM(N26:N28) -> 0 | P25: =SUM(P26:P28) -> 0 | R25: =SUM(R26:R28) -> 0 | T25: =SUM(T26:T28) -> 0 | V25: =SUM(V26:V28) -> 0 | X25: =SUM(X26:X28) -> 0 | Z25: =SUM(Z26:Z28) -> 0 | AB25: =SUM(AB26:AB28) -> 0 | AD25: =SUM(AD26:AD28) -> 0 | AF25: =SUM(AF26:AF28) -> 0 | AH25: =SUM(AH26:AH28) -> 0 | AJ25: =SUM(AJ26:AJ28) -> 0 | AL25: =SUM(AL26:AL28) -> 0 | AN25: =SUM(AN26:AN28) -> 0 | AP25: =SUM(AP26:AP28) -> 0 | AR25: =SUM(AR26:AR28) -> 0 | AT25: =SUM(AT26:AT28) -> 0 | AV25: =SUM(AV26:AV28) -> 0 | AX25: =SUM(AX26:AX28) -> 0 | AZ25: =SUM(AZ26:AZ28) -> 0 | BB25: =SUM(BB26:BB28) -> 0 | BD25: =SUM(BD26:BD28) -> 0 | BF25: =SUM(BF26:BF28) -> 0 | BH25: =SUM(BH26:BH28) -> 0 | BJ25: =SUM(BJ26:BJ28) -> 0 | BL25: =SUM(BL26:BL28) -> 0 | BN25: =SUM(BN26:BN28) -> 0
B26: 3691 | C26: 14 | D26: в том числе: лампы | E26: %
B27: 3692 | C27: 15 | D27: в том числе: малогабаритное оборудование | E27: %
B28: 3693 | C28: 16 | D28: в том числе: малогабаритное оборудование ИТ и электросвязи | E28: %
B29: 3650 | C29: 9 | D29: Всего переработанных электронных отходов | E29: 1000 т | F29: =SUM(F30:F33) -> 0 | H29: =SUM(H30:H33) -> 0 | J29: =SUM(J30:J33) -> 0 | L29: =SUM(L30:L33) -> 0 | N29: =SUM(N30:N33) -> 0 | P29: =SUM(P30:P33) -> 0 | R29: =SUM(R30:R33) -> 0 | T29: =SUM(T30:T33) -> 0 | V29: =SUM(V30:V33) -> 0 | X29: =SUM(X30:X33) -> 0 | Z29: =SUM(Z30:Z33) -> 0 | AB29: =SUM(AB30:AB33) -> 0 | AD29: =SUM(AD30:AD33) -> 0 | AF29: =SUM(AF30:AF33) -> 0 | AH29: =SUM(AH30:AH33) -> 0 | AJ29: =SUM(AJ30:AJ33) -> 0 | AL29: =SUM(AL30:AL33) -> 0 | AN29: =SUM(AN30:AN33) -> 0 | AP29: =SUM(AP30:AP33) -> 0 | AR29: =SUM(AR30:AR33) -> 0 | AT29: =SUM(AT30:AT33) -> 0 | AV29: =SUM(AV30:AV33) -> 0 | AX29: =SUM(AX30:AX33) -> 0 | AZ29: =SUM(AZ30:AZ33) -> 0 | BB29: =SUM(BB30:BB33) -> 0 | BD29: =SUM(BD30:BD33) -> 0 | BF29: =SUM(BF30:BF33) -> 0 | BH29: =SUM(BH30:BH33) -> 0 | BJ29: =SUM(BJ30:BJ33) -> 0 | BL29: =SUM(BL30:BL33) -> 0 | BN29: =SUM(BN30:BN33) -> 0
B30: 3660 | C30: 10 | D30: Объем отходов, направляемых на: Крупногабаритное оборудование | E30: 1000 т | F30: =F6*F22/100 -> 0 | H30: =H6*H22/100 -> 0 | J30: =J6*J22/100 -> 0 | L30: =L6*L22/100 -> 0 | N30: =N6*N22/100 -> 0 | P30: =P6*P22/100 -> 0 | R30: =R6*R22/100 -> 0 | T30: =T6*T22/100 -> 0 | V30: =V6*V22/100 -> 0 | X30: =X6*X22/100 -> 0 | Z30: =Z6*Z22/100 -> 0 | AB30: =AB6*AB22/100 -> 0 | AD30: =AD6*AD22/100 -> 0 | AF30: =AF6*AF22/100 -> 0 | AH30: =AH6*AH22/100 -> 0 | AJ30: =AJ6*AJ22/100 -> 0 | AL30: =AL6*AL22/100 -> 0 | AN30: =AN6*AN22/100 -> 0 | AP30: =AP6*AP22/100 -> 0 | AR30: =AR6*AR22/100 -> 0 | AT30: =AT6*AT22/100 -> 0 | AV30: =AV6*AV22/100 -> 0 | AX30: =AX6*AX22/100 -> 0 | AZ30: =AZ6*AZ22/100 -> 0 | BB30: =BB6*BB22/100 -> 0 | BD30: =BD6*BD22/100 -> 0 | BF30: =BF6*BF22/100 -> 0 | BH30: =BH6*BH22/100 -> 0 | BJ30: =BJ6*BJ22/100 -> 0 | BL30: =BL6*BL22/100 -> 0 | BN30: =BN6*BN22/100 -> 0
B31: 3670 | C31: 11 | D31: Экраны, мониторы и оборудование, содержащее экраны | E31: 1000 т | F31: =F7*F23/100 -> 0 | H31: =H7*H23/100 -> 0 | J31: =J7*J23/100 -> 0 | L31: =L7*L23/100 -> 0 | N31: =N7*N23/100 -> 0 | P31: =P7*P23/100 -> 0 | R31: =R7*R23/100 -> 0 | T31: =T7*T23/100 -> 0 | V31: =V7*V23/100 -> 0 | X31: =X7*X23/100 -> 0 | Z31: =Z7*Z23/100 -> 0 | AB31: =AB7*AB23/100 -> 0 | AD31: =AD7*AD23/100 -> 0 | AF31: =AF7*AF23/100 -> 0 | AH31: =AH7*AH23/100 -> 0 | AJ31: =AJ7*AJ23/100 -> 0 | AL31: =AL7*AL23/100 -> 0 | AN31: =AN7*AN23/100 -> 0 | AP31: =AP7*AP23/100 -> 0 | AR31: =AR7*AR23/100 -> 0 | AT31: =AT7*AT23/100 -> 0 | AV31: =AV7*AV23/100 -> 0 | AX31: =AX7*AX23/100 -> 0 | AZ31: =AZ7*AZ23/100 -> 0 | BB31: =BB7*BB23/100 -> 0 | BD31: =BD7*BD23/100 -> 0 | BF31: =BF7*BF23/100 -> 0 | BH31: =BH7*BH23/100 -> 0 | BJ31: =BJ7*BJ23/100 -> 0 | BL31: =BL7*BL23/100 -> 0 | BN31: =BN7*BN23/100 -> 0
B32: 3680 | C32: 12 | D32: Терморегулирующее оборудование (холодильное и морозильное оборудование) | E32: 1000 т | F32: =F8*F24/100 -> 0 | H32: =H8*H24/100 -> 0 | J32: =J8*J24/100 -> 0 | L32: =L8*L24/100 -> 0 | N32: =N8*N24/100 -> 0 | P32: =P8*P24/100 -> 0 | R32: =R8*R24/100 -> 0 | T32: =T8*T24/100 -> 0 | V32: =V8*V24/100 -> 0 | X32: =X8*X24/100 -> 0 | Z32: =Z8*Z24/100 -> 0 | AB32: =AB8*AB24/100 -> 0 | AD32: =AD8*AD24/100 -> 0 | AF32: =AF8*AF24/100 -> 0 | AH32: =AH8*AH24/100 -> 0 | AJ32: =AJ8*AJ24/100 -> 0 | AL32: =AL8*AL24/100 -> 0 | AN32: =AN8*AN24/100 -> 0 | AP32: =AP8*AP24/100 -> 0 | AR32: =AR8*AR24/100 -> 0 | AT32: =AT8*AT24/100 -> 0 | AV32: =AV8*AV24/100 -> 0 | AX32: =AX8*AX24/100 -> 0 | AZ32: =AZ8*AZ24/100 -> 0 | BB32: =BB8*BB24/100 -> 0 | BD32: =BD8*BD24/100 -> 0 | BF32: =BF8*BF24/100 -> 0 | BH32: =BH8*BH24/100 -> 0 | BJ32: =BJ8*BJ24/100 -> 0 | BL32: =BL8*BL24/100 -> 0 | BN32: =BN8*BN24/100 -> 0
B33: 3690 | C33: 13 | D33: Мелкие электронные отходы (=14+15+16) | E33: 1000 т | F33: =SUM(F34:F36) -> 0 | H33: =SUM(H34:H36) -> 0 | J33: =SUM(J34:J36) -> 0 | L33: =SUM(L34:L36) -> 0 | N33: =SUM(N34:N36) -> 0 | P33: =SUM(P34:P36) -> 0 | R33: =SUM(R34:R36) -> 0 | T33: =SUM(T34:T36) -> 0 | V33: =SUM(V34:V36) -> 0 | X33: =SUM(X34:X36) -> 0 | Z33: =SUM(Z34:Z36) -> 0 | AB33: =SUM(AB34:AB36) -> 0 | AD33: =SUM(AD34:AD36) -> 0 | AF33: =SUM(AF34:AF36) -> 0 | AH33: =SUM(AH34:AH36) -> 0 | AJ33: =SUM(AJ34:AJ36) -> 0 | AL33: =SUM(AL34:AL36) -> 0 | AN33: =SUM(AN34:AN36) -> 0 | AP33: =SUM(AP34:AP36) -> 0 | AR33: =SUM(AR34:AR36) -> 0 | AT33: =SUM(AT34:AT36) -> 0 | AV33: =SUM(AV34:AV36) -> 0 | AX33: =SUM(AX34:AX36) -> 0 | AZ33: =SUM(AZ34:AZ36) -> 0 | BB33: =SUM(BB34:BB36) -> 0 | BD33: =SUM(BD34:BD36) -> 0 | BF33: =SUM(BF34:BF36) -> 0 | BH33: =SUM(BH34:BH36) -> 0 | BJ33: =SUM(BJ34:BJ36) -> 0 | BL33: =SUM(BL34:BL36) -> 0 | BN33: =SUM(BN34:BN36) -> 0
B34: 3691 | C34: 14 | D34: в том числе: лампы | E34: 1000 т | F34: =F10*F26/100 -> 0 | H34: =H10*H26/100 -> 0 | J34: =J10*J26/100 -> 0 | L34: =L10*L26/100 -> 0 | N34: =N10*N26/100 -> 0 | P34: =P10*P26/100 -> 0 | R34: =R10*R26/100 -> 0 | T34: =T10*T26/100 -> 0 | V34: =V10*V26/100 -> 0 | X34: =X10*X26/100 -> 0 | Z34: =Z10*Z26/100 -> 0 | AB34: =AB10*AB26/100 -> 0 | AD34: =AD10*AD26/100 -> 0 | AF34: =AF10*AF26/100 -> 0 | AH34: =AH10*AH26/100 -> 0 | AJ34: =AJ10*AJ26/100 -> 0 | AL34: =AL10*AL26/100 -> 0 | AN34: =AN10*AN26/100 -> 0 | AP34: =AP10*AP26/100 -> 0 | AR34: =AR10*AR26/100 -> 0 | AT34: =AT10*AT26/100 -> 0 | AV34: =AV10*AV26/100 -> 0 | AX34: =AX10*AX26/100 -> 0 | AZ34: =AZ10*AZ26/100 -> 0 | BB34: =BB10*BB26/100 -> 0 | BD34: =BD10*BD26/100 -> 0 | BF34: =BF10*BF26/100 -> 0 | BH34: =BH10*BH26/100 -> 0 | BJ34: =BJ10*BJ26/100 -> 0 | BL34: =BL10*BL26/100 -> 0 | BN34: =BN10*BN26/100 -> 0
B35: 3692 | C35: 15 | D35: в том числе: малогабаритное оборудование | E35: 1000 т | F35: =F11*F27/100 -> 0 | H35: =H11*H27/100 -> 0 | J35: =J11*J27/100 -> 0 | L35: =L11*L27/100 -> 0 | N35: =N11*N27/100 -> 0 | P35: =P11*P27/100 -> 0 | R35: =R11*R27/100 -> 0 | T35: =T11*T27/100 -> 0 | V35: =V11*V27/100 -> 0 | X35: =X11*X27/100 -> 0 | Z35: =Z11*Z27/100 -> 0 | AB35: =AB11*AB27/100 -> 0 | AD35: =AD11*AD27/100 -> 0 | AF35: =AF11*AF27/100 -> 0 | AH35: =AH11*AH27/100 -> 0 | AJ35: =AJ11*AJ27/100 -> 0 | AL35: =AL11*AL27/100 -> 0 | AN35: =AN11*AN27/100 -> 0 | AP35: =AP11*AP27/100 -> 0 | AR35: =AR11*AR27/100 -> 0 | AT35: =AT11*AT27/100 -> 0 | AV35: =AV11*AV27/100 -> 0 | AX35: =AX11*AX27/100 -> 0 | AZ35: =AZ11*AZ27/100 -> 0 | BB35: =BB11*BB27/100 -> 0 | BD35: =BD11*BD27/100 -> 0 | BF35: =BF11*BF27/100 -> 0 | BH35: =BH11*BH27/100 -> 0 | BJ35: =BJ11*BJ27/100 -> 0 | BL35: =BL11*BL27/100 -> 0 | BN35: =BN11*BN27/100 -> 0
B36: 3693 | C36: 16 | D36: в том числе: малогабаритное оборудование ИТ и электросвязи | E36: 1000 т | F36: =F12*F28/100 -> 0 | H36: =H12*H28/100 -> 0 | J36: =J12*J28/100 -> 0 | L36: =L12*L28/100 -> 0 | N36: =N12*N28/100 -> 0 | P36: =P12*P28/100 -> 0 | R36: =R12*R28/100 -> 0 | T36: =T12*T28/100 -> 0 | V36: =V12*V28/100 -> 0 | X36: =X12*X28/100 -> 0 | Z36: =Z12*Z28/100 -> 0 | AB36: =AB12*AB28/100 -> 0 | AD36: =AD12*AD28/100 -> 0 | AF36: =AF12*AF28/100 -> 0 | AH36: =AH12*AH28/100 -> 0 | AJ36: =AJ12*AJ28/100 -> 0 | AL36: =AL12*AL28/100 -> 0 | AN36: =AN12*AN28/100 -> 0 | AP36: =AP12*AP28/100 -> 0 | AR36: =AR12*AR28/100 -> 0 | AT36: =AT12*AT28/100 -> 0 | AV36: =AV12*AV28/100 -> 0 | AX36: =AX12*AX28/100 -> 0 | AZ36: =AZ12*AZ28/100 -> 0 | BB36: =BB12*BB28/100 -> 0 | BD36: =BD12*BD28/100 -> 0 | BF36: =BF12*BF28/100 -> 0 | BH36: =BH12*BH28/100 -> 0 | BJ36: =BJ12*BJ28/100 -> 0 | BL36: =BL12*BL28/100 -> 0 | BN36: =BN12*BN28/100 -> 0
C38: Примечание.
C39: • | D39: Если запрошенные данные отсутствуют, оставьте ячейку пустой. Если запрашиваемая переменная неприменима (явление не имеет отношения) к стране или значение составляет менее половины единицы измерения, в ячейке следует указать «0».
C40: • | D40: Просьба представить в разделе «Сноски» информацию об источнике и методологии сбора данных по указанным значениям, в частности о методах оценки (если таковые имеются) и типах первоисточников данных (например, опросы или административные данные).
B43: 1 | C43: Сноски
C45: Код | D45: Текст сноски

Sheet Waste recycled
B1: 165 | C1: Обращение отходами (частично основано на Вопроснике СОООН/ЮНЕП по статистике окружающей среды, раздел «Отходы», таблица R2)
F2: • Пожалуйста, проверьте верность данных, если цвет шрифта переменился на красный.
B3: 2 | D3: Категория | E3: Единица измерения | F3: 2000 | H3: 2001 | J3: 2002 | L3: 2003 | N3: 2004 | P3: 2005 | R3: 2006 | T3: 2007 | V3: 2008 | X3: 2009 | Z3: 2010 | AB3: 2011 | AD3: 2012 | AF3: 2013 | AH3: 2014 | AJ3: 2015 | AL3: 2016 | AN3: 2017 | AP3: 2018 | AR3: 2019 | AT3: 2020 | AV3: 2021 | AX3: 2022 | AZ3: 2023 | BB3: 2024 | BD3: 2025 | BF3: 2026 | BH3: 2027 | BJ3: 2028 | BL3: 2029 | BN3: 2030
D4: Общий объем отходов, поступающих на переработку | E4: 1000 т | F4: =SUM(F5:F9) -> 0 | H4: =SUM(H5:H9) -> 0 | J4: =SUM(J5:J9) -> 0 | L4: =SUM(L5:L9) -> 0 | N4: =SUM(N5:N9) -> 0 | P4: =SUM(P5:P9) -> 0 | R4: =SUM(R5:R9) -> 0 | T4: =SUM(T5:T9) -> 0 | V4: =SUM(V5:V9) -> 0 | X4: =SUM(X5:X9) -> 0 | Z4: =SUM(Z5:Z9) -> 0 | AB4: =SUM(AB5:AB9) -> 0 | AD4: =SUM(AD5:AD9) -> 0 | AF4: =SUM(AF5:AF9) -> 0 | AH4: =SUM(AH5:AH9) -> 0 | AJ4: =SUM(AJ5:AJ9) -> 0 | AL4: =SUM(AL5:AL9) -> 0 | AN4: =SUM(AN5:AN9) -> 0 | AP4: =SUM(AP5:AP9) -> 0 | AR4: =SUM(AR5:AR9) -> 0 | AT4: =SUM(AT5:AT9) -> 0 | AV4: =SUM(AV5:AV9) -> 0 | AX4: =SUM(AX5:AX9) -> 0 | AZ4: =SUM(AZ5:AZ9) -> 0 | BB4: =SUM(BB5:BB9) -> 0 | BD4: =SUM(BD5:BD9) -> 0 | BF4: =SUM(BF5:BF9) -> 0 | BH4: =SUM(BH5:BH9) -> 0 | BJ4: =SUM(BJ5:BJ9) -> 0 | BL4: =SUM(BL5:BL9) -> 0 | BN4: =SUM(BN5:BN9) -> 0
D5: Доля, относящаяся к категории: обрабатывающая промышленность (подразделы МСОК 10–33) | E5: 1000 т
D6: Доля, относящаяся к категории: снабжение электричеством, газом, паром и кондиционированным воздухом (подраздел МСОК 35) | E6: 1000 т
D7: Доля, относящаяся к категории: отходы от других видов экономической деятельности, кроме тех, которые перечислены в подразделе МСОК 38 | E7: 1000 т
D8: Доля, относящаяся к категории: отходы от домашних хозяйств | E8: 1000 т
D9: Доля, относящаяся к категории: электронные отходы | E9: 1000 т | F9: ='E-waste'!F29 -> 0 | H9: ='E-waste'!H29 -> 0 | J9: ='E-waste'!J29 -> 0 | L9: ='E-waste'!L29 -> 0 | N9: ='E-waste'!N29 -> 0 | P9: ='E-waste'!P29 -> 0 | R9: ='E-waste'!R29 -> 0 | T9: ='E-waste'!T29 -> 0 | V9: ='E-waste'!V29 -> 0 | X9: ='E-waste'!X29 -> 0 | Z9: ='E-waste'!Z29 -> 0 | AB9: ='E-waste'!AB29 -> 0 | AD9: ='E-waste'!AD29 -> 0 | AF9: ='E-waste'!AF29 -> 0 | AH9: ='E-waste'!AH29 -> 0 | AJ9: ='E-waste'!AJ29 -> 0 | AL9: ='E-waste'!AL29 -> 0 | AN9: ='E-waste'!AN29 -> 0 | AP9: ='E-waste'!AP29 -> 0 | AR9: ='E-waste'!AR29 -> 0 | AT9: ='E-waste'!AT29 -> 0 | AV9: ='E-waste'!AV29 -> 0 | AX9: ='E-waste'!AY29 -> 0 | AZ9: ='E-waste'!BA29 -> 0 | BB9: ='E-waste'!BC29 -> 0 | BD9: ='E-waste'!BE29 -> 0 | BF9: ='E-waste'!BG29 -> 0 | BH9: ='E-waste'!BI29 -> 0 | BJ9: ='E-waste'!BK29 -> 0 | BL9: ='E-waste'!BM29 -> 0 | BN9: ='E-waste'!BO29 -> 0
B10: 1778 | D10: Отходы, импортированные для переработки в течение года | E10: 1000 т | F10: =SUM(F11:F15) -> 0 | H10: =SUM(H11:H15) -> 0 | J10: =SUM(J11:J15) -> 0 | L10: =SUM(L11:L15) -> 0 | N10: =SUM(N11:N15) -> 0 | P10: =SUM(P11:P15) -> 0 | R10: =SUM(R11:R15) -> 0 | T10: =SUM(T11:T15) -> 0 | V10: =SUM(V11:V15) -> 0 | X10: =SUM(X11:X15) -> 0 | Z10: =SUM(Z11:Z15) -> 0 | AB10: =SUM(AB11:AB15) -> 0 | AD10: =SUM(AD11:AD15) -> 0 | AF10: =SUM(AF11:AF15) -> 0 | AH10: =SUM(AH11:AH15) -> 0 | AJ10: =SUM(AJ11:AJ15) -> 0 | AL10: =SUM(AL11:AL15) -> 0 | AN10: =SUM(AN11:AN15) -> 0 | AP10: =SUM(AP11:AP15) -> 0 | AR10: =SUM(AR11:AR15) -> 0 | AT10: =SUM(AT11:AT15) -> 0 | AV10: =SUM(AV11:AV15) -> 0 | AX10: =SUM(AX11:AX15) -> 0 | AZ10: =SUM(AZ11:AZ15) -> 0 | BB10: =SUM(BB11:BB15) -> 0 | BD10: =SUM(BD11:BD15) -> 0 | BF10: =SUM(BF11:BF15) -> 0 | BH10: =SUM(BH11:BH15) -> 0 | BJ10: =SUM(BJ11:BJ15) -> 0 | BL10: =SUM(BL11:BL15) -> 0 | BN10: =SUM(BN11:BN15) -> 0
D11: Доля, относящаяся к категории: обрабатывающая промышленность (подразделы МСОК 10–33) | E11: 1000 т
D12: Доля, относящаяся к категории: снабжение электричеством, газом, паром и кондиционированным воздухом (подраздел МСОК 35) | E12: 1000 т
D13: Доля, относящаяся к категории: отходы от других видов экономической деятельности, кроме тех, которые перечислены в подразделе МСОК 38 | E13: 1000 т
D14: Доля, относящаяся к категории: отходы от домашних хозяйств | E14: 1000 т
D15: Доля, относящаяся к категории: электронные отходы | E15: 1000 т
B16: 1779 | D16: Отходы, экспортированные для переработки в течение года | E16: 1000 т | F16: =SUM(F17:F21) -> 0 | H16: =SUM(H17:H21) -> 0 | J16: =SUM(J17:J21) -> 0 | L16: =SUM(L17:L21) -> 0 | N16: =SUM(N17:N21) -> 0 | P16: =SUM(P17:P21) -> 0 | R16: =SUM(R17:R21) -> 0 | T16: =SUM(T17:T21) -> 0 | V16: =SUM(V17:V21) -> 0 | X16: =SUM(X17:X21) -> 0 | Z16: =SUM(Z17:Z21) -> 0 | AB16: =SUM(AB17:AB21) -> 0 | AD16: =SUM(AD17:AD21) -> 0 | AF16: =SUM(AF17:AF21) -> 0 | AH16: =SUM(AH17:AH21) -> 0 | AJ16: =SUM(AJ17:AJ21) -> 0 | AL16: =SUM(AL17:AL21) -> 0 | AN16: =SUM(AN17:AN21) -> 0 | AP16: =SUM(AP17:AP21) -> 0 | AR16: =SUM(AR17:AR21) -> 0 | AT16: =SUM(AT17:AT21) -> 0 | AV16: =SUM(AV17:AV21) -> 0 | AX16: =SUM(AX17:AX21) -> 0 | AZ16: =SUM(AZ17:AZ21) -> 0 | BB16: =SUM(BB17:BB21) -> 0 | BD16: =SUM(BD17:BD21) -> 0 | BF16: =SUM(BF17:BF21) -> 0 | BH16: =SUM(BH17:BH21) -> 0 | BJ16: =SUM(BJ17:BJ21) -> 0 | BL16: =SUM(BL17:BL21) -> 0 | BN16: =SUM(BN17:BN21) -> 0
D17: Доля, относящаяся к категории: обрабатывающая промышленность (подразделы МСОК 10–33) | E17: 1000 т
D18: Доля, относящаяся к категории: снабжение электричеством, газом, паром и кондиционированным воздухом (подраздел МСОК 35) | E18: 1000 т
D19: Доля, относящаяся к категории: отходы от других видов экономической деятельности, кроме тех, которые перечислены в подразделе МСОК 38 | E19: 1000 т
D20: Доля, относящаяся к категории: отходы от домашних хозяйств | E20: 1000 т
D21: Доля, относящаяся к категории: электронные отходы | E21: 1000 т
B22: 2575
C23: Примечания.
C24: • | D24: Обратите внимание, что единицей измерения в этой таблице являются «тонны (метрические тонны)».
C25: • | D25: Если запрошенные данные отсутствуют, оставьте ячейку пустой. Если запрашиваемая переменная неприменима (явление не имеет отношения) к стране или значение составляет менее половины единицы измерения, в ячейке следует указать «0».
C26: • | D26: Просьба представить в разделе «Сноски» информацию об источнике и методологии сбора данных по указанным значениям, в частности о методах оценки (если таковые имеются) и типах первоисточников данных (например, опросы или административные данные).
B29: 1 | C29: Сноски
C31: Код | D31: Текст сноски

Sheet Waste recycled-Basel
A1: Переработка отходов по потокам рециркуляции, предусмотренным Базельской конвенцией
D2: • Пожалуйста, проверьте верность данных, если цвет шрифта переменился на красный.
B3: Категория | C3: Единица измерения | D3: 2000 | F3: 2001 | H3: 2002 | J3: 2003 | L3: 2004 | N3: 2005 | P3: 2006 | R3: 2007 | T3: 2008 | V3: 2009 | X3: 2010 | Z3: 2011 | AB3: 2012 | AD3: 2013 | AF3: 2014 | AH3: 2015 | AJ3: 2016 | AL3: 2017 | AN3: 2018 | AP3: 2019 | AR3: 2020 | AT3: 2021 | AV3: 2022 | AX3: 2023 | AZ3: 2024 | BB3: 2025 | BD3: 2026 | BF3: 2027 | BH3: 2028 | BJ3: 2029 | BL3: 2030
B4: Общий объем отходов, поступающих на переработку | C4: 1000 т | D4: =SUM(D5:D25) -> 0 | F4: =SUM(F5:F25) -> 0 | H4: =SUM(H8:H25) -> 0 | J4: =SUM(J5:J25) -> 0 | L4: =SUM(L5:L25) -> 0 | N4: =SUM(N5:N25) -> 0 | P4: =SUM(P5:P25) -> 0 | R4: =SUM(R5:R25) -> 0 | T4: =SUM(T5:T25) -> 0 | V4: =SUM(V5:V25) -> 0 | X4: =SUM(X5:X25) -> 0 | Z4: =SUM(Z5:Z25) -> 0 | AB4: =SUM(AB5:AB25) -> 0 | AD4: =SUM(AD5:AD25) -> 0 | AF4: =SUM(AF5:AF25) -> 0 | AH4: =SUM(AH5:AH25) -> 0 | AJ4: =SUM(AJ5:AJ25) -> 0 | AL4: =SUM(AL5:AL25) -> 0 | AN4: =SUM(AN5:AN25) -> 0 | AP4: =SUM(AP5:AP25) -> 0 | AR4: =SUM(AR5:AR25) -> 0 | AT4: =SUM(AT5:AT25) -> 0 | AV4: =SUM(AV5:AV25) -> 0 | AX4: =SUM(AX5:AX25) -> 0 | AZ4: =SUM(AZ5:AZ25) -> 0 | BB4: =SUM(BB5:BB25) -> 0 | BD4: =SUM(BD5:BD25) -> 0 | BF4: =SUM(BF5:BF25) -> 0 | BH4: =SUM(BH5:BH25) -> 0 | BJ4: =SUM(BJ5:BJ25) -> 0 | BL4: =SUM(BL5:BL25) -> 0
A5: Y1 | B5: Медицинские отходы, полученные в результате врачебного ухода за пациентами в больницах, поликлиниках и клиниках | C5: 1000 т
A6: Y2 | B6: Отходы производства и переработки фармацевтической продукции | C6: 1000 т
A7: Y3 | B7: Ненужные фармацевтические товары, лекарства и препараты | C7: 1000 т
A8: Y4 | B8: Отходы производства… биоцидов и фитофармацевтических препаратов | C8: 1000 т
A9: Y5 | B9: Отходы производства… консервантов древесины | C9: 1000 т
A10: Y6 | B10: Отходы производства, получения и применения органических растворителей | C10: 1000 т
A11: Y7 | B11: Отходы тепловой обработки и облагораживания материалов, содержащие цианиды | C11: 1000 т
A12: Y8 | B12: Ненужные минеральные масла, не пригодные для первоначально запланированного применения | C12: 1000 т
A13: Y9 | B13: Отходы в виде смесей и эмульсий масел/воды, углеводородов/воды | C13: 1000 т
A14: Y10 | B14: Ненужные вещества… содержащие ПХБ, ПХТ, ПББ | C14: 1000 т
A15: Y11 | B15: Ненужные смолистые отходы перегонки, дистилляции или любой пиролитической обработки | C15: 1000 т
A16: Y12 | B16: Отходы производства… чернил, красителей, пигментов, красок, и т. д. | C16: 1000 т
... A25: NEC | B25: Отходы, не классифицируемые в других категориях | C25: 1000 т
B26: Отходы, импортированные для переработки в течение года | C26: 1000 т | D26: =SUM(D27:D47) -> 0 | F26: =SUM(F27:F47) -> 0 | H26: =SUM(H27:H47) -> 0 | J26: =SUM(J27:J47) -> 0 | L26: =SUM(L27:L47) -> 0 | N26: =SUM(N27:N47) -> 0 | P26: =SUM(P27:P47) -> 0 | R26: =SUM(R27:R47) -> 0 | T26: =SUM(T27:T47) -> 0 | V26: =SUM(V27:V47) -> 0 | X26: =SUM(X27:X47) -> 0 | Z26: =SUM(Z27:Z47) -> 0 | AB26: =SUM(AB27:AB47) -> 0 | AD26: =SUM(AD27:AD47) -> 0 | AF26: =SUM(AF27:AF47) -> 0 | AH26: =SUM(AH27:AH47) -> 0 | AJ26: =SUM(AJ27:AJ47) -> 0 | AL26: =SUM(AL27:AL47) -> 0 | AN26: =SUM(AN27:AN47) -> 0 | AP26: =SUM(AP27:AP47) -> 0 | AR26: =SUM(AR27:AR47) -> 0 | AT26: =SUM(AT27:AT47) -> 0 | AV26: =SUM(AV27:AV47) -> 0 | AX26: =SUM(AX27:AX47) -> 0 | AZ26: =SUM(AZ27:AZ47) -> 0 | BB26: =SUM(BB27:BB47) -> 0 | BD26: =SUM(BD27:BD47) -> 0 | BF26: =SUM(BF27:BF47) -> 0 | BH26: =SUM(BH27:BH47) -> 0 | BJ26: =SUM(BJ27:BJ47) -> 0 | BL26: =SUM(BL27:BL47) -> 0
A27: Y1 | B27: Медицинские отходы, полученные в результате врачебного ухода за пациентами в больницах, поликлиниках и клиниках | C27: 1000 т
A28: Y2 | B28: Отходы производства и переработки фармацевтической продукции | C28: 1000 т
A29: Y3 | B29: Ненужные фармацевтические товары, лекарства и препараты | C29: 1000 т
A30: Y4 | B30: Отходы производства… биоцидов и фитофармацевтических препаратов | C30: 1000 т
A31: Y5 | B31: Отходы производства… консервантов древесины | C31: 1000 т
A32: Y6 | B32: Отходы производства, получения и применения органических растворителей | C32: 1000 т
A33: Y7 | B33: Отходы тепловой обработки и облагораживания материалов, содержащие цианиды | C33: 1000 т
A34: Y8 | B34: Ненужные минеральные масла, не пригодные для первоначально запланированного применения | C34: 1000 т
A35: Y9 | B35: Отходы в виде смесей и эмульсий масел/воды, углеводородов/воды | C35: 1000 т
A36: Y10 | B36: Ненужные вещества… содержащие ПХБ, ПХТ, ПББ | C36: 1000 т
A37: Y11 | B37: Ненужные смолистые отходы перегонки, дистилляции или любой пиролитической обработки | C37: 1000 т
A38: Y12 | B38: Отходы производства… чернил, красителей, пигментов, красок, и т. д. | C38: 1000 т
... A47: NEC | B47: Отходы, не классифицируемые в других категориях | C47: 1000 т
B48: Отходы, экспортированные для переработки в течение года | C48: 1000 т | D48: =SUM(D49:D69) -> 0 | F48: =SUM(F49:F69) -> 0 | H48: =SUM(H49:H69) -> 0 | J48: =SUM(J49:J69) -> 0 | L48: =SUM(L49:L69) -> 0 | N48: =SUM(N49:N69) -> 0 | P48: =SUM(P49:P69) -> 0 | R48: =SUM(R49:R69) -> 0 | T48: =SUM(T49:T69) -> 0 | V48: =SUM(V49:V69) -> 0 | X48: =SUM(X49:X69) -> 0 | Z48: =SUM(Z49:Z69) -> 0 | AB48: =SUM(AB49:AB69) -> 0 | AD48: =SUM(AD49:AD69) -> 0 | AF48: =SUM(AF49:AF69) -> 0 | AH48: =SUM(AH49:AH69) -> 0 | AJ48: =SUM(AJ49:AJ69) -> 0 | AL48: =SUM(AL49:AL69) -> 0 | AN48: =SUM(AN49:AN69) -> 0 | AP48: =SUM(AP49:AP69) -> 0 | AR48: =SUM(AR49:AR69) -> 0 | AT48: =SUM(AT49:AT69) -> 0 | AV48: =SUM(AV49:AV69) -> 0 | AX48: =SUM(AX49:AX69) -> 0 | AZ48: =SUM(AZ49:AZ69) -> 0 | BB48: =SUM(BB49:BB69) -> 0 | BD48: =SUM(BD49:BD69) -> 0 | BF48: =SUM(BF49:BF69) -> 0 | BH48: =SUM(BH49:BH69) -> 0 | BJ48: =SUM(BJ49:BJ69) -> 0 | BL48: =SUM(BL49:BL69) -> 0
A49: Y1 | B49: Медицинские отходы, полученные в результате врачебного ухода за пациентами в больницах, поликлиниках и клиниках | C49: 1000 т
A50: Y2 | B50: Отходы производства и переработки фармацевтической продукции | C50: 1000 т
A51: Y3 | B51: Ненужные фармацевтические товары, лекарства и препараты | C51: 1000 т
A52: Y4 | B52: Отходы производства… биоцидов и фитофармацевтических препаратов | C52: 1000 т
A53: Y5 | B53: Отходы производства… консервантов древесины | C53: 1000 т
A54: Y6 | B54: Отходы производства, получения и применения органических растворителей | C54: 1000 т
A55: Y7 | B55: Отходы тепловой обработки и облагораживания материалов, содержащие цианиды | C55: 1000 т
A56: Y8 | B56: Ненужные минеральные масла, не пригодные для первоначально запланированного применения | C56: 1000 т
...

Sheet National recycling rate
B2: Национальный уровень переработки отходов (категории отходов, предусмотренные СОООН/ЮНЕП)
B3: Категория | C3: Единица измерения | D3: 2000 | F3: 2001 | H3: 2002 | J3: 2003 | L3: 2004 | N3: 2005 | P3: 2006 | R3: 2007 | T3: 2008 | V3: 2009 | X3: 2010 | Z3: 2011 | AB3: 2012 | AD3: 2013 | AF3: 2014 | AH3: 2015 | AJ3: 2016 | AL3: 2017 | AN3: 2018 | AP3: 2019 | AR3: 2020 | AT3: 2021 | AV3: 2022 | AX3: 2023 | AZ3: 2024 | BB3: 2025 | BD3: 2026 | BF3: 2027 | BH3: 2028 | BJ3: 2029 | BL3: 2030
B4: Общий объем отходов, поступающих на переработку | C4: 1000 т | D4: ='Waste recycled'!F4 -> 0 | F4: ='Waste recycled'!H4 -> 0 | H4: ='Waste recycled'!J4 -> 0 | J4: ='Waste recycled'!L4 -> 0 | L4: ='Waste recycled'!N4 -> 0 | N4: ='Waste recycled'!P4 -> 0 | P4: ='Waste recycled'!R4 -> 0 | R4: ='Waste recycled'!T4 -> 0 | T4: ='Waste recycled'!V4 -> 0 | V4: ='Waste recycled'!X4 -> 0 | X4: ='Waste recycled'!Z4 -> 0 | Z4: ='Waste recycled'!AB4 -> 0 | AB4: ='Waste recycled'!AD4 -> 0 | AD4: ='Waste recycled'!AF4 -> 0 | AF4: ='Waste recycled'!AH4 -> 0 | AH4: ='Waste recycled'!AJ4 -> 0 | AJ4: ='Waste recycled'!AL4 -> 0 | AL4: ='Waste recycled'!AN4 -> 0 | AN4: ='Waste recycled'!AP4 -> 0 | AP4: ='Waste recycled'!AR4 -> 0 | AR4: ='Waste recycled'!AT4 -> 0 | AT4: ='Waste recycled'!AV4 -> 0 | AV4: ='Waste recycled'!AX4 -> 0 | AX4: ='Waste recycled'!AZ4 -> 0 | AZ4: ='Waste recycled'!BB4 -> 0 | BB4: ='Waste recycled'!BD4 -> 0 | BD4: ='Waste recycled'!BF4 -> 0 | BF4: ='Waste recycled'!BH4 -> 0 | BH4: ='Waste recycled'!BJ4 -> 0 | BJ4: ='Waste recycled'!BL4 -> 0 | BL4: ='Waste recycled'!BN4 -> 0
B5: Отходы, импортированные для переработки в течение года | C5: 1000 т | D5: ='National recycling rate'!D19 -> 0 | F5: ='Waste recycled'!H10 -> 0 | H5: ='Waste recycled'!J10 -> 0 | J5: ='Waste recycled'!L10 -> 0 | L5: ='Waste recycled'!N10 -> 0 | N5: ='Waste recycled'!P10 -> 0 | P5: ='Waste recycled'!R10 -> 0 | R5: ='Waste recycled'!T10 -> 0 | T5: ='Waste recycled'!V10 -> 0 | V5: ='Waste recycled'!X10 -> 0 | X5: ='Waste recycled'!Z10 -> 0 | Z5: ='Waste recycled'!AB10 -> 0 | AB5: ='Waste recycled'!AD10 -> 0 | AD5: ='Waste recycled'!AF10 -> 0 | AF5: ='Waste recycled'!AH10 -> 0 | AH5: ='Waste recycled'!AJ10 -> 0 | AJ5: ='Waste recycled'!AL10 -> 0 | AL5: ='Waste recycled'!AN10 -> 0 | AN5: ='Waste recycled'!AP10 -> 0 | AP5: ='Waste recycled'!AR10 -> 0 | AR5: ='Waste recycled'!AT10 -> 0 | AT5: ='Waste recycled'!AV10 -> 0 | AV5: ='Waste recycled'!AX10 -> 0 | AX5: ='Waste recycled'!AZ10 -> 0 | AZ5: ='Waste recycled'!BB10 -> 0 | BB5: ='Waste recycled'!BD10 -> 0 | BD5: ='Waste recycled'!BF10 -> 0 | BF5: ='Waste recycled'!BH10 -> 0 | BH5: ='Waste recycled'!BJ10 -> 0 | BJ5: ='Waste recycled'!BL10 -> 0 | BL5: ='Waste recycled'!BN10 -> 0
B6: Отходы, экспортированные для переработки в течение года | C6: 1000 т | D6: ='Waste recycled-Basel'!D27 -> 0 | F6: ='Waste recycled'!H16 -> 0 | H6: ='Waste recycled'!J16 -> 0 | J6: ='Waste recycled'!L16 -> 0 | L6: ='Waste recycled'!N16 -> 0 | N6: ='Waste recycled'!P16 -> 0 | P6: ='Waste recycled'!R16 -> 0 | R6: ='Waste recycled'!T16 -> 0 | T6: ='Waste recycled'!V16 -> 0 | V6: ='Waste recycled'!X16 -> 0 | X6: ='Waste recycled'!Z16 -> 0 | Z6: ='Waste recycled'!AB16 -> 0 | AB6: ='Waste recycled'!AD16 -> 0 | AD6: ='Waste recycled'!AF16 -> 0 | AF6: ='Waste recycled'!AH16 -> 0 | AH6: ='Waste recycled'!AJ16 -> 0 | AJ6: ='Waste recycled'!AL16 -> 0 | AL6: ='Waste recycled'!AN16 -> 0 | AN6: ='Waste recycled'!AP16 -> 0 | AP6: ='Waste recycled'!AR16 -> 0 | AR6: ='Waste recycled'!AT16 -> 0 | AT6: ='Waste recycled'!AV16 -> 0 | AV6: ='Waste recycled'!AX16 -> 0 | AX6: ='Waste recycled'!AZ16 -> 0 | AZ6: ='Waste recycled'!BB16 -> 0 | BB6: ='Waste recycled'!BD16 -> 0 | BD6: ='Waste recycled'!BF16 -> 0 | BF6: ='Waste recycled'!BH16 -> 0 | BH6: ='Waste recycled'!BJ16 -> 0 | BJ6: ='Waste recycled'!BL16 -> 0 | BL6: ='Waste recycled'!BN16 -> 0
B7: Национальный уровень переработки | C7: % | D7: =(D4+D6-D5)/'Waste generation'!D10 -> #DIV/0! | F7: =(F4+F6-F5)/'Waste generation'!F10 -> #DIV/0! | H7: =(H4+H6-H5)/'Waste generation'!H10 -> #DIV/0! | J7: =(J4+J6-J5)/'Waste generation'!J10 -> #DIV/0! | L7: =(L4+L6-L5)/'Waste generation'!L10 -> #DIV/0! | N7: =(N4+N6-N5)/'Waste generation'!N10 -> #DIV/0! | P7: =(P4+P6-P5)/'Waste generation'!P10 -> #DIV/0! | R7: =(R4+R6-R5)/'Waste generation'!R10 -> #DIV/0! | T7: =(T4+T6-T5)/'Waste generation'!T10 -> #DIV/0! | V7: =(V4+V6-V5)/'Waste generation'!V10 -> #DIV/0! | X7: =(X4+X6-X5)/'Waste generation'!X10 -> #DIV/0! | Z7: =(Z4+Z6-Z5)/'Waste generation'!Z10 -> #DIV/0! | AB7: =(AB4+AB6-AB5)/'Waste generation'!AB10 -> #DIV/0! | AD7: =(AD4+AD6-AD5)/'Waste generation'!AD10 -> #DIV/0! | AF7: =(AF4+AF6-AF5)/'Waste generation'!AF10 -> #DIV/0! | AH7: =(AH4+AH6-AH5)/'Waste generation'!AH10 -> #DIV/0! | AJ7: =(AJ4+AJ6-AJ5)/'Waste generation'!AJ10 -> #DIV/0! | AL7: =(AL4+AL6-AL5)/'Waste generation'!AL10 -> #DIV/0! | AN7: =(AN4+AN6-AN5)/'Waste generation'!AN10 -> #DIV/0! | AP7: =(AP4+AP6-AP5)/'Waste generation'!AP10 -> #DIV/0! | AR7: =(AR4+AR6-AR5)/'Waste generation'!AR10 -> #DIV/0! | AT7: =(AT4+AT6-AT5)/'Waste generation'!AT10 -> #DIV/0! | AV7: =(AV4+AV6-AV5)/'Waste generation'!AV10 -> #DIV/0! | AX7: =(AX4+AX6-AX5)/'Waste generation'!AX10 -> #DIV/0! | AZ7: =(AZ4+AZ6-AZ5)/'Waste generation'!AZ10 -> #DIV/0! | BB7: =(BB4+BB6-BB5)/'Waste generation'!BB10 -> #DIV/0! | BD7: =(BD4+BD6-BD5)/'Waste generation'!BD10 -> #DIV/0! | BF7: =(BF4+BF6-BF5)/'Waste generation'!BF10 -> #DIV/0! | BH7: =(BH4+BH6-BH5)/'Waste generation'!BH10 -> #DIV/0! | BJ7: =(BJ4+BJ6-BJ5)/'Waste generation'!BJ10 -> #DIV/0! | BL7: =(BL4+BL6-BL5)/'Waste generation'!BL10 -> #DIV/0!
B9: Интенсивность образования отходов
C10: Единица измерения | D10: 2000 | F10: 2001 | H10: 2002 | J10: 2003 | L10: 2004 | N10: 2005 | P10: 2006 | R10: 2007 | T10: 2008 | V10: 2009 | X10: 2010 | Z10: 2011 | AB10: 2012 | AD10: 2013 | AF10: 2014 | AH10: 2015 | AJ10: 2016 | AL10: 2017 | AN10: 2018 | AP10: 2019 | AR10: 2020 | AT10: 2021 | AV10: 2022 | AX10: 2023 | AZ10: 2024 | BB10: 2025 | BD10: 2026 | BF10: 2027 | BH10: 2028 | BJ10: 2029 | BL10: 2030
B11: Всего образованных отходов (категории отходов, предусмотренные СОООН/ЮНЕП) | C11: 1000 т | D11: ='Waste generation'!$D$10 -> 0 | F11: ='Waste generation'!$F$10 -> 0 | H11: ='Waste generation'!$H$10 -> 0 | J11: ='Waste generation'!J10 -> 0 | L11: ='Waste generation'!L10 -> 0 | N11: ='Waste generation'!N10 -> 0 | P11: ='Waste generation'!P10 -> 0 | R11: ='Waste generation'!R10 -> 0 | T11: ='Waste generation'!T10 -> 0 | V11: ='Waste generation'!V10 -> 0 | X11: ='Waste generation'!X10 -> 0 | Z11: ='Waste generation'!Z10 -> 0 | AB11: ='Waste generation'!AB10 -> 0 | AD11: ='Waste generation'!AD10 -> 0 | AF11: ='Waste generation'!AF10 -> 0 | AH11: ='Waste generation'!AH10 -> 0 | AJ11: ='Waste generation'!AJ10 -> 0 | AL11: ='Waste generation'!AL10 -> 0 | AN11: ='Waste generation'!AN10 -> 0 | AP11: ='Waste generation'!AP10 -> 0 | AR11: ='Waste generation'!AR10 -> 0 | AT11: ='Waste generation'!AT10 -> 0 | AV11: ='Waste generation'!AV10 -> 0 | AX11: ='Waste generation'!AX10 -> 0 | AZ11: ='Waste generation'!AZ10 -> 0 | BB11: ='Waste generation'!BB10 -> 0 | BD11: ='Waste generation'!BD10 -> 0 | BF11: ='Waste generation'!BF10 -> 0 | BH11: ='Waste generation'!BH10 -> 0 | BJ11: ='Waste generation'!BJ10 -> 0 | BL11: ='Waste generation'!BL10 -> 0
B12: Внутреннее материальное потребление | C12: 1000 т
B13: Всего образованных отходов / ВМП | D13: =D11/D12 -> #DIV/0! | F13: =F11/F12 -> #DIV/0! | H13: =H11/H12 -> #DIV/0! | J13: =J11/J12 -> #DIV/0! | L13: =L11/L12 -> #DIV/0! | N13: =N11/N12 -> #DIV/0! | P13: =P11/P12 -> #DIV/0! | R13: =R11/R12 -> #DIV/0! | T13: =T11/T12 -> #DIV/0! | V13: =V11/V12 -> #DIV/0! | X13: =X11/X12 -> #DIV/0! | Z13: =Z11/Z12 -> #DIV/0! | AB13: =AB11/AB12 -> #DIV/0! | AD13: =AD11/AD12 -> #DIV/0! | AF13: =AF11/AF12 -> #DIV/0! | AH13: =AH11/AH12 -> #DIV/0! | AJ13: =AJ11/AJ12 -> #DIV/0! | AL13: =AL11/AL12 -> #DIV/0! | AN13: =AN11/AN12 -> #DIV/0! | AP13: =AP11/AP12 -> #DIV/0! | AR13: =AR11/AR12 -> #DIV/0! | AT13: =AT11/AT12 -> #DIV/0! | AV13: =AV11/AV12 -> #DIV/0! | AX13: =AX11/AX12 -> #DIV/0! | AZ13: =AZ11/AZ12 -> #DIV/0! | BB13: =BB11/BB12 -> #DIV/0! | BD13: =BD11/BD12 -> #DIV/0! | BF13: =BF11/BF12 -> #DIV/0! | BH13: =BH11/BH12 -> #DIV/0! | BJ13: =BJ11/BJ12 -> #DIV/0! | BL13: =BL11/BL12 -> #DIV/0!
B16: Национальный уровень переработки отходов (потоки отходов согласно Базельской конвенции)
B17: Категория | C17: Единица измерения | D17: 2000 | F17: 2001 | H17: 2002 | J17: 2003 | L17: 2004 | N17: 2005 | P17: 2006 | R17: 2007 | T17: 2008 | V17: 2009 | X17: 2010 | Z17: 2011 | AB17: 2012 | AD17: 2013 | AF17: 2014 | AH17: 2015 | AJ17: 2016 | AL17: 2017 | AN17: 2018 | AP17: 2019 | AR17: 2020 | AT17: 2021 | AV17: 2022 | AX17: 2023 | AZ17: 2024 | BB17: 2025 | BD17: 2026 | BF17: 2027 | BH17: 2028 | BJ17: 2029 | BL17: 2030
