Workbook
Name CountryID: 'E-waste'!#REF!
Name CountryID: 'Waste generation'!#REF!
Name CountryID: 'Waste generation-Basel'!#REF!
Name CountryID: 'Waste recycled'!#REF!
Name CountryID: 'Waste recycled-Basel'!#REF!
Name CountryName: 'E-waste'!#REF!
Name CountryName: 'Waste generation'!#REF!
Name CountryName: 'Waste generation-Basel'!#REF!
Name CountryName: 'Waste recycled'!#REF!
Name CountryName: 'Waste recycled-Basel'!#REF!
Name Data: 'E-waste'!$F$4:$AW$20
Name Data: 'Waste generation'!$D$4:$AQ$11
Name Data: 'Waste generation-Basel'!$D$4:$AQ$27
Name Data: 'Waste recycled'!$F$3:$AW$22
Name Data: 'Waste recycled-Basel'!$D$3:$AU$70
Name Foot: 'E-waste'!$A$45:$AW$55
Name Foot: 'Waste generation'!$A$21:$AQ$42
Name Foot: 'Waste generation-Basel'!$A$37:$AQ$58
Name Foot: 'Waste recycled'!$A$32:$AW$54
Name Foot: 'Waste recycled-Basel'!$A$80:$AU$102
Name FootLng: 'E-waste'!$B$43
Name FootLng: 'Waste generation'!#REF!
Name FootLng: 'Waste generation-Basel'!#REF!
Name FootLng: 'Waste recycled'!$B$29
Name FootLng: 'Waste recycled-Basel'!#REF!
Name Inc: 'E-waste'!$B$4
Name Inc: 'Waste generation'!#REF!
Name Inc: 'Waste generation-Basel'!#REF!
Name Inc: 'Waste recycled'!$B$3
Name Inc: 'Waste recycled-Basel'!#REF!
Name Ind: 'E-waste'!$B$2
Name Ind: 'Waste generation'!#REF!
Name Ind: 'Waste generation-Basel'!#REF!
Name Ind: 'Waste recycled'!$B$1
Name Ind: 'Waste recycled-Basel'!#REF!
Name Type: 'E-waste'!#REF!
Name Type: 'Waste generation'!#REF!
Name Type: 'Waste generation-Basel'!#REF!
Name Type: 'Waste recycled'!#REF!
Name Type: 'Waste recycled-Basel'!#REF!
Name Unit: 'E-waste'!$E$5:$E$20
Name Unit: 'Waste generation'!$C$5:$C$10
Name Unit: 'Waste generation-Basel'!$C$5:$C$26
Name Unit: 'Waste recycled'!$E$10:$E$22
Name Unit: 'Waste recycled-Basel'!$C$26:$C$70
Name VarsID: 'E-waste'!$B$5:$B$20
Name VarsID: 'Waste generation'!#REF!
Name VarsID: 'Waste generation-Basel'!#REF!
Name VarsID: 'Waste recycled'!$B$10:$B$22
Name VarsID: 'Waste recycled-Basel'!#REF!

Sheet Introduction
A1: Благодаря этому руководству национальные органы смогут объединить данные по показателю ЦУР 12.5.1 «‎Национальный уровень переработки отходов, масса утилизированных материалов в тоннах» и, в частности, определить национальный уровень переработки, общий объем образованных отходов, типы образующихся отходов, включая электронные отходы, и интенсивность образования отходов.
A3: Содержание
A4: Лист | B4: Sheet | C4: Описание
A5: Введение | B5: Introduction | C5: Вводная информация о вкладках.
A6: Определения | B6: Definitions | C6: Ряд полезных определений.
A7: Образование отходов | B7: Waste Generation | C7: Этот лист составлен на основе Вопросника СОООН/ЮНЕП по статистике окружающей среды (раздел «Отходы», таблица R1) и содержит данные по отходам, полученным из источников, которые описаны в МСОК. Общий объем образованных отходов — это общее количество отходов (как опасных, так и неопасных), образующихся в стране в течение года. Он не включает нерудные ископаемые (включая строительный мусор и шахтные отходы из потока муниципальных отходов) и сельскохозяйственные отходы. Сюда также не относятся отходы, образующиеся в результате деятельности по обращению с отходами (подраздел МСОК 38), поскольку их учет приведет к удвоению результатов.
A8: Образование отходов (2) | B8: Waste generation (2) | C8: Этот лист можно использовать для описания образующихся отходов с учетом их категорий, предусмотренных Базельской конвенцией (Y1-18 и Y46: отходы, собираемые из жилищ).
A9: Электронные отходы | B9: E-waste | C9: Этот лист содержит данные по общему количеству образованных и собранных электронных отходов, уровню их переработки и общему количеству переработанных электронных отходов.
A10: Переработанные отходы | B10: Waste recycled | C10: Этот лист содержит данные по общему количеству отходов, поступающих на переработку, а также отходам, импортированным и экспортированным для переработки в течение года, с учетом категорий, установленных СОООН/ЮНЕП.
A11: Переработанные отходы (2) | B11: Waste recycled (2) | C11: Этот лист содержит данные по общему количеству отходов, поступающих на переработку, а также отходам, импортированным и экспортированным для переработки в течение года, с учетом их категорий, предусмотренных Базельской конвенцией.
A12: Национальный уровень переработки | B12: National recycling rate | C12: Этот лист описывает национальный уровень переработки с учетом категорий отходов, предусмотренных СОООН/ЮНЕП и Базельской конвенцией. При наличии данных о показателе внутреннего материального потребления его также можно использовать для расчета интенсивности образования отходов.
A13: Национальный уровень переработки по типам | B13: National recycling rate by type | C13: Национальный уровень переработки в разбивке по типам, предусмотренным СОООН/ЮНЕП, и категориям, предусмотренным Базельской конвенцией.

Sheet Definitions
B2: Код(-ы) МСОК | C2: Категория МСОК | D2: МСОК 4
B3: A 01–03 | C3: Сельское хозяйство, лесоводство и рыболовство | D3: Сельское хозяйство, лесоводство и рыболовство: выращивание растений и разведение животных, охота и сопутствующие услуги; лесное хозяйство и лесозаготовки; рыболовство и аквакультура. Данный раздел охватывает использование растительных и животных природных ресурсов и включает такую деятельность, как выращивание сельскохозяйственных культур, разведение животных, в том числе племенных, заготовка леса и заготовка прочих растений, животных или продуктов животного происхождения как на фермах, так и в естественной среде обитания.
B4: B 05–09 | C4: Горнодобывающая промышленность и разработка карьеров | D4: Горнодобывающая промышленность и разработка карьеров: добыча полезных ископаемых, встречающихся в природе в виде твердых пород (уголь и руды), в жидком (нефть) или газообразном состоянии (природный газ). Добыча может производиться различными способами, такими как подземная или открытая разработка месторождений, эксплуатация скважин, добыча на морском дне и т. д. Этот раздел включает дополнительные виды деятельности, связанные с подготовкой сырьевых материалов к сбыту. Эти операции часто осуществляются предприятиями, которые добывают полезное ископаемое, и/или другими предприятиями, расположенными в непосредственной близости.
B5: C 10–33 | C5: Обрабатывающая промышленность | D5: Данный раздел охватывает физическое или химическое преобразование материалов, веществ или компонентов в новые продукты. Преобразуемые материалы, вещества или компоненты — это сырьевые материалы, являющиеся продукцией сельского и лесного хозяйства, рыболовства, горнодобывающей промышленности и разработки карьеров, а также продукцией других отраслей обрабатывающей промышленности. Под обрабатывающим производством обычно понимается существенное изменение, обновление или реконструкция товаров.
B6: D 35 | C6: Снабжение электричеством, газом, паром и кондиционированным воздухом | D6: Данный раздел охватывает деятельность по снабжению электроэнергией, природным газом, паром, горячей водой и т. п., осуществляемую с помощью постоянной инфраструктуры (сетей), состоящей из линий, магистралей и трубопроводов. Параметры такой сети не играют решающей роли; в данный подраздел также включено энерго-, газо- и пароснабжение и снабжение горячей водой промышленных предприятий и жилых массивов. Таким образом, данный раздел охватывает деятельность электроэнергетических компаний энергосистем общего пользования и компаний газоснабжения общего пользования, которые производят электроэнергию или газ, осуществляют за ними контроль и распределяют их. Сюда также включено снабжение паром и кондиционированным воздухом. В данный раздел не включена деятельность коммунальных предприятий водоснабжения и канализации. В данный раздел также не включена транспортировка (как правило, на дальние расстояния) газа по трубопроводам.
B7: E 38 | C7: Сбор, обработка и удаление отходов; вторичное использование материалов | D7: Данный подраздел охватывает сбор, обработку и удаление отходов. Сюда также включены местная перевозка отходов и эксплуатация предприятий по утилизации отходов (то есть предприятий, где производится сортировка с целью извлечения поддающихся вторичной переработке материалов из отходов).
B8: F 41–43 | C8: Строительство | D8: Данный подраздел охватывает общие и специальные работы по строительству зданий и гражданских объектов. Он включает новое строительство, ремонтные работы, дополнения и изменения, возведение зданий или сооружений из готовых конструкций на строительном участке, а также строений временного характера.
B11: Термин | D11: Определения
B12: Электронные отходы | D12: Под электронными отходами следует понимать электрическое и электронное оборудование (ЭЭО) и его детали, которые были выброшены владельцем без намерения использовать их повторно.
B13: Крупногабаритное оборудование | D13: Сюда относятся: системы центрального отопления (бытовые); фотоэлектрические панели (включая инверторы); системы профессионального отопления и вентиляции (кроме холодильного оборудования); посудомоечные машины; кухонное оборудование (например, большие печи, духовые шкафы, оборудование для приготовления пищи); стиральные машины (включая комбинированные сушилки); сушильные аппараты (сушильные машины для белья, центрифуги); системы бытового отопления и вентиляции (например, вытяжки, вентиляторы, обогреватели помещений); профессиональное IT-оборудование (например, серверы, маршрутизаторы, хранилища данных, копировальные аппараты); профессиональные инструменты (например, для сварки, пайки, фрезерования); оборудование для отдыха и досуга (например, крупногабаритное тренажерное оборудование, спортивный инвентарь); профессиональное медицинское оборудование (например, для больниц, стоматологических клиник, диагностики); оборудование для профессионального мониторинга и контроля (например, лабораторные приборы, панели управления); и неохлаждаемые диспенсеры (например, для торговли, розлива горячих напитков, выдачи билетов, денег).
B14: |||UNTRANSLATED_CONTENT_START|||Screens, monitors, and equipment containing screens (..)|||UNTRANSLATED_CONTENT_END||| | D14: Сюда относятся: портативные компьютеры (включая планшеты); мониторы с электронно-лучевой трубкой; мониторы с плоским экраном (жидкокристаллические, светодиодные); телевизоры с электронно-лучевой трубкой; телевизоры с плоским экраном (жидкокристаллические, светодиодные, плазменные).
B15: Терморегулирующее оборудование (холодильное и морозильное оборудование) | D15: Сюда относятся: морозильные камеры; кондиционеры (устанавливаемые внутри домохозяйства и портативные); другое охлаждающее оборудование (например, влагопоглотители, тепловые насосы для сушки); профессиональное охлаждающее оборудование (например, крупногабаритные кондиционеры, охлаждаемые прилавки-витрины); и охлаждаемое вендинговое оборудование (например, автоматы для продажи каких-либо товаров, холодных напитков).
B16: Мелкие электронные отходы | D16: Совокупность ламп, малогабаритного оборудования и малогабаритного оборудования ИТ и электросвязи. Определения для каждой из этих категорий приведены ниже.
B17: Лампы | D17: Сюда относятся: компактные люминесцентные лампы (как модернизированные, так и немодернизированные); люминесцентные лампы с прямыми трубками; специализированные лампы (например, профессиональные ртутные, натриевые лампы высокого и низкого давления); и светодиодные лампы (включая модернизированные светодиодные лампы).
B18: Малогабаритное оборудование | D18: Сюда относятся: микроволновые печи (в т. ч. комбинированные, за исключением грилей); другие небольшие бытовые приборы (например, небольшие вентиляторы, утюги, часы, адаптеры); устройства для приготовления пищи (например, тостеры, грили, кухонные комбайны, сковороды); приборы для нагревания воды (например, устройства для приготовления кофе, чай, электрические чайники); пылесосы (кроме профессиональных моделей); приборы личной гигиены (например, зубные щетки, фены, бритвы); малогабаритная бытовая электроника (например, наушники, пульты дистанционного управления); портативная аудио- и видеоаппаратура (например, MP3-плееры, устройства для чтения электронных книг, автомобильные навигационные системы); музыкальные инструменты, радиоприемники, HiFi-аппаратура (в т. ч. аудиокомплекты); видеооборудование (например, видеомагнитофоны, DVD-проигрыватели, устройства blue-ray, абонентские приставки); колонки; фото- и видеокамеры (например, портативные видеокамеры, фотокамеры и цифровые фотоаппараты); малогабаритное осветительное оборудование (кроме светодиодных ламп и ламп накаливания); бытовые светильники (включая бытовые осветительные приборы с лампами накаливания и бытовые светодиодные светильники); профессиональные светильники (для офисов, общественных мест, промышленных объектов); бытовые инструменты (например, дрели, пилы, очистители высокого давления, газонокосилки); игрушки (например, наборы гоночных машинок, электропоезда, музыкальные игрушки, велосипедные компьютеры); бытовые медицинские приборы (например, термометры, приборы для измерения артериального давления); приборы для бытового мониторинга и контроля (системы сигнализации, отопления, дымоудаления, кроме экранов).
B19: Малогабаритное оборудование ИТ и электросвязи | D19: Сюда относятся: малогабаритное оборудование ИТ (например, маршрутизаторы, мыши, клавиатуры, внешние приводы и вспомогательное оборудование); настольные ПК (за исключением мониторов, вспомогательного оборудования); принтеры (например, сканеры, многофункциональные устройства, факсы); оборудование электросвязи (например, (беспроводные) телефоны, автоответчики); мобильные телефоны (включая смартфоны, пейджеры); и игровые приставки.
B21: Переработка (рециклинг) | D21: В целях обеспечения согласованности с докладами, предусмотренными Базельской конвенцией, и системой отчетности ЕВРОСТАТА операции R2-R12, перечисленные в Приложении IV к Базельской конвенции, которые могут привести к повторному использованию материалов, должны быть отнесены к категории «переработка».
B22: Внутреннее материальное потребление (ВМП) | D22: «Внутреннее потребление материалов (ВПМ) является стандартным показателем учета материальных потоков (УМП) и сообщает о видимом потреблении материалов в экономике страны». См. Показатель ЦУР 8.4.2/12.2.2: «Внутреннее потребление материалов (ВПМ)» и «ВПМ на душу населения, в расчете на единицу ВВП».

Sheet Waste generation
A2: Образование отходов в разбивке по источникам (на основе Вопросника СОООН/ЮНЕП по статистике окружающей среды, раздел «Отходы», таблица R1)
A4: Категория | C4: Единица измерения | D4: 2000 | F4: 2001 | H4: 2002 | J4: 2003 | L4: 2004 | N4: 2005 | P4: 2006 | R4: 2007 | T4: 2008 | V4: 2009 | X4: 2010 | Z4: 2011 | AB4: 2012 | AD4: 2013 | AF4: 2014 | AH4: 2015 | AJ4: 2016 | AL4: 2017 | AN4: 2018 | AP4: 2019 | AR4: 2020 | AT4: 2021 | AV4: 2022 | AX4: 2023 | AZ4: 2024 | BB4: 2025 | BD4: 2026 | BF4: 2027 | BH4: 2028 | BJ4: 2029 | BL4: 2030
A5: Обрабатывающая промышленность (подразделы МСОК 10–33) | C5: 1000 т
A6: Снабжение электричеством, газом, паром и кондиционированным воздухом (подраздел МСОК 35) | C6: 1000 т
A7: Прочие виды хозяйственно-экономической деятельности, кроме тех, которые перечислены в подразделе 38 МСОК | C7: 1000 т
A8: Отходы от домашних хозяйств | C8: 1000 т
A9: Электронные отходы | C9: 1000 т | D9: ='E-waste'!F$5 -> 0 | F9: ='E-waste'!H$5 -> 0 | H9: ='E-waste'!J$5 -> 0 | J9: ='E-waste'!L$5 -> 0 | L9: ='E-waste'!N$5 -> 0 | N9: ='E-waste'!P$5 -> 0 | P9: ='E-waste'!R$5 -> 0 | R9: ='E-waste'!T$5 -> 0 | T9: ='E-waste'!V$5 -> 0 | V9: ='E-waste'!X$5 -> 0 | X9: ='E-waste'!Z$5 -> 0 | Z9: ='E-waste'!AB$5 -> 0 | AB9: ='E-waste'!AD$5 -> 0 | AD9: ='E-waste'!AF$5 -> 0 | AF9: ='E-waste'!AH$5 -> 0 | AH9: ='E-waste'!AJ$5 -> 0 | AJ9: ='E-waste'!AL$5 -> 0 | AL9: ='E-waste'!AN$5 -> 0 | AN9: ='E-waste'!AP$5 -> 0 | AP9: ='E-waste'!AR$5 -> 0 | AR9: ='E-waste'!AT$5 -> 0 | AT9: ='E-waste'!AV$5 -> 0 | AV9: ='E-waste'!AX$5 -> 0 | AX9: ='E-waste'!AZ$5 -> 0 | AZ9: ='E-waste'!BB$5 -> 0 | BB9: ='E-waste'!BD$5 -> 0 | BD9: ='E-waste'!BF$5 -> 0 | BF9: ='E-waste'!BH$5 -> 0 | BH9: ='E-waste'!BJ$5 -> 0 | BJ9: ='E-waste'!BL$5 -> 0 | BL9: ='E-waste'!BN$5 -> 0
A10: Общий объем образующихся отходов | C10: 1000 т | D10: =SUM(D5:D9) -> 0 | F10: =SUM(F5:F9) -> 0 | H10: =SUM(H5:H9) -> 0 | J10: =SUM(J5:J9) -> 0 | L10: =SUM(L5:L9) -> 0 | N10: =SUM(N5:N9) -> 0 | P10: =SUM(P5:P9) -> 0 | R10: =SUM(R5:R9) -> 0 | T10: =SUM(T5:T9) -> 0 | V10: =SUM(V5:V9) -> 0 | X10: =SUM(X5:X9) -> 0 | Z10: =SUM(Z5:Z9) -> 0 | AB10: =SUM(AB5:AB9) -> 0 | AD10: =SUM(AD5:AD9) -> 0 | AF10: =SUM(AF5:AF9) -> 0 | AH10: =SUM(AH5:AH9) -> 0 | AJ10: =SUM(AJ5:AJ9) -> 0 | AL10: =SUM(AL5:AL9) -> 0 | AN10: =SUM(AN5:AN9) -> 0 | AP10: =SUM(AP5:AP9) -> 0 | AR10: =SUM(AR5:AR9) -> 0 | AT10: =SUM(AT5:AT9) -> 0 | AV10: =SUM(AV5:AV9) -> 0 | AX10: =SUM(AX5:AX9) -> 0 | AZ10: =SUM(AZ5:AZ9) -> 0 | BB10: =SUM(BB5:BB9) -> 0 | BD10: =SUM(BD5:BD9) -> 0 | BF10: =SUM(BF5:BF9) -> 0 | BH10: =SUM(BH5:BH9) -> 0 | BJ10: =SUM(BJ5:BJ9) -> 0 | BL10: =SUM(BL5:BL9) -> 0
A11: 9 | B11: ВВП | C11: долл. США
A12: Примечания.
A13: • | B13: Отходы от экономической деятельности включают в себя все виды отходов, образующихся в результате деятельности хозяйственных структур. Дополнительная информация представлена в описании к таблице R1 в разделе «Руководство».
A14: • | B14: Если запрошенные данные отсутствуют, оставьте ячейку пустой. Если запрашиваемая переменная неприменима (явление не имеет отношения) к стране или значение составляет менее половины единицы измерения, в ячейке следует указать «0».
A15: • | B15: Просьба представить в разделе «Сноски» информацию об источнике и методологии сбора данных по указанным значениям, в частности о методах оценки (если таковые имеются) и типах первоисточников данных (например, опросы или административные данные).
A18: Сноски
A20: Код | B20: Текст сноски

Sheet Waste generation-Basel
A2: Образование отходов в разбивке по категориям, предусмотренным Базельской конвенцией
A4: Категория, предусмотренная Базельской конвенцией | C4: Единица измерения | D4: 2000 | F4: 2001 | H4: 2002 | J4: 2003 | L4: 2004 | N4: 2005 | P4: 2006 | R4: 2007 | T4: 2008 | V4: 2009 | X4: 2010 | Z4: 2011 | AB4: 2012 | AD4: 2013 | AF4: 2014 | AH4: 2015 | AJ4: 2016 | AL4: 2017 | AN4: 2018 | AP4: 2019 | AR4: 2020 | AT4: 2021 | AV4: 2022 | AX4: 2023 | AZ4: 2024 | BB4: 2025 | BD4: 2026 | BF4: 2027 | BH4: 2028 | BJ4: 2029 | BL4: 2030
A5: Y1 | B5: Медицинские отходы, полученные в результате врачебного ухода за пациентами в больницах, поликлиниках и клиниках | C5: 1000 т
A6: Y2 | B6: Отходы производства и переработки фармацевтической продукции | C6: 1000 т
A7: Y3 | B7: Ненужные фармацевтические товары, лекарства и препараты | C7: 1000 т
A8: Y4 | B8: Отходы производства… биоцидов и фитофармацевтических препаратов | C8: 1000 т
A9: Y5 | B9: Отходы производства… консервантов древесины | C9: 1000 т
A10: Y6 | B10: Отходы производства, получения и применения органических растворителей | C10: 1000 т
A11: Y7 | B11: Отходы тепловой обработки и облагораживания материалов, содержащие цианиды | C11: 1000 т
A12: Y8 | B12: Ненужные минеральные масла, не пригодные для первоначально запланированного применения | C12: 1000 т
A13: Y9 | B13: Отходы в виде смесей и эмульсий масел/воды, углеводородов/воды | C13: 1000 т
A14: Y10 | B14: Ненужные вещества… содержащие ПХБ, ПХТ, ПББ | C14: 1000 т
A15: Y11 | B15: Ненужные смолистые отходы перегонки, дистилляции или любой пиролитической обработки | C15: 1000 т
A16: Y12 | B16: Отходы производства… чернил, красителей, пигментов, красок, и т. д. | C16: 1000 т
... A24: E-W | B24: Электронные отходы | C24: 1000 т
A25: NEC | B25: Отходы, не классифицируемые в других категориях | C25: 1000 т | D25: ='E-waste'!F$5 -> 0 | F25: ='E-waste'!H$5 -> 0 | H25: ='E-waste'!J$5 -> 0 | J25: ='E-waste'!L$5 -> 0 | L25: ='E-waste'!N$5 -> 0 | N25: ='E-waste'!P$5 -> 0 | P25: ='E-waste'!R$5 -> 0 | R25: ='E-waste'!T$5 -> 0 | T25: ='E-waste'!V$5 -> 0 | V25: ='E-waste'!X$5 -> 0 | X25: ='E-waste'!Z$5 -> 0 | Z25: ='E-waste'!AB$5 -> 0 | AB25: ='E-waste'!AD$5 -> 0 | AD25: ='E-waste'!AF$5 -> 0 | AF25: ='E-waste'!AH$5 -> 0 | AH25: ='E-waste'!AJ$5 -> 0 | AJ25: ='E-waste'!AL$5 -> 0 | AL25: ='E-waste'!AN$5 -> 0 | AN25: ='E-waste'!AP$5 -> 0 | AP25: ='E-waste'!AR$5 -> 0 | AR25: ='E-waste'!AT$5 -> 0 | AT25: ='E-waste'!AV$5 -> 0 | AV25: ='E-waste'!AX$5 -> 0 | AX25: ='E-waste'!AZ$5 -> 0 | AZ25: ='E-waste'!BB$5 -> 0 | BB25: ='E-waste'!BD$5 -> 0 | BD25: ='E-waste'!BF$5 -> 0 | BF25: ='E-waste'!BH$5 -> 0 | BH25: ='E-waste'!BJ$5 -> 0 | BJ25: ='E-waste'!BL$5 -> 0 | BL25: ='E-waste'!BN$5 -> 0
A26: Общий объем образующихся отходов | C26: 1000 т | D26: =SUM(D5:D25) -> 0 | F26: =SUM(F5:F25) -> 0 | H26: =SUM(H5:H25) -> 0 | J26: =SUM(J5:J25) -> 0 | L26: =SUM(L5:L25) -> 0 | N26: =SUM(N5:N25) -> 0 | P26: =SUM(P5:P25) -> 0 | R26: =SUM(R5:R25) -> 0 | T26: =SUM(T5:T25) -> 0 | V26: =SUM(V5:V25) -> 0 | X26: =SUM(X5:X25) -> 0 | Z26: =SUM(Z5:Z25) -> 0 | AB26: =SUM(AB5:AB25) -> 0 | AD26: =SUM(AD5:AD25) -> 0 | AF26: =SUM(AF5:AF25) -> 0 | AH26: =SUM(AH5:AH25) -> 0 | AJ26: =SUM(AJ5:AJ25) -> 0 | AL26: =SUM(AL5:AL25) -> 0 | AN26: =SUM(AN5:AN25) -> 0 | AP26: =SUM(AP5:AP25) -> 0 | AR26: =SUM(AR5:AR25) -> 0 | AT26: =SUM(AT5:AT25) -> 0 | AV26: =SUM(AV5:AV25) -> 0 | AX26: =SUM(AX5:AX25) -> 0 | AZ26: =SUM(AZ5:AZ25) -> 0 | BB26: =SUM(BB5:BB25) -> 0 | BD26: =SUM(BD5:BD25) -> 0 | BF26: =SUM(BF5:BF25) -> 0 | BH26: =SUM(BH5:BH25) -> 0 | BJ26: =SUM(BJ5:BJ25) -> 0 | BL26: =SUM(BL5:BL25) -> 0
A27: 9 | B27: ВВП | C27: долл. США
A28: Примечания.
A29: • | B29: Отходы от экономической деятельности включают в себя все виды отходов, образующихся в результате деятельности хозяйственных структур. Дополнительная информация представлена в описании к таблице R1 в разделе «Руководство».
A30: • | B30: Если запрошенные данные отсутствуют, оставьте ячейку пустой. Если запрашиваемая переменная неприменима (явление не имеет отношения) к стране или значение составляет менее половины единицы измерения, в ячейке следует указать «0».
A31: • | B31: Просьба представить в разделе «Сноски» информацию об источнике и методологии сбора данных по указанным значениям, в частности о методах оценки (если таковые имеются) и типах первоисточников данных (например, опросы или административные данные).
A34: Сноски
A36: Код | B36: Текст сноски

Sheet E-waste
B2: 170 | C2: Производство и сбор электронных отходов (Вопросник СОООН/ЮНЕП по статистике окружающей среды, раздел «Отходы», таблица R6)
F3: • Пожалуйста, проверьте верность данных, если цвет шрифта переменился на красный.
B4: 2 | C4: Линия | D4: Категория | E4: Единица измерения | F4: 2000 | H4: 2001 | J4: 2002 | L4: 2003 | N4: 2004 | P4: 2005 | R4: 2006 | T4: 2007 | V4: 2008 | X4: 2009 | Z4: 2010 | AB4: 2011 | AD4: 2012 | AF4: 2013 | AH4: 2014 | AJ4: 2015 | AL4: 2016 | AN4: 2017 | AP4: 2018 | AR4: 2019 | AT4: 2020 | AV4: 2021 | AX4: 2022 | AZ4: 2023 | BB4: 2024 | BD4: 2025 | BF4: 2026 | BH4: 2027 | BJ4: 2028 | BL4: 2029 | BN4: 2030
B5: 3550 | C5: 1 | D5: Общий объем образующихся электронных отходов | E5: 1000 т | F5: =SUM(F6:F9) -> 0 | H5: =SUM(H6:H9) -> 0 | J5: =SUM(J6:J9) -> 0 | L5: =SUM(L6:L9) -> 0 | N5: =SUM(N6:N9) -> 0 | P5: =SUM(P6:P9) -> 0 | R5: =SUM(R6:R9) -> 0 | T5: =SUM(T6:T9) -> 0 | V5: =SUM(V6:V9) -> 0 | X5: =SUM(X6:X9) -> 0 | Z5: =SUM(Z6:Z9) -> 0 | AB5: =SUM(AB6:AB9) -> 0 | AD5: =SUM(AD6:AD9) -> 0 | AF5: =SUM(AF6:AF9) -> 0 | AH5: =SUM(AH6:AH9) -> 0 | AJ5: =SUM(AJ6:AJ9) -> 0 | AL5: =SUM(AL6:AL9) -> 0 | AN5: =SUM(AN6:AN9) -> 0 | AP5: =SUM(AP6:AP9) -> 0 | AR5: =SUM(AR6:AR9) -> 0 | AT5: =SUM(AT6:AT9) -> 0 | AV5: =SUM(AV6:AV9) -> 0 | AX5: =SUM(AX6:AX9) -> 0 | AZ5: =SUM(AZ6:AZ9) -> 0 | BB5: =SUM(BB6:BB9) -> 0 | BD5: =SUM(BD6:BD9) -> 0 | BF5: =SUM(BF6:BF9) -> 0 | BH5: =SUM(BH6:BH9) -> 0 | BJ5: =SUM(BJ6:BJ9) -> 0 | BL5: =SUM(BL6:BL9) -> 0 | BN5: =SUM(BN6:BN9) -> 0
B6: 3560 | C6: 2 | D6: Объем отходов, направляемых на: Крупногабаритное оборудование | E6: 1000 т
B7: 3570 | C7: 3 | D7: Экраны, мониторы и оборудование, содержащее экраны | E7: 1000 т
B8: 3580 | C8: 4 | D8: Терморегулирующее оборудование (холодильное и морозильное оборудование) | E8: 1000 т
B9: 3590 | C9: 5 | D9: Мелкие электронные отходы | E9: 1000 т | F9: =SUM(F10:F12) -> 0 | H9: =SUM(H10:H12) -> 0 | J9: =SUM(J10:J12) -> 0 | L9: =SUM(L10:L12) -> 0 | N9: =SUM(N10:N12) -> 0 | P9: =SUM(P10:P12) -> 0 | R9: =SUM(R10:R12) -> 0 | T9: =SUM(T10:T12) -> 0 | V9: =SUM(V10:V12) -> 0 | X9: =SUM(X10:X12) -> 0 | Z9: =SUM(Z10:Z12) -> 0 | AB9: =SUM(AB10:AB12) -> 0 | AD9: =SUM(AD10:AD12) -> 0 | AF9: =SUM(AF10:AF12) -> 0 | AH9: =SUM(AH10:AH12) -> 0 | AJ9: =SUM(AJ10:AJ12) -> 0 | AL9: =SUM(AL10:AL12) -> 0 | AN9: =SUM(AN10:AN12) -> 0 | AP9: =SUM(AP10:AP12) -> 0 | AR9: =SUM(AR10:AR12) -> 0 | AT9: =SUM(AT10:AT12) -> 0 | AV9: =SUM(AV10:AV12) -> 0 | AX9: =SUM(AX10:AX12) -> 0 | AZ9: =SUM(AZ10:AZ12) -> 0 | BB9: =SUM(BB10:BB12) -> 0 | BD9: =SUM(BD10:BD12) -> 0 | BF9: =SUM(BF10:BF12) -> 0 | BH9: =SUM(BH10:BH12) -> 0 | BJ9: =SUM(BJ10:BJ12) -> 0 | BL9: =SUM(BL10:BL12) -> 0 | BN9: =SUM(BN10:BN12) -> 0
B10: 3591 | C10: 6 | D10: в том числе: лампы | E10: 1000 т
B11: 3592 | C11: 7 | D11: в том числе: малогабаритное оборудование | E11: 1000 т
B12: 3593 | C12: 8 | D12: в том числе: малогабаритное оборудование ИТ и электросвязи | E12: 1000 т
B13: 3650 | C13: 9 | D13: Всего собранных электронных отходов | E13: 1000 т | F13: =SUM(F14:F17) -> 0 | H13: =SUM(H14:H17) -> 0 | J13: =SUM(J14:J17) -> 0 | L13: =SUM(L14:L17) -> 0 | N13: =SUM(N14:N17) -> 0 | P13: =SUM(P14:P17) -> 0 | R13: =SUM(R14:R17) -> 0 | T13: =SUM(T14:T17) -> 0 | V13: =SUM(V14:V17) -> 0 | X13: =SUM(X14:X17) -> 0 | Z13: =SUM(Z14:Z17) -> 0 | AB13: =SUM(AB14:AB17) -> 0 | AD13: =SUM(AD14:AD17) -> 0 | AF13: =SUM(AF14:AF17) -> 0 | AH13: =SUM(AH14:AH17) -> 0 | AJ13: =SUM(AJ14:AJ17) -> 0 | AL13: =SUM(AL14:AL17) -> 0 | AN13: =SUM(AN14:AN17) -> 0 | AP13: =SUM(AP14:AP17) -> 0 | AR13: =SUM(AR14:AR17) -> 0 | AT13: =SUM(AT14:AT17) -> 0 | AV13: =SUM(AV14:AV17) -> 0 | AX13: =SUM(AX14:AX17) -> 0 | AZ13: =SUM(AZ14:AZ17) -> 0 | BB13: =SUM(BB14:BB17) -> 0 | BD13: =SUM(BD14:BD17) -> 0 | BF13: =SUM(BF14:BF17) -> 0 | BH13: =SUM(BH14:BH17) -> 0 | BJ13: =SUM(BJ14:BJ17) -> 0 | BL13: =SUM(BL14:BL17) -> 0 | BN13: =SUM(BN14:BN17) -> 0
B14: 3660 | C14: 10 | D14: Объем отходов, направляемых на: Крупногабаритное оборудование | E14: 1000 т
B15: 3670 | C15: 11 | D15: Экраны, мониторы и оборудование, содержащее экраны | E15: 1000 т
B16: 3680 | C16: 12 | D16: Терморегулирующее оборудование (холодильное и морозильное оборудование) | E16: 1000 т
B17: 3690 | C17: 13 | D17: Мелкие электронные отходы (=14+15+16) | E17: 1000 т | F17: =SUM(F18:F20) -> 0 | H17: =SUM(H18:H20) -> 0 | J17: =SUM(J18:J20) -> 0 | L17: =SUM(L18:L20) -> 0 | N17: =SUM(N18:N20) -> 0 | P17: =SUM(P18:P20) -> 0 | R17: =SUM(R18:R20) -> 0 | T17: =SUM(T18:T20) -> 0 | V17: =SUM(V18:V20) -> 0 | X17: =SUM(X18:X20) -> 0 | Z17: =SUM(Z18:Z20) -> 0 | AB17: =SUM(AB18:AB20) -> 0 | AD17: =SUM(AD18:AD20) -> 0 | AF17: =SUM(AF18:AF20) -> 0 | AH17: =SUM(AH18:AH20) -> 0 | AJ17: =SUM(AJ18:AJ20) -> 0 | AL17: =SUM(AL18:AL20) -> 0 | AN17: =SUM(AN18:AN20) -> 0 | AP17: =SUM(AP18:AP20) -> 0 | AR17: =SUM(AR18:AR20) -> 0 | AT17: =SUM(AT18:AT20) -> 0 | AV17: =SUM(AV18:AV20) -> 0 | AX17: =SUM(AX18:AX20) -> 0 | AZ17: =SUM(AZ18:AZ20) -> 0 | BB17: =SUM(BB18:BB20) -> 0 | BD17: =SUM(BD18:BD20) -> 0 | BF17: =SUM(BF18:BF20) -> 0 | BH17: =SUM(BH18:BH20) -> 0 | BJ17: =SUM(BJ18:BJ20) -> 0 | BL17: =SUM(BL18:BL20) -> 0 | BN17: =SUM(BN18:BN20) -> 0
B18: 3691 | C18: 14 | D18: в том числе: лампы | E18: 1000 т
B19: 3692 | C19: 15 | D19: в том числе: малогабаритное оборудование | E19: 1000 т
B20: 3693 | C20: 16 | D20: в том числе: малогабаритное оборудование ИТ и электросвязи | E20: 1000 т
B21: 3650 | C21: 9 | D21: Скорость переработки электронных отходов (% от производства) | E21: % | F21: =F29/F5 -> #DIV/0! | H21: =H29/H5 -> #DIV/0! | J21: =J29/J5 -> #DIV/0! | L21: =L29/L5 -> #DIV/0! | N21: =N29/N5 -> #DIV/0! | P21: =P29/P5 -> #DIV/0! | R21: =R29/R5 -> #DIV/0! | T21: =T29/T5 -> #DIV/0! | V21: =V29/V5 -> #DIV/0! | X21: =X29/X5 -> #DIV/0! | Z21: =Z29/Z5 -> #DIV/0! | AB21: =AB29/AB5 -> #DIV/0! | AD21: =AD29/AD5 -> #DIV/0! | AF21: =AF29/AF5 -> #DIV/0! | AH21: =AH29/AH5 -> #DIV/0! | AJ21: =AJ29/AJ5 -> #DIV/0! | AL21: =AL29/AL5 -> #DIV/0! | AN21: =AN29/AN5 -> #DIV/0! | AP21: =AP29/AP5 -> #DIV/0! | AR21: =AR29/AR5 -> #DIV/0! | AT21: =AT29/AT5 -> #DIV/0! | AV21: =AV29/AV5 -> #DIV/0! | AX21: =AX29/AX5 -> #DIV/0! | AZ21: =AZ29/AZ5 -> #DIV/0! | BB21: =BB29/BB5 -> #DIV/0! | BD21: =BD29/BD5 -> #DIV/0! | BF21: =BF29/BF5 -> #DIV/0! | BH21: =BH29/BH5 -> #DIV/0! | BJ21: =BJ29/BJ5 -> #DIV/0! | BL21: =BL29/BL5 -> #DIV/0! | BN21: =BN29/BN5 -> #DIV/0!
B22: 3660 | C22: 10 | D22: Объем отходов, направляемых на: Крупногабаритное оборудование | E22: %
B23: 3670 | C23: 11 | D23: Экраны, мониторы и оборудование, содержащее экраны | E23: %
B24: 3680 | C24: 12 | D24: Терморегулирующее оборудование (холодильное и морозильное оборудование) | E24: %
B25: 3690 | C25: 13 | D25: Мелкие электронные отходы (=14+15+16) | E25: % | F25: =SUM(F26:F28) -> 0 | H25: =SUM(H26:H28) -> 0 | J25: =SUM(J26:J28) -> 0 | L25: =SUM(L26:L28) -> 0 | N25: =SUM(N26:N28) -> 0 | P25: =SUM(P26:P28) -> 0 | R25: =SUM(R26:R28) -> 0 | T25: =SUM(T26:T28) -> 0 | V25: =SUM(V26:V28) -> 0 | X25: =SUM(X26:X28) -> 0 | Z25: =SUM(Z26:Z28) -> 0 | AB25: =SUM(AB26:AB28) -> 0 | AD25: =SUM(AD26:AD28) -> 0 | AF25: =SUM(AF26:AF28) -> 0 | AH25: =SUM(AH26:AH28) -> 0 | AJ25: =SUM(AJ26:AJ28) -> 0 | AL25: =SUM(AL26:AL28) -> 0 | AN25: =SUM(AN26:AN28) -> 0 | AP25: =SUM(AP26:AP28) -> 0 | AR25: =SUM(AR26:AR28) -> 0 | AT25: =SUM(AT26:AT28) -> 0 | AV25: =SUM(AV26:AV28) -> 0 | AX25: =SUM(AX26:AX28) -> 0 | AZ25: =SUM(AZ26:AZ28) -> 0 | BB25: =SUM(BB26:BB28) -> 0 | BD25: =SUM(BD26:BD28) -> 0 | BF25: =SUM(BF26:BF28) -> 0 | BH25: =SUM(BH26:BH28) -> 0 | BJ25: =SUM(BJ26:BJ28) -> 0 | BL25: =SUM(BL26:BL28) -> 0 | BN25: =SUM(BN26:BN28) -> 0
B26: 3691 | C26: 14 | D26: в том числе: лампы | E26: %
B27: 3692 | C27: 15 | D27: в том числе: малогабаритное оборудование | E27: %
B28: 3693 | C28: 16 | D28: в том числе: малогабаритное оборудование ИТ и электросвязи | E28: %
B29: 3650 | C29: 9 | D29: Всего переработанных электронных отходов | E29: 1000 т | F29: =SUM(F30:F33) -> 0 | H29: =SUM(H30:H33) -> 0 | J29: =SUM(J30:J33) -> 0 | L29: =SUM(L30:L33) -> 0 | N29: =SUM(N30:N33) -> 0 | P29: =SUM(P30:P33) -> 0 | R29: =SUM(R30:R33) -> 0 | T29: =SUM(T30:T33) -> 0 | V29: =SUM(V30:V33) -> 0 | X29: =SUM(X30:X33) -> 0 | Z29: =SUM(Z30:Z33) -> 0 | AB29: =SUM(AB30:AB33) -> 0 | AD29: =SUM(AD30:AD33) -> 0 | AF29: =SUM(AF30:AF33) -> 0 | AH29: =SUM(AH30:AH33) -> 0 | AJ29: =SUM(AJ30:AJ33) -> 0 | AL29: =SUM(AL30:AL33) -> 0 | AN29: =SUM(AN30:AN33) -> 0 | AP29: =SUM(AP30:AP33) -> 0 | AR29: =SUM(AR30:AR33) -> 0 | AT29: =SUM(AT30:AT33) -> 0 | AV29: =SUM(AV30:AV33) -> 0 | AX29: =SUM(AX30:AX33) -> 0 | AZ29: =SUM(AZ30:AZ33) -> 0 | BB29: =SUM(BB30:BB33) -> 0 | BD29: =SUM(BD30:BD33) -> 0 | BF29: =SUM(BF30:BF33) -> 0 | BH29: =SUM(BH30:BH33) -> 0 | BJ29: =SUM(BJ30:BJ33) -> 0 | BL29: =SUM(BL30:BL33) -> 0 | BN29: =SUM(BN30:BN33) -> 0
B30: 3660 | C30: 10 | D30: Объем отходов, направляемых на: Крупногабаритное оборудование | E30: 1000 т | F30: =F6*F22/100 -> 0 | H30: =H6*H22/100 -> 0 | J30: =J6*J22/100 -> 0 | L30: =L6*L22/100 -> 0 | N30: =N6*N22/100 -> 0 | P30: =P6*P22/100 -> 0 | R30: =R6*R22/100 -> 0 | T30: =T6*T22/100 -> 0 | V30: =V6*V22/100 -> 0 | X30: =X6*X22/100 -> 0 | Z30: =Z6*Z22/100 -> 0 | AB30: =AB6*AB22/100 -> 0 | AD30: =AD6*AD22/100 -> 0 | AF30: =AF6*AF22/100 -> 0 | AH30: =AH6*AH22/100 -> 0 | AJ30: =AJ6*AJ22/100 -> 0 | AL30: =AL6*AL22/100 -> 0 | AN30: =AN6*AN22/100 -> 0 | AP30: =AP6*AP22/100 -> 0 | AR30: =AR6*AR22/100 -> 0 | AT30: =AT6*AT22/100 -> 0 | AV30: =AV6*AV22/100 -> 0 | AX30: =AX6*AX22/100 -> 0 | AZ30: =AZ6*AZ22/100 -> 0 | BB30: =BB6*BB22/100 -> 0 | BD30: =BD6*BD22/100 -> 0 | BF30: =BF6*BF22/100 -> 0 | BH30: =BH6*BH22/100 -> 0 | BJ30: =BJ6*BJ22/100 -> 0 | BL30: =BL6*BL22/100 -> 0 | BN30: =BN6*BN22/100 -> 0
B31: 3670 | C31: 11 | D31: Экраны, мониторы и оборудование, содержащее экраны | E31: 1000 т | F31: =F7*F23/100 -> 0 | H31: =H7*H23/100 -> 0 | J31: =J7*J23/100 -> 0 | L31: =L7*L23/100 -> 0 | N31: =N7*N23/100 -> 0 | P31: =P7*P23/100 -> 0 | R31: =R7*R23/100 -> 0 | T31: =T7*T23/100 -> 0 | V31: =V7*V23/100 -> 0 | X31: =X7*X23/100 -> 0 | Z31: =Z7*Z23/100 -> 0 | AB31: =AB7*AB23/100 -> 0 | AD31: =AD7*AD23/100 -> 0 | AF31: =AF7*AF23/100 -> 0 | AH31: =AH7*AH23/100 -> 0 | AJ31: =AJ7*AJ23/100 -> 0 | AL31: =AL7*AL23/100 -> 0 | AN31: =AN7*AN23/100 -> 0 | AP31: =AP7*AP23/100 -> 0 | AR31: =AR7*AR23/100 -> 0 | AT31: =AT7*AT23/100 -> 0 | AV31: =AV7*AV23/100 -> 0 | AX31: =AX7*AX23/100 -> 0 | AZ31: =AZ7*AZ23/100 -> 0 | BB31: =BB7*BB23/100 -> 0 | BD31: =BD7*BD23/100 -> 0 | BF31: =BF7*BF23/100 -> 0 | BH31: =BH7*BH23/100 -> 0 | BJ31: =BJ7*BJ23/100 -> 0 | BL31: =BL7*BL23/100 -> 0 | BN31: =BN7*BN23/100 -> 0
B32: 3680 | C32: 12 | D32: Терморегулирующее оборудование (холодильное и морозильное оборудование) | E32: 1000 т | F32: =F8*F24/100 -> 0 | H32: =H8*H24/100 -> 0 | J32: =J8*J24/100 -> 0 | L32: =L8*L24/100 -> 0 | N32: =N8*N24/100 -> 0 | P32: =P8*P24/100 -> 0 | R32: =R8*R24/100 -> 0 | T32: =T8*T24/100 -> 0 | V32: =V8*V24/100 -> 0 | X32: =X8*X24/100 -> 0 | Z32: =Z8*Z24/100 -> 0 | AB32: =AB8*AB24/100 -> 0 | AD32: =AD8*AD24/100 -> 0 | AF32: =AF8*AF24/100 -> 0 | AH32: =AH8*AH24/100 -> 0 | AJ32: =AJ8*AJ24/100 -> 0 | AL32: =AL8*AL24/100 -> 0 | AN32: =AN8*AN24/100 -> 0 | AP32: =AP8*AP24/100 -> 0 | AR32: =AR8*AR24/100 -> 0 | AT32: =AT8*AT24/100 -> 0 | AV32: =AV8*AV24/100 -> 0 | AX32: =AX8*AX24/100 -> 0 | AZ32: =AZ8*AZ24/100 -> 0 | BB32: =BB8*BB24/100 -> 0 | BD32: =BD8*BD24/100 -> 0 | BF32: =BF8*BF24/100 -> 0 | BH32: =BH8*BH24/100 -> 0 | BJ32: =BJ8*BJ24/100 -> 0 | BL32: =BL8*BL24/100 -> 0 | BN32: =BN8*BN24/100 -> 0
B33: 3690 | C33: 13 | D33: Мелкие электронные отходы (=14+15+16) | E33: 1000 т | F33: =SUM(F34:F36) -> 0 | H33: =SUM(H34:H36) -> 0 | J33: =SUM(J34:J36) -> 0 | L33: =SUM(L34:L36) -> 0 | N33: =SUM(N34:N36) -> 0 | P33: =SUM(P34:P36) -> 0 | R33: =SUM(R34:R36) -> 0 | T33: =SUM(T34:T36) -> 0 | V33: =SUM(V34:V36) -> 0 | X33: =SUM(X34:X36) -> 0 | Z33: =SUM(Z34:Z36) -> 0 | AB33: =SUM(AB34:AB36) -> 0 | AD33: =SUM(AD34:AD36) -> 0 | AF33: =SUM(AF34:AF36) -> 0 | AH33: =SUM(AH34:AH36) -> 0 | AJ33: =SUM(AJ34:AJ36) -> 0 | AL33: =SUM(AL34:AL36) -> 0 | AN33: =SUM(AN34:AN36) -> 0 | AP33: =SUM(AP34:AP36) -> 0 | AR33: =SUM(AR34:AR36) -> 0 | AT33: =SUM(AT34:AT36) -> 0 | AV33: =SUM(AV34:AV36) -> 0 | AX33: =SUM(AX34:AX36) -> 0 | AZ33: =SUM(AZ34:AZ36) -> 0 | BB33: =SUM(BB34:BB36) -> 0 | BD33: =SUM(BD34:BD36) -> 0 | BF33: =SUM(BF34:BF36) -> 0 | BH33: =SUM(BH34:BH36) -> 0 | BJ33: =SUM(BJ34:BJ36) -> 0 | BL33: =SUM(BL34:BL36) -> 0 | BN33: =SUM(BN34:BN36) -> 0
B34: 3691 | C34: 14 | D34: в том числе: лампы | E34: 1000 т | F34: =F10*F26/100 -> 0 | H34: =H10*H26/100 -> 0 | J34: =J10*J26/100 -> 0 | L34: =L10*L26/100 -> 0 | N34: =N10*N26/100 -> 0 | P34: =P10*P26/100 -> 0 | R34: =R10*R26/100 -> 0 | T34: =T10*T26/100 -> 0 | V34: =V10*V26/100 -> 0 | X34: =X10*X26/100 -> 0 | Z34: =Z10*Z26/100 -> 0 | AB34: =AB10*AB26/100 -> 0 | AD34: =AD10*AD26/100 -> 0 | AF34: =AF10*AF26/100 -> 0 | AH34: =AH10*AH26/100 -> 0 | AJ34: =AJ10*AJ26/100 -> 0 | AL34: =AL10*AL26/100 -> 0 | AN34: =AN10*AN26/100 -> 0 | AP34: =AP10*AP26/100 -> 0 | AR34: =AR10*AR26/100 -> 0 | AT34: =AT10*AT26/100 -> 0 | AV34: =AV10*AV26/100 -> 0 | AX34: =AX10*AX26/100 -> 0 | AZ34: =AZ10*AZ26/100 -> 0 | BB34: =BB10*BB26/100 -> 0 | BD34: =BD10*BD26/100 -> 0 | BF34: =BF10*BF26/100 -> 0 | BH34: =BH10*BH26/100 -> 0 | BJ34: =BJ10*BJ26/100 -> 0 | BL34: =BL10*BL26/100 -> 0 | BN34: =BN10*BN26/100 -> 0
B35: 3692 | C35: 15 | D35: в том числе: малогабаритное оборудование | E35: 1000 т | F35: =F11*F27/100 -> 0 | H35: =H11*H27/100 -> 0 | J35: =J11*J27/100 -> 0 | L35: =L11*L27/100 -> 0 | N35: =N11*N27/100 -> 0 | P35: =P11*P27/100 -> 0 | R35: =R11*R27/100 -> 0 | T35: =T11*T27/100 -> 0 | V35: =V11*V27/100 -> 0 | X35: =X11*X27/100 -> 0 | Z35: =Z11*Z27/100 -> 0 | AB35: =AB11*AB27/100 -> 0 | AD35: =AD11*AD27/100 -> 0 | AF35: =AF11*AF27/100 -> 0 | AH35: =AH11*AH27/100 -> 0 | AJ35: =AJ11*AJ27/100 -> 0 | AL35: =AL11*AL27/100 -> 0 | AN35: =AN11*AN27/100 -> 0 | AP35: =AP11*AP27/100 -> 0 | AR35: =AR11*AR27/100 -> 0 | AT35: =AT11*AT27/100 -> 0 | AV35: =AV11*AV27/100 -> 0 | AX35: =AX11*AX27/100 -> 0 | AZ35: =AZ11*AZ27/100 -> 0 | BB35: =BB11*BB27/100 -> 0 | BD35: =BD11*BD27/100 -> 0 | BF35: =BF11*BF27/100 -> 0 | BH35: =BH11*BH27/100 -> 0 | BJ35: =BJ11*BJ27/100 -> 0 | BL35: =BL11*BL27/100 -> 0 | BN35: =BN11*BN27/100 -> 0
B36: 3693 | C36: 16 | D36: в том числе: малогабаритное оборудование ИТ и электросвязи | E36: 1000 т | F36: =F12*F28/100 -> 0 | H36: =H12*H28/100 -> 0 | J36: =J12*J28/100 -> 0 | L36: =L12*L28/100 -> 0 | N36: =N12*N28/100 -> 0 | P36: =P12*P28/100 -> 0 | R36: =R12*R28/100 -> 0 | T36: =T12*T28/100 -> 0 | V36: =V12*V28/100 -> 0 | X36: =X12*X28/100 -> 0 | Z36: =Z12*Z28/100 -> 0 | AB36: =AB12*AB28/100 -> 0 | AD36: =AD12*AD28/100 -> 0 | AF36: =AF12*AF28/100 -> 0 | AH36: =AH12*AH28/100 -> 0 | AJ36: =AJ12*AJ28/100 -> 0 | AL36: =AL12*AL28/100 -> 0 | AN36: =AN12*AN28/100 -> 0 | AP36: =AP12*AP28/100 -> 0 | AR36: =AR12*AR28/100 -> 0 | AT36: =AT12*AT28/100 -> 0 | AV36: =AV12*AV28/100 -> 0 | AX36: =AX12*AX28/100 -> 0 | AZ36: =AZ12*AZ28/100 -> 0 | BB36: =BB12*BB28/100 -> 0 | BD36: =BD12*BD28/100 -> 0 | BF36: =BF12*BF28/100 -> 0 | BH36: =BH12*BH28/100 -> 0 | BJ36: =BJ12*BJ28/100 -> 0 | BL36: =BL12*BL28/100 -> 0 | BN36: =BN12*BN28/100 -> 0
C38: Примечание.
C39: • | D39: Если запрошенные данные отсутствуют, оставьте ячейку пустой. Если запрашиваемая переменная неприменима (явление не имеет отношения) к стране или значение составляет менее половины единицы измерения, в ячейке следует указать «0».
C40: • | D40: Просьба представить в разделе «Сноски» информацию об источнике и методологии сбора данных по указанным значениям, в частности о методах оценки (если таковые имеются) и типах первоисточников данных (например, опросы или административные данные).
B43: 1 | C43: Сноски
C45: Код | D45: Текст сноски

Sheet Waste recycled
B1: 165 | C1: Обращение отходами (частично основано на Вопроснике СОООН/ЮНЕП по статистике окружающей среды, раздел «Отходы», таблица R2)
F2: • Пожалуйста, проверьте верность данных, если цвет шрифта переменился на красный.
B3: 2 | D3: Категория | E3: Единица измерения | F3: 2000 | H3: 2001 | J3: 2002 | L3: 2003 | N3: 2004 | P3: 2005 | R3: 2006 | T3: 2007 | V3: 2008 | X3: 2009 | Z3: 2010 | AB3: 2011 | AD3: 2012 | AF3: 2013 | AH3: 2014 | AJ3: 2015 | AL3: 2016 | AN3: 2017 | AP3: 2018 | AR3: 2019 | AT3: 2020 | AV3: 2021 | AX3: 2022 | AZ3: 2023 | BB3: 2024 | BD3: 2025 | BF3: 2026 | BH3: 2027 | BJ3: 2028 | BL3: 2029 | BN3: 2030
D4: Общий объем отходов, поступающих на переработку | E4: 1000 т | F4: =SUM(F5:F9) -> 0 | H4: =SUM(H5:H9) -> 0 | J4: =SUM(J5:J9) -> 0 | L4: =SUM(L5:L9) -> 0 | N4: =SUM(N5:N9) -> 0 | P4: =SUM(P5:P9) -> 0 | R4: =SUM(R5:R9) -> 0 | T4: =SUM(T5:T9) -> 0 | V4: =SUM(V5:V9) -> 0 | X4: =SUM(X5:X9) -> 0 | Z4: =SUM(Z5:Z9) -> 0 | AB4: =SUM(AB5:AB9) -> 0 | AD4: =SUM(AD5:AD9) -> 0 | AF4: =SUM(AF5:AF9) -> 0 | AH4: =SUM(AH5:AH9) -> 0 | AJ4: =SUM(AJ5:AJ9) -> 0 | AL4: =SUM(AL5:AL9) -> 0 | AN4: =SUM(AN5:AN9) -> 0 | AP4: =SUM(AP5:AP9) -> 0 | AR4: =SUM(AR5:AR9) -> 0 | AT4: =SUM(AT5:AT9) -> 0 | AV4: =SUM(AV5:AV9) -> 0 | AX4: =SUM(AX5:AX9) -> 0 | AZ4: =SUM(AZ5:AZ9) -> 0 | BB4: =SUM(BB5:BB9) -> 0 | BD4: =SUM(BD5:BD9) -> 0 | BF4: =SUM(BF5:BF9) -> 0 | BH4: =SUM(BH5:BH9) -> 0 | BJ4: =SUM(BJ5:BJ9) -> 0 | BL4: =SUM(BL5:BL9) -> 0 | BN4: =SUM(BN5:BN9) -> 0
D5: Доля, относящаяся к категории: обрабатывающая промышленность (подразделы МСОК 10–33) | E5: 1000 т
D6: Доля, относящаяся к категории: снабжение электричеством, газом, паром и кондиционированным воздухом (подраздел МСОК 35) | E6: 1000 т
D7: Доля, относящаяся к категории: отходы от других видов экономической деятельности, кроме тех, которые перечислены в подразделе МСОК 38 | E7: 1000 т
D8: Доля, относящаяся к категории: отходы от домашних хозяйств | E8: 1000 т
D9: Доля, относящаяся к категории: электронные отходы | E9: 1000 т | F9: ='E-waste'!F29 -> 0 | H9: ='E-waste'!H29 -> 0 | J9: ='E-waste'!J29 -> 0 | L9: ='E-waste'!L29 -> 0 | N9: ='E-waste'!N29 -> 0 | P9: ='E-waste'!P29 -> 0 | R9: ='E-waste'!R29 -> 0 | T9: ='E-waste'!T29 -> 0 | V9: ='E-waste'!V29 -> 0 | X9: ='E-waste'!X29 -> 0 | Z9: ='E-waste'!Z29 -> 0 | AB9: ='E-waste'!AB29 -> 0 | AD9: ='E-waste'!AD29 -> 0 | AF9: ='E-waste'!AF29 -> 0 | AH9: ='E-waste'!AH29 -> 0 | AJ9: ='E-waste'!AJ29 -> 0 | AL9: ='E-waste'!AL29 -> 0 | AN9: ='E-waste'!AN29 -> 0 | AP9: ='E-waste'!AP29 -> 0 | AR9: ='E-waste'!AR29 -> 0 | AT9: ='E-waste'!AT29 -> 0 | AV9: ='E-waste'!AV29 -> 0 | AX9: ='E-waste'!AY29 -> 0 | AZ9: ='E-waste'!BA29 -> 0 | BB9: ='E-waste'!BC29 -> 0 | BD9: ='E-waste'!BE29 -> 0 | BF9: ='E-waste'!BG29 -> 0 | BH9: ='E-waste'!BI29 -> 0 | BJ9: ='E-waste'!BK29 -> 0 | BL9: ='E-waste'!BM29 -> 0 | BN9: ='E-waste'!BO29 -> 0
B10: 1778 | D10: Отходы, импортированные для переработки в течение года | E10: 1000 т | F10: =SUM(F11:F15) -> 0 | H10: =SUM(H11:H15) -> 0 | J10: =SUM(J11:J15) -> 0 | L10: =SUM(L11:L15) -> 0 | N10: =SUM(N11:N15) -> 0 | P10: =SUM(P11:P15) -> 0 | R10: =SUM(R11:R15) -> 0 | T10: =SUM(T11:T15) -> 0 | V10: =SUM(V11:V15) -> 0 | X10: =SUM(X11:X15) -> 0 | Z10: =SUM(Z11:Z15) -> 0 | AB10: =SUM(AB11:AB15) -> 0 | AD10: =SUM(AD11:AD15) -> 0 | AF10: =SUM(AF11:AF15) -> 0 | AH10: =SUM(AH11:AH15) -> 0 | AJ10: =SUM(AJ11:AJ15) -> 0 | AL10: =SUM(AL11:AL15) -> 0 | AN10: =SUM(AN11:AN15) -> 0 | AP10: =SUM(AP11:AP15) -> 0 | AR10: =SUM(AR11:AR15) -> 0 | AT10: =SUM(AT11:AT15) -> 0 | AV10: =SUM(AV11:AV15) -> 0 | AX10: =SUM(AX11:AX15) -> 0 | AZ10: =SUM(AZ11:AZ15) -> 0 | BB10: =SUM(BB11:BB15) -> 0 | BD10: =SUM(BD11:BD15) -> 0 | BF10: =SUM(BF11:BF15) -> 0 | BH10: =SUM(BH11:BH15) -> 0 | BJ10: =SUM(BJ11:BJ15) -> 0 | BL10: =SUM(BL11:BL15) -> 0 | BN10: =SUM(BN11:BN15) -> 0
D11: Доля, относящаяся к категории: обрабатывающая промышленность (подразделы МСОК 10–33) | E11: 1000 т
D12: Доля, относящаяся к категории: снабжение электричеством, газом, паром и кондиционированным воздухом (подраздел МСОК 35) | E12: 1000 т
D13: Доля, относящаяся к категории: отходы от других видов экономической деятельности, кроме тех, которые перечислены в подразделе МСОК 38 | E13: 1000 т
D14: Доля, относящаяся к категории: отходы от домашних хозяйств | E14: 1000 т
D15: Доля, относящаяся к категории: электронные отходы | E15: 1000 т
B16: 1779 | D16: Отходы, экспортированные для переработки в течение года | E16: 1000 т | F16: =SUM(F17:F21) -> 0 | H16: =SUM(H17:H21) -> 0 | J16: =SUM(J17:J21) -> 0 | L16: =SUM(L17:L21) -> 0 | N16: =SUM(N17:N21) -> 0 | P16: =SUM(P17:P21) -> 0 | R16: =SUM(R17:R21) -> 0 | T16: =SUM(T17:T21) -> 0 | V16: =SUM(V17:V21) -> 0 | X16: =SUM(X17:X21) -> 0 | Z16: =SUM(Z17:Z21) -> 0 | AB16: =SUM(AB17:AB21) -> 0 | AD16: =SUM(AD17:AD21) -> 0 | AF16: =SUM(AF17:AF21) -> 0 | AH16: =SUM(AH17:AH21) -> 0 | AJ16: =SUM(AJ17:AJ21) -> 0 | AL16: =SUM(AL17:AL21) -> 0 | AN16: =SUM(AN17:AN21) -> 0 | AP16: =SUM(AP17:AP21) -> 0 | AR16: =SUM(AR17:AR21) -> 0 | AT16: =SUM(AT17:AT21) -> 0 | AV16: =SUM(AV17:AV21) -> 0 | AX16: =SUM(AX17:AX21) -> 0 | AZ16: =SUM(AZ17:AZ21) -> 0 | BB16: =SUM(BB17:BB21) -> 0 | BD16: =SUM(BD17:BD21) -> 0 | BF16: =SUM(BF17:BF21) -> 0 | BH16: =SUM(BH17:BH21) -> 0 | BJ16: =SUM(BJ17:BJ21) -> 0 | BL16: =SUM(BL17:BL21) -> 0 | BN16: =SUM(BN17:BN21) -> 0
D17: Доля, относящаяся к категории: обрабатывающая промышленность (подразделы МСОК 10–33) | E17: 1000 т
D18: Доля, относящаяся к категории: снабжение электричеством, газом, паром и кондиционированным воздухом (подраздел МСОК 35) | E18: 1000 т
D19: Доля, относящаяся к категории: отходы от других видов экономической деятельности, кроме тех, которые перечислены в подразделе МСОК 38 | E19: 1000 т
D20: Доля, относящаяся к категории: отходы от домашних хозяйств | E20: 1000 т
D21: Доля, относящаяся к категории: электронные отходы | E21: 1000 т
B22: 2575
C23: Примечания.
C24: • | D24: Обратите внимание, что единицей измерения в этой таблице являются «тонны (метрические тонны)».
C25: • | D25: Если запрошенные данные отсутствуют, оставьте ячейку пустой. Если запрашиваемая переменная неприменима (явление не имеет отношения) к стране или значение составляет менее половины единицы измерения, в ячейке следует указать «0».
C26: • | D26: Просьба представить в разделе «Сноски» информацию об источнике и методологии сбора данных по указанным значениям, в частности о методах оценки (если таковые имеются) и типах первоисточников данных (например, опросы или административные данные).
B29: 1 | C29: Сноски
C31: Код | D31: Текст сноски

Sheet Waste recycled-Basel
A1: Переработка отходов по потокам рециркуляции, предусмотренным Базельской конвенцией
D2: • Пожалуйста, проверьте верность данных, если цвет шрифта переменился на красный.
B3: Категория | C3: Единица измерения | D3: 2000 | F3: 2001 | H3: 2002 | J3: 2003 | L3: 2004 | N3: 2005 | P3: 2006 | R3: 2007 | T3: 2008 | V3: 2009 | X3: 2010 | Z3: 2011 | AB3: 2012 | AD3: 2013 | AF3: 2014 | AH3: 2015 | AJ3: 2016 | AL3: 2017 | AN3: 2018 | AP3: 2019 | AR3: 2020 | AT3: 2021 | AV3: 2022 | AX3: 2023 | AZ3: 2024 | BB3: 2025 | BD3: 2026 | BF3: 2027 | BH3: 2028 | BJ3: 2029 | BL3: 2030
B4: Общий объем отходов, поступающих на переработку | C4: 1000 т | D4: =SUM(D5:D25) -> 0 | F4: =SUM(F5:F25) -> 0 | H4: =SUM(H8:H25) -> 0 | J4: =SUM(J5:J25) -> 0 | L4: =SUM(L5:L25) -> 0 | N4: =SUM(N5:N25) -> 0 | P4: =SUM(P5:P25) -> 0 | R4: =SUM(R5:R25) -> 0 | T4: =SUM(T5:T25) -> 0 | V4: =SUM(V5:V25) -> 0 | X4: =SUM(X5:X25) -> 0 | Z4: =SUM(Z5:Z25) -> 0 | AB4: =SUM(AB5:AB25) -> 0 | AD4: =SUM(AD5:AD25) -> 0 | AF4: =SUM(AF5:AF25) -> 0 | AH4: =SUM(AH5:AH25) -> 0 | AJ4: =SUM(AJ5:AJ25) -> 0 | AL4: =SUM(AL5:AL25) -> 0 | AN4: =SUM(AN5:AN25) -> 0 | AP4: =SUM(AP5:AP25) -> 0 | AR4: =SUM(AR5:AR25) -> 0 | AT4: =SUM(AT5:AT25) -> 0 | AV4: =SUM(AV5:AV25) -> 0 | AX4: =SUM(AX5:AX25) -> 0 | AZ4: =SUM(AZ5:AZ25) -> 0 | BB4: =SUM(BB5:BB25) -> 0 | BD4: =SUM(BD5:BD25) -> 0 | BF4: =SUM(BF5:BF25) -> 0 | BH4: =SUM(BH5:BH25) -> 0 | BJ4: =SUM(BJ5:BJ25) -> 0 | BL4: =SUM(BL5:BL25) -> 0
A5: Y1 | B5: Медицинские отходы, полученные в результате врачебного ухода за пациентами в больницах, поликлиниках и клиниках | C5: 1000 т
A6: Y2 | B6: Отходы производства и переработки фармацевтической продукции | C6: 1000 т
A7: Y3 | B7: Ненужные фармацевтические товары, лекарства и препараты | C7: 1000 т
A8: Y4 | B8: Отходы производства… биоцидов и фитофармацевтических препаратов | C8: 1000 т
A9: Y5 | B9: Отходы производства… консервантов древесины | C9: 1000 т
A10: Y6 | B10: Отходы производства, получения и применения органических растворителей | C10: 1000 т
A11: Y7 | B11: Отходы тепловой обработки и облагораживания материалов, содержащие цианиды | C11: 1000 т
A12: Y8 | B12: Ненужные минеральные масла, не пригодные для первоначально запланированного применения | C12: 1000 т
A13: Y9 | B13: Отходы в виде смесей и эмульсий масел/воды, углеводородов/воды | C13: 1000 т
A14: Y10 | B14: Ненужные вещества… содержащие ПХБ, ПХТ, ПББ | C14: 1000 т
A15: Y11 | B15: Ненужные смолистые отходы перегонки, дистилляции или любой пиролитической обработки | C15: 1000 т
A16: Y12 | B16: Отходы производства… чернил, красителей, пигментов, красок, и т. д. | C16: 1000 т
... A25: NEC | B25: Отходы, не классифицируемые в других категориях | C25: 1000 т
B26: Отходы, импортированные для переработки в течение года | C26: 1000 т | D26: =SUM(D27:D47) -> 0 | F26: =SUM(F27:F47) -> 0 | H26: =SUM(H27:H47) -> 0 | J26: =SUM(J27:J47) -> 0 | L26: =SUM(L27:L47) -> 0 | N26: =SUM(N27:N47) -> 0 | P26: =SUM(P27:P47) -> 0 | R26: =SUM(R27:R47) -> 0 | T26: =SUM(T27:T47) -> 0 | V26: =SUM(V27:V47) -> 0 | X26: =SUM(X27:X47) -> 0 | Z26: =SUM(Z27:Z47) -> 0 | AB26: =SUM(AB27:AB47) -> 0 | AD26: =SUM(AD27:AD47) -> 0 | AF26: =SUM(AF27:AF47) -> 0 | AH26: =SUM(AH27:AH47) -> 0 | AJ26: =SUM(AJ27:AJ47) -> 0 | AL26: =SUM(AL27:AL47) -> 0 | AN26: =SUM(AN27:AN47) -> 0 | AP26: =SUM(AP27:AP47) -> 0 | AR26: =SUM(AR27:AR47) -> 0 | AT26: =SUM(AT27:AT47) -> 0 | AV26: =SUM(AV27:AV47) -> 0 | AX26: =SUM(AX27:AX47) -> 0 | AZ26: =SUM(AZ27:AZ47) -> 0 | BB26: =SUM(BB27:BB47) -> 0 | BD26: =SUM(BD27:BD47) -> 0 | BF26: =SUM(BF27:BF47) -> 0 | BH26: =SUM(BH27:BH47) -> 0 | BJ26: =SUM(BJ27:BJ47) -> 0 | BL26: =SUM(BL27:BL47) -> 0
A27: Y1 | B27: Медицинские отходы, полученные в результате врачебного ухода за пациентами в больницах, поликлиниках и клиниках | C27: 1000 т
A28: Y2 | B28: Отходы производства и переработки фармацевтической продукции | C28: 1000 т
A29: Y3 | B29: Ненужные фармацевтические товары, лекарства и препараты | C29: 1000 т
A30: Y4 | B30: Отходы производства… биоцидов и фитофармацевтических препаратов | C30: 1000 т
A31: Y5 | B31: Отходы производства… консервантов древесины | C31: 1000 т
A32: Y6 | B32: Отходы производства, получения и применения органических растворителей | C32: 1000 т
A33: Y7 | B33: Отходы тепловой обработки и облагораживания материалов, содержащие цианиды | C33: 1000 т
A34: Y8 | B34: Ненужные минеральные масла, не пригодные для первоначально запланированного применения | C34: 1000 т
A35: Y9 | B35: Отходы в виде смесей и эмульсий масел/воды, углеводородов/воды | C35: 1000 т
A36: Y10 | B36: Ненужные вещества… содержащие ПХБ, ПХТ, ПББ | C36: 1000 т
A37: Y11 | B37: Ненужные смолистые отходы перегонки, дистилляции или любой пиролитической обработки | C37: 1000 т
A38: Y12 | B38: Отходы производства… чернил, красителей, пигментов, красок, и т. д. | C38: 1000 т
... A47: NEC | B47: Отходы, не классифицируемые в других категориях | C47: 1000 т
B48: Отходы, экспортированные для переработки в течение года | C48: 1000 т | D48: =SUM(D49:D69) -> 0 | F48: =SUM(F49:F69) -> 0 | H48: =SUM(H49:H69) -> 0 | J48: =SUM(J49:J69) -> 0 | L48: =SUM(L49:L69) -> 0 | N48: =SUM(N49:N69) -> 0 | P48: =SUM(P49:P69) -> 0 | R48: =SUM(R49:R69) -> 0 | T48: =SUM(T49:T69) -> 0 | V48: =SUM(V49:V69) -> 0 | X48: =SUM(X49:X69) -> 0 | Z48: =SUM(Z49:Z69) -> 0 | AB48: =SUM(AB49:AB69) -> 0 | AD48: =SUM(AD49:AD69) -> 0 | AF48: =SUM(AF49:AF69) -> 0 | AH48: =SUM(AH49:AH69) -> 0 | AJ48: =SUM(AJ49:AJ69) -> 0 | AL48: =SUM(AL49:AL69) -> 0 | AN48: =SUM(AN49:AN69) -> 0 | AP48: =SUM(AP49:AP69) -> 0 | AR48: =SUM(AR49:AR69) -> 0 | AT48: =SUM(AT49:AT69) -> 0 | AV48: =SUM(AV49:AV69) -> 0 | AX48: =SUM(AX49:AX69) -> 0 | AZ48: =SUM(AZ49:AZ69) -> 0 | BB48: =SUM(BB49:BB69) -> 0 | BD48: =SUM(BD49:BD69) -> 0 | BF48: =SUM(BF49:BF69) -> 0 | BH48: =SUM(BH49:BH69) -> 0 | BJ48: =SUM(BJ49:BJ69) -> 0 | BL48: =SUM(BL49:BL69) -> 0
A49: Y1 | B49: Медицинские отходы, полученные в результате врачебного ухода за пациентами в больницах, поликлиниках и клиниках | C49: 1000 т
A50: Y2 | B50: Отходы производства и переработки фармацевтической продукции | C50: 1000 т
A51: Y3 | B51: Ненужные фармацевтические товары, лекарства и препараты | C51: 1000 т
A52: Y4 | B52: Отходы производства… биоцидов и фитофармацевтических препаратов | C52: 1000 т
A53: Y5 | B53: Отходы производства… консервантов древесины | C53: 1000 т
A54: Y6 | B54: Отходы производства, получения и применения органических растворителей | C54: 1000 т
A55: Y7 | B55: Отходы тепловой обработки и облагораживания материалов, содержащие цианиды | C55: 1000 т
A56: Y8 | B56: Ненужные минеральные масла, не пригодные для первоначально запланированного применения | C56: 1000 т
A57: Y9 | B57: Отходы в виде смесей и эмульсий масел/воды, углеводородов/воды | C57: 1000 т
A58: Y10 | B58: Ненужные вещества… содержащие ПХБ, ПХТ, ПББ | C58: 1000 т
A59: Y11 | B59: Ненужные смолистые отходы перегонки, дистилляции или любой пиролитической обработки | C59: 1000 т
A60: Y12 | B60: Отходы производства… чернил, красителей, пигментов, красок, и т. д. | C60: 1000 т
... A69: NEC | B69: Отходы, не классифицируемые в других категориях | C69: 1000 т
A71: Примечания.
A72: • | B72: Обратите внимание, что единицей измерения в этой таблице являются «тонны (метрические тонны)».
A73: • | B73: Если запрошенные данные отсутствуют, оставьте ячейку пустой. Если запрашиваемая переменная неприменима (явление не имеет отношения) к стране или значение составляет менее половины единицы измерения, в ячейке следует указать «0».
A74: • | B74: Просьба представить в разделе «Сноски» информацию об источнике и методологии сбора данных по указанным значениям, в частности о методах оценки (если таковые имеются) и типах первоисточников данных (например, опросы или административные данные).
A77: Сноски
A79: Код | B79: Текст сноски

Sheet National recycling rate
B2: Национальный уровень переработки отходов (категории отходов, предусмотренные СОООН/ЮНЕП)
B3: Категория | C3: Единица измерения | D3: 2000 | F3: 2001 | H3: 2002 | J3: 2003 | L3: 2004 | N3: 2005 | P3: 2006 | R3: 2007 | T3: 2008 | V3: 2009 | X3: 2010 | Z3: 2011 | AB3: 2012 | AD3: 2013 | AF3: 2014 | AH3: 2015 | AJ3: 2016 | AL3: 2017 | AN3: 2018 | AP3: 2019 | AR3: 2020 | AT3: 2021 | AV3: 2022 | AX3: 2023 | AZ3: 2024 | BB3: 2025 | BD3: 2026 | BF3: 2027 | BH3: 2028 | BJ3: 2029 | BL3: 2030
B4: Общий объем отходов, поступающих на переработку | C4: 1000 т | D4: ='Waste recycled'!F4 -> 0 | F4: ='Waste recycled'!H4 -> 0 | H4: ='Waste recycled'!J4 -> 0 | J4: ='Waste recycled'!L4 -> 0 | L4: ='Waste recycled'!N4 -> 0 | N4: ='Waste recycled'!P4 -> 0 | P4: ='Waste recycled'!R4 -> 0 | R4: ='Waste recycled'!T4 -> 0 | T4: ='Waste recycled'!V4 -> 0 | V4: ='Waste recycled'!X4 -> 0 | X4: ='Waste recycled'!Z4 -> 0 | Z4: ='Waste recycled'!AB4 -> 0 | AB4: ='Waste recycled'!AD4 -> 0 | AD4: ='Waste recycled'!AF4 -> 0 | AF4: ='Waste recycled'!AH4 -> 0 | AH4: ='Waste recycled'!AJ4 -> 0 | AJ4: ='Waste recycled'!AL4 -> 0 | AL4: ='Waste recycled'!AN4 -> 0 | AN4: ='Waste recycled'!AP4 -> 0 | AP4: ='Waste recycled'!AR4 -> 0 | AR4: ='Waste recycled'!AT4 -> 0 | AT4: ='Waste recycled'!AV4 -> 0 | AV4: ='Waste recycled'!AX4 -> 0 | AX4: ='Waste recycled'!AZ4 -> 0 | AZ4: ='Waste recycled'!BB4 -> 0 | BB4: ='Waste recycled'!BD4 -> 0 | BD4: ='Waste recycled'!BF4 -> 0 | BF4: ='Waste recycled'!BH4 -> 0 | BH4: ='Waste recycled'!BJ4 -> 0 | BJ4: ='Waste recycled'!BL4 -> 0 | BL4: ='Waste recycled'!BN4 -> 0
B5: Отходы, импортированные для переработки в течение года | C5: 1000 т | D5: ='National recycling rate'!D19 -> 0 | F5: ='Waste recycled'!H10 -> 0 | H5: ='Waste recycled'!J10 -> 0 | J5: ='Waste recycled'!L10 -> 0 | L5: ='Waste recycled'!N10 -> 0 | N5: ='Waste recycled'!P10 -> 0 | P5: ='Waste recycled'!R10 -> 0 | R5: ='Waste recycled'!T10 -> 0 | T5: ='Waste recycled'!V10 -> 0 | V5: ='Waste recycled'!X10 -> 0 | X5: ='Waste recycled'!Z10 -> 0 | Z5: ='Waste recycled'!AB10 -> 0 | AB5: ='Waste recycled'!AD10 -> 0 | AD5: ='Waste recycled'!AF10 -> 0 | AF5: ='Waste recycled'!AH10 -> 0 | AH5: ='Waste recycled'!AJ10 -> 0 | AJ5: ='Waste recycled'!AL10 -> 0 | AL5: ='Waste recycled'!AN10 -> 0 | AN5: ='Waste recycled'!AP10 -> 0 | AP5: ='Waste recycled'!AR10 -> 0 | AR5: ='Waste recycled'!AT10 -> 0 | AT5: ='Waste recycled'!AV10 -> 0 | AV5: ='Waste recycled'!AX10 -> 0 | AX5: ='Waste recycled'!AZ10 -> 0 | AZ5: ='Waste recycled'!BB10 -> 0 | BB5: ='Waste recycled'!BD10 -> 0 | BD5: ='Waste recycled'!BF10 -> 0 | BF5: ='Waste recycled'!BH10 -> 0 | BH5: ='Waste recycled'!BJ10 -> 0 | BJ5: ='Waste recycled'!BL10 -> 0 | BL5: ='Waste recycled'!BN10 -> 0
B6: Отходы, экспортированные для переработки в течение года | C6: 1000 т | D6: ='Waste recycled-Basel'!D27 -> 0 | F6: ='Waste recycled'!H16 -> 0 | H6: ='Waste recycled'!J16 -> 0 | J6: ='Waste recycled'!L16 -> 0 | L6: ='Waste recycled'!N16 -> 0 | N6: ='Waste recycled'!P16 -> 0 | P6: ='Waste recycled'!R16 -> 0 | R6: ='Waste recycled'!T16 -> 0 | T6: ='Waste recycled'!V16 -> 0 | V6: ='Waste recycled'!X16 -> 0 | X6: ='Waste recycled'!Z16 -> 0 | Z6: ='Waste recycled'!AB16 -> 0 | AB6: ='Waste recycled'!AD16 -> 0 | AD6: ='Waste recycled'!AF16 -> 0 | AF6: ='Waste recycled'!AH16 -> 0 | AH6: ='Waste recycled'!AJ16 -> 0 | AJ6: ='Waste recycled'!AL16 -> 0 | AL6: ='Waste recycled'!AN16 -> 0 | AN6: ='Waste recycled'!AP16 -> 0 | AP6: ='Waste recycled'!AR16 -> 0 | AR6: ='Waste recycled'!AT16 -> 0 | AT6: ='Waste recycled'!AV16 -> 0 | AV6: ='Waste recycled'!AX16 -> 0 | AX6: ='Waste recycled'!AZ16 -> 0 | AZ6: ='Waste recycled'!BB16 -> 0 | BB6: ='Waste recycled'!BD16 -> 0 | BD6: ='Waste recycled'!BF16 -> 0 | BF6: ='Waste recycled'!BH16 -> 0 | BH6: ='Waste recycled'!BJ16 -> 0 | BJ6: ='Waste recycled'!BL16 -> 0 | BL6: ='Waste recycled'!BN16 -> 0
B7: Национальный уровень переработки | C7: % | D7: =(D4+D6-D5)/'Waste generation'!D10 -> #DIV/0! | F7: =(F4+F6-F5)/'Waste generation'!F10 -> #DIV/0! | H7: =(H4+H6-H5)/'Waste generation'!H10 -> #DIV/0! | J7: =(J4+J6-J5)/'Waste generation'!J10 -> #DIV/0! | L7: =(L4+L6-L5)/'Waste generation'!L10 -> #DIV/0! | N7: =(N4+N6-N5)/'Waste generation'!N10 -> #DIV/0! | P7: =(P4+P6-P5)/'Waste generation'!P10 -> #DIV/0! | R7: =(R4+R6-R5)/'Waste generation'!R10 -> #DIV/0! | T7: =(T4+T6-T5)/'Waste generation'!T10 -> #DIV/0! | V7: =(V4+V6-V5)/'Waste generation'!V10 -> #DIV/0! | X7: =(X4+X6-X5)/'Waste generation'!X10 -> #DIV/0! | Z7: =(Z4+Z6-Z5)/'Waste generation'!Z10 -> #DIV/0! | AB7: =(AB4+AB6-AB5)/'Waste generation'!AB10 -> #DIV/0! | AD7: =(AD4+AD6-AD5)/'Waste generation'!AD10 -> #DIV/0! | AF7: =(AF4+AF6-AF5)/'Waste generation'!AF10 -> #DIV/0! | AH7: =(AH4+AH6-AH5)/'Waste generation'!AH10 -> #DIV/0! | AJ7: =(AJ4+AJ6-AJ5)/'Waste generation'!AJ10 -> #DIV/0! | AL7: =(AL4+AL6-AL5)/'Waste generation'!AL10 -> #DIV/0! | AN7: =(AN4+AN6-AN5)/'Waste generation'!AN10 -> #DIV/0! | AP7: =(AP4+AP6-AP5)/'Waste generation'!AP10 -> #DIV/0! | AR7: =(AR4+AR6-AR5)/'Waste generation'!AR10 -> #DIV/0! | AT7: =(AT4+AT6-AT5)/'Waste generation'!AT10 -> #DIV/0! | AV7: =(AV4+AV6-AV5)/'Waste generation'!AV10 -> #DIV/0! | AX7: =(AX4+AX6-AX5)/'Waste generation'!AX10 -> #DIV/0! | AZ7: =(AZ4+AZ6-AZ5)/'Waste generation'!AZ10 -> #DIV/0! | BB7: =(BB4+BB6-BB5)/'Waste generation'!BB10 -> #DIV/0! | BD7: =(BD4+BD6-BD5)/'Waste generation'!BD10 -> #DIV/0! | BF7: =(BF4+BF6-BF5)/'Waste generation'!BF10 -> #DIV/0! | BH7: =(BH4+BH6-BH5)/'Waste generation'!BH10 -> #DIV/0! | BJ7: =(BJ4+BJ6-BJ5)/'Waste generation'!BJ10 -> #DIV/0! | BL7: =(BL4+BL6-BL5)/'Waste generation'!BL10 -> #DIV/0!
B9: Интенсивность образования отходов
C10: Единица измерения | D10: 2000 | F10: 2001 | H10: 2002 | J10: 2003 | L10: 2004 | N10: 2005 | P10: 2006 | R10: 2007 | T10: 2008 | V10: 2009 | X10: 2010 | Z10: 2011 | AB10: 2012 | AD10: 2013 | AF10: 2014 | AH10: 2015 | AJ10: 2016 | AL10: 2017 | AN10: 2018 | AP10: 2019 | AR10: 2020 | AT10: 2021 | AV10: 2022 | AX10: 2023 | AZ10: 2024 | BB10: 2025 | BD10: 2026 | BF10: 2027 | BH10: 2028 | BJ10: 2029 | BL10: 2030
B11: Всего образованных отходов (категории отходов, предусмотренные СОООН/ЮНЕП) | C11: 1000 т | D11: ='Waste generation'!$D$10 -> 0 | F11: ='Waste generation'!$F$10 -> 0 | H11: ='Waste generation'!$H$10 -> 0 | J11: ='Waste generation'!J10 -> 0 | L11: ='Waste generation'!L10 -> 0 | N11: ='Waste generation'!N10 -> 0 | P11: ='Waste generation'!P10 -> 0 | R11: ='Waste generation'!R10 -> 0 | T11: ='Waste generation'!T10 -> 0 | V11: ='Waste generation'!V10 -> 0 | X11: ='Waste generation'!X10 -> 0 | Z11: ='Waste generation'!Z10 -> 0 | AB11: ='Waste generation'!AB10 -> 0 | AD11: ='Waste generation'!AD10 -> 0 | AF11: ='Waste generation'!AF10 -> 0 | AH11: ='Waste generation'!AH10 -> 0 | AJ11: ='Waste generation'!AJ10 -> 0 | AL11: ='Waste generation'!AL10 -> 0 | AN11: ='Waste generation'!AN10 -> 0 | AP11: ='Waste generation'!AP10 -> 0 | AR11: ='Waste generation'!AR10 -> 0 | AT11: ='Waste generation'!AT10 -> 0 | AV11: ='Waste generation'!AV10 -> 0 | AX11: ='Waste generation'!AX10 -> 0 | AZ11: ='Waste generation'!AZ10 -> 0 | BB11: ='Waste generation'!BB10 -> 0 | BD11: ='Waste generation'!BD10 -> 0 | BF11: ='Waste generation'!BF10 -> 0 | BH11: ='Waste generation'!BH10 -> 0 | BJ11: ='Waste generation'!BJ10 -> 0 | BL11: ='Waste generation'!BL10 -> 0
B12: Внутреннее материальное потребление | C12: 1000 т
B13: Всего образованных отходов / ВМП | D13: =D11/D12 -> #DIV/0! | F13: =F11/F12 -> #DIV/0! | H13: =H11/H12 -> #DIV/0! | J13: =J11/J12 -> #DIV/0! | L13: =L11/L12 -> #DIV/0! | N13: =N11/N12 -> #DIV/0! | P13: =P11/P12 -> #DIV/0! | R13: =R11/R12 -> #DIV/0! | T13: =T11/T12 -> #DIV/0! | V13: =V11/V12 -> #DIV/0! | X13: =X11/X12 -> #DIV/0! | Z13: =Z11/Z12 -> #DIV/0! | AB13: =AB11/AB12 -> #DIV/0! | AD13: =AD11/AD12 -> #DIV/0! | AF13: =AF11/AF12 -> #DIV/0! | AH13: =AH11/AH12 -> #DIV/0! | AJ13: =AJ11/AJ12 -> #DIV/0! | AL13: =AL11/AL12 -> #DIV/0! | AN13: =AN11/AN12 -> #DIV/0! | AP13: =AP11/AP12 -> #DIV/0! | AR13: =AR11/AR12 -> #DIV/0! | AT13: =AT11/AT12 -> #DIV/0! | AV13: =AV11/AV12 -> #DIV/0! | AX13: =AX11/AX12 -> #DIV/0! | AZ13: =AZ11/AZ12 -> #DIV/0! | BB13: =BB11/BB12 -> #DIV/0! | BD13: =BD11/BD12 -> #DIV/0! | BF13: =BF11/BF12 -> #DIV/0! | BH13: =BH11/BH12 -> #DIV/0! | BJ13: =BJ11/BJ12 -> #DIV/0! | BL13: =BL11/BL12 -> #DIV/0!
B16: Национальный уровень переработки отходов (потоки отходов согласно Базельской конвенции)
B17: Категория | C17: Единица измерения | D17: 2000 | F17: 2001 | H17: 2002 | J17: 2003 | L17: 2004 | N17: 2005 | P17: 2006 | R17: 2007 | T17: 2008 | V17: 2009 | X17: 2010 | Z17: 2011 | AB17: 2012 | AD17: 2013 | AF17: 2014 | AH17: 2015 | AJ17: 2016 | AL17: 2017 | AN17: 2018 | AP17: 2019 | AR17: 2020 | AT17: 2021 | AV17: 2022 | AX17: 2023 | AZ17: 2024 | BB17: 2025 | BD17: 2026 | BF17: 2027 | BH17: 2028 | BJ17: 2029 | BL17: 2030
B18: Общий объем отходов, поступающих на переработку | C18: 1000 т | D18: ='Waste recycled-Basel'!D4 -> 0 | F18: ='Waste recycled-Basel'!F4 -> 0 | H18: ='Waste recycled-Basel'!H4 -> 0 | J18: ='Waste recycled-Basel'!J4 -> 0 | L18: ='Waste recycled-Basel'!L4 -> 0 | N18: ='Waste recycled-Basel'!N4 -> 0 | P18: ='Waste recycled-Basel'!P4 -> 0 | R18: ='Waste recycled-Basel'!R4 -> 0 | T18: ='Waste recycled-Basel'!T4 -> 0 | V18: ='Waste recycled-Basel'!V4 -> 0 | X18: ='Waste recycled-Basel'!X4 -> 0 | Z18: ='Waste recycled-Basel'!Z4 -> 0 | AB18: ='Waste recycled-Basel'!AB4 -> 0 | AD18: ='Waste recycled-Basel'!AD4 -> 0 | AF18: ='Waste recycled-Basel'!AF4 -> 0 | AH18: ='Waste recycled-Basel'!AH4 -> 0 | AJ18: ='Waste recycled-Basel'!AJ4 -> 0 | AL18: ='Waste recycled-Basel'!AL4 -> 0 | AN18: ='Waste recycled-Basel'!AN4 -> 0 | AP18: ='Waste recycled-Basel'!AP4 -> 0 | AR18: ='Waste recycled-Basel'!AR4 -> 0 | AT18: ='Waste recycled-Basel'!AT4 -> 0 | AV18: ='Waste recycled-Basel'!AV4 -> 0 | AX18: ='Waste recycled-Basel'!AX4 -> 0 | AZ18: ='Waste recycled-Basel'!AZ4 -> 0 | BB18: ='Waste recycled-Basel'!BB4 -> 0 | BD18: ='Waste recycled-Basel'!BD4 -> 0 | BF18: ='Waste recycled-Basel'!BF4 -> 0 | BH18: ='Waste recycled-Basel'!BH4 -> 0 | BJ18: ='Waste recycled-Basel'!BJ4 -> 0 | BL18: ='Waste recycled-Basel'!BL4 -> 0
B19: Отходы, импортированные для переработки в течение года | C19: 1000 т | D19: ='Waste recycled-Basel'!D26 -> 0 | F19: ='Waste recycled-Basel'!F26 -> 0 | H19: ='Waste recycled-Basel'!H26 -> 0 | J19: ='Waste recycled-Basel'!J26 -> 0 | L19: ='Waste recycled-Basel'!L26 -> 0 | N19: ='Waste recycled-Basel'!N26 -> 0 | P19: ='Waste recycled-Basel'!P26 -> 0 | R19: ='Waste recycled-Basel'!R26 -> 0 | T19: ='Waste recycled-Basel'!T26 -> 0 | V19: ='Waste recycled-Basel'!V26 -> 0 | X19: ='Waste recycled-Basel'!X26 -> 0 | Z19: ='Waste recycled-Basel'!Z26 -> 0 | AB19: ='Waste recycled-Basel'!AB26 -> 0 | AD19: ='Waste recycled-Basel'!AD26 -> 0 | AF19: ='Waste recycled-Basel'!AF26 -> 0 | AH19: ='Waste recycled-Basel'!AH26 -> 0 | AJ19: ='Waste recycled-Basel'!AJ26 -> 0 | AL19: ='Waste recycled-Basel'!AL26 -> 0 | AN19: ='Waste recycled-Basel'!AN26 -> 0 | AP19: ='Waste recycled-Basel'!AP26 -> 0 | AR19: ='Waste recycled-Basel'!AR26 -> 0 | AT19: ='Waste recycled-Basel'!AT26 -> 0 | AV19: ='Waste recycled-Basel'!AV26 -> 0 | AX19: ='Waste recycled-Basel'!AX26 -> 0 | AZ19: ='Waste recycled-Basel'!AZ26 -> 0 | BB19: ='Waste recycled-Basel'!BB26 -> 0 | BD19: ='Waste recycled-Basel'!BD26 -> 0 | BF19: ='Waste recycled-Basel'!BF26 -> 0 | BH19: ='Waste recycled-Basel'!BH26 -> 0 | BJ19: ='Waste recycled-Basel'!BJ26 -> 0 | BL19: ='Waste recycled-Basel'!BL26 -> 0
B20: Отходы, экспортированные для переработки в течение года | C20: 1000 т | D20: ='Waste recycled-Basel'!D48 -> 0 | F20: ='Waste recycled-Basel'!F48 -> 0 | H20: ='Waste recycled-Basel'!H48 -> 0 | J20: ='Waste recycled-Basel'!J48 -> 0 | L20: ='Waste recycled-Basel'!L48 -> 0 | N20: ='Waste recycled-Basel'!N48 -> 0 | P20: ='Waste recycled-Basel'!P48 -> 0 | R20: ='Waste recycled-Basel'!R48 -> 0 | T20: ='Waste recycled-Basel'!T48 -> 0 | V20: ='Waste recycled-Basel'!V48 -> 0 | X20: ='Waste recycled-Basel'!X48 -> 0 | Z20: ='Waste recycled-Basel'!Z48 -> 0 | AB20: ='Waste recycled-Basel'!AB48 -> 0 | AD20: ='Waste recycled-Basel'!AD48 -> 0 | AF20: ='Waste recycled-Basel'!AF48 -> 0 | AH20: ='Waste recycled-Basel'!AH48 -> 0 | AJ20: ='Waste recycled-Basel'!AJ48 -> 0 | AL20: ='Waste recycled-Basel'!AL48 -> 0 | AN20: ='Waste recycled-Basel'!AN48 -> 0 | AP20: ='Waste recycled-Basel'!AP48 -> 0 | AR20: ='Waste recycled-Basel'!AR48 -> 0 | AT20: ='Waste recycled-Basel'!AT48 -> 0 | AV20: ='Waste recycled-Basel'!AV48 -> 0 | AX20: ='Waste recycled-Basel'!AX48 -> 0 | AZ20: ='Waste recycled-Basel'!AZ48 -> 0 | BB20: ='Waste recycled-Basel'!BB48 -> 0 | BD20: ='Waste recycled-Basel'!BD48 -> 0 | BF20: ='Waste recycled-Basel'!BF48 -> 0 | BH20: ='Waste recycled-Basel'!BH48 -> 0 | BJ20: ='Waste recycled-Basel'!BJ48 -> 0 | BL20: ='Waste recycled-Basel'!BL48 -> 0
B21: Национальный уровень переработки | C21: % | D21: =(D18+D20-D19)/'Waste generation-Basel'!D26 -> #DIV/0! | F21: =(F18+F20-F19)/'Waste generation-Basel'!F26 -> #DIV/0! | H21: =(H18+H20-H19)/'Waste generation-Basel'!H26 -> #DIV/0! | J21: =(J18+J20-J19)/'Waste generation-Basel'!J26 -> #DIV/0! | L21: =(L18+L20-L19)/'Waste generation-Basel'!L26 -> #DIV/0! | N21: =(N18+N20-N19)/'Waste generation-Basel'!N26 -> #DIV/0! | P21: =(P18+P20-P19)/'Waste generation-Basel'!P26 -> #DIV/0! | R21: =(R18+R20-R19)/'Waste generation-Basel'!R26 -> #DIV/0! | T21: =(T18+T20-T19)/'Waste generation-Basel'!T26 -> #DIV/0! | V21: =(V18+V20-V19)/'Waste generation-Basel'!V26 -> #DIV/0! | X21: =(X18+X20-X19)/'Waste generation-Basel'!X26 -> #DIV/0! | Z21: =(Z18+Z20-Z19)/'Waste generation-Basel'!Z26 -> #DIV/0! | AB21: =(AB18+AB20-AB19)/'Waste generation-Basel'!AB26 -> #DIV/0! | AD21: =(AD18+AD20-AD19)/'Waste generation-Basel'!AD26 -> #DIV/0! | AF21: =(AF18+AF20-AF19)/'Waste generation-Basel'!AF26 -> #DIV/0! | AH21: =(AH18+AH20-AH19)/'Waste generation-Basel'!AH26 -> #DIV/0! | AJ21: =(AJ18+AJ20-AJ19)/'Waste generation-Basel'!AJ26 -> #DIV/0! | AL21: =(AL18+AL20-AL19)/'Waste generation-Basel'!AL26 -> #DIV/0! | AN21: =(AN18+AN20-AN19)/'Waste generation-Basel'!AN26 -> #DIV/0! | AP21: =(AP18+AP20-AP19)/'Waste generation-Basel'!AP26 -> #DIV/0! | AR21: =(AR18+AR20-AR19)/'Waste generation-Basel'!AR26 -> #DIV/0! | AT21: =(AT18+AT20-AT19)/'Waste generation-Basel'!AT26 -> #DIV/0! | AV21: =(AV18+AV20-AV19)/'Waste generation-Basel'!AV26 -> #DIV/0! | AX21: =(AX18+AX20-AX19)/'Waste generation-Basel'!AX26 -> #DIV/0! | AZ21: =(AZ18+AZ20-AZ19)/'Waste generation-Basel'!AZ26 -> #DIV/0! | BB21: =(BB18+BB20-BB19)/'Waste generation-Basel'!BB26 -> #DIV/0! | BD21: =(BD18+BD20-BD19)/'Waste generation-Basel'!BD26 -> #DIV/0! | BF21: =(BF18+BF20-BF19)/'Waste generation-Basel'!BF26 -> #DIV/0! | BH21: =(BH18+BH20-BH19)/'Waste generation-Basel'!BH26 -> #DIV/0! | BJ21: =(BJ18+BJ20-BJ19)/'Waste generation-Basel'!BJ26 -> #DIV/0! | BL21: =(BL18+BL20-BL19)/'Waste generation-Basel'!BL26 -> #DIV/0!
B23: Интенсивность образования отходов (потоки отходов, предусмотренные Базельской конвенцией)
C24: Единица измерения | D24: 2000 | F24: 2001 | H24: 2002 | J24: 2003 | L24: 2004 | N24: 2005 | P24: 2006 | R24: 2007 | T24: 2008 | V24: 2009 | X24: 2010 | Z24: 2011 | AB24: 2012 | AD24: 2013 | AF24: 2014 | AH24: 2015 | AJ24: 2016 | AL24: 2017 | AN24: 2018 | AP24: 2019 | AR24: 2020 | AT24: 2021 | AV24: 2022 | AX24: 2023 | AZ24: 2024 | BB24: 2025 | BD24: 2026 | BF24: 2027 | BH24: 2028 | BJ24: 2029 | BL24: 2030
B25: Всего образованных отходов (потоки отходов согласно Базельской конвенции) | C25: 1000 т | D25: ='Waste generation-Basel'!D26 -> 0 | F25: ='Waste generation-Basel'!F26 -> 0 | H25: ='Waste generation-Basel'!H26 -> 0 | J25: ='Waste generation-Basel'!J26 -> 0 | L25: ='Waste generation-Basel'!L26 -> 0 | N25: ='Waste generation-Basel'!N26 -> 0 | P25: ='Waste generation-Basel'!P26 -> 0 | R25: ='Waste generation-Basel'!R26 -> 0 | T25: ='Waste generation-Basel'!T26 -> 0 | V25: ='Waste generation-Basel'!V26 -> 0 | X25: ='Waste generation-Basel'!X26 -> 0 | Z25: ='Waste generation-Basel'!Z26 -> 0 | AB25: ='Waste generation-Basel'!AB26 -> 0 | AD25: ='Waste generation-Basel'!AD26 -> 0 | AF25: ='Waste generation-Basel'!AF26 -> 0 | AH25: ='Waste generation-Basel'!AH26 -> 0 | AJ25: ='Waste generation-Basel'!AJ26 -> 0 | AL25: ='Waste generation-Basel'!AL26 -> 0 | AN25: ='Waste generation-Basel'!AN26 -> 0 | AP25: ='Waste generation-Basel'!AP26 -> 0 | AR25: ='Waste generation-Basel'!AR26 -> 0 | AT25: ='Waste generation-Basel'!AT26 -> 0 | AV25: ='Waste generation-Basel'!AV26 -> 0 | AX25: ='Waste generation-Basel'!AX26 -> 0 | AZ25: ='Waste generation-Basel'!AZ26 -> 0 | BB25: ='Waste generation-Basel'!BB26 -> 0 | BD25: ='Waste generation-Basel'!BD26 -> 0 | BF25: ='Waste generation-Basel'!BF26 -> 0 | BH25: ='Waste generation-Basel'!BH26 -> 0 | BJ25: ='Waste generation-Basel'!BJ26 -> 0 | BL25: ='Waste generation-Basel'!BL26 -> 0
B26: Внутреннее материальное потребление | C26: 1000 т
B27: Всего образованных отходов / ВМП | D27: =D25/D26 -> #DIV/0! | F27: =F25/F26 -> #DIV/0! | H27: =H25/H26 -> #DIV/0! | J27: =J25/J26 -> #DIV/0! | L27: =L25/L26 -> #DIV/0! | N27: =N25/N26 -> #DIV/0! | P27: =P25/P26 -> #DIV/0! | R27: =R25/R26 -> #DIV/0! | T27: =T25/T26 -> #DIV/0! | V27: =V25/V26 -> #DIV/0! | X27: =X25/X26 -> #DIV/0! | Z27: =Z25/Z26 -> #DIV/0! | AB27: =AB25/AB26 -> #DIV/0! | AD27: =AD25/AD26 -> #DIV/0! | AF27: =AF25/AF26 -> #DIV/0! | AH27: =AH25/AH26 -> #DIV/0! | AJ27: =AJ25/AJ26 -> #DIV/0! | AL27: =AL25/AL26 -> #DIV/0! | AN27: =AN25/AN26 -> #DIV/0! | AP27: =AP25/AP26 -> #DIV/0! | AR27: =AR25/AR26 -> #DIV/0! | AT27: =AT25/AT26 -> #DIV/0! | AV27: =AV25/AV26 -> #DIV/0! | AX27: =AX25/AX26 -> #DIV/0! | AZ27: =AZ25/AZ26 -> #DIV/0! | BB27: =BB25/BB26 -> #DIV/0! | BD27: =BD25/BD26 -> #DIV/0! | BF27: =BF25/BF26 -> #DIV/0! | BH27: =BH25/BH26 -> #DIV/0! | BJ27: =BJ25/BJ26 -> #DIV/0! | BL27: =BL25/BL26 -> #DIV/0!

Sheet National recycling rate by type
B2: Национальный уровень переработки в разбивке по типам (категории, утвержденные СОООН/ЮНЕП)
B3: Категория | C3: Единица измерения | D3: 2000 | F3: 2001 | H3: 2002 | J3: 2003 | L3: 2004 | N3: 2005 | P3: 2006 | R3: 2007 | T3: 2008 | V3: 2009 | X3: 2010 | Z3: 2011 | AB3: 2012 | AD3: 2013 | AF3: 2014 | AH3: 2015 | AJ3: 2016 | AL3: 2017 | AN3: 2018 | AP3: 2019 | AR3: 2020 | AT3: 2021 | AV3: 2022 | AX3: 2023 | AZ3: 2024 | BB3: 2025 | BD3: 2026 | BF3: 2027 | BH3: 2028 | BJ3: 2029 | BL3: 2030
B4: Национальный уровень переработки в разбивке по типам | C4: %
B5: Обрабатывающая промышленность (подразделы МСОК 10–33) | C5: % | D5: =('Waste recycled'!F5-'Waste recycled'!F11+'Waste recycled'!F17)/'Waste generation'!D5 -> #DIV/0! | F5: =('Waste recycled'!H5-'Waste recycled'!H11+'Waste recycled'!H17)/'Waste generation'!F5 -> #DIV/0! | H5: =('Waste recycled'!J5-'Waste recycled'!J11+'Waste recycled'!J17)/'Waste generation'!H5 -> #DIV/0! | J5: =('Waste recycled'!L5-'Waste recycled'!L11+'Waste recycled'!L17)/'Waste generation'!J5 -> #DIV/0! | L5: =('Waste recycled'!N5-'Waste recycled'!N11+'Waste recycled'!N17)/'Waste generation'!L5 -> #DIV/0! | N5: =('Waste recycled'!P5-'Waste recycled'!P11+'Waste recycled'!P17)/'Waste generation'!N5 -> #DIV/0! | P5: =('Waste recycled'!R5-'Waste recycled'!R11+'Waste recycled'!R17)/'Waste generation'!P5 -> #DIV/0! | R5: =('Waste recycled'!T5-'Waste recycled'!T11+'Waste recycled'!T17)/'Waste generation'!R5 -> #DIV/0! | T5: =('Waste recycled'!V5-'Waste recycled'!V11+'Waste recycled'!V17)/'Waste generation'!T5 -> #DIV/0! | V5: =('Waste recycled'!X5-'Waste recycled'!X11+'Waste recycled'!X17)/'Waste generation'!V5 -> #DIV/0! | X5: =('Waste recycled'!Z5-'Waste recycled'!Z11+'Waste recycled'!Z17)/'Waste generation'!X5 -> #DIV/0! | Z5: =('Waste recycled'!AB5-'Waste recycled'!AB11+'Waste recycled'!AB17)/'Waste generation'!Z5 -> #DIV/0! | AB5: =('Waste recycled'!AD5-'Waste recycled'!AD11+'Waste recycled'!AD17)/'Waste generation'!AB5 -> #DIV/0! | AD5: =('Waste recycled'!AF5-'Waste recycled'!AF11+'Waste recycled'!AF17)/'Waste generation'!AD5 -> #DIV/0! | AF5: =('Waste recycled'!AH5-'Waste recycled'!AH11+'Waste recycled'!AH17)/'Waste generation'!AF5 -> #DIV/0! | AH5: =('Waste recycled'!AJ5-'Waste recycled'!AJ11+'Waste recycled'!AJ17)/'Waste generation'!AH5 -> #DIV/0! | AJ5: =('Waste recycled'!AL5-'Waste recycled'!AL11+'Waste recycled'!AL17)/'Waste generation'!AJ5 -> #DIV/0! | AL5: =('Waste recycled'!AN5-'Waste recycled'!AN11+'Waste recycled'!AN17)/'Waste generation'!AL5 -> #DIV/0! | AN5: =('Waste recycled'!AP5-'Waste recycled'!AP11+'Waste recycled'!AP17)/'Waste generation'!AN5 -> #DIV/0! | AP5: =('Waste recycled'!AR5-'Waste recycled'!AR11+'Waste recycled'!AR17)/'Waste generation'!AP5 -> #DIV/0! | AR5: =('Waste recycled'!AT5-'Waste recycled'!AT11+'Waste recycled'!AT17)/'Waste generation'!AR5 -> #DIV/0! | AT5: =('Waste recycled'!AV5-'Waste recycled'!AV11+'Waste recycled'!AV17)/'Waste generation'!AT5 -> #DIV/0! | AV5: =('Waste recycled'!AX5-'Waste recycled'!AX11+'Waste recycled'!AX17)/'Waste generation'!AV5 -> #DIV/0! | AX5: =('Waste recycled'!AZ5-'Waste recycled'!AZ11+'Waste recycled'!AZ17)/'Waste generation'!AX5 -> #DIV/0! | AZ5: =('Waste recycled'!BB5-'Waste recycled'!BB11+'Waste recycled'!BB17)/'Waste generation'!AZ5 -> #DIV/0! | BB5: =('Waste recycled'!BD5-'Waste recycled'!BD11+'Waste recycled'!BD17)/'Waste generation'!BB5 -> #DIV/0! | BD5: =('Waste recycled'!BF5-'Waste recycled'!BF11+'Waste recycled'!BF17)/'Waste generation'!BD5 -> #DIV/0! | BF5: =('Waste recycled'!BH5-'Waste recycled'!BH11+'Waste recycled'!BH17)/'Waste generation'!BF5 -> #DIV/0! | BH5: =('Waste recycled'!BJ5-'Waste recycled'!BJ11+'Waste recycled'!BJ17)/'Waste generation'!BH5 -> #DIV/0! | BJ5: =('Waste recycled'!BL5-'Waste recycled'!BL11+'Waste recycled'!BL17)/'Waste generation'!BJ5 -> #DIV/0! | BL5: =('Waste recycled'!BN5-'Waste recycled'!BN11+'Waste recycled'!BN17)/'Waste generation'!BL5 -> #DIV/0!
B6: Снабжение электричеством, газом, паром и кондиционированным воздухом (подраздел МСОК 35) | C6: % | D6: =('Waste recycled'!F6-'Waste recycled'!F12+'Waste recycled'!F18)/'Waste generation'!D6 -> #DIV/0! | F6: =('Waste recycled'!H6-'Waste recycled'!H12+'Waste recycled'!H18)/'Waste generation'!F6 -> #DIV/0! | H6: =('Waste recycled'!J6-'Waste recycled'!J12+'Waste recycled'!J18)/'Waste generation'!H6 -> #DIV/0! | J6: =('Waste recycled'!L6-'Waste recycled'!L12+'Waste recycled'!L18)/'Waste generation'!J6 -> #DIV/0! | L6: =('Waste recycled'!N6-'Waste recycled'!N12+'Waste recycled'!N18)/'Waste generation'!L6 -> #DIV/0! | N6: =('Waste recycled'!P6-'Waste recycled'!P12+'Waste recycled'!P18)/'Waste generation'!N6 -> #DIV/0! | P6: =('Waste recycled'!R6-'Waste recycled'!R12+'Waste recycled'!R18)/'Waste generation'!P6 -> #DIV/0! | R6: =('Waste recycled'!T6-'Waste recycled'!T12+'Waste recycled'!T18)/'Waste generation'!R6 -> #DIV/0! | T6: =('Waste recycled'!V6-'Waste recycled'!V12+'Waste recycled'!V18)/'Waste generation'!T6 -> #DIV/0! | V6: =('Waste recycled'!X6-'Waste recycled'!X12+'Waste recycled'!X18)/'Waste generation'!V6 -> #DIV/0! | X6: =('Waste recycled'!Z6-'Waste recycled'!Z12+'Waste recycled'!Z18)/'Waste generation'!X6 -> #DIV/0! | Z6: =('Waste recycled'!AB6-'Waste recycled'!AB12+'Waste recycled'!AB18)/'Waste generation'!Z6 -> #DIV/0! | AB6: =('Waste recycled'!AD6-'Waste recycled'!AD12+'Waste recycled'!AD18)/'Waste generation'!AB6 -> #DIV/0! | AD6: =('Waste recycled'!AF6-'Waste recycled'!AF12+'Waste recycled'!AF18)/'Waste generation'!AD6 -> #DIV/0! | AF6: =('Waste recycled'!AH6-'Waste recycled'!AH12+'Waste recycled'!AH18)/'Waste generation'!AF6 -> #DIV/0! | AH6: =('Waste recycled'!AJ6-'Waste recycled'!AJ12+'Waste recycled'!AJ18)/'Waste generation'!AH6 -> #DIV/0! | AJ6: =('Waste recycled'!AL6-'Waste recycled'!AL12+'Waste recycled'!AL18)/'Waste generation'!AJ6 -> #DIV/0! | AL6: =('Waste recycled'!AN6-'Waste recycled'!AN12+'Waste recycled'!AN18)/'Waste generation'!AL6 -> #DIV/0! | AN6: =('Waste recycled'!AP6-'Waste recycled'!AP12+'Waste recycled'!AP18)/'Waste generation'!AN6 -> #DIV/0! | AP6: =('Waste recycled'!AR6-'Waste recycled'!AR12+'Waste recycled'!AR18)/'Waste generation'!AP6 -> #DIV/0! | AR6: =('Waste recycled'!AT6-'Waste recycled'!AT12+'Waste recycled'!AT18)/'Waste generation'!AR6 -> #DIV/0! | AT6: =('Waste recycled'!AV6-'Waste recycled'!AV12+'Waste recycled'!AV18)/'Waste generation'!AT6 -> #DIV/0! | AV6: =('Waste recycled'!AX6-'Waste recycled'!AX12+'Waste recycled'!AX18)/'Waste generation'!AV6 -> #DIV/0! | AX6: =('Waste recycled'!AZ6-'Waste recycled'!AZ12+'Waste recycled'!AZ18)/'Waste generation'!AX6 -> #DIV/0! | AZ6: =('Waste recycled'!BB6-'Waste recycled'!BB12+'Waste recycled'!BB18)/'Waste generation'!AZ6 -> #DIV/0! | BB6: =('Waste recycled'!BD6-'Waste recycled'!BD12+'Waste recycled'!BD18)/'Waste generation'!BB6 -> #DIV/0! | BD6: =('Waste recycled'!BF6-'Waste recycled'!BF12+'Waste recycled'!BF18)/'Waste generation'!BD6 -> #DIV/0! | BF6: =('Waste recycled'!BH6-'Waste recycled'!BH12+'Waste recycled'!BH18)/'Waste generation'!BF6 -> #DIV/0! | BH6: =('Waste recycled'!BJ6-'Waste recycled'!BJ12+'Waste recycled'!BJ18)/'Waste generation'!BH6 -> #DIV/0! | BJ6: =('Waste recycled'!BL6-'Waste recycled'!BL12+'Waste recycled'!BL18)/'Waste generation'!BJ6 -> #DIV/0! | BL6: =('Waste recycled'!BN6-'Waste recycled'!BN12+'Waste recycled'!BN18)/'Waste generation'!BL6 -> #DIV/0!
B7: Прочие виды хозяйственно-экономической деятельности, кроме тех, которые перечислены в подразделе 38 МСОК | C7: % | D7: =('Waste recycled'!F7-'Waste recycled'!F13+'Waste recycled'!F19)/'Waste generation'!D7 -> #DIV/0! | F7: =('Waste recycled'!H7-'Waste recycled'!H13+'Waste recycled'!H19)/'Waste generation'!F7 -> #DIV/0! | H7: =('Waste recycled'!J7-'Waste recycled'!J13+'Waste recycled'!J19)/'Waste generation'!H7 -> #DIV/0! | J7: =('Waste recycled'!L7-'Waste recycled'!L13+'Waste recycled'!L19)/'Waste generation'!J7 -> #DIV/0! | L7: =('Waste recycled'!N7-'Waste recycled'!N13+'Waste recycled'!N19)/'Waste generation'!L7 -> #DIV/0! | N7: =('Waste recycled'!P7-'Waste recycled'!P13+'Waste recycled'!P19)/'Waste generation'!N7 -> #DIV/0! | P7: =('Waste recycled'!R7-'Waste recycled'!R13+'Waste recycled'!R19)/'Waste generation'!P7 -> #DIV/0! | R7: =('Waste recycled'!T7-'Waste recycled'!T13+'Waste recycled'!T19)/'Waste generation'!R7 -> #DIV/0! | T7: =('Waste recycled'!V7-'Waste recycled'!V13+'Waste recycled'!V19)/'Waste generation'!T7 -> #DIV/0! | V7: =('Waste recycled'!X7-'Waste recycled'!X13+'Waste recycled'!X19)/'Waste generation'!V7 -> #DIV/0! | X7: =('Waste recycled'!Z7-'Waste recycled'!Z13+'Waste recycled'!Z19)/'Waste generation'!X7 -> #DIV/0! | Z7: =('Waste recycled'!AB7-'Waste recycled'!AB13+'Waste recycled'!AB19)/'Waste generation'!Z7 -> #DIV/0! | AB7: =('Waste recycled'!AD7-'Waste recycled'!AD13+'Waste recycled'!AD19)/'Waste generation'!AB7 -> #DIV/0! | AD7: =('Waste recycled'!AF7-'Waste recycled'!AF13+'Waste recycled'!AF19)/'Waste generation'!AD7 -> #DIV/0! | AF7: =('Waste recycled'!AH7-'Waste recycled'!AH13+'Waste recycled'!AH19)/'Waste generation'!AF7 -> #DIV/0! | AH7: =('Waste recycled'!AJ7-'Waste recycled'!AJ13+'Waste recycled'!AJ19)/'Waste generation'!AH7 -> #DIV/0! | AJ7: =('Waste recycled'!AL7-'Waste recycled'!AL13+'Waste recycled'!AL19)/'Waste generation'!AJ7 -> #DIV/0! | AL7: =('Waste recycled'!AN7-'Waste recycled'!AN13+'Waste recycled'!AN19)/'Waste generation'!AL7 -> #DIV/0! | AN7: =('Waste recycled'!AP7-'Waste recycled'!AP13+'Waste recycled'!AP19)/'Waste generation'!AN7 -> #DIV/0! | AP7: =('Waste recycled'!AR7-'Waste recycled'!AR13+'Waste recycled'!AR19)/'Waste generation'!AP7 -> #DIV/0! | AR7: =('Waste recycled'!AT7-'Waste recycled'!AT13+'Waste recycled'!AT19)/'Waste generation'!AR7 -> #DIV/0! | AT7: =('Waste recycled'!AV7-'Waste recycled'!AV13+'Waste recycled'!AV19)/'Waste generation'!AT7 -> #DIV/0! | AV7: =('Waste recycled'!AX7-'Waste recycled'!AX13+'Waste recycled'!AX19)/'Waste generation'!AV7 -> #DIV/0! | AX7: =('Waste recycled'!AZ7-'Waste recycled'!AZ13+'Waste recycled'!AZ19)/'Waste generation'!AX7 -> #DIV/0! | AZ7: =('Waste recycled'!BB7-'Waste recycled'!BB13+'Waste recycled'!BB19)/'Waste generation'!AZ7 -> #DIV/0! | BB7: =('Waste recycled'!BD7-'Waste recycled'!BD13+'Waste recycled'!BD19)/'Waste generation'!BB7 -> #DIV/0! | BD7: =('Waste recycled'!BF7-'Waste recycled'!BF13+'Waste recycled'!BF19)/'Waste generation'!BD7 -> #DIV/0! | BF7: =('Waste recycled'!BH7-'Waste recycled'!BH13+'Waste recycled'!BH19)/'Waste generation'!BF7 -> #DIV/0! | BH7: =('Waste recycled'!BJ7-'Waste recycled'!BJ13+'Waste recycled'!BJ19)/'Waste generation'!BH7 -> #DIV/0! | BJ7: =('Waste recycled'!BL7-'Waste recycled'!BL13+'Waste recycled'!BL19)/'Waste generation'!BJ7 -> #DIV/0! | BL7: =('Waste recycled'!BN7-'Waste recycled'!BN13+'Waste recycled'!BN19)/'Waste generation'!BL7 -> #DIV/0!
B8: Отходы от домашних хозяйств | C8: % | D8: =('Waste recycled'!F8-'Waste recycled'!F14+'Waste recycled'!F20)/'Waste generation'!D8 -> #DIV/0! | F8: =('Waste recycled'!H8-'Waste recycled'!H14+'Waste recycled'!H20)/'Waste generation'!F8 -> #DIV/0! | H8: =('Waste recycled'!J8-'Waste recycled'!J14+'Waste recycled'!J20)/'Waste generation'!H8 -> #DIV/0! | J8: =('Waste recycled'!L8-'Waste recycled'!L14+'Waste recycled'!L20)/'Waste generation'!J8 -> #DIV/0! | L8: =('Waste recycled'!N8-'Waste recycled'!N14+'Waste recycled'!N20)/'Waste generation'!L8 -> #DIV/0! | N8: =('Waste recycled'!P8-'Waste recycled'!P14+'Waste recycled'!P20)/'Waste generation'!N8 -> #DIV/0! | P8: =('Waste recycled'!R8-'Waste recycled'!R14+'Waste recycled'!R20)/'Waste generation'!P8 -> #DIV/0! | R8: =('Waste recycled'!T8-'Waste recycled'!T14+'Waste recycled'!T20)/'Waste generation'!R8 -> #DIV/0! | T8: =('Waste recycled'!V8-'Waste recycled'!V14+'Waste recycled'!V20)/'Waste generation'!T8 -> #DIV/0! | V8: =('Waste recycled'!X8-'Waste recycled'!X14+'Waste recycled'!X20)/'Waste generation'!V8 -> #DIV/0! | X8: =('Waste recycled'!Z8-'Waste recycled'!Z14+'Waste recycled'!Z20)/'Waste generation'!X8 -> #DIV/0! | Z8: =('Waste recycled'!AB8-'Waste recycled'!AB14+'Waste recycled'!AB20)/'Waste generation'!Z8 -> #DIV/0! | AB8: =('Waste recycled'!AD8-'Waste recycled'!AD15+'Waste recycled'!AD20)/'Waste generation'!AB8 -> #DIV/0! | AD8: =('Waste recycled'!AF8-'Waste recycled'!AF15+'Waste recycled'!AF20)/'Waste generation'!AD8 -> #DIV/0! | AF8: =('Waste recycled'!AH8-'Waste recycled'!AH15+'Waste recycled'!AH20)/'Waste generation'!AF8 -> #DIV/0! | AH8: =('Waste recycled'!AJ8-'Waste recycled'!AJ15+'Waste recycled'!AJ20)/'Waste generation'!AH8 -> #DIV/0! | AJ8: =('Waste recycled'!AL8-'Waste recycled'!AL15+'Waste recycled'!AL20)/'Waste generation'!AJ8 -> #DIV/0! | AL8: =('Waste recycled'!AN8-'Waste recycled'!AN15+'Waste recycled'!AN20)/'Waste generation'!AL8 -> #DIV/0! | AN8: =('Waste recycled'!AP8-'Waste recycled'!AP15+'Waste recycled'!AP20)/'Waste generation'!AN8 -> #DIV/0! | AP8: =('Waste recycled'!AR8-'Waste recycled'!AR15+'Waste recycled'!AR20)/'Waste generation'!AP8 -> #DIV/0! | AR8: =('Waste recycled'!AT8-'Waste recycled'!AT15+'Waste recycled'!AT20)/'Waste generation'!AR9 -> #DIV/0! | AT8: =('Waste recycled'!AV8-'Waste recycled'!AV15+'Waste recycled'!AV20)/'Waste generation'!AT9 -> #DIV/0! | AV8: =('Waste recycled'!AX8-'Waste recycled'!AX15+'Waste recycled'!AX20)/'Waste generation'!AV9 -> #DIV/0! | AX8: =('Waste recycled'!AZ8-'Waste recycled'!AZ15+'Waste recycled'!AZ20)/'Waste generation'!AX9 -> #DIV/0! | AZ8: =('Waste recycled'!BB8-'Waste recycled'!BB15+'Waste recycled'!BB20)/'Waste generation'!AZ9 -> #DIV/0! | BB8: =('Waste recycled'!BD8-'Waste recycled'!BD15+'Waste recycled'!BD20)/'Waste generation'!BB9 -> #DIV/0! | BD8: =('Waste recycled'!BF8-'Waste recycled'!BF15+'Waste recycled'!BF20)/'Waste generation'!BD9 -> #DIV/0! | BF8: =('Waste recycled'!BH8-'Waste recycled'!BH15+'Waste recycled'!BH20)/'Waste generation'!BF9 -> #DIV/0! | BH8: =('Waste recycled'!BJ8-'Waste recycled'!BJ15+'Waste recycled'!BJ20)/'Waste generation'!BH9 -> #DIV/0! | BJ8: =('Waste recycled'!BL8-'Waste recycled'!BL15+'Waste recycled'!BL20)/'Waste generation'!BJ9 -> #DIV/0! | BL8: =('Waste recycled'!BN8-'Waste recycled'!BN15+'Waste recycled'!BN20)/'Waste generation'!BL9 -> #DIV/0!
B9: Электронные отходы | C9: % | D9: =('Waste recycled'!F9-'Waste recycled'!F15+'Waste recycled'!F21)/'Waste generation'!D9 -> #DIV/0! | F9: =('Waste recycled'!H9-'Waste recycled'!H15+'Waste recycled'!H21)/'Waste generation'!F9 -> #DIV/0! | H9: =('Waste recycled'!J9-'Waste recycled'!J15+'Waste recycled'!J21)/'Waste generation'!H9 -> #DIV/0! | J9: =('Waste recycled'!L9-'Waste recycled'!L15+'Waste recycled'!L21)/'Waste generation'!J9 -> #DIV/0! | L9: =('Waste recycled'!N9-'Waste recycled'!N15+'Waste recycled'!N21)/'Waste generation'!L9 -> #DIV/0! | N9: =('Waste recycled'!P9-'Waste recycled'!P15+'Waste recycled'!P21)/'Waste generation'!N9 -> #DIV/0! | P9: =('Waste recycled'!R9-'Waste recycled'!R15+'Waste recycled'!R21)/'Waste generation'!P9 -> #DIV/0! | R9: =('Waste recycled'!T9-'Waste recycled'!T15+'Waste recycled'!T21)/'Waste generation'!R9 -> #DIV/0! | T9: =('Waste recycled'!V9-'Waste recycled'!V15+'Waste recycled'!V21)/'Waste generation'!T9 -> #DIV/0! | V9: =('Waste recycled'!X9-'Waste recycled'!X15+'Waste recycled'!X21)/'Waste generation'!V9 -> #DIV/0! | X9: =('Waste recycled'!Z9-'Waste recycled'!Z15+'Waste recycled'!Z21)/'Waste generation'!X9 -> #DIV/0! | Z9: =('Waste recycled'!AB9-'Waste recycled'!AB15+'Waste recycled'!AB21)/'Waste generation'!Z9 -> #DIV/0! | AB9: =('Waste recycled'!AD9-'Waste recycled'!AD15+'Waste recycled'!AD21)/'Waste generation'!AB9 -> #DIV/0! | AD9: =('Waste recycled'!AF9-'Waste recycled'!AF15+'Waste recycled'!AF21)/'Waste generation'!AD9 -> #DIV/0! | AF9: =('Waste recycled'!AH9-'Waste recycled'!AH15+'Waste recycled'!AH21)/'Waste generation'!AF9 -> #DIV/0! | AH9: =('Waste recycled'!AJ9-'Waste recycled'!AJ15+'Waste recycled'!AJ21)/'Waste generation'!AH9 -> #DIV/0! | AJ9: =('Waste recycled'!AL9-'Waste recycled'!AL15+'Waste recycled'!AL21)/'Waste generation'!AJ9 -> #DIV/0! | AL9: =('Waste recycled'!AN9-'Waste recycled'!AN15+'Waste recycled'!AN21)/'Waste generation'!AL9 -> #DIV/0! | AN9: =('Waste recycled'!AP9-'Waste recycled'!AP15+'Waste recycled'!AP21)/'Waste generation'!AN9 -> #DIV/0! | AP9: =('Waste recycled'!AR9-'Waste recycled'!AR15+'Waste recycled'!AR21)/'Waste generation'!AP9 -> #DIV/0! | AR9: =('Waste recycled'!AT9-'Waste recycled'!AT15+'Waste recycled'!AT21)/'Waste generation'!AR9 -> #DIV/0! | AT9: =('Waste recycled'!AV9-'Waste recycled'!AV15+'Waste recycled'!AV21)/'Waste generation'!AT9 -> #DIV/0! | AV9: =('Waste recycled'!AX9-'Waste recycled'!AX15+'Waste recycled'!AX21)/'Waste generation'!AV9 -> #DIV/0! | AX9: =('Waste recycled'!AZ9-'Waste recycled'!AZ15+'Waste recycled'!AZ21)/'Waste generation'!AX9 -> #DIV/0! | AZ9: =('Waste recycled'!BB9-'Waste recycled'!BB15+'Waste recycled'!BB21)/'Waste generation'!AZ9 -> #DIV/0! | BB9: =('Waste recycled'!BD9-'Waste recycled'!BD15+'Waste recycled'!BD21)/'Waste generation'!BB9 -> #DIV/0! | BD9: =('Waste recycled'!BF9-'Waste recycled'!BF15+'Waste recycled'!BF21)/'Waste generation'!BD9 -> #DIV/0! | BF9: =('Waste recycled'!BH9-'Waste recycled'!BH15+'Waste recycled'!BH21)/'Waste generation'!BF9 -> #DIV/0! | BH9: =('Waste recycled'!BJ9-'Waste recycled'!BJ15+'Waste recycled'!BJ21)/'Waste generation'!BH9 -> #DIV/0! | BJ9: =('Waste recycled'!BL9-'Waste recycled'!BL15+'Waste recycled'!BL21)/'Waste generation'!BJ9 -> #DIV/0! | BL9: =('Waste recycled'!BN9-'Waste recycled'!BN15+'Waste recycled'!BN21)/'Waste generation'!BL9 -> #DIV/0!
B14: Национальный уровень переработки в разбивке по типам (категории, предусмотренные Базельской конвенцией)
B15: Категория | C15: Единица измерения | D15: 2000 | F15: 2001 | H15: 2002 | J15: 2003 | L15: 2004 | N15: 2005 | P15: 2006 | R15: 2007 | T15: 2008 | V15: 2009 | X15: 2010 | Z15: 2011 | AB15: 2012 | AD15: 2013 | AF15: 2014 | AH15: 2015 | AJ15: 2016 | AL15: 2017 | AN15: 2018 | AP15: 2019 | AR15: 2020 | AT15: 2021 | AV15: 2022 | AX15: 2023 | AZ15: 2024 | BB15: 2025 | BD15: 2026 | BF15: 2027 | BH15: 2028 | BJ15: 2029 | BL15: 2030
B16: Национальный уровень переработки в разбивке по типам | C16: %
A17: Y1 | B17: Медицинские отходы, полученные в результате врачебного ухода за пациентами в больницах, поликлиниках и клиниках | C17: % | D17: =('Waste recycled-Basel'!D5-'Waste recycled-Basel'!D27+'Waste recycled-Basel'!D49)/'Waste generation-Basel'!D5 -> #DIV/0! | F17: =('Waste recycled-Basel'!F5-'Waste recycled-Basel'!F27+'Waste recycled-Basel'!F49)/'Waste generation-Basel'!F5 -> #DIV/0! | H17: =('Waste recycled-Basel'!H5-'Waste recycled-Basel'!H27+'Waste recycled-Basel'!H49)/'Waste generation-Basel'!H5 -> #DIV/0! | J17: =('Waste recycled-Basel'!J5-'Waste recycled-Basel'!J27+'Waste recycled-Basel'!J49)/'Waste generation-Basel'!J5 -> #DIV/0! | L17: =('Waste recycled-Basel'!L5-'Waste recycled-Basel'!L27+'Waste recycled-Basel'!L49)/'Waste generation-Basel'!L5 -> #DIV/0! | N17: =('Waste recycled-Basel'!N5-'Waste recycled-Basel'!N27+'Waste recycled-Basel'!N49)/'Waste generation-Basel'!N5 -> #DIV/0! | P17: =('Waste recycled-Basel'!P5-'Waste recycled-Basel'!P27+'Waste recycled-Basel'!P49)/'Waste generation-Basel'!P5 -> #DIV/0! | R17: =('Waste recycled-Basel'!R5-'Waste recycled-Basel'!R27+'Waste recycled-Basel'!R49)/'Waste generation-Basel'!R5 -> #DIV/0! | T17: =('Waste recycled-Basel'!T5-'Waste recycled-Basel'!T27+'Waste recycled-Basel'!T49)/'Waste generation-Basel'!T5 -> #DIV/0! | V17: =('Waste recycled-Basel'!V5-'Waste recycled-Basel'!V27+'Waste recycled-Basel'!V49)/'Waste generation-Basel'!V5 -> #DIV/0! | X17: =('Waste recycled-Basel'!X5-'Waste recycled-Basel'!X27+'Waste recycled-Basel'!X49)/'Waste generation-Basel'!X5 -> #DIV/0! | Z17: =('Waste recycled-Basel'!Z5-'Waste recycled-Basel'!Z27+'Waste recycled-Basel'!Z49)/'Waste generation-Basel'!Z5 -> #DIV/0! | AB17: =('Waste recycled-Basel'!AB5-'Waste recycled-Basel'!AB27+'Waste recycled-Basel'!AB49)/'Waste generation-Basel'!AB5 -> #DIV/0! | AD17: =('Waste recycled-Basel'!AD5-'Waste recycled-Basel'!AD27+'Waste recycled-Basel'!AD49)/'Waste generation-Basel'!AD5 -> #DIV/0! | AF17: =('Waste recycled-Basel'!AF5-'Waste recycled-Basel'!AF27+'Waste recycled-Basel'!AF49)/'Waste generation-Basel'!AF5 -> #DIV/0! | AH17: =('Waste recycled-Basel'!AH5-'Waste recycled-Basel'!AH27+'Waste recycled-Basel'!AH49)/'Waste generation-Basel'!AH5 -> #DIV/0! | AJ17: =('Waste recycled-Basel'!AJ5-'Waste recycled-Basel'!AJ27+'Waste recycled-Basel'!AJ49)/'Waste generation-Basel'!AJ5 -> #DIV/0! | AL17: =('Waste recycled-Basel'!AL5-'Waste recycled-Basel'!AL27+'Waste recycled-Basel'!AL49)/'Waste generation-Basel'!AL5 -> #DIV/0! | AN17: =('Waste recycled-Basel'!AN5-'Waste recycled-Basel'!AN27+'Waste recycled-Basel'!AN49)/'Waste generation-Basel'!AN5 -> #DIV/0! | AP17: =('Waste recycled-Basel'!AP5-'Waste recycled-Basel'!AP27+'Waste recycled-Basel'!AP49)/'Waste generation-Basel'!AP5 -> #DIV/0! | AR17: =('Waste recycled-Basel'!AR5-'Waste recycled-Basel'!AR27+'Waste recycled-Basel'!AR49)/'Waste generation-Basel'!AR5 -> #DIV/0! | AT17: =('Waste recycled-Basel'!AT5-'Waste recycled-Basel'!AT27+'Waste recycled-Basel'!AT49)/'Waste generation-Basel'!AT5 -> #DIV/0! | AV17: =('Waste recycled-Basel'!AV5-'Waste recycled-Basel'!AV27+'Waste recycled-Basel'!AV49)/'Waste generation-Basel'!AV5 -> #DIV/0! | AX17: =('Waste recycled-Basel'!AW5-'Waste recycled-Basel'!AW27+'Waste recycled-Basel'!AW49)/'Waste generation-Basel'!AX5 -> #DIV/0! | AZ17: =('Waste recycled-Basel'!AY5-'Waste recycled-Basel'!AY27+'Waste recycled-Basel'!AY49)/'Waste generation-Basel'!AZ5 -> #DIV/0! | BB17: =('Waste recycled-Basel'!BA5-'Waste recycled-Basel'!BA27+'Waste recycled-Basel'!BA49)/'Waste generation-Basel'!BB5 -> #DIV/0! | BD17: =('Waste recycled-Basel'!BC5-'Waste recycled-Basel'!BC27+'Waste recycled-Basel'!BC49)/'Waste generation-Basel'!BD5 -> #DIV/0! | BF17: =('Waste recycled-Basel'!BE5-'Waste recycled-Basel'!BE27+'Waste recycled-Basel'!BE49)/'Waste generation-Basel'!BF5 -> #DIV/0! | BH17: =('Waste recycled-Basel'!BG5-'Waste recycled-Basel'!BG27+'Waste recycled-Basel'!BG49)/'Waste generation-Basel'!BH5 -> #DIV/0! | BJ17: =('Waste recycled-Basel'!BI5-'Waste recycled-Basel'!BI27+'Waste recycled-Basel'!BI49)/'Waste generation-Basel'!BJ5 -> #DIV/0! | BL17: =('Waste recycled-Basel'!BK5-'Waste recycled-Basel'!BK27+'Waste recycled-Basel'!BK49)/'Waste generation-Basel'!BL5 -> #DIV/0!
A18: Y2 | B18: Отходы производства и переработки фармацевтической продукции | C18: % | D18: =('Waste recycled-Basel'!D6-'Waste recycled-Basel'!D28+'Waste recycled-Basel'!D50)/'Waste generation-Basel'!D6 -> #DIV/0! | F18: =('Waste recycled-Basel'!F6-'Waste recycled-Basel'!F28+'Waste recycled-Basel'!F50)/'Waste generation-Basel'!F6 -> #DIV/0! | H18: =('Waste recycled-Basel'!H6-'Waste recycled-Basel'!H28+'Waste recycled-Basel'!H50)/'Waste generation-Basel'!H6 -> #DIV/0! | J18: =('Waste recycled-Basel'!J6-'Waste recycled-Basel'!J28+'Waste recycled-Basel'!J50)/'Waste generation-Basel'!J6 -> #DIV/0! | L18: =('Waste recycled-Basel'!L6-'Waste recycled-Basel'!L28+'Waste recycled-Basel'!L50)/'Waste generation-Basel'!L6 -> #DIV/0! | N18: =('Waste recycled-Basel'!N6-'Waste recycled-Basel'!N28+'Waste recycled-Basel'!N50)/'Waste generation-Basel'!N6 -> #DIV/0! | P18: =('Waste recycled-Basel'!P6-'Waste recycled-Basel'!P28+'Waste recycled-Basel'!P50)/'Waste generation-Basel'!P6 -> #DIV/0! | R18: =('Waste recycled-Basel'!R6-'Waste recycled-Basel'!R28+'Waste recycled-Basel'!R50)/'Waste generation-Basel'!R6 -> #DIV/0! | T18: =('Waste recycled-Basel'!T6-'Waste recycled-Basel'!T28+'Waste recycled-Basel'!T50)/'Waste generation-Basel'!T6 -> #DIV/0! | V18: =('Waste recycled-Basel'!V6-'Waste recycled-Basel'!V28+'Waste recycled-Basel'!V50)/'Waste generation-Basel'!V6 -> #DIV/0! | X18: =('Waste recycled-Basel'!X6-'Waste recycled-Basel'!X28+'Waste recycled-Basel'!X50)/'Waste generation-Basel'!X6 -> #DIV/0! | Z18: =('Waste recycled-Basel'!Z6-'Waste recycled-Basel'!Z28+'Waste recycled-Basel'!Z50)/'Waste generation-Basel'!Z6 -> #DIV/0! | AB18: =('Waste recycled-Basel'!AB6-'Waste recycled-Basel'!AB28+'Waste recycled-Basel'!AB50)/'Waste generation-Basel'!AB6 -> #DIV/0! | AD18: =('Waste recycled-Basel'!AD6-'Waste recycled-Basel'!AD28+'Waste recycled-Basel'!AD50)/'Waste generation-Basel'!AD6 -> #DIV/0! | AF18: =('Waste recycled-Basel'!AF6-'Waste recycled-Basel'!AF28+'Waste recycled-Basel'!AF50)/'Waste generation-Basel'!AF6 -> #DIV/0! | AH18: =('Waste recycled-Basel'!AH6-'Waste recycled-Basel'!AH28+'Waste recycled-Basel'!AH50)/'Waste generation-Basel'!AH6 -> #DIV/0! | AJ18: =('Waste recycled-Basel'!AJ6-'Waste recycled-Basel'!AJ28+'Waste recycled-Basel'!AJ50)/'Waste generation-Basel'!AJ6 -> #DIV/0! | AL18: =('Waste recycled-Basel'!AL6-'Waste recycled-Basel'!AL28+'Waste recycled-Basel'!AL50)/'Waste generation-Basel'!AL6 -> #DIV/0! | AN18: =('Waste recycled-Basel'!AN6-'Waste recycled-Basel'!AN28+'Waste recycled-Basel'!AN50)/'Waste generation-Basel'!AN6 -> #DIV/0! | AP18: =('Waste recycled-Basel'!AP6-'Waste recycled-Basel'!AP28+'Waste recycled-Basel'!AP50)/'Waste generation-Basel'!AP6 -> #DIV/0! | AR18: =('Waste recycled-Basel'!AR6-'Waste recycled-Basel'!AR28+'Waste recycled-Basel'!AR50)/'Waste generation-Basel'!AR6 -> #DIV/0! | AT18: =('Waste recycled-Basel'!AT6-'Waste recycled-Basel'!AT28+'Waste recycled-Basel'!AT50)/'Waste generation-Basel'!AT6 -> #DIV/0! | AV18: =('Waste recycled-Basel'!AV6-'Waste recycled-Basel'!AV28+'Waste recycled-Basel'!AV50)/'Waste generation-Basel'!AV6 -> #DIV/0! | AX18: =('Waste recycled-Basel'!AW6-'Waste recycled-Basel'!AW28+'Waste recycled-Basel'!AW50)/'Waste generation-Basel'!AX6 -> #DIV/0! | AZ18: =('Waste recycled-Basel'!AY6-'Waste recycled-Basel'!AY28+'Waste recycled-Basel'!AY50)/'Waste generation-Basel'!AZ6 -> #DIV/0! | BB18: =('Waste recycled-Basel'!BA6-'Waste recycled-Basel'!BA28+'Waste recycled-Basel'!BA50)/'Waste generation-Basel'!BB6 -> #DIV/0! | BD18: =('Waste recycled-Basel'!BC6-'Waste recycled-Basel'!BC28+'Waste recycled-Basel'!BC50)/'Waste generation-Basel'!BD6 -> #DIV/0! | BF18: =('Waste recycled-Basel'!BE6-'Waste recycled-Basel'!BE28+'Waste recycled-Basel'!BE50)/'Waste generation-Basel'!BF6 -> #DIV/0! | BH18: =('Waste recycled-Basel'!BG6-'Waste recycled-Basel'!BG28+'Waste recycled-Basel'!BG50)/'Waste generation-Basel'!BH6 -> #DIV/0! | BJ18: =('Waste recycled-Basel'!BI6-'Waste recycled-Basel'!BI28+'Waste recycled-Basel'!BI50)/'Waste generation-Basel'!BJ6 -> #DIV/0! | BL18: =('Waste recycled-Basel'!BK6-'Waste recycled-Basel'!BK28+'Waste recycled-Basel'!BK50)/'Waste generation-Basel'!BL6 -> #DIV/0!
A19: Y3 | B19: Ненужные фармацевтические товары, лекарства и препараты | C19: % | D19: =('Waste recycled-Basel'!D7-'Waste recycled-Basel'!D29+'Waste recycled-Basel'!D51)/'Waste generation-Basel'!D7 -> #DIV/0! | F19: =('Waste recycled-Basel'!F7-'Waste recycled-Basel'!F29+'Waste recycled-Basel'!F51)/'Waste generation-Basel'!F7 -> #DIV/0! | H19: =('Waste recycled-Basel'!H7-'Waste recycled-Basel'!H29+'Waste recycled-Basel'!H51)/'Waste generation-Basel'!H7 -> #DIV/0! | J19: =('Waste recycled-Basel'!J7-'Waste recycled-Basel'!J29+'Waste recycled-Basel'!J51)/'Waste generation-Basel'!J7 -> #DIV/0! | L19: =('Waste recycled-Basel'!L7-'Waste recycled-Basel'!L29+'Waste recycled-Basel'!L51)/'Waste generation-Basel'!L7 -> #DIV/0! | N19: =('Waste recycled-Basel'!N7-'Waste recycled-Basel'!N29+'Waste recycled-Basel'!N51)/'Waste generation-Basel'!N7 -> #DIV/0! | P19: =('Waste recycled-Basel'!P7-'Waste recycled-Basel'!P29+'Waste recycled-Basel'!P51)/'Waste generation-Basel'!P7 -> #DIV/0! | R19: =('Waste recycled-Basel'!R7-'Waste recycled-Basel'!R29+'Waste recycled-Basel'!R51)/'Waste generation-Basel'!R7 -> #DIV/0! | T19: =('Waste recycled-Basel'!T7-'Waste recycled-Basel'!T29+'Waste recycled-Basel'!T51)/'Waste generation-Basel'!T7 -> #DIV/0! | V19: =('Waste recycled-Basel'!V7-'Waste recycled-Basel'!V29+'Waste recycled-Basel'!V51)/'Waste generation-Basel'!V7 -> #DIV/0! | X19: =('Waste recycled-Basel'!X7-'Waste recycled-Basel'!X29+'Waste recycled-Basel'!X51)/'Waste generation-Basel'!X7 -> #DIV/0! | Z19: =('Waste recycled-Basel'!Z7-'Waste recycled-Basel'!Z29+'Waste recycled-Basel'!Z51)/'Waste generation-Basel'!Z7 -> #DIV/0! | AB19: =('Waste recycled-Basel'!AB7-'Waste recycled-Basel'!AB29+'Waste recycled-Basel'!AB51)/'Waste generation-Basel'!AB7 -> #DIV/0! | AD19: =('Waste recycled-Basel'!AD7-'Waste recycled-Basel'!AD29+'Waste recycled-Basel'!AD51)/'Waste generation-Basel'!AD7 -> #DIV/0! | AF19: =('Waste recycled-Basel'!AF7-'Waste recycled-Basel'!AF29+'Waste recycled-Basel'!AF51)/'Waste generation-Basel'!AF7 -> #DIV/0! | AH19: =('Waste recycled-Basel'!AH7-'Waste recycled-Basel'!AH29+'Waste recycled-Basel'!AH51)/'Waste generation-Basel'!AH7 -> #DIV/0! | AJ19: =('Waste recycled-Basel'!AJ7-'Waste recycled-Basel'!AJ29+'Waste recycled-Basel'!AJ51)/'Waste generation-Basel'!AJ7 -> #DIV/0! | AL19: =('Waste recycled-Basel'!AL7-'Waste recycled-Basel'!AL29+'Waste recycled-Basel'!AL51)/'Waste generation-Basel'!AL7 -> #DIV/0! | AN19: =('Waste recycled-Basel'!AN7-'Waste recycled-Basel'!AN29+'Waste recycled-Basel'!AN51)/'Waste generation-Basel'!AN7 -> #DIV/0! | AP19: =('Waste recycled-Basel'!AP7-'Waste recycled-Basel'!AP29+'Waste recycled-Basel'!AP51)/'Waste generation-Basel'!AP7 -> #DIV/0! | AR19: =('Waste recycled-Basel'!AR7-'Waste recycled-Basel'!AR29+'Waste recycled-Basel'!AR51)/'Waste generation-Basel'!AR7 -> #DIV/0! | AT19: =('Waste recycled-Basel'!AT7-'Waste recycled-Basel'!AT29+'Waste recycled-Basel'!AT51)/'Waste generation-Basel'!AT7 -> #DIV/0! | AV19: =('Waste recycled-Basel'!AV7-'Waste recycled-Basel'!AV29+'Waste recycled-Basel'!AV51)/'Waste generation-Basel'!AV7 -> #DIV/0! | AX19: =('Waste recycled-Basel'!AW7-'Waste recycled-Basel'!AW29+'Waste recycled-Basel'!AW51)/'Waste generation-Basel'!AX7 -> #DIV/0! | AZ19: =('Waste recycled-Basel'!AY7-'Waste recycled-Basel'!AY29+'Waste recycled-Basel'!AY51)/'Waste generation-Basel'!AZ7 -> #DIV/0! | BB19: =('Waste recycled-Basel'!BA7-'Waste recycled-Basel'!BA29+'Waste recycled-Basel'!BA51)/'Waste generation-Basel'!BB7 -> #DIV/0! | BD19: =('Waste recycled-Basel'!BC7-'Waste recycled-Basel'!BC29+'Waste recycled-Basel'!BC51)/'Waste generation-Basel'!BD7 -> #DIV/0! | BF19: =('Waste recycled-Basel'!BE7-'Waste recycled-Basel'!BE29+'Waste recycled-Basel'!BE51)/'Waste generation-Basel'!BF7 -> #DIV/0! | BH19: =('Waste recycled-Basel'!BG7-'Waste recycled-Basel'!BG29+'Waste recycled-Basel'!BG51)/'Waste generation-Basel'!BH7 -> #DIV/0! | BJ19: =('Waste recycled-Basel'!BI7-'Waste recycled-Basel'!BI29+'Waste recycled-Basel'!BI51)/'Waste generation-Basel'!BJ7 -> #DIV/0! | BL19: =('Waste recycled-Basel'!BK7-'Waste recycled-Basel'!BK29+'Waste recycled-Basel'!BK51)/'Waste generation-Basel'!BL7 -> #DIV/0!
A20: Y4 | B20: Отходы производства… биоцидов и фитофармацевтических препаратов | C20: % | D20: =('Waste recycled-Basel'!D8-'Waste recycled-Basel'!D30+'Waste recycled-Basel'!D52)/'Waste generation-Basel'!D8 -> #DIV/0! | F20: =('Waste recycled-Basel'!F8-'Waste recycled-Basel'!F30+'Waste recycled-Basel'!F52)/'Waste generation-Basel'!F8 -> #DIV/0! | H20: =('Waste recycled-Basel'!H8-'Waste recycled-Basel'!H30+'Waste recycled-Basel'!H52)/'Waste generation-Basel'!H8 -> #DIV/0! | J20: =('Waste recycled-Basel'!J8-'Waste recycled-Basel'!J30+'Waste recycled-Basel'!J52)/'Waste generation-Basel'!J8 -> #DIV/0! | L20: =('Waste recycled-Basel'!L8-'Waste recycled-Basel'!L30+'Waste recycled-Basel'!L52)/'Waste generation-Basel'!L8 -> #DIV/0! | N20: =('Waste recycled-Basel'!N8-'Waste recycled-Basel'!N30+'Waste recycled-Basel'!N52)/'Waste generation-Basel'!N8 -> #DIV/0! | P20: =('Waste recycled-Basel'!P8-'Waste recycled-Basel'!P30+'Waste recycled-Basel'!P52)/'Waste generation-Basel'!P8 -> #DIV/0! | R20: =('Waste recycled-Basel'!R8-'Waste recycled-Basel'!R30+'Waste recycled-Basel'!R52)/'Waste generation-Basel'!R8 -> #DIV/0! | T20: =('Waste recycled-Basel'!T8-'Waste recycled-Basel'!T30+'Waste recycled-Basel'!T52)/'Waste generation-Basel'!T8 -> #DIV/0! | V20: =('Waste recycled-Basel'!V8-'Waste recycled-Basel'!V30+'Waste recycled-Basel'!V52)/'Waste generation-Basel'!V8 -> #DIV/0! | X20: =('Waste recycled-Basel'!X8-'Waste recycled-Basel'!X30+'Waste recycled-Basel'!X52)/'Waste generation-Basel'!X8 -> #DIV/0! | Z20: =('Waste recycled-Basel'!Z8-'Waste recycled-Basel'!Z30+'Waste recycled-Basel'!Z52)/'Waste generation-Basel'!Z8 -> #DIV/0! | AB20: =('Waste recycled-Basel'!AB8-'Waste recycled-Basel'!AB30+'Waste recycled-Basel'!AB52)/'Waste generation-Basel'!AB8 -> #DIV/0! | AD20: =('Waste recycled-Basel'!AD8-'Waste recycled-Basel'!AD30+'Waste recycled-Basel'!AD52)/'Waste generation-Basel'!AD8 -> #DIV/0! | AF20: =('Waste recycled-Basel'!AF8-'Waste recycled-Basel'!AF30+'Waste recycled-Basel'!AF52)/'Waste generation-Basel'!AF8 -> #DIV/0! | AH20: =('Waste recycled-Basel'!AH8-'Waste recycled-Basel'!AH30+'Waste recycled-Basel'!AH52)/'Waste generation-Basel'!AH8 -> #DIV/0! | AJ20: =('Waste recycled-Basel'!AJ8-'Waste recycled-Basel'!AJ30+'Waste recycled-Basel'!AJ52)/'Waste generation-Basel'!AJ8 -> #DIV/0! | AL20: =('Waste recycled-Basel'!AL8-'Waste recycled-Basel'!AL30+'Waste recycled-Basel'!AL52)/'Waste generation-Basel'!AL8 -> #DIV/0! | AN20: =('Waste recycled-Basel'!AN8-'Waste recycled-Basel'!AN30+'Waste recycled-Basel'!AN52)/'Waste generation-Basel'!AN8 -> #DIV/0! | AP20: =('Waste recycled-Basel'!AP8-'Waste recycled-Basel'!AP30+'Waste recycled-Basel'!AP52)/'Waste generation-Basel'!AP8 -> #DIV/0! | AR20: =('Waste recycled-Basel'!AR8-'Waste recycled-Basel'!AR30+'Waste recycled-Basel'!AR52)/'Waste generation-Basel'!AR8 -> #DIV/0! | AT20: =('Waste recycled-Basel'!AT8-'Waste recycled-Basel'!AT30+'Waste recycled-Basel'!AT52)/'Waste generation-Basel'!AT8 -> #DIV/0! | AV20: =('Waste recycled-Basel'!AV8-'Waste recycled-Basel'!AV30+'Waste recycled-Basel'!AV52)/'Waste generation-Basel'!AV8 -> #DIV/0! | AX20: =('Waste recycled-Basel'!AW8-'Waste recycled-Basel'!AW30+'Waste recycled-Basel'!AW52)/'Waste generation-Basel'!AX8 -> #DIV/0! | AZ20: =('Waste recycled-Basel'!AY8-'Waste recycled-Basel'!AY30+'Waste recycled-Basel'!AY52)/'Waste generation-Basel'!AZ8 -> #DIV/0! | BB20: =('Waste recycled-Basel'!BA8-'Waste recycled-Basel'!BA30+'Waste recycled-Basel'!BA52)/'Waste generation-Basel'!BB8 -> #DIV/0! | BD20: =('Waste recycled-Basel'!BC8-'Waste recycled-Basel'!BC30+'Waste recycled-Basel'!BC52)/'Waste generation-Basel'!BD8 -> #DIV/0! | BF20: =('Waste recycled-Basel'!BE8-'Waste recycled-Basel'!BE30+'Waste recycled-Basel'!BE52)/'Waste generation-Basel'!BF8 -> #DIV/0! | BH20: =('Waste recycled-Basel'!BG8-'Waste recycled-Basel'!BG30+'Waste recycled-Basel'!BG52)/'Waste generation-Basel'!BH8 -> #DIV/0! | BJ20: =('Waste recycled-Basel'!BI8-'Waste recycled-Basel'!BI30+'Waste recycled-Basel'!BI52)/'Waste generation-Basel'!BJ8 -> #DIV/0! | BL20: =('Waste recycled-Basel'!BK8-'Waste recycled-Basel'!BK30+'Waste recycled-Basel'!BK52)/'Waste generation-Basel'!BL8 -> #DIV/0!
A21: Y5 | B21: Отходы производства… консервантов древесины | C21: % | D21: =('Waste recycled-Basel'!D9-'Waste recycled-Basel'!D31+'Waste recycled-Basel'!D53)/'Waste generation-Basel'!D9 -> #DIV/0! | F21: =('Waste recycled-Basel'!F9-'Waste recycled-Basel'!F31+'Waste recycled-Basel'!F53)/'Waste generation-Basel'!F9 -> #DIV/0! | H21: =('Waste recycled-Basel'!H9-'Waste recycled-Basel'!H31+'Waste recycled-Basel'!H53)/'Waste generation-Basel'!H9 -> #DIV/0! | J21: =('Waste recycled-Basel'!J9-'Waste recycled-Basel'!J31+'Waste recycled-Basel'!J53)/'Waste generation-Basel'!J9 -> #DIV/0! | L21: =('Waste recycled-Basel'!L9-'Waste recycled-Basel'!L31+'Waste recycled-Basel'!L53)/'Waste generation-Basel'!L9 -> #DIV/0! | N21: =('Waste recycled-Basel'!N9-'Waste recycled-Basel'!N31+'Waste recycled-Basel'!N53)/'Waste generation-Basel'!N9 -> #DIV/0! | P21: =('Waste recycled-Basel'!P9-'Waste recycled-Basel'!P31+'Waste recycled-Basel'!P53)/'Waste generation-Basel'!P9 -> #DIV/0! | R21: =('Waste recycled-Basel'!R9-'Waste recycled-Basel'!R31+'Waste recycled-Basel'!R53)/'Waste generation-Basel'!R9 -> #DIV/0! | T21: =('Waste recycled-Basel'!T9-'Waste recycled-Basel'!T31+'Waste recycled-Basel'!T53)/'Waste generation-Basel'!T9 -> #DIV/0! | V21: =('Waste recycled-Basel'!V9-'Waste recycled-Basel'!V31+'Waste recycled-Basel'!V53)/'Waste generation-Basel'!V9 -> #DIV/0! | X21: =('Waste recycled-Basel'!X9-'Waste recycled-Basel'!X31+'Waste recycled-Basel'!X53)/'Waste generation-Basel'!X9 -> #DIV/0! | Z21: =('Waste recycled-Basel'!Z9-'Waste recycled-Basel'!Z31+'Waste recycled-Basel'!Z53)/'Waste generation-Basel'!Z9 -> #DIV/0! | AB21: =('Waste recycled-Basel'!AB9-'Waste recycled-Basel'!AB31+'Waste recycled-Basel'!AB53)/'Waste generation-Basel'!AB9 -> #DIV/0! | AD21: =('Waste recycled-Basel'!AD9-'Waste recycled-Basel'!AD31+'Waste recycled-Basel'!AD53)/'Waste generation-Basel'!AD9 -> #DIV/0! | AF21: =('Waste recycled-Basel'!AF9-'Waste recycled-Basel'!AF31+'Waste recycled-Basel'!AF53)/'Waste generation-Basel'!AF9 -> #DIV/0! | AH21: =('Waste recycled-Basel'!AH9-'Waste recycled-Basel'!AH31+'Waste recycled-Basel'!AH53)/'Waste generation-Basel'!AH9 -> #DIV/0! | AJ21: =('Waste recycled-Basel'!AJ9-'Waste recycled-Basel'!AJ31+'Waste recycled-Basel'!AJ53)/'Waste generation-Basel'!AJ9 -> #DIV/0! | AL21: =('Waste recycled-Basel'!AL9-'Waste recycled-Basel'!AL31+'Waste recycled-Basel'!AL53)/'Waste generation-Basel'!AL9 -> #DIV/0! | AN21: =('Waste recycled-Basel'!AN9-'Waste recycled-Basel'!AN31+'Waste recycled-Basel'!AN53)/'Waste generation-Basel'!AN9 -> #DIV/0! | AP21: =('Waste recycled-Basel'!AP9-'Waste recycled-Basel'!AP31+'Waste recycled-Basel'!AP53)/'Waste generation-Basel'!AP9 -> #DIV/0! | AR21: =('Waste recycled-Basel'!AR9-'Waste recycled-Basel'!AR31+'Waste recycled-Basel'!AR53)/'Waste generation-Basel'!AR9 -> #DIV/0! | AT21: =('Waste recycled-Basel'!AT9-'Waste recycled-Basel'!AT31+'Waste recycled-Basel'!AT53)/'Waste generation-Basel'!AT9 -> #DIV/0! | AV21: =('Waste recycled-Basel'!AV9-'Waste recycled-Basel'!AV31+'Waste recycled-Basel'!AV53)/'Waste generation-Basel'!AV9 -> #DIV/0! | AX21: =('Waste recycled-Basel'!AW9-'Waste recycled-Basel'!AW31+'Waste recycled-Basel'!AW53)/'Waste generation-Basel'!AX9 -> #DIV/0! | AZ21: =('Waste recycled-Basel'!AY9-'Waste recycled-Basel'!AY31+'Waste recycled-Basel'!AY53)/'Waste generation-Basel'!AZ9 -> #DIV/0! | BB21: =('Waste recycled-Basel'!BA9-'Waste recycled-Basel'!BA31+'Waste recycled-Basel'!BA53)/'Waste generation-Basel'!BB9 -> #DIV/0! | BD21: =('Waste recycled-Basel'!BC9-'Waste recycled-Basel'!BC31+'Waste recycled-Basel'!BC53)/'Waste generation-Basel'!BD9 -> #DIV/0! | BF21: =('Waste recycled-Basel'!BE9-'Waste recycled-Basel'!BE31+'Waste recycled-Basel'!BE53)/'Waste generation-Basel'!BF9 -> #DIV/0! | BH21: =('Waste recycled-Basel'!BG9-'Waste recycled-Basel'!BG31+'Waste recycled-Basel'!BG53)/'Waste generation-Basel'!BH9 -> #DIV/0! | BJ21: =('Waste recycled-Basel'!BI9-'Waste recycled-Basel'!BI31+'Waste recycled-Basel'!BI53)/'Waste generation-Basel'!BJ9 -> #DIV/0! | BL21: =('Waste recycled-Basel'!BK9-'Waste recycled-Basel'!BK31+'Waste recycled-Basel'!BK53)/'Waste generation-Basel'!BL9 -> #DIV/0!
A22: Y6 | B22: Отходы производства, получения и применения органических растворителей | C22: % | D22: =('Waste recycled-Basel'!D10-'Waste recycled-Basel'!D32+'Waste recycled-Basel'!D54)/'Waste generation-Basel'!D10 -> #DIV/0! | F22: =('Waste recycled-Basel'!F10-'Waste recycled-Basel'!F32+'Waste recycled-Basel'!F54)/'Waste generation-Basel'!F10 -> #DIV/0! | H22: =('Waste recycled-Basel'!H10-'Waste recycled-Basel'!H32+'Waste recycled-Basel'!H54)/'Waste generation-Basel'!H10 -> #DIV/0! | J22: =('Waste recycled-Basel'!J10-'Waste recycled-Basel'!J32+'Waste recycled-Basel'!J54)/'Waste generation-Basel'!J10 -> #DIV/0! | L22: =('Waste recycled-Basel'!L10-'Waste recycled-Basel'!L32+'Waste recycled-Basel'!L54)/'Waste generation-Basel'!L10 -> #DIV/0! | N22: =('Waste recycled-Basel'!N10-'Waste recycled-Basel'!N32+'Waste recycled-Basel'!N54)/'Waste generation-Basel'!N10 -> #DIV/0! | P22: =('Waste recycled-Basel'!P10-'Waste recycled-Basel'!P32+'Waste recycled-Basel'!P54)/'Waste generation-Basel'!P10 -> #DIV/0! | R22: =('Waste recycled-Basel'!R10-'Waste recycled-Basel'!R32+'Waste recycled-Basel'!R54)/'Waste generation-Basel'!R10 -> #DIV/0! | T22: =('Waste recycled-Basel'!T10-'Waste recycled-Basel'!T32+'Waste recycled-Basel'!T54)/'Waste generation-Basel'!T10 -> #DIV/0! | V22: =('Waste recycled-Basel'!V10-'Waste recycled-Basel'!V32+'Waste recycled-Basel'!V54)/'Waste generation-Basel'!V10 -> #DIV/0! | X22: =('Waste recycled-Basel'!X10-'Waste recycled-Basel'!X32+'Waste recycled-Basel'!X54)/'Waste generation-Basel'!X10 -> #DIV/0! | Z22: =('Waste recycled-Basel'!Z10-'Waste recycled-Basel'!Z32+'Waste recycled-Basel'!Z54)/'Waste generation-Basel'!Z10 -> #DIV/0! | AB22: =('Waste recycled-Basel'!AB10-'Waste recycled-Basel'!AB32+'Waste recycled-Basel'!AB54)/'Waste generation-Basel'!AB10 -> #DIV/0! | AD22: =('Waste recycled-Basel'!AD10-'Waste recycled-Basel'!AD32+'Waste recycled-Basel'!AD54)/'Waste generation-Basel'!AD10 -> #DIV/0! | AF22: =('Waste recycled-Basel'!AF10-'Waste recycled-Basel'!AF32+'Waste recycled-Basel'!AF54)/'Waste generation-Basel'!AF10 -> #DIV/0! | AH22: =('Waste recycled-Basel'!AH10-'Waste recycled-Basel'!AH32+'Waste recycled-Basel'!AH54)/'Waste generation-Basel'!AH10 -> #DIV/0! | AJ22: =('Waste recycled-Basel'!AJ10-'Waste recycled-Basel'!AJ32+'Waste recycled-Basel'!AJ54)/'Waste generation-Basel'!AJ10 -> #DIV/0! | AL22: =('Waste recycled-Basel'!AL10-'Waste recycled-Basel'!AL32+'Waste recycled-Basel'!AL54)/'Waste generation-Basel'!AL10 -> #DIV/0! | AN22: =('Waste recycled-Basel'!AN10-'Waste recycled-Basel'!AN32+'Waste recycled-Basel'!AN54)/'Waste generation-Basel'!AN10 -> #DIV/0! | AP22: =('Waste recycled-Basel'!AP10-'Waste recycled-Basel'!AP32+'Waste recycled-Basel'!AP54)/'Waste generation-Basel'!AP10 -> #DIV/0! | AR22: =('Waste recycled-Basel'!AR10-'Waste recycled-Basel'!AR32+'Waste recycled-Basel'!AR54)/'Waste generation-Basel'!AR10 -> #DIV/0! | AT22: =('Waste recycled-Basel'!AT10-'Waste recycled-Basel'!AT32+'Waste recycled-Basel'!AT54)/'Waste generation-Basel'!AT10 -> #DIV/0! | AV22: =('Waste recycled-Basel'!AV10-'Waste recycled-Basel'!AV32+'Waste recycled-Basel'!AV54)/'Waste generation-Basel'!AV10 -> #DIV/0! | AX22: =('Waste recycled-Basel'!AW10-'Waste recycled-Basel'!AW32+'Waste recycled-Basel'!AW54)/'Waste generation-Basel'!AX10 -> #DIV/0! | AZ22: =('Waste recycled-Basel'!AY10-'Waste recycled-Basel'!AY32+'Waste recycled-Basel'!AY54)/'Waste generation-Basel'!AZ10 -> #DIV/0! | BB22: =('Waste recycled-Basel'!BA10-'Waste recycled-Basel'!BA32+'Waste recycled-Basel'!BA54)/'Waste generation-Basel'!BB10 -> #DIV/0! | BD22: =('Waste recycled-Basel'!BC10-'Waste recycled-Basel'!BC32+'Waste recycled-Basel'!BC54)/'Waste generation-Basel'!BD10 -> #DIV/0! | BF22: =('Waste recycled-Basel'!BE10-'Waste recycled-Basel'!BE32+'Waste recycled-Basel'!BE54)/'Waste generation-Basel'!BF10 -> #DIV/0! | BH22: =('Waste recycled-Basel'!BG10-'Waste recycled-Basel'!BG32+'Waste recycled-Basel'!BG54)/'Waste generation-Basel'!BH10 -> #DIV/0! | BJ22: =('Waste recycled-Basel'!BI10-'Waste recycled-Basel'!BI32+'Waste recycled-Basel'!BI54)/'Waste generation-Basel'!BJ10 -> #DIV/0! | BL22: =('Waste recycled-Basel'!BK10-'Waste recycled-Basel'!BK32+'Waste recycled-Basel'!BK54)/'Waste generation-Basel'!BL10 -> #DIV/0!
A23: Y7 | B23: Отходы тепловой обработки и облагораживания материалов, содержащие цианиды | C23: % | D23: =('Waste recycled-Basel'!D11-'Waste recycled-Basel'!D33+'Waste recycled-Basel'!D55)/'Waste generation-Basel'!D11 -> #DIV/0! | F23: =('Waste recycled-Basel'!F11-'Waste recycled-Basel'!F33+'Waste recycled-Basel'!F55)/'Waste generation-Basel'!F11 -> #DIV/0! | H23: =('Waste recycled-Basel'!H11-'Waste recycled-Basel'!H33+'Waste recycled-Basel'!H55)/'Waste generation-Basel'!H11 -> #DIV/0! | J23: =('Waste recycled-Basel'!J11-'Waste recycled-Basel'!J33+'Waste recycled-Basel'!J55)/'Waste generation-Basel'!J11 -> #DIV/0! | L23: =('Waste recycled-Basel'!L11-'Waste recycled-Basel'!L33+'Waste recycled-Basel'!L55)/'Waste generation-Basel'!L11 -> #DIV/0! | N23: =('Waste recycled-Basel'!N11-'Waste recycled-Basel'!N33+'Waste recycled-Basel'!N55)/'Waste generation-Basel'!N11 -> #DIV/0! | P23: =('Waste recycled-Basel'!P11-'Waste recycled-Basel'!P33+'Waste recycled-Basel'!P55)/'Waste generation-Basel'!P11 -> #DIV/0! | R23: =('Waste recycled-Basel'!R11-'Waste recycled-Basel'!R33+'Waste recycled-Basel'!R55)/'Waste generation-Basel'!R11 -> #DIV/0! | T23: =('Waste recycled-Basel'!T11-'Waste recycled-Basel'!T33+'Waste recycled-Basel'!T55)/'Waste generation-Basel'!T11 -> #DIV/0! | V23: =('Waste recycled-Basel'!V11-'Waste recycled-Basel'!V33+'Waste recycled-Basel'!V55)/'Waste generation-Basel'!V11 -> #DIV/0! | X23: =('Waste recycled-Basel'!X11-'Waste recycled-Basel'!X33+'Waste recycled-Basel'!X55)/'Waste generation-Basel'!X11 -> #DIV/0! | Z23: =('Waste recycled-Basel'!Z11-'Waste recycled-Basel'!Z33+'Waste recycled-Basel'!Z55)/'Waste generation-Basel'!Z11 -> #DIV/0! | AB23: =('Waste recycled-Basel'!AB11-'Waste recycled-Basel'!AB33+'Waste recycled-Basel'!AB55)/'Waste generation-Basel'!AB11 -> #DIV/0! | AD23: =('Waste recycled-Basel'!AD11-'Waste recycled-Basel'!AD33+'Waste recycled-Basel'!AD55)/'Waste generation-Basel'!AD11 -> #DIV/0! | AF23: =('Waste recycled-Basel'!AF11-'Waste recycled-Basel'!AF33+'Waste recycled-Basel'!AF55)/'Waste generation-Basel'!AF11 -> #DIV/0! | AH23: =('Waste recycled-Basel'!AH11-'Waste recycled-Basel'!AH33+'Waste recycled-Basel'!AH55)/'Waste generation-Basel'!AH11 -> #DIV/0! | AJ23: =('Waste recycled-Basel'!AJ11-'Waste recycled-Basel'!AJ33+'Waste recycled-Basel'!AJ55)/'Waste generation-Basel'!AJ11 -> #DIV/0! | AL23: =('Waste recycled-Basel'!AL11-'Waste recycled-Basel'!AL33+'Waste recycled-Basel'!AL55)/'Waste generation-Basel'!AL11 -> #DIV/0! | AN23: =('Waste recycled-Basel'!AN11-'Waste recycled-Basel'!AN33+'Waste recycled-Basel'!AN55)/'Waste generation-Basel'!AN11 -> #DIV/0! | AP23: =('Waste recycled-Basel'!AP11-'Waste recycled-Basel'!AP33+'Waste recycled-Basel'!AP55)/'Waste generation-Basel'!AP11 -> #DIV/0! | AR23: =('Waste recycled-Basel'!AR11-'Waste recycled-Basel'!AR33+'Waste recycled-Basel'!AR55)/'Waste generation-Basel'!AR11 -> #DIV/0! | AT23: =('Waste recycled-Basel'!AT11-'Waste recycled-Basel'!AT33+'Waste recycled-Basel'!AT55)/'Waste generation-Basel'!AT11 -> #DIV/0! | AV23: =('Waste recycled-Basel'!AV11-'Waste recycled-Basel'!AV33+'Waste recycled-Basel'!AV55)/'Waste generation-Basel'!AV11 -> #DIV/0! | AX23: =('Waste recycled-Basel'!AW11-'Waste recycled-Basel'!AW33+'Waste recycled-Basel'!AW55)/'Waste generation-Basel'!AX11 -> #DIV/0! | AZ23: =('Waste recycled-Basel'!AY11-'Waste recycled-Basel'!AY33+'Waste recycled-Basel'!AY55)/'Waste generation-Basel'!AZ11 -> #DIV/0! | BB23: =('Waste recycled-Basel'!BA11-'Waste recycled-Basel'!BA33+'Waste recycled-Basel'!BA55)/'Waste generation-Basel'!BB11 -> #DIV/0! | BD23: =('Waste recycled-Basel'!BC11-'Waste recycled-Basel'!BC33+'Waste recycled-Basel'!BC55)/'Waste generation-Basel'!BD11 -> #DIV/0! | BF23: =('Waste recycled-Basel'!BE11-'Waste recycled-Basel'!BE33+'Waste recycled-Basel'!BE55)/'Waste generation-Basel'!BF11 -> #DIV/0! | BH23: =('Waste recycled-Basel'!BG11-'Waste recycled-Basel'!BG33+'Waste recycled-Basel'!BG55)/'Waste generation-Basel'!BH11 -> #DIV/0! | BJ23: =('Waste recycled-Basel'!BI11-'Waste recycled-Basel'!BI33+'Waste recycled-Basel'!BI55)/'Waste generation-Basel'!BJ11 -> #DIV/0! | BL23: =('Waste recycled-Basel'!BK11-'Waste recycled-Basel'!BK33+'Waste recycled-Basel'!BK55)/'Waste generation-Basel'!BL11 -> #DIV/0!
A24: Y8 | B24: Ненужные минеральные масла, не пригодные для первоначально запланированного применения | C24: % | D24: =('Waste recycled-Basel'!D12-'Waste recycled-Basel'!D34+'Waste recycled-Basel'!D56)/'Waste generation-Basel'!D12 -> #DIV/0! | F24: =('Waste recycled-Basel'!F12-'Waste recycled-Basel'!F34+'Waste recycled-Basel'!F56)/'Waste generation-Basel'!F12 -> #DIV/0! | H24: =('Waste recycled-Basel'!H12-'Waste recycled-Basel'!H34+'Waste recycled-Basel'!H56)/'Waste generation-Basel'!H12 -> #DIV/0! | J24: =('Waste recycled-Basel'!J12-'Waste recycled-Basel'!J34+'Waste recycled-Basel'!J56)/'Waste generation-Basel'!J12 -> #DIV/0! | L24: =('Waste recycled-Basel'!L12-'Waste recycled-Basel'!L34+'Waste recycled-Basel'!L56)/'Waste generation-Basel'!L12 -> #DIV/0! | N24: =('Waste recycled-Basel'!N12-'Waste recycled-Basel'!N34+'Waste recycled-Basel'!N56)/'Waste generation-Basel'!N12 -> #DIV/0! | P24: =('Waste recycled-Basel'!P12-'Waste recycled-Basel'!P34+'Waste recycled-Basel'!P56)/'Waste generation-Basel'!P12 -> #DIV/0! | R24: =('Waste recycled-Basel'!R12-'Waste recycled-Basel'!R34+'Waste recycled-Basel'!R56)/'Waste generation-Basel'!R12 -> #DIV/0! | T24: =('Waste recycled-Basel'!T12-'Waste recycled-Basel'!T34+'Waste recycled-Basel'!T56)/'Waste generation-Basel'!T12 -> #DIV/0! | V24: =('Waste recycled-Basel'!V12-'Waste recycled-Basel'!V34+'Waste recycled-Basel'!V56)/'Waste generation-Basel'!V12 -> #DIV/0! | X24: =('Waste recycled-Basel'!X12-'Waste recycled-Basel'!X34+'Waste recycled-Basel'!X56)/'Waste generation-Basel'!X12 -> #DIV/0! | Z24: =('Waste recycled-Basel'!Z12-'Waste recycled-Basel'!Z34+'Waste recycled-Basel'!Z56)/'Waste generation-Basel'!Z12 -> #DIV/0! | AB24: =('Waste recycled-Basel'!AB12-'Waste recycled-Basel'!AB34+'Waste recycled-Basel'!AB56)/'Waste generation-Basel'!AB12 -> #DIV/0! | AD24: =('Waste recycled-Basel'!AD12-'Waste recycled-Basel'!AD34+'Waste recycled-Basel'!AD56)/'Waste generation-Basel'!AD12 -> #DIV/0! | AF24: =('Waste recycled-Basel'!AF12-'Waste recycled-Basel'!AF34+'Waste recycled-Basel'!AF56)/'Waste generation-Basel'!AF12 -> #DIV/0! | AH24: =('Waste recycled-Basel'!AH12-'Waste recycled-Basel'!AH34+'Waste recycled-Basel'!AH56)/'Waste generation-Basel'!AH12 -> #DIV/0! | AJ24: =('Waste recycled-Basel'!AJ12-'Waste recycled-Basel'!AJ34+'Waste recycled-Basel'!AJ56)/'Waste generation-Basel'!AJ12 -> #DIV/0! | AL24: =('Waste recycled-Basel'!AL12-'Waste recycled-Basel'!AL34+'Waste recycled-Basel'!AL56)/'Waste generation-Basel'!AL12 -> #DIV/0! | AN24: =('Waste recycled-Basel'!AN12-'Waste recycled-Basel'!AN34+'Waste recycled-Basel'!AN56)/'Waste generation-Basel'!AN12 -> #DIV/0! | AP24: =('Waste recycled-Basel'!AP12-'Waste recycled-Basel'!AP34+'Waste recycled-Basel'!AP56)/'Waste generation-Basel'!AP12 -> #DIV/0! | AR24: =('Waste recycled-Basel'!AR12-'Waste recycled-Basel'!AR34+'Waste recycled-Basel'!AR56)/'Waste generation-Basel'!AR12 -> #DIV/0! | AT24: =('Waste recycled-Basel'!AT12-'Waste recycled-Basel'!AT34+'Waste recycled-Basel'!AT56)/'Waste generation-Basel'!AT12 -> #DIV/0! | AV24: =('Waste recycled-Basel'!AV12-'Waste recycled-Basel'!AV34+'Waste recycled-Basel'!AV56)/'Waste generation-Basel'!AV12 -> #DIV/0! | AX24: =('Waste recycled-Basel'!AW12-'Waste recycled-Basel'!AW34+'Waste recycled-Basel'!AW56)/'Waste generation-Basel'!AX12 -> #DIV/0! | AZ24: =('Waste recycled-Basel'!AY12-'Waste recycled-Basel'!AY34+'Waste recycled-Basel'!AY56)/'Waste generation-Basel'!AZ12 -> #DIV/0! | BB24: =('Waste recycled-Basel'!BA12-'Waste recycled-Basel'!BA34+'Waste recycled-Basel'!BA56)/'Waste generation-Basel'!BB12 -> #DIV/0! | BD24: =('Waste recycled-Basel'!BC12-'Waste recycled-Basel'!BC34+'Waste recycled-Basel'!BC56)/'Waste generation-Basel'!BD12 -> #DIV/0! | BF24: =('Waste recycled-Basel'!BE12-'Waste recycled-Basel'!BE34+'Waste recycled-Basel'!BE56)/'Waste generation-Basel'!BF12 -> #DIV/0! | BH24: =('Waste recycled-Basel'!BG12-'Waste recycled-Basel'!BG34+'Waste recycled-Basel'!BG56)/'Waste generation-Basel'!BH12 -> #DIV/0! | BJ24: =('Waste recycled-Basel'!BI12-'Waste recycled-Basel'!BI34+'Waste recycled-Basel'!BI56)/'Waste generation-Basel'!BJ12 -> #DIV/0! | BL24: =('Waste recycled-Basel'!BK12-'Waste recycled-Basel'!BK34+'Waste recycled-Basel'!BK56)/'Waste generation-Basel'!BL12 -> #DIV/0!
A25: Y9 | B25: Отходы в виде смесей и эмульсий масел/воды, углеводородов/воды | C25: % | D25: =('Waste recycled-Basel'!D13-'Waste recycled-Basel'!D35+'Waste recycled-Basel'!D57)/'Waste generation-Basel'!D13 -> #DIV/0! | F25: =('Waste recycled-Basel'!F13-'Waste recycled-Basel'!F35+'Waste recycled-Basel'!F57)/'Waste generation-Basel'!F13 -> #DIV/0! | H25: =('Waste recycled-Basel'!H13-'Waste recycled-Basel'!H35+'Waste recycled-Basel'!H57)/'Waste generation-Basel'!H13 -> #DIV/0! | J25: =('Waste recycled-Basel'!J13-'Waste recycled-Basel'!J35+'Waste recycled-Basel'!J57)/'Waste generation-Basel'!J13 -> #DIV/0! | L25: =('Waste recycled-Basel'!L13-'Waste recycled-Basel'!L35+'Waste recycled-Basel'!L57)/'Waste generation-Basel'!L13 -> #DIV/0! | N25: =('Waste recycled-Basel'!N13-'Waste recycled-Basel'!N35+'Waste recycled-Basel'!N57)/'Waste generation-Basel'!N13 -> #DIV/0! | P25: =('Waste recycled-Basel'!P13-'Waste recycled-Basel'!P35+'Waste recycled-Basel'!P57)/'Waste generation-Basel'!P13 -> #DIV/0! | R25: =('Waste recycled-Basel'!R13-'Waste recycled-Basel'!R35+'Waste recycled-Basel'!R57)/'Waste generation-Basel'!R13 -> #DIV/0! | T25: =('Waste recycled-Basel'!T13-'Waste recycled-Basel'!T35+'Waste recycled-Basel'!T57)/'Waste generation-Basel'!T13 -> #DIV/0! | V25: =('Waste recycled-Basel'!V13-'Waste recycled-Basel'!V35+'Waste recycled-Basel'!V57)/'Waste generation-Basel'!V13 -> #DIV/0! | X25: =('Waste recycled-Basel'!X13-'Waste recycled-Basel'!X35+'Waste recycled-Basel'!X57)/'Waste generation-Basel'!X13 -> #DIV/0! | Z25: =('Waste recycled-Basel'!Z13-'Waste recycled-Basel'!Z35+'Waste recycled-Basel'!Z57)/'Waste generation-Basel'!Z13 -> #DIV/0! | AB25: =('Waste recycled-Basel'!AB13-'Waste recycled-Basel'!AB35+'Waste recycled-Basel'!AB57)/'Waste generation-Basel'!AB13 -> #DIV/0! | AD25: =('Waste recycled-Basel'!AD13-'Waste recycled-Basel'!AD35+'Waste recycled-Basel'!AD57)/'Waste generation-Basel'!AD13 -> #DIV/0! | AF25: =('Waste recycled-Basel'!AF13-'Waste recycled-Basel'!AF35+'Waste recycled-Basel'!AF57)/'Waste generation-Basel'!AF13 -> #DIV/0! | AH25: =('Waste recycled-Basel'!AH13-'Waste recycled-Basel'!AH35+'Waste recycled-Basel'!AH57)/'Waste generation-Basel'!AH13 -> #DIV/0! | AJ25: =('Waste recycled-Basel'!AJ13-'Waste recycled-Basel'!AJ35+'Waste recycled-Basel'!AJ57)/'Waste generation-Basel'!AJ13 -> #DIV/0! | AL25: =('Waste recycled-Basel'!AL13-'Waste recycled-Basel'!AL35+'Waste recycled-Basel'!AL57)/'Waste generation-Basel'!AL13 -> #DIV/0! | AN25: =('Waste recycled-Basel'!AN13-'Waste recycled-Basel'!AN35+'Waste recycled-Basel'!AN57)/'Waste generation-Basel'!AN13 -> #DIV/0! | AP25: =('Waste recycled-Basel'!AP13-'Waste recycled-Basel'!AP35+'Waste recycled-Basel'!AP57)/'Waste generation-Basel'!AP13 -> #DIV/0! | AR25: =('Waste recycled-Basel'!AR13-'Waste recycled-Basel'!AR35+'Waste recycled-Basel'!AR57)/'Waste generation-Basel'!AR13 -> #DIV/0! | AT25: =('Waste recycled-Basel'!AT13-'Waste recycled-Basel'!AT35+'Waste recycled-Basel'!AT57)/'Waste generation-Basel'!AT13 -> #DIV/0! | AV25: =('Waste recycled-Basel'!AV13-'Waste recycled-Basel'!AV35+'Waste recycled-Basel'!AV57)/'Waste generation-Basel'!AV13 -> #DIV/0! | AX25: =('Waste recycled-Basel'!AW13-'Waste recycled-Basel'!AW35+'Waste recycled-Basel'!AW57)/'Waste generation-Basel'!AX13 -> #DIV/0! | AZ25: =('Waste recycled-Basel'!AY13-'Waste recycled-Basel'!AY35+'Waste recycled-Basel'!AY57)/'Waste generation-Basel'!AZ13 -> #DIV/0! | BB25: =('Waste recycled-Basel'!BA13-'Waste recycled-Basel'!BA35+'Waste recycled-Basel'!BA57)/'Waste generation-Basel'!BB13 -> #DIV/0! | BD25: =('Waste recycled-Basel'!BC13-'Waste recycled-Basel'!BC35+'Waste recycled-Basel'!BC57)/'Waste generation-Basel'!BD13 -> #DIV/0! | BF25: =('Waste recycled-Basel'!BE13-'Waste recycled-Basel'!BE35+'Waste recycled-Basel'!BE57)/'Waste generation-Basel'!BF13 -> #DIV/0! | BH25: =('Waste recycled-Basel'!BG13-'Waste recycled-Basel'!BG35+'Waste recycled-Basel'!BG57)/'Waste generation-Basel'!BH13 -> #DIV/0! | BJ25: =('Waste recycled-Basel'!BI13-'Waste recycled-Basel'!BI35+'Waste recycled-Basel'!BI57)/'Waste generation-Basel'!BJ13 -> #DIV/0! | BL25: =('Waste recycled-Basel'!BK13-'Waste recycled-Basel'!BK35+'Waste recycled-Basel'!BK57)/'Waste generation-Basel'!BL13 -> #DIV/0!
A26: Y10 | B26: Ненужные вещества… содержащие ПХБ, ПХТ, ПББ | C26: % | D26: =('Waste recycled-Basel'!D14-'Waste recycled-Basel'!D36+'Waste recycled-Basel'!D58)/'Waste generation-Basel'!D14 -> #DIV/0! | F26: =('Waste recycled-Basel'!F14-'Waste recycled-Basel'!F36+'Waste recycled-Basel'!F58)/'Waste generation-Basel'!F14 -> #DIV/0! | H26: =('Waste recycled-Basel'!H14-'Waste recycled-Basel'!H36+'Waste recycled-Basel'!H58)/'Waste generation-Basel'!H14 -> #DIV/0! | J26: =('Waste recycled-Basel'!J14-'Waste recycled-Basel'!J36+'Waste recycled-Basel'!J58)/'Waste generation-Basel'!J14 -> #DIV/0! | L26: =('Waste recycled-Basel'!L14-'Waste recycled-Basel'!L36+'Waste recycled-Basel'!L58)/'Waste generation-Basel'!L14 -> #DIV/0! | N26: =('Waste recycled-Basel'!N14-'Waste recycled-Basel'!N36+'Waste recycled-Basel'!N58)/'Waste generation-Basel'!N14 -> #DIV/0! | P26: =('Waste recycled-Basel'!P14-'Waste recycled-Basel'!P36+'Waste recycled-Basel'!P58)/'Waste generation-Basel'!P14 -> #DIV/0! | R26: =('Waste recycled-Basel'!R14-'Waste recycled-Basel'!R36+'Waste recycled-Basel'!R58)/'Waste generation-Basel'!R14 -> #DIV/0! | T26: =('Waste recycled-Basel'!T14-'Waste recycled-Basel'!T36+'Waste recycled-Basel'!T58)/'Waste generation-Basel'!T14 -> #DIV/0! | V26: =('Waste recycled-Basel'!V14-'Waste recycled-Basel'!V36+'Waste recycled-Basel'!V58)/'Waste generation-Basel'!V14 -> #DIV/0! | X26: =('Waste recycled-Basel'!X14-'Waste recycled-Basel'!X36+'Waste recycled-Basel'!X58)/'Waste generation-Basel'!X14 -> #DIV/0! | Z26: =('Waste recycled-Basel'!Z14-'Waste recycled-Basel'!Z36+'Waste recycled-Basel'!Z58)/'Waste generation-Basel'!Z14 -> #DIV/0! | AB26: =('Waste recycled-Basel'!AB14-'Waste recycled-Basel'!AB36+'Waste recycled-Basel'!AB58)/'Waste generation-Basel'!AB14 -> #DIV/0! | AD26: =('Waste recycled-Basel'!AD14-'Waste recycled-Basel'!AD36+'Waste recycled-Basel'!AD58)/'Waste generation-Basel'!AD14 -> #DIV/0! | AF26: =('Waste recycled-Basel'!AF14-'Waste recycled-Basel'!AF36+'Waste recycled-Basel'!AF58)/'Waste generation-Basel'!AF14 -> #DIV/0! | AH26: =('Waste recycled-Basel'!AH14-'Waste recycled-Basel'!AH36+'Waste recycled-Basel'!AH58)/'Waste generation-Basel'!AH14 -> #DIV/0! | AJ26: =('Waste recycled-Basel'!AJ14-'Waste recycled-Basel'!AJ36+'Waste recycled-Basel'!AJ58)/'Waste generation-Basel'!AJ14 -> #DIV/0! | AL26: =('Waste recycled-Basel'!AL14-'Waste recycled-Basel'!AL36+'Waste recycled-Basel'!AL58)/'Waste generation-Basel'!AL14 -> #DIV/0! | AN26: =('Waste recycled-Basel'!AN14-'Waste recycled-Basel'!AN36+'Waste recycled-Basel'!AN58)/'Waste generation-Basel'!AN14 -> #DIV/0! | AP26: =('Waste recycled-Basel'!AP14-'Waste recycled-Basel'!AP36+'Waste recycled-Basel'!AP58)/'Waste generation-Basel'!AP14 -> #DIV/0! | AR26: =('Waste recycled-Basel'!AR14-'Waste recycled-Basel'!AR36+'Waste recycled-Basel'!AR58)/'Waste generation-Basel'!AR14 -> #DIV/0! | AT26: =('Waste recycled-Basel'!AT14-'Waste recycled-Basel'!AT36+'Waste recycled-Basel'!AT58)/'Waste generation-Basel'!AT14 -> #DIV/0! | AV26: =('Waste recycled-Basel'!AV14-'Waste recycled-Basel'!AV36+'Waste recycled-Basel'!AV58)/'Waste generation-Basel'!AV14 -> #DIV/0! | AX26: =('Waste recycled-Basel'!AW14-'Waste recycled-Basel'!AW36+'Waste recycled-Basel'!AW58)/'Waste generation-Basel'!AX14 -> #DIV/0! | AZ26: =('Waste recycled-Basel'!AY14-'Waste recycled-Basel'!AY36+'Waste recycled-Basel'!AY58)/'Waste generation-Basel'!AZ14 -> #DIV/0! | BB26: =('Waste recycled-Basel'!BA14-'Waste recycled-Basel'!BA36+'Waste recycled-Basel'!BA58)/'Waste generation-Basel'!BB14 -> #DIV/0! | BD26: =('Waste recycled-Basel'!BC14-'Waste recycled-Basel'!BC36+'Waste recycled-Basel'!BC58)/'Waste generation-Basel'!BD14 -> #DIV/0! | BF26: =('Waste recycled-Basel'!BE14-'Waste recycled-Basel'!BE36+'Waste recycled-Basel'!BE58)/'Waste generation-Basel'!BF14 -> #DIV/0! | BH26: =('Waste recycled-Basel'!BG14-'Waste recycled-Basel'!BG36+'Waste recycled-Basel'!BG58)/'Waste generation-Basel'!BH14 -> #DIV/0! | BJ26: =('Waste recycled-Basel'!BI14-'Waste recycled-Basel'!BI36+'Waste recycled-Basel'!BI58)/'Waste generation-Basel'!BJ14 -> #DIV/0! | BL26: =('Waste recycled-Basel'!BK14-'Waste recycled-Basel'!BK36+'Waste recycled-Basel'!BK58)/'Waste generation-Basel'!BL14 -> #DIV/0!
A27: Y11 | B27: Ненужные смолистые отходы перегонки, дистилляции или любой пиролитической обработки | C27: % | D27: =('Waste recycled-Basel'!D15-'Waste recycled-Basel'!D37+'Waste recycled-Basel'!D59)/'Waste generation-Basel'!D15 -> #DIV/0! | F27: =('Waste recycled-Basel'!F15-'Waste recycled-Basel'!F37+'Waste recycled-Basel'!F59)/'Waste generation-Basel'!F15 -> #DIV/0! | H27: =('Waste recycled-Basel'!H15-'Waste recycled-Basel'!H37+'Waste recycled-Basel'!H59)/'Waste generation-Basel'!H15 -> #DIV/0! | J27: =('Waste recycled-Basel'!J15-'Waste recycled-Basel'!J37+'Waste recycled-Basel'!J59)/'Waste generation-Basel'!J15 -> #DIV/0! | L27: =('Waste recycled-Basel'!L15-'Waste recycled-Basel'!L37+'Waste recycled-Basel'!L59)/'Waste generation-Basel'!L15 -> #DIV/0! | N27: =('Waste recycled-Basel'!N15-'Waste recycled-Basel'!N37+'Waste recycled-Basel'!N59)/'Waste generation-Basel'!N15 -> #DIV/0! | P27: =('Waste recycled-Basel'!P15-'Waste recycled-Basel'!P37+'Waste recycled-Basel'!P59)/'Waste generation-Basel'!P15 -> #DIV/0! | R27: =('Waste recycled-Basel'!R15-'Waste recycled-Basel'!R37+'Waste recycled-Basel'!R59)/'Waste generation-Basel'!R15 -> #DIV/0! | T27: =('Waste recycled-Basel'!T15-'Waste recycled-Basel'!T37+'Waste recycled-Basel'!T59)/'Waste generation-Basel'!T15 -> #DIV/0! | V27: =('Waste recycled-Basel'!V15-'Waste recycled-Basel'!V37+'Waste recycled-Basel'!V59)/'Waste generation-Basel'!V15 -> #DIV/0! | X27: =('Waste recycled-Basel'!X15-'Waste recycled-Basel'!X37+'Waste recycled-Basel'!X59)/'Waste generation-Basel'!X15 -> #DIV/0! | Z27: =('Waste recycled-Basel'!Z15-'Waste recycled-Basel'!Z37+'Waste recycled-Basel'!Z59)/'Waste generation-Basel'!Z15 -> #DIV/0! | AB27: =('Waste recycled-Basel'!AB15-'Waste recycled-Basel'!AB37+'Waste recycled-Basel'!AB59)/'Waste generation-Basel'!AB15 -> #DIV/0! | AD27: =('Waste recycled-Basel'!AD15-'Waste recycled-Basel'!AD37+'Waste recycled-Basel'!AD59)/'Waste generation-Basel'!AD15 -> #DIV/0! | AF27: =('Waste recycled-Basel'!AF15-'Waste recycled-Basel'!AF37+'Waste recycled-Basel'!AF59)/'Waste generation-Basel'!AF15 -> #DIV/0! | AH27: =('Waste recycled-Basel'!AH15-'Waste recycled-Basel'!AH37+'Waste recycled-Basel'!AH59)/'Waste generation-Basel'!AH15 -> #DIV/0! | AJ27: =('Waste recycled-Basel'!AJ15-'Waste recycled-Basel'!AJ37+'Waste recycled-Basel'!AJ59)/'Waste generation-Basel'!AJ15 -> #DIV/0! | AL27: =('Waste recycled-Basel'!AL15-'Waste recycled-Basel'!AL37+'Waste recycled-Basel'!AL59)/'Waste generation-Basel'!AL15 -> #DIV/0! | AN27: =('Waste recycled-Basel'!AN15-'Waste recycled-Basel'!AN37+'Waste recycled-Basel'!AN59)/'Waste generation-Basel'!AN15 -> #DIV/0! | AP27: =('Waste recycled-Basel'!AP15-'Waste recycled-Basel'!AP37+'Waste recycled-Basel'!AP59)/'Waste generation-Basel'!AP15 -> #DIV/0! | AR27: =('Waste recycled-Basel'!AR15-'Waste recycled-Basel'!AR37+'Waste recycled-Basel'!AR59)/'Waste generation-Basel'!AR15 -> #DIV/0! | AT27: =('Waste recycled-Basel'!AT15-'Waste recycled-Basel'!AT37+'Waste recycled-Basel'!AT59)/'Waste generation-Basel'!AT15 -> #DIV/0! | AV27: =('Waste recycled-Basel'!AV15-'Waste recycled-Basel'!AV37+'Waste recycled-Basel'!AV59)/'Waste generation-Basel'!AV15 -> #DIV/0! | AX27: =('Waste recycled-Basel'!AW15-'Waste recycled-Basel'!AW37+'Waste recycled-Basel'!AW59)/'Waste generation-Basel'!AX15 -> #DIV/0! | AZ27: =('Waste recycled-Basel'!AY15-'Waste recycled-Basel'!AY37+'Waste recycled-Basel'!AY59)/'Waste generation-Basel'!AZ15 -> #DIV/0! | BB27: =('Waste recycled-Basel'!BA15-'Waste recycled-Basel'!BA37+'Waste recycled-Basel'!BA59)/'Waste generation-Basel'!BB15 -> #DIV/0! | BD27: =('Waste recycled-Basel'!BC15-'Waste recycled-Basel'!BC37+'Waste recycled-Basel'!BC59)/'Waste generation-Basel'!BD15 -> #DIV/0! | BF27: =('Waste recycled-Basel'!BE15-'Waste recycled-Basel'!BE37+'Waste recycled-Basel'!BE59)/'Waste generation-Basel'!BF15 -> #DIV/0! | BH27: =('Waste recycled-Basel'!BG15-'Waste recycled-Basel'!BG37+'Waste recycled-Basel'!BG59)/'Waste generation-Basel'!BH15 -> #DIV/0! | BJ27: =('Waste recycled-Basel'!BI15-'Waste recycled-Basel'!BI37+'Waste recycled-Basel'!BI59)/'Waste generation-Basel'!BJ15 -> #DIV/0! | BL27: =('Waste recycled-Basel'!BK15-'Waste recycled-Basel'!BK37+'Waste recycled-Basel'!BK59)/'Waste generation-Basel'!BL15 -> #DIV/0!
A28: Y12 | B28: Отходы производства… чернил, красителей, пигментов, красок, и т. д. | C28: % | D28: =('Waste recycled-Basel'!D16-'Waste recycled-Basel'!D38+'Waste recycled-Basel'!D60)/'Waste generation-Basel'!D16 -> #DIV/0! | F28: =('Waste recycled-Basel'!F16-'Waste recycled-Basel'!F38+'Waste recycled-Basel'!F60)/'Waste generation-Basel'!F16 -> #DIV/0! | H28: =('Waste recycled-Basel'!H16-'Waste recycled-Basel'!H38+'Waste recycled-Basel'!H60)/'Waste generation-Basel'!H16 -> #DIV/0! | J28: =('Waste recycled-Basel'!J16-'Waste recycled-Basel'!J38+'Waste recycled-Basel'!J60)/'Waste generation-Basel'!J16 -> #DIV/0! | L28: =('Waste recycled-Basel'!L16-'Waste recycled-Basel'!L38+'Waste recycled-Basel'!L60)/'Waste generation-Basel'!L16 -> #DIV/0! | N28: =('Waste recycled-Basel'!N16-'Waste recycled-Basel'!N38+'Waste recycled-Basel'!N60)/'Waste generation-Basel'!N16 -> #DIV/0! | P28: =('Waste recycled-Basel'!P16-'Waste recycled-Basel'!P38+'Waste recycled-Basel'!P60)/'Waste generation-Basel'!P16 -> #DIV/0! | R28: =('Waste recycled-Basel'!R16-'Waste recycled-Basel'!R38+'Waste recycled-Basel'!R60)/'Waste generation-Basel'!R16 -> #DIV/0! | T28: =('Waste recycled-Basel'!T16-'Waste recycled-Basel'!T38+'Waste recycled-Basel'!T60)/'Waste generation-Basel'!T16 -> #DIV/0! | V28: =('Waste recycled-Basel'!V16-'Waste recycled-Basel'!V38+'Waste recycled-Basel'!V60)/'Waste generation-Basel'!V16 -> #DIV/0! | X28: =('Waste recycled-Basel'!X16-'Waste recycled-Basel'!X38+'Waste recycled-Basel'!X60)/'Waste generation-Basel'!X16 -> #DIV/0! | Z28: =('Waste recycled-Basel'!Z16-'Waste recycled-Basel'!Z38+'Waste recycled-Basel'!Z60)/'Waste generation-Basel'!Z16 -> #DIV/0! | AB28: =('Waste recycled-Basel'!AB16-'Waste recycled-Basel'!AB38+'Waste recycled-Basel'!AB60)/'Waste generation-Basel'!AB16 -> #DIV/0! | AD28: =('Waste recycled-Basel'!AD16-'Waste recycled-Basel'!AD38+'Waste recycled-Basel'!AD60)/'Waste generation-Basel'!AD16 -> #DIV/0! | AF28: =('Waste recycled-Basel'!AF16-'Waste recycled-Basel'!AF38+'Waste recycled-Basel'!AF60)/'Waste generation-Basel'!AF16 -> #DIV/0! | AH28: =('Waste recycled-Basel'!AH16-'Waste recycled-Basel'!AH38+'Waste recycled-Basel'!AH60)/'Waste generation-Basel'!AH16 -> #DIV/0! | AJ28: =('Waste recycled-Basel'!AJ16-'Waste recycled-Basel'!AJ38+'Waste recycled-Basel'!AJ60)/'Waste generation-Basel'!AJ16 -> #DIV/0! | AL28: =('Waste recycled-Basel'!AL16-'Waste recycled-Basel'!AL38+'Waste recycled-Basel'!AL60)/'Waste generation-Basel'!AL16 -> #DIV/0! | AN28: =('Waste recycled-Basel'!AN16-'Waste recycled-Basel'!AN38+'Waste recycled-Basel'!AN60)/'Waste generation-Basel'!AN16 -> #DIV/0! | AP28: =('Waste recycled-Basel'!AP16-'Waste recycled-Basel'!AP38+'Waste recycled-Basel'!AP60)/'Waste generation-Basel'!AP16 -> #DIV/0! | AR28: =('Waste recycled-Basel'!AR16-'Waste recycled-Basel'!AR38+'Waste recycled-Basel'!AR60)/'Waste generation-Basel'!AR16 -> #DIV/0! | AT28: =('Waste recycled-Basel'!AT16-'Waste recycled-Basel'!AT38+'Waste recycled-Basel'!AT60)/'Waste generation-Basel'!AT16 -> #DIV/0! | AV28: =('Waste recycled-Basel'!AV16-'Waste recycled-Basel'!AV38+'Waste recycled-Basel'!AV60)/'Waste generation-Basel'!AV16 -> #DIV/0! | AX28: =('Waste recycled-Basel'!AW16-'Waste recycled-Basel'!AW38+'Waste recycled-Basel'!AW60)/'Waste generation-Basel'!AX16 -> #DIV/0! | AZ28: =('Waste recycled-Basel'!AY16-'Waste recycled-Basel'!AY38+'Waste recycled-Basel'!AY60)/'Waste generation-Basel'!AZ16 -> #DIV/0! | BB28: =('Waste recycled-Basel'!BA16-'Waste recycled-Basel'!BA38+'Waste recycled-Basel'!BA60)/'Waste generation-Basel'!BB16 -> #DIV/0! | BD28: =('Waste recycled-Basel'!BC16-'Waste recycled-Basel'!BC38+'Waste recycled-Basel'!BC60)/'Waste generation-Basel'!BD16 -> #DIV/0! | BF28: =('Waste recycled-Basel'!BE16-'Waste recycled-Basel'!BE38+'Waste recycled-Basel'!BE60)/'Waste generation-Basel'!BF16 -> #DIV/0! | BH28: =('Waste recycled-Basel'!BG16-'Waste recycled-Basel'!BG38+'Waste recycled-Basel'!BG60)/'Waste generation-Basel'!BH16 -> #DIV/0! | BJ28: =('Waste recycled-Basel'!BI16-'Waste recycled-Basel'!BI38+'Waste recycled-Basel'!BI60)/'Waste generation-Basel'!BJ16 -> #DIV/0! | BL28: =('Waste recycled-Basel'!BK16-'Waste recycled-Basel'!BK38+'Waste recycled-Basel'!BK60)/'Waste generation-Basel'!BL16 -> #DIV/0!
A29: Y13 | B29: Отходы производства... синтетических смол, латекса, пластификаторов, клеев и т. д. | C29: % | D29: =('Waste recycled-Basel'!D17-'Waste recycled-Basel'!D39+'Waste recycled-Basel'!D61)/'Waste generation-Basel'!D17 -> #DIV/0! | F29: =('Waste recycled-Basel'!F17-'Waste recycled-Basel'!F39+'Waste recycled-Basel'!F61)/'Waste generation-Basel'!F17 -> #DIV/0! | H29: =('Waste recycled-Basel'!H17-'Waste recycled-Basel'!H39+'Waste recycled-Basel'!H61)/'Waste generation-Basel'!H17 -> #DIV/0! | J29: =('Waste recycled-Basel'!J17-'Waste recycled-Basel'!J39+'Waste recycled-Basel'!J61)/'Waste generation-Basel'!J17 -> #DIV/0! | L29: =('Waste recycled-Basel'!L17-'Waste recycled-Basel'!L39+'Waste recycled-Basel'!L61)/'Waste generation-Basel'!L17 -> #DIV/0! | N29: =('Waste recycled-Basel'!N17-'Waste recycled-Basel'!N39+'Waste recycled-Basel'!N61)/'Waste generation-Basel'!N17 -> #DIV/0! | P29: =('Waste recycled-Basel'!P17-'Waste recycled-Basel'!P39+'Waste recycled-Basel'!P61)/'Waste generation-Basel'!P17 -> #DIV/0! | R29: =('Waste recycled-Basel'!R17-'Waste recycled-Basel'!R39+'Waste recycled-Basel'!R61)/'Waste generation-Basel'!R17 -> #DIV/0! | T29: =('Waste recycled-Basel'!T17-'Waste recycled-Basel'!T39+'Waste recycled-Basel'!T61)/'Waste generation-Basel'!T17 -> #DIV/0! | V29: =('Waste recycled-Basel'!V17-'Waste recycled-Basel'!V39+'Waste recycled-Basel'!V61)/'Waste generation-Basel'!V17 -> #DIV/0! | X29: =('Waste recycled-Basel'!X17-'Waste recycled-Basel'!X39+'Waste recycled-Basel'!X61)/'Waste generation-Basel'!X17 -> #DIV/0! | Z29: =('Waste recycled-Basel'!Z17-'Waste recycled-Basel'!Z39+'Waste recycled-Basel'!Z61)/'Waste generation-Basel'!Z17 -> #DIV/0! | AB29: =('Waste recycled-Basel'!AB17-'Waste recycled-Basel'!AB39+'Waste recycled-Basel'!AB61)/'Waste generation-Basel'!AB17 -> #DIV/0! | AD29: =('Waste recycled-Basel'!AD17-'Waste recycled-Basel'!AD39+'Waste recycled-Basel'!AD61)/'Waste generation-Basel'!AD17 -> #DIV/0! | AF29: =('Waste recycled-Basel'!AF17-'Waste recycled-Basel'!AF39+'Waste recycled-Basel'!AF61)/'Waste generation-Basel'!AF17 -> #DIV/0! | AH29: =('Waste recycled-Basel'!AH17-'Waste recycled-Basel'!AH39+'Waste recycled-Basel'!AH61)/'Waste generation-Basel'!AH17 -> #DIV/0! | AJ29: =('Waste recycled-Basel'!AJ17-'Waste recycled-Basel'!AJ39+'Waste recycled-Basel'!AJ61)/'Waste generation-Basel'!AJ17 -> #DIV/0! | AL29: =('Waste recycled-Basel'!AL17-'Waste recycled-Basel'!AL39+'Waste recycled-Basel'!AL61)/'Waste generation-Basel'!AL17 -> #DIV/0! | AN29: =('Waste recycled-Basel'!AN17-'Waste recycled-Basel'!AN39+'Waste recycled-Basel'!AN61)/'Waste generation-Basel'!AN17 -> #DIV/0! | AP29: =('Waste recycled-Basel'!AP17-'Waste recycled-Basel'!AP39+'Waste recycled-Basel'!AP61)/'Waste generation-Basel'!AP17 -> #DIV/0! | AR29: =('Waste recycled-Basel'!AR17-'Waste recycled-Basel'!AR39+'Waste recycled-Basel'!AR61)/'Waste generation-Basel'!AR17 -> #DIV/0! | AT29: =('Waste recycled-Basel'!AT17-'Waste recycled-Basel'!AT39+'Waste recycled-Basel'!AT61)/'Waste generation-Basel'!AT17 -> #DIV/0! | AV29: =('Waste recycled-Basel'!AV17-'Waste recycled-Basel'!AV39+'Waste recycled-Basel'!AV61)/'Waste generation-Basel'!AV17 -> #DIV/0! | AX29: =('Waste recycled-Basel'!AW17-'Waste recycled-Basel'!AW39+'Waste recycled-Basel'!AW61)/'Waste generation-Basel'!AX17 -> #DIV/0! | AZ29: =('Waste recycled-Basel'!AY17-'Waste recycled-Basel'!AY39+'Waste recycled-Basel'!AY61)/'Waste generation-Basel'!AZ17 -> #DIV/0! | BB29: =('Waste recycled-Basel'!BA17-'Waste recycled-Basel'!BA39+'Waste recycled-Basel'!BA61)/'Waste generation-Basel'!BB17 -> #DIV/0! | BD29: =('Waste recycled-Basel'!BC17-'Waste recycled-Basel'!BC39+'Waste recycled-Basel'!BC61)/'Waste generation-Basel'!BD17 -> #DIV/0! | BF29: =('Waste recycled-Basel'!BE17-'Waste recycled-Basel'!BE39+'Waste recycled-Basel'!BE61)/'Waste generation-Basel'!BF17 -> #DIV/0! | BH29: =('Waste recycled-Basel'!BG17-'Waste recycled-Basel'!BG39+'Waste recycled-Basel'!BG61)/'Waste generation-Basel'!BH17 -> #DIV/0! | BJ29: =('Waste recycled-Basel'!BI17-'Waste recycled-Basel'!BI39+'Waste recycled-Basel'!BI61)/'Waste generation-Basel'!BJ17 -> #DIV/0! | BL29: =('Waste recycled-Basel'!BK17-'Waste recycled-Basel'!BK39+'Waste recycled-Basel'!BK61)/'Waste generation-Basel'!BL17 -> #DIV/0!
A30: Y14 | B30: Ненужные химические вещества, полученные в ходе… природа которых еще не выявлена | C30: % | D30: =('Waste recycled-Basel'!D18-'Waste recycled-Basel'!D40+'Waste recycled-Basel'!D62)/'Waste generation-Basel'!D18 -> #DIV/0! | F30: =('Waste recycled-Basel'!F18-'Waste recycled-Basel'!F40+'Waste recycled-Basel'!F62)/'Waste generation-Basel'!F18 -> #DIV/0! | H30: =('Waste recycled-Basel'!H18-'Waste recycled-Basel'!H40+'Waste recycled-Basel'!H62)/'Waste generation-Basel'!H18 -> #DIV/0! | J30: =('Waste recycled-Basel'!J18-'Waste recycled-Basel'!J40+'Waste recycled-Basel'!J62)/'Waste generation-Basel'!J18 -> #DIV/0! | L30: =('Waste recycled-Basel'!L18-'Waste recycled-Basel'!L40+'Waste recycled-Basel'!L62)/'Waste generation-Basel'!L18 -> #DIV/0! | N30: =('Waste recycled-Basel'!N18-'Waste recycled-Basel'!N40+'Waste recycled-Basel'!N62)/'Waste generation-Basel'!N18 -> #DIV/0! | P30: =$D$30 -> #DIV/0! | R30: =('Waste recycled-Basel'!R18-'Waste recycled-Basel'!R40+'Waste recycled-Basel'!R62)/'Waste generation-Basel'!R18 -> #DIV/0! | T30: =('Waste recycled-Basel'!T18-'Waste recycled-Basel'!T40+'Waste recycled-Basel'!T62)/'Waste generation-Basel'!T18 -> #DIV/0! | V30: =('Waste recycled-Basel'!V18-'Waste recycled-Basel'!V40+'Waste recycled-Basel'!V62)/'Waste generation-Basel'!V18 -> #DIV/0! | X30: =('Waste recycled-Basel'!X18-'Waste recycled-Basel'!X40+'Waste recycled-Basel'!X62)/'Waste generation-Basel'!X18 -> #DIV/0! | Z30: =('Waste recycled-Basel'!Z18-'Waste recycled-Basel'!Z40+'Waste recycled-Basel'!Z62)/'Waste generation-Basel'!Z18 -> #DIV/0! | AB30: =('Waste recycled-Basel'!AB18-'Waste recycled-Basel'!AB40+'Waste recycled-Basel'!AB62)/'Waste generation-Basel'!AB18 -> #DIV/0! | AD30: =('Waste recycled-Basel'!AD18-'Waste recycled-Basel'!AD40+'Waste recycled-Basel'!AD62)/'Waste generation-Basel'!AD18 -> #DIV/0! | AF30: =('Waste recycled-Basel'!AF18-'Waste recycled-Basel'!AF40+'Waste recycled-Basel'!AF62)/'Waste generation-Basel'!AF18 -> #DIV/0! | AH30: =('Waste recycled-Basel'!AH18-'Waste recycled-Basel'!AH40+'Waste recycled-Basel'!AH62)/'Waste generation-Basel'!AH18 -> #DIV/0! | AJ30: =('Waste recycled-Basel'!AJ18-'Waste recycled-Basel'!AJ40+'Waste recycled-Basel'!AJ62)/'Waste generation-Basel'!AJ18 -> #DIV/0! | AL30: =('Waste recycled-Basel'!AL18-'Waste recycled-Basel'!AL40+'Waste recycled-Basel'!AL62)/'Waste generation-Basel'!AL18 -> #DIV/0! | AN30: =('Waste recycled-Basel'!AN18-'Waste recycled-Basel'!AN40+'Waste recycled-Basel'!AN62)/'Waste generation-Basel'!AN18 -> #DIV/0! | AP30: =('Waste recycled-Basel'!AP18-'Waste recycled-Basel'!AP40+'Waste recycled-Basel'!AP62)/'Waste generation-Basel'!AP18 -> #DIV/0! | AR30: =('Waste recycled-Basel'!AR18-'Waste recycled-Basel'!AR40+'Waste recycled-Basel'!AR62)/'Waste generation-Basel'!AR18 -> #DIV/0! | AT30: =('Waste recycled-Basel'!AT18-'Waste recycled-Basel'!AT40+'Waste recycled-Basel'!AT62)/'Waste generation-Basel'!AT18 -> #DIV/0! | AV30: =('Waste recycled-Basel'!AV18-'Waste recycled-Basel'!AV40+'Waste recycled-Basel'!AV62)/'Waste generation-Basel'!AV18 -> #DIV/0! | AX30: =('Waste recycled-Basel'!AW18-'Waste recycled-Basel'!AW40+'Waste recycled-Basel'!AW62)/'Waste generation-Basel'!AX18 -> #DIV/0! | AZ30: =('Waste recycled-Basel'!AY18-'Waste recycled-Basel'!AY40+'Waste recycled-Basel'!AY62)/'Waste generation-Basel'!AZ18 -> #DIV/0! | BB30: =('Waste recycled-Basel'!BA18-'Waste recycled-Basel'!BA40+'Waste recycled-Basel'!BA62)/'Waste generation-Basel'!BB18 -> #DIV/0! | BD30: =('Waste recycled-Basel'!BC18-'Waste recycled-Basel'!BC40+'Waste recycled-Basel'!BC62)/'Waste generation-Basel'!BD18 -> #DIV/0! | BF30: =('Waste recycled-Basel'!BE18-'Waste recycled-Basel'!BE40+'Waste recycled-Basel'!BE62)/'Waste generation-Basel'!BF18 -> #DIV/0! | BH30: =('Waste recycled-Basel'!BG18-'Waste recycled-Basel'!BG40+'Waste recycled-Basel'!BG62)/'Waste generation-Basel'!BH18 -> #DIV/0! | BJ30: =('Waste recycled-Basel'!BI18-'Waste recycled-Basel'!BI40+'Waste recycled-Basel'!BI62)/'Waste generation-Basel'!BJ18 -> #DIV/0! | BL30: =('Waste recycled-Basel'!BK18-'Waste recycled-Basel'!BK40+'Waste recycled-Basel'!BK62)/'Waste generation-Basel'!BL18 -> #DIV/0!
A31: Y15 | B31: Отходы взрывоопасного характера, не подпадающие под иное законодательство | C31: % | D31: =('Waste recycled-Basel'!D19-'Waste recycled-Basel'!D41+'Waste recycled-Basel'!D63)/'Waste generation-Basel'!D19 -> #DIV/0! | F31: =('Waste recycled-Basel'!F19-'Waste recycled-Basel'!F41+'Waste recycled-Basel'!F63)/'Waste generation-Basel'!F19 -> #DIV/0! | H31: =('Waste recycled-Basel'!H19-'Waste recycled-Basel'!H41+'Waste recycled-Basel'!H63)/'Waste generation-Basel'!H19 -> #DIV/0! | J31: =('Waste recycled-Basel'!J19-'Waste recycled-Basel'!J41+'Waste recycled-Basel'!J63)/'Waste generation-Basel'!J19 -> #DIV/0! | L31: =('Waste recycled-Basel'!L19-'Waste recycled-Basel'!L41+'Waste recycled-Basel'!L63)/'Waste generation-Basel'!L19 -> #DIV/0! | N31: =('Waste recycled-Basel'!N19-'Waste recycled-Basel'!N41+'Waste recycled-Basel'!N63)/'Waste generation-Basel'!N19 -> #DIV/0! | P31: =('Waste recycled-Basel'!P19-'Waste recycled-Basel'!P41+'Waste recycled-Basel'!P63)/'Waste generation-Basel'!P19 -> #DIV/0! | R31: =('Waste recycled-Basel'!R19-'Waste recycled-Basel'!R41+'Waste recycled-Basel'!R63)/'Waste generation-Basel'!R19 -> #DIV/0! | T31: =('Waste recycled-Basel'!T19-'Waste recycled-Basel'!T41+'Waste recycled-Basel'!T63)/'Waste generation-Basel'!T19 -> #DIV/0! | V31: =('Waste recycled-Basel'!V19-'Waste recycled-Basel'!V41+'Waste recycled-Basel'!V63)/'Waste generation-Basel'!V19 -> #DIV/0! | X31: =('Waste recycled-Basel'!X19-'Waste recycled-Basel'!X41+'Waste recycled-Basel'!X63)/'Waste generation-Basel'!X19 -> #DIV/0! | Z31: =('Waste recycled-Basel'!Z19-'Waste recycled-Basel'!Z41+'Waste recycled-Basel'!Z63)/'Waste generation-Basel'!Z19 -> #DIV/0! | AB31: =('Waste recycled-Basel'!AB19-'Waste recycled-Basel'!AB41+'Waste recycled-Basel'!AB63)/'Waste generation-Basel'!AB19 -> #DIV/0! | AD31: =('Waste recycled-Basel'!AD19-'Waste recycled-Basel'!AD41+'Waste recycled-Basel'!AD63)/'Waste generation-Basel'!AD19 -> #DIV/0! | AF31: =('Waste recycled-Basel'!AF19-'Waste recycled-Basel'!AF41+'Waste recycled-Basel'!AF63)/'Waste generation-Basel'!AF19 -> #DIV/0! | AH31: =('Waste recycled-Basel'!AH19-'Waste recycled-Basel'!AH41+'Waste recycled-Basel'!AH63)/'Waste generation-Basel'!AH19 -> #DIV/0! | AJ31: =('Waste recycled-Basel'!AJ19-'Waste recycled-Basel'!AJ41+'Waste recycled-Basel'!AJ63)/'Waste generation-Basel'!AJ19 -> #DIV/0! | AL31: =('Waste recycled-Basel'!AL19-'Waste recycled-Basel'!AL41+'Waste recycled-Basel'!AL63)/'Waste generation-Basel'!AL19 -> #DIV/0! | AN31: =('Waste recycled-Basel'!AN19-'Waste recycled-Basel'!AN41+'Waste recycled-Basel'!AN63)/'Waste generation-Basel'!AN19 -> #DIV/0! | AP31: =('Waste recycled-Basel'!AP19-'Waste recycled-Basel'!AP41+'Waste recycled-Basel'!AP63)/'Waste generation-Basel'!AP19 -> #DIV/0! | AR31: =('Waste recycled-Basel'!AR19-'Waste recycled-Basel'!AR41+'Waste recycled-Basel'!AR63)/'Waste generation-Basel'!AR19 -> #DIV/0! | AT31: =('Waste recycled-Basel'!AT19-'Waste recycled-Basel'!AT41+'Waste recycled-Basel'!AT63)/'Waste generation-Basel'!AT19 -> #DIV/0! | AV31: =('Waste recycled-Basel'!AV19-'Waste recycled-Basel'!AV41+'Waste recycled-Basel'!AV63)/'Waste generation-Basel'!AV19 -> #DIV/0! | AX31: =('Waste recycled-Basel'!AW19-'Waste recycled-Basel'!AW41+'Waste recycled-Basel'!AW63)/'Waste generation-Basel'!AX19 -> #DIV/0! | AZ31: =('Waste recycled-Basel'!AY19-'Waste recycled-Basel'!AY41+'Waste recycled-Basel'!AY63)/'Waste generation-Basel'!AZ19 -> #DIV/0! | BB31: =('Waste recycled-Basel'!BA19-'Waste recycled-Basel'!BA41+'Waste recycled-Basel'!BA63)/'Waste generation-Basel'!BB19 -> #DIV/0! | BD31: =('Waste recycled-Basel'!BC19-'Waste recycled-Basel'!BC41+'Waste recycled-Basel'!BC63)/'Waste generation-Basel'!BD19 -> #DIV/0! | BF31: =('Waste recycled-Basel'!BE19-'Waste recycled-Basel'!BE41+'Waste recycled-Basel'!BE63)/'Waste generation-Basel'!BF19 -> #DIV/0! | BH31: =('Waste recycled-Basel'!BG19-'Waste recycled-Basel'!BG41+'Waste recycled-Basel'!BG63)/'Waste generation-Basel'!BH19 -> #DIV/0! | BJ31: =('Waste recycled-Basel'!BI19-'Waste recycled-Basel'!BI41+'Waste recycled-Basel'!BI63)/'Waste generation-Basel'!BJ19 -> #DIV/0! | BL31: =('Waste recycled-Basel'!BK19-'Waste recycled-Basel'!BK41+'Waste recycled-Basel'!BK63)/'Waste generation-Basel'!BL19 -> #DIV/0!
A32: Y16 | B32: Отходы производства, получения и применения фотохимикатов... | C32: % | D32: =('Waste recycled-Basel'!D20-'Waste recycled-Basel'!D42+'Waste recycled-Basel'!D64)/'Waste generation-Basel'!D20 -> #DIV/0! | F32: =('Waste recycled-Basel'!F20-'Waste recycled-Basel'!F42+'Waste recycled-Basel'!F64)/'Waste generation-Basel'!F20 -> #DIV/0! | H32: =('Waste recycled-Basel'!H20-'Waste recycled-Basel'!H42+'Waste recycled-Basel'!H64)/'Waste generation-Basel'!H20 -> #DIV/0! | J32: =('Waste recycled-Basel'!J20-'Waste recycled-Basel'!J42+'Waste recycled-Basel'!J64)/'Waste generation-Basel'!J20 -> #DIV/0! | L32: =('Waste recycled-Basel'!L20-'Waste recycled-Basel'!L42+'Waste recycled-Basel'!L64)/'Waste generation-Basel'!L20 -> #DIV/0! | N32: =('Waste recycled-Basel'!N20-'Waste recycled-Basel'!N42+'Waste recycled-Basel'!N64)/'Waste generation-Basel'!N20 -> #DIV/0! | P32: =('Waste recycled-Basel'!P20-'Waste recycled-Basel'!P42+'Waste recycled-Basel'!P64)/'Waste generation-Basel'!P20 -> #DIV/0! | R32: =('Waste recycled-Basel'!R20-'Waste recycled-Basel'!R42+'Waste recycled-Basel'!R64)/'Waste generation-Basel'!R20 -> #DIV/0! | T32: =('Waste recycled-Basel'!T20-'Waste recycled-Basel'!T42+'Waste recycled-Basel'!T64)/'Waste generation-Basel'!T20 -> #DIV/0! | V32: =('Waste recycled-Basel'!V20-'Waste recycled-Basel'!V42+'Waste recycled-Basel'!V64)/'Waste generation-Basel'!V20 -> #DIV/0! | X32: =('Waste recycled-Basel'!X20-'Waste recycled-Basel'!X42+'Waste recycled-Basel'!X64)/'Waste generation-Basel'!X20 -> #DIV/0! | Z32: =('Waste recycled-Basel'!Z20-'Waste recycled-Basel'!Z42+'Waste recycled-Basel'!Z64)/'Waste generation-Basel'!Z20 -> #DIV/0! | AB32: =('Waste recycled-Basel'!AB20-'Waste recycled-Basel'!AB42+'Waste recycled-Basel'!AB64)/'Waste generation-Basel'!AB20 -> #DIV/0! | AD32: =('Waste recycled-Basel'!AD20-'Waste recycled-Basel'!AD42+'Waste recycled-Basel'!AD64)/'Waste generation-Basel'!AD20 -> #DIV/0! | AF32: =('Waste recycled-Basel'!AF20-'Waste recycled-Basel'!AF42+'Waste recycled-Basel'!AF64)/'Waste generation-Basel'!AF20 -> #DIV/0! | AH32: =('Waste recycled-Basel'!AH20-'Waste recycled-Basel'!AH42+'Waste recycled-Basel'!AH64)/'Waste generation-Basel'!AH20 -> #DIV/0! | AJ32: =('Waste recycled-Basel'!AJ20-'Waste recycled-Basel'!AJ42+'Waste recycled-Basel'!AJ64)/'Waste generation-Basel'!AJ20 -> #DIV/0! | AL32: =('Waste recycled-Basel'!AL20-'Waste recycled-Basel'!AL42+'Waste recycled-Basel'!AL64)/'Waste generation-Basel'!AL20 -> #DIV/0! | AN32: =('Waste recycled-Basel'!AN20-'Waste recycled-Basel'!AN42+'Waste recycled-Basel'!AN64)/'Waste generation-Basel'!AN20 -> #DIV/0! | AP32: =('Waste recycled-Basel'!AP20-'Waste recycled-Basel'!AP42+'Waste recycled-Basel'!AP64)/'Waste generation-Basel'!AP20 -> #DIV/0! | AR32: =('Waste recycled-Basel'!AR20-'Waste recycled-Basel'!AR42+'Waste recycled-Basel'!AR64)/'Waste generation-Basel'!AR20 -> #DIV/0! | AT32: =('Waste recycled-Basel'!AT20-'Waste recycled-Basel'!AT42+'Waste recycled-Basel'!AT64)/'Waste generation-Basel'!AT20 -> #DIV/0! | AV32: =('Waste recycled-Basel'!AV20-'Waste recycled-Basel'!AV42+'Waste recycled-Basel'!AV64)/'Waste generation-Basel'!AV20 -> #DIV/0! | AX32: =('Waste recycled-Basel'!AW20-'Waste recycled-Basel'!AW42+'Waste recycled-Basel'!AW64)/'Waste generation-Basel'!AX20 -> #DIV/0! | AZ32: =('Waste recycled-Basel'!AY20-'Waste recycled-Basel'!AY42+'Waste recycled-Basel'!AY64)/'Waste generation-Basel'!AZ20 -> #DIV/0! | BB32: =('Waste recycled-Basel'!BA20-'Waste recycled-Basel'!BA42+'Waste recycled-Basel'!BA64)/'Waste generation-Basel'!BB20 -> #DIV/0! | BD32: =('Waste recycled-Basel'!BC20-'Waste recycled-Basel'!BC42+'Waste recycled-Basel'!BC64)/'Waste generation-Basel'!BD20 -> #DIV/0! | BF32: =('Waste recycled-Basel'!BE20-'Waste recycled-Basel'!BE42+'Waste recycled-Basel'!BE64)/'Waste generation-Basel'!BF20 -> #DIV/0! | BH32: =('Waste recycled-Basel'!BG20-'Waste recycled-Basel'!BG42+'Waste recycled-Basel'!BG64)/'Waste generation-Basel'!BH20 -> #DIV/0! | BJ32: =('Waste recycled-Basel'!BI20-'Waste recycled-Basel'!BI42+'Waste recycled-Basel'!BI64)/'Waste generation-Basel'!BJ20 -> #DIV/0! | BL32: =('Waste recycled-Basel'!BK20-'Waste recycled-Basel'!BK42+'Waste recycled-Basel'!BK64)/'Waste generation-Basel'!BL20 -> #DIV/0!
A33: Y17 | B33: Отходы обработки металлических и пластмассовых поверхностей | C33: % | D33: =('Waste recycled-Basel'!D21-'Waste recycled-Basel'!D43+'Waste recycled-Basel'!D65)/'Waste generation-Basel'!D21 -> #DIV/0! | F33: =('Waste recycled-Basel'!F21-'Waste recycled-Basel'!F43+'Waste recycled-Basel'!F65)/'Waste generation-Basel'!F21 -> #DIV/0! | H33: =('Waste recycled-Basel'!H21-'Waste recycled-Basel'!H43+'Waste recycled-Basel'!H65)/'Waste generation-Basel'!H21 -> #DIV/0! | J33: =('Waste recycled-Basel'!J21-'Waste recycled-Basel'!J43+'Waste recycled-Basel'!J65)/'Waste generation-Basel'!J21 -> #DIV/0! | L33: =('Waste recycled-Basel'!L21-'Waste recycled-Basel'!L43+'Waste recycled-Basel'!L65)/'Waste generation-Basel'!L21 -> #DIV/0! | N33: =('Waste recycled-Basel'!N21-'Waste recycled-Basel'!N43+'Waste recycled-Basel'!N65)/'Waste generation-Basel'!N21 -> #DIV/0! | P33: =('Waste recycled-Basel'!P21-'Waste recycled-Basel'!P43+'Waste recycled-Basel'!P65)/'Waste generation-Basel'!P21 -> #DIV/0! | R33: =('Waste recycled-Basel'!R21-'Waste recycled-Basel'!R43+'Waste recycled-Basel'!R65)/'Waste generation-Basel'!R21 -> #DIV/0! | T33: =('Waste recycled-Basel'!T21-'Waste recycled-Basel'!T43+'Waste recycled-Basel'!T65)/'Waste generation-Basel'!T21 -> #DIV/0! | V33: =('Waste recycled-Basel'!V21-'Waste recycled-Basel'!V43+'Waste recycled-Basel'!V65)/'Waste generation-Basel'!V21 -> #DIV/0! | X33: =('Waste recycled-Basel'!X21-'Waste recycled-Basel'!X43+'Waste recycled-Basel'!X65)/'Waste generation-Basel'!X21 -> #DIV/0! | Z33: =('Waste recycled-Basel'!Z21-'Waste recycled-Basel'!Z43+'Waste recycled-Basel'!Z65)/'Waste generation-Basel'!Z21 -> #DIV/0! | AB33: =('Waste recycled-Basel'!AB21-'Waste recycled-Basel'!AB43+'Waste recycled-Basel'!AB65)/'Waste generation-Basel'!AB21 -> #DIV/0! | AD33: =('Waste recycled-Basel'!AD21-'Waste recycled-Basel'!AD43+'Waste recycled-Basel'!AD65)/'Waste generation-Basel'!AD21 -> #DIV/0! | AF33: =('Waste recycled-Basel'!AF21-'Waste recycled-Basel'!AF43+'Waste recycled-Basel'!AF65)/'Waste generation-Basel'!AF21 -> #DIV/0! | AH33: =('Waste recycled-Basel'!AH21-'Waste recycled-Basel'!AH43+'Waste recycled-Basel'!AH65)/'Waste generation-Basel'!AH21 -> #DIV/0! | AJ33: =('Waste recycled-Basel'!AJ21-'Waste recycled-Basel'!AJ43+'Waste recycled-Basel'!AJ65)/'Waste generation-Basel'!AJ21 -> #DIV/0! | AL33: =('Waste recycled-Basel'!AL21-'Waste recycled-Basel'!AL43+'Waste recycled-Basel'!AL65)/'Waste generation-Basel'!AL21 -> #DIV/0! | AN33: =('Waste recycled-Basel'!AN21-'Waste recycled-Basel'!AN43+'Waste recycled-Basel'!AN65)/'Waste generation-Basel'!AN21 -> #DIV/0! | AP33: =('Waste recycled-Basel'!AP21-'Waste recycled-Basel'!AP43+'Waste recycled-Basel'!AP65)/'Waste generation-Basel'!AP21 -> #DIV/0! | AR33: =('Waste recycled-Basel'!AR21-'Waste recycled-Basel'!AR43+'Waste recycled-Basel'!AR65)/'Waste generation-Basel'!AR21 -> #DIV/0! | AT33: =('Waste recycled-Basel'!AT21-'Waste recycled-Basel'!AT43+'Waste recycled-Basel'!AT65)/'Waste generation-Basel'!AT21 -> #DIV/0! | AV33: =('Waste recycled-Basel'!AV21-'Waste recycled-Basel'!AV43+'Waste recycled-Basel'!AV65)/'Waste generation-Basel'!AV21 -> #DIV/0! | AX33: =('Waste recycled-Basel'!AW21-'Waste recycled-Basel'!AW43+'Waste recycled-Basel'!AW65)/'Waste generation-Basel'!AX21 -> #DIV/0! | AZ33: =('Waste recycled-Basel'!AY21-'Waste recycled-Basel'!AY43+'Waste recycled-Basel'!AY65)/'Waste generation-Basel'!AZ21 -> #DIV/0! | BB33: =('Waste recycled-Basel'!BA21-'Waste recycled-Basel'!BA43+'Waste recycled-Basel'!BA65)/'Waste generation-Basel'!BB21 -> #DIV/0! | BD33: =('Waste recycled-Basel'!BC21-'Waste recycled-Basel'!BC43+'Waste recycled-Basel'!BC65)/'Waste generation-Basel'!BD21 -> #DIV/0! | BF33: =('Waste recycled-Basel'!BE21-'Waste recycled-Basel'!BE43+'Waste recycled-Basel'!BE65)/'Waste generation-Basel'!BF21 -> #DIV/0! | BH33: =('Waste recycled-Basel'!BG21-'Waste recycled-Basel'!BG43+'Waste recycled-Basel'!BG65)/'Waste generation-Basel'!BH21 -> #DIV/0! | BJ33: =('Waste recycled-Basel'!BI21-'Waste recycled-Basel'!BI43+'Waste recycled-Basel'!BI65)/'Waste generation-Basel'!BJ21 -> #DIV/0! | BL33: =('Waste recycled-Basel'!BK21-'Waste recycled-Basel'!BK43+'Waste recycled-Basel'!BK65)/'Waste generation-Basel'!BL21 -> #DIV/0!
A34: Y18 | B34: Остатки от операций по удалению промышленных отходов. | C34: % | D34: =('Waste recycled-Basel'!D22-'Waste recycled-Basel'!D44+'Waste recycled-Basel'!D66)/'Waste generation-Basel'!D22 -> #DIV/0! | F34: =('Waste recycled-Basel'!F22-'Waste recycled-Basel'!F44+'Waste recycled-Basel'!F66)/'Waste generation-Basel'!F22 -> #DIV/0! | H34: =('Waste recycled-Basel'!H22-'Waste recycled-Basel'!H44+'Waste recycled-Basel'!H66)/'Waste generation-Basel'!H22 -> #DIV/0! | J34: =('Waste recycled-Basel'!J22-'Waste recycled-Basel'!J44+'Waste recycled-Basel'!J66)/'Waste generation-Basel'!J22 -> #DIV/0! | L34: =('Waste recycled-Basel'!L22-'Waste recycled-Basel'!L44+'Waste recycled-Basel'!L66)/'Waste generation-Basel'!L22 -> #DIV/0! | N34: =('Waste recycled-Basel'!N22-'Waste recycled-Basel'!N44+'Waste recycled-Basel'!N66)/'Waste generation-Basel'!N22 -> #DIV/0! | P34: =('Waste recycled-Basel'!P22-'Waste recycled-Basel'!P44+'Waste recycled-Basel'!P66)/'Waste generation-Basel'!P22 -> #DIV/0! | R34: =('Waste recycled-Basel'!R22-'Waste recycled-Basel'!R44+'Waste recycled-Basel'!R66)/'Waste generation-Basel'!R22 -> #DIV/0! | T34: =('Waste recycled-Basel'!T22-'Waste recycled-Basel'!T44+'Waste recycled-Basel'!T66)/'Waste generation-Basel'!T22 -> #DIV/0! | V34: =('Waste recycled-Basel'!V22-'Waste recycled-Basel'!V44+'Waste recycled-Basel'!V66)/'Waste generation-Basel'!V22 -> #DIV/0! | X34: =('Waste recycled-Basel'!X22-'Waste recycled-Basel'!X44+'Waste recycled-Basel'!X66)/'Waste generation-Basel'!X22 -> #DIV/0! | Z34: =('Waste recycled-Basel'!Z22-'Waste recycled-Basel'!Z44+'Waste recycled-Basel'!Z66)/'Waste generation-Basel'!Z22 -> #DIV/0! | AB34: =('Waste recycled-Basel'!AB22-'Waste recycled-Basel'!AB44+'Waste recycled-Basel'!AB66)/'Waste generation-Basel'!AB22 -> #DIV/0! | AD34: =('Waste recycled-Basel'!AD22-'Waste recycled-Basel'!AD44+'Waste recycled-Basel'!AD66)/'Waste generation-Basel'!AD22 -> #DIV/0! | AF34: =('Waste recycled-Basel'!AF22-'Waste recycled-Basel'!AF44+'Waste recycled-Basel'!AF66)/'Waste generation-Basel'!AF22 -> #DIV/0! | AH34: =('Waste recycled-Basel'!AH22-'Waste recycled-Basel'!AH44+'Waste recycled-Basel'!AH66)/'Waste generation-Basel'!AH22 -> #DIV/0! | AJ34: =('Waste recycled-Basel'!AJ22-'Waste recycled-Basel'!AJ44+'Waste recycled-Basel'!AJ66)/'Waste generation-Basel'!AJ22 -> #DIV/0! | AL34: =('Waste recycled-Basel'!AL22-'Waste recycled-Basel'!AL44+'Waste recycled-Basel'!AL66)/'Waste generation-Basel'!AL22 -> #DIV/0! | AN34: =('Waste recycled-Basel'!AN22-'Waste recycled-Basel'!AN44+'Waste recycled-Basel'!AN66)/'Waste generation-Basel'!AN22 -> #DIV/0! | AP34: =('Waste recycled-Basel'!AP22-'Waste recycled-Basel'!AP44+'Waste recycled-Basel'!AP66)/'Waste generation-Basel'!AP22 -> #DIV/0! | AR34: =('Waste recycled-Basel'!AR22-'Waste recycled-Basel'!AR44+'Waste recycled-Basel'!AR66)/'Waste generation-Basel'!AR22 -> #DIV/0! | AT34: =('Waste recycled-Basel'!AT22-'Waste recycled-Basel'!AT44+'Waste recycled-Basel'!AT66)/'Waste generation-Basel'!AT22 -> #DIV/0! | AV34: =('Waste recycled-Basel'!AV22-'Waste recycled-Basel'!AV44+'Waste recycled-Basel'!AV66)/'Waste generation-Basel'!AV22 -> #DIV/0! | AX34: =('Waste recycled-Basel'!AW22-'Waste recycled-Basel'!AW44+'Waste recycled-Basel'!AW66)/'Waste generation-Basel'!AX22 -> #DIV/0! | AZ34: =('Waste recycled-Basel'!AY22-'Waste recycled-Basel'!AY44+'Waste recycled-Basel'!AY66)/'Waste generation-Basel'!AZ22 -> #DIV/0! | BB34: =('Waste recycled-Basel'!BA22-'Waste recycled-Basel'!BA44+'Waste recycled-Basel'!BA66)/'Waste generation-Basel'!BB22 -> #DIV/0! | BD34: =('Waste recycled-Basel'!BC22-'Waste recycled-Basel'!BC44+'Waste recycled-Basel'!BC66)/'Waste generation-Basel'!BD22 -> #DIV/0! | BF34: =('Waste recycled-Basel'!BE22-'Waste recycled-Basel'!BE44+'Waste recycled-Basel'!BE66)/'Waste generation-Basel'!BF22 -> #DIV/0! | BH34: =('Waste recycled-Basel'!BG22-'Waste recycled-Basel'!BG44+'Waste recycled-Basel'!BG66)/'Waste generation-Basel'!BH22 -> #DIV/0! | BJ34: =('Waste recycled-Basel'!BI22-'Waste recycled-Basel'!BI44+'Waste recycled-Basel'!BI66)/'Waste generation-Basel'!BJ22 -> #DIV/0! | BL34: =('Waste recycled-Basel'!BK22-'Waste recycled-Basel'!BK44+'Waste recycled-Basel'!BK66)/'Waste generation-Basel'!BL22 -> #DIV/0!
A35: Y46 | B35: Отходы, собираемые из жилищ | C35: % | D35: =('Waste recycled-Basel'!D25-'Waste recycled-Basel'!D47+'Waste recycled-Basel'!D69)/'Waste generation-Basel'!D25 -> #DIV/0! | F35: =('Waste recycled-Basel'!F25-'Waste recycled-Basel'!F47+'Waste recycled-Basel'!F69)/'Waste generation-Basel'!F25 -> #DIV/0! | H35: =('Waste recycled-Basel'!H25-'Waste recycled-Basel'!H47+'Waste recycled-Basel'!H69)/'Waste generation-Basel'!H25 -> #DIV/0! | J35: =('Waste recycled-Basel'!J25-'Waste recycled-Basel'!J47+'Waste recycled-Basel'!J69)/'Waste generation-Basel'!J25 -> #DIV/0! | L35: =('Waste recycled-Basel'!L25-'Waste recycled-Basel'!L47+'Waste recycled-Basel'!L69)/'Waste generation-Basel'!L25 -> #DIV/0! | N35: =('Waste recycled-Basel'!N25-'Waste recycled-Basel'!N47+'Waste recycled-Basel'!N69)/'Waste generation-Basel'!N25 -> #DIV/0! | P35: =('Waste recycled-Basel'!P25-'Waste recycled-Basel'!P47+'Waste recycled-Basel'!P69)/'Waste generation-Basel'!P25 -> #DIV/0! | R35: =('Waste recycled-Basel'!R25-'Waste recycled-Basel'!R47+'Waste recycled-Basel'!R69)/'Waste generation-Basel'!R25 -> #DIV/0! | T35: =('Waste recycled-Basel'!T25-'Waste recycled-Basel'!T47+'Waste recycled-Basel'!T69)/'Waste generation-Basel'!T25 -> #DIV/0! | V35: =('Waste recycled-Basel'!V25-'Waste recycled-Basel'!V47+'Waste recycled-Basel'!V69)/'Waste generation-Basel'!V25 -> #DIV/0! | X35: =('Waste recycled-Basel'!X25-'Waste recycled-Basel'!X47+'Waste recycled-Basel'!X69)/'Waste generation-Basel'!X25 -> #DIV/0! | Z35: =('Waste recycled-Basel'!Z25-'Waste recycled-Basel'!Z47+'Waste recycled-Basel'!Z69)/'Waste generation-Basel'!Z25 -> #DIV/0! | AB35: =('Waste recycled-Basel'!AB25-'Waste recycled-Basel'!AB47+'Waste recycled-Basel'!AB69)/'Waste generation-Basel'!AB25 -> #DIV/0! | AD35: =('Waste recycled-Basel'!AD25-'Waste recycled-Basel'!AD47+'Waste recycled-Basel'!AD69)/'Waste generation-Basel'!AD25 -> #DIV/0! | AF35: =('Waste recycled-Basel'!AF25-'Waste recycled-Basel'!AF47+'Waste recycled-Basel'!AF69)/'Waste generation-Basel'!AF25 -> #DIV/0! | AH35: =('Waste recycled-Basel'!AH25-'Waste recycled-Basel'!AH47+'Waste recycled-Basel'!AH69)/'Waste generation-Basel'!AH25 -> #DIV/0! | AJ35: =('Waste recycled-Basel'!AJ25-'Waste recycled-Basel'!AJ47+'Waste recycled-Basel'!AJ69)/'Waste generation-Basel'!AJ25 -> #DIV/0! | AL35: =('Waste recycled-Basel'!AL25-'Waste recycled-Basel'!AL47+'Waste recycled-Basel'!AL69)/'Waste generation-Basel'!AL25 -> #DIV/0! | AN35: =('Waste recycled-Basel'!AN25-'Waste recycled-Basel'!AN47+'Waste recycled-Basel'!AN69)/'Waste generation-Basel'!AN25 -> #DIV/0! | AP35: =('Waste recycled-Basel'!AP25-'Waste recycled-Basel'!AP47+'Waste recycled-Basel'!AP69)/'Waste generation-Basel'!AP25 -> #DIV/0! | AR35: =('Waste recycled-Basel'!AR25-'Waste recycled-Basel'!AR47+'Waste recycled-Basel'!AR69)/'Waste generation-Basel'!AR25 -> #DIV/0! | AT35: =('Waste recycled-Basel'!AT25-'Waste recycled-Basel'!AT47+'Waste recycled-Basel'!AT69)/'Waste generation-Basel'!AT25 -> #DIV/0! | AV35: =('Waste recycled-Basel'!AV25-'Waste recycled-Basel'!AV47+'Waste recycled-Basel'!AV69)/'Waste generation-Basel'!AV25 -> #DIV/0! | AX35: =('Waste recycled-Basel'!AW25-'Waste recycled-Basel'!AW47+'Waste recycled-Basel'!AW69)/'Waste generation-Basel'!AX25 -> #DIV/0! | AZ35: =('Waste recycled-Basel'!AY25-'Waste recycled-Basel'!AY47+'Waste recycled-Basel'!AY69)/'Waste generation-Basel'!AZ25 -> #DIV/0! | BB35: =('Waste recycled-Basel'!BA25-'Waste recycled-Basel'!BA47+'Waste recycled-Basel'!BA69)/'Waste generation-Basel'!BB25 -> #DIV/0! | BD35: =('Waste recycled-Basel'!BC25-'Waste recycled-Basel'!BC47+'Waste recycled-Basel'!BC69)/'Waste generation-Basel'!BD25 -> #DIV/0! | BF35: =('Waste recycled-Basel'!BE25-'Waste recycled-Basel'!BE47+'Waste recycled-Basel'!BE69)/'Waste generation-Basel'!BF25 -> #DIV/0! | BH35: =('Waste recycled-Basel'!BG25-'Waste recycled-Basel'!BG47+'Waste recycled-Basel'!BG69)/'Waste generation-Basel'!BH25 -> #DIV/0! | BJ35: =('Waste recycled-Basel'!BI25-'Waste recycled-Basel'!BI47+'Waste recycled-Basel'!BI69)/'Waste generation-Basel'!BJ25 -> #DIV/0! | BL35: =('Waste recycled-Basel'!BK25-'Waste recycled-Basel'!BK47+'Waste recycled-Basel'!BK69)/'Waste generation-Basel'!BL25 -> #DIV/0!
