Workbook

Sheet Contents
B3: United Nations Environment Programme
B4: COMPILER FOR ECONOMY-WIDE MATERIAL FLOW ACCOUNTS
B5: (EW-MFA Compiler)
B7: Country:
B9: If you have any questions, please contact us at the following email address: | D9: unep-science-sdgs@un.org
B13: TABLE OF CONTENTS
B15: Sheet | C15: Title | D15: Status
B16: Contents | C16: Table of contents | D16: for information
B17: Intro | C17: Introduction and methodology | D17: for information
B18: Description & Definitions | C18: Description of tables and Definitions | D18: for information
B19: Table_A | C19: Domestic Extraction | D19: to fill in
B20: Table_B | C20: Imports of Materials | D20: to fill in
B21: Table_C | C21: Exports of Materials | D21: to fill in
B22: Table_D | C22: Material Outflows | D22: to fill in
B23: Table_E | C23: Balancing Items | D23: to fill in
B24: Table_F | C24: Headline Indicators | D24: to be filled in automatically
B25: Corresp SDMX Codes | C25: Correspondence EW-MFA Codes to SDMX Product Codes | D25: can be used for estimation of selected items
B26: Corresp FAO Crop Codes_DE | C26: Correspondence FAO Crop Codes to EW-MFA Codes_Domestic Extraction | D26: can be used for estimation of selected items
... B44: Corresp SITC Rev.4_Trade | C44: Correspondence Table SITC Rev. 4 Codes to EW-MFA Codes | D44: can be used for estimation of selected items

Sheet Intro
B2: Introduction
B3: EW-MFA based accounts and indicators deliver a very comprehensive overview of natural resource extraction, trade in natural resources, waste disposal and emissions. They measure environmental pressures of natural resource use, and EW-MFA based headline indicators (Domestic Extraction, Direct Material Input, Domestic Material Consumption, Physical Trade Balance, Domestic Processed Output, Material Productivity) have been used as a proxy for overall environmental pressure and impact of a national economy. For this reason, indicators based on EW-MFA data sets have been adopted for monitoring progress of the 2030 Agenda for Sustainable Development and the SDG targets for resource productivity (SDG 8.4) and sustainable use of natural resources (SDG 12.2).
B4: Material flow accounts belong to environmental-economic accounts and apply the accounting concepts, structures, rules and principles of the System of Environmental-Economic Accounting 2012 - Central Framework (SEEA-CF).
B6: Methodology
B7: The EW-MFA Compiler supports countries to build Economy-Wide Material Flow Accounts. As well as providing the basic structure required for these accounts, a number of simple tools are also included here for the calculation of some categories of materials, where those categories are not the result of simple summation.
B8: The EW-MFA Compiler should be used in conjunction with reading the global manual on EW-MFA "UNEP (2023). The use of natural resources in the economy: A Global Manual on Economy-Wide Material Flow Accounting":
B9: https://wedocs.unep.org/bitstream/handle/20.500.11822/36253/UNRE.pdf?sequence=3&isAllowed=y
B11: Material categories
B12: Material categories are subdivided in a hierarchical, five-level structure of mutually exclusive categories. The categories at the highest level are called flows, which are alphabetically coded categories intended to facilitate economy-wide material flows analysis. The flows subdivide the entire spectrum of productive activities into broad groupings, such as “Domestic extraction” (flow A), “Imports of materials” (flow B), “Exports of materials” (flow C), and “Material outflows” (flow D). The classification is then organized into successively more detailed categories, which are numerically coded: one-digit, two-digit, three-digit, and, at the greatest level of detail, four-digit.
B13: Acknowledgements
B14: The EW-MFA Compiler was produced by UNEP, with the support of the Commonwealth Scientific and Industrial Research Organisation (CSIRO) for the development of tools to faciliate the compilation of national accounts.

Sheet Description & Definitions
B2: DESCRIPTION OF TABLES
B3: Table_A - Domestic extraction (DE)
B4: Domestic extraction includes four groups of extracted materials: A.1 Biomass, A.2 Metal ores, A.3 Non-metallic minerals, and A.4 Fossil fuels.
B5: A.1 Biomass: According to EW-MFA conventions, DE of biomass includes all biomass of vegetable origin extracted by humans and their livestock, capture of wild fish, and the biomass of hunted animals. Biomass of livestock and livestock products (e.g. milk, meat, eggs, hides) is not accounted for as domestic extraction but considered as flows within the economic system.
B6: The most consistent international source of data on biomass extraction is the statistical database provided by the United Nations Food and Agricultural Organization (FAOSTAT). FAOSTAT covers a huge range of data concerning agriculture, forestry, and fishery, and the land use and food system in general at the level of nation states and in time series from 1961 onwards.
B7: A decision tree to help work through alternative data sources preferentially is presented in Figure 2.1 of the Global Manual on EW-MFA (see the link in the Intro sheet for this compiler).
B8: A.2 Metal ores: For EW-MFA purposes, only that portion of the excavated rock which is to be processed in some way, to obtain the desired metals, should be counted. This means that any soil or rock which is simply excavated and moved, to gain access to the metal ore itself, should not be counted as ore.
B9: While the detailed system described in the Global Manual on EW-MFA, using questionnaire-based surveys of a country’s major minerals producers, is recommended, its success is contingent upon the cooperation of the mine operators.
B10: A flow chart to aid in deciding which approach is best for the compiler’s particular circumstances is set out in Figure 2.3 of the Global Manual on EW-MFA (see the link in the Intro sheet for this compiler).
B11: A.3 Non-metallic minerals: If accounted by mass, the vast majority of the materials of this category are sand, gravel, and clay used for construction, while the remainders are used either as decorative stones or for chemicals and fertilizers. Certain materials can be used for either industrial or construction purposes, since there is no clear and distinct differentiation between the two.
B12: A flow chart for the compilation of non-metallic mineral EW-MFA is set out in Figure 2.4 of the Global Manual on EW-MFA (see the link in the Intro sheet for this compiler).
B13: A.4 Fossil fuels: Fossil fuels are materials formed from biomass in the geological past and comprise solid, liquid and gaseous materials: coal and peat, crude oil and natural gas, oil shale and tar sands.
... B61: Material Productivity is defined as the ratio between GDP and DMC. It indicates the economic value generated per unit of material consumption. Over time, the indicator illustrates whether decoupling of material use from economic growth is achieved. This indicator is also called resource efficiency, e.g. in the European policy context.

Sheet Table_A
A1: Table_A - Domestic extraction
A2: (tonnes)
A3: Material category | B3: Description | C3: 2010 | D3: 2011 | E3: 2012 | F3: 2013 | G3: 2014 | H3: 2015 | I3: 2016 | J3: 2017 | K3: 2018 | L3: 2019 | M3: 2020 | N3: 2021 | O3: 2022 | P3: 2023 | Q3: 2024 | R3: 2025 | S3: 2026 | T3: 2027 | U3: 2028 | V3: 2029 | W3: 2030
A4: A.1 | B4: BIOMASS | C4: =C5+C22+C27+C30 -> 0 | D4: =D5+D22+D27+D30 -> 0 | E4: =E5+E22+E27+E30 -> 0 | F4: =F5+F22+F27+F30 -> 0 | G4: =G5+G22+G27+G30 -> 0 | H4: =H5+H22+H27+H30 -> 0 | I4: =I5+I22+I27+I30 -> 0 | J4: =J5+J22+J27+J30 -> 0 | ... W4: =W5+W22+W27+W30 -> 0
A5: A.1.1 | B5: Crops | C5: =C6+C11+C12+C13+C14+C15+C16+C17+C18+C19+C20+C21 -> 0 | D5: =D6+D11+D12+D13+D14+D15+D16+D17+D18+D19+D20+D21 -> 0 | E5: =E6+E11+E12+E13+E14+E15+E16+E17+E18+E19+E20+E21 -> 0 | F5: =F6+F11+F12+F13+F14+F15+F16+F17+F18+F19+F20+F21 -> 0 | G5: =G6+G11+G12+G13+G14+G15+G16+G17+G18+G19+G20+G21 -> 0 | H5: =H6+H11+H12+H13+H14+H15+H16+H17+H18+H19+H20+H21 -> 0 | I5: =I6+I11+I12+I13+I14+I15+I16+I17+I18+I19+I20+I21 -> 0 | J5: =J6+J11+J12+J13+J14+J15+J16+J17+J18+J19+J20+J21 -> 0 | ... W5: =W6+W11+W12+W13+W14+W15+W16+W17+W18+W19+W20+W21 -> 0
A6: A.1.1.1 | B6: Cereals | C6: =SUM(C7:C10) -> 0 | D6: =SUM(D7:D10) -> 0 | E6: =SUM(E7:E10) -> 0 | F6: =SUM(F7:F10) -> 0 | G6: =SUM(G7:G10) -> 0 | H6: =SUM(H7:H10) -> 0 | I6: =SUM(I7:I10) -> 0 | J6: =SUM(J7:J10) -> 0 | ... W6: =SUM(W7:W10) -> 0
A7: A.1.1.1.1 | B7: Rice
A8: A.1.1.1.2 | B8: Wheat
A9: A.1.1.1.3 | B9: Maize
A10: A.1.1.1.4 | B10: Cereals n.e.c.
A11: A.1.1.2 | B11: Roots, tubers
A12: A.1.1.3 | B12: Sugar crops
A13: A.1.1.4 | B13: Pulses
A14: A.1.1.5 | B14: Nuts
A15: A.1.1.6 | B15: Oil bearing crops
A16: A.1.1.7 | B16: Vegetables
A17: A.1.1.8 | B17: Fruits
A18: A.1.1.9 | B18: Fibres
... A21: A.1.1.12 | B21: Other crops n.e.c.
A22: A.1.2 | B22: Crop residues (used), fodder crops, grazed biomass | C22: =SUM(C23:C26) -> 0 | D22: =SUM(D23:D26) -> 0 | E22: =SUM(E23:E26) -> 0 | F22: =SUM(F23:F26) -> 0 | G22: =SUM(G23:G26) -> 0 | H22: =SUM(H23:H26) -> 0 | I22: =SUM(I23:I26) -> 0 | J22: =SUM(J23:J26) -> 0 | ... W22: =SUM(W23:W26) -> 0
A23: A.1.2.1 | B23: Straw | C23: ='Crop Residues Tool_DE'!D13 -> 0 | D23: ='Crop Residues Tool_DE'!E13 -> 0 | E23: ='Crop Residues Tool_DE'!F13 -> 0 | F23: ='Crop Residues Tool_DE'!G13 -> 0 | G23: ='Crop Residues Tool_DE'!H13 -> 0 | H23: ='Crop Residues Tool_DE'!I13 -> 0 | I23: ='Crop Residues Tool_DE'!J13 -> 0 | J23: ='Crop Residues Tool_DE'!K13 -> 0 | ... W23: ='Crop Residues Tool_DE'!X13 -> 0
A24: A.1.2.2 | B24: Other crop residues (sugar and fodder beet leaves, other) | C24: ='Crop Residues Tool_DE'!D14 -> 0 | D24: ='Crop Residues Tool_DE'!E14 -> 0 | E24: ='Crop Residues Tool_DE'!F14 -> 0 | F24: ='Crop Residues Tool_DE'!G14 -> 0 | G24: ='Crop Residues Tool_DE'!H14 -> 0 | H24: ='Crop Residues Tool_DE'!I14 -> 0 | I24: ='Crop Residues Tool_DE'!J14 -> 0 | J24: ='Crop Residues Tool_DE'!K14 -> 0 | ... W24: ='Crop Residues Tool_DE'!X14 -> 0
A25: A.1.2.3 | B25: Fodder crops (including biomass harvest from grassland)
A26: A.1.2.4 | B26: Grazed biomass | C26: ='Grazed Biomass Tool_DE'!D13 -> 0 | D26: ='Grazed Biomass Tool_DE'!E13 -> 0 | E26: ='Grazed Biomass Tool_DE'!F13 -> 0 | F26: ='Grazed Biomass Tool_DE'!G13 -> 0 | G26: ='Grazed Biomass Tool_DE'!H13 -> 0 | H26: ='Grazed Biomass Tool_DE'!I13 -> 0 | I26: ='Grazed Biomass Tool_DE'!J13 -> 0 | J26: ='Grazed Biomass Tool_DE'!K13 -> 0 | ... W26: ='Grazed Biomass Tool_DE'!X13 -> 0
A27: A.1.3 | B27: Wood | C27: =C28+C29 -> 0 | D27: =D28+D29 -> 0 | E27: =E28+E29 -> 0 | F27: =F28+F29 -> 0 | G27: =G28+G29 -> 0 | H27: =H28+H29 -> 0 | I27: =I28+I29 -> 0 | J27: =J28+J29 -> 0 | ... W27: =W28+W29 -> 0
A28: A.1.3.1 | B28: Timber (Industrial roundwood)
A29: A.1.3.2 | B29: Wood fuel and other extraction
A30: A.1.4 | B30: Wild harvest n.e.c. | C30: =SUM(C31:C35) -> 0 | D30: =SUM(D31:D35) -> 0 | E30: =SUM(E31:E35) -> 0 | F30: =SUM(F31:F35) -> 0 | G30: =SUM(G31:G35) -> 0 | H30: =SUM(H31:H35) -> 0 | I30: =SUM(I31:I35) -> 0 | J30: =SUM(J31:J35) -> 0 | ... W30: =SUM(W31:W35) -> 0
A31: A.1.4.1 | B31: Wild fish catch
A32: A.1.4.2 | B32: All other wild aquatic animals catch
A33: A.1.4.3 | B33: Wild aquatic plant harvest
A34: A.1.4.4 | B34: Wild terrestrial plant harvest n.e.c. (incl. gathering)
A35: A.1.4.5 | B35: Wild terrestrial animal catch (incl. hunting)
A36: A.2 | B36: METAL ORES | C36: =SUM(C37,C39,C41) -> 0 | D36: =SUM(D37,D39,D41) -> 0 | E36: =SUM(E37,E39,E41) -> 0 | F36: =SUM(F37,F39,F41) -> 0 | G36: =SUM(G37,G39,G41) -> 0 | H36: =SUM(H37,H39,H41) -> 0 | I36: =SUM(I37,I39,I41) -> 0 | J36: =SUM(J37,J39,J41) -> 0 | ... W36: =SUM(W37,W39,W41) -> 0
A37: A.2.1 | B37: Iron ores
A38: M.2.Fe | B38: Iron ores metal content (memo item)
A39: A.2.2 | B39: Aluminium ores
A40: M.2.Al | B40: Aluminium ores metal content (memo item)
A41: A.2.3 | B41: Other metal ores
A42: M.2.x | B42: X ores metal content, where X is a specific metallic element other than iron or aluminium (memo item)
...

Sheet Table_B
A1: Table_B - Imports of materials
A2: (tonnes)
A3: Material category | B3: Description | C3: 2010 | D3: 2011 | E3: 2012 | F3: 2013 | G3: 2014 | H3: 2015 | I3: 2016 | J3: 2017 | K3: 2018 | L3: 2019 | M3: 2020 | N3: 2021 | O3: 2022 | P3: 2023 | Q3: 2024 | R3: 2025 | S3: 2026 | T3: 2027 | U3: 2028 | V3: 2029 | W3: 2030
A4: B.1 | B4: BIOMASS | C4: =C5+C22+C26+C29+C33+C38 -> 0 | D4: =D5+D22+D26+D29+D33+D38 -> 0 | E4: =E5+E22+E26+E29+E33+E38 -> 0 | F4: =F5+F22+F26+F29+F33+F38 -> 0 | G4: =G5+G22+G26+G29+G33+G38 -> 0 | H4: =H5+H22+H26+H29+H33+H38 -> 0 | I4: =I5+I22+I26+I29+I33+I38 -> 0 | J4: =J5+J22+J26+J29+J33+J38 -> 0 | ... W4: =W5+W22+W26+W29+W33+W38 -> 0
A5: B.1.1 | B5: Crops, raw and processed | C5: =C6+C11+C12+C13+C14+C15+C16+C17+C18+C19+C20+C21 -> 0 | D5: =D6+D11+D12+D13+D14+D15+D16+D17+D18+D19+D20+D21 -> 0 | E5: =E6+E11+E12+E13+E14+E15+E16+E17+E18+E19+E20+E21 -> 0 | F5: =F6+F11+F12+F13+F14+F15+F16+F17+F18+F19+F20+F21 -> 0 | G5: =G6+G11+G12+G13+G14+G15+G16+G17+G18+G19+G20+G21 -> 0 | H5: =H6+H11+H12+H13+H14+H15+H16+H17+H18+H19+H20+H21 -> 0 | I5: =I6+I11+I12+I13+I14+I15+I16+I17+I18+I19+I20+I21 -> 0 | J5: =J6+J11+J12+J13+J14+J15+J16+J17+J18+J19+J20+J21 -> 0 | ... W5: =W6+W11+W12+W13+W14+W15+W16+W17+W18+W19+W20+W21 -> 0
A6: B.1.1.1 | B6: Cereals | C6: =SUM(C7:C10) -> 0 | D6: =SUM(D7:D10) -> 0 | E6: =SUM(E7:E10) -> 0 | F6: =SUM(F7:F10) -> 0 | G6: =SUM(G7:G10) -> 0 | H6: =SUM(H7:H10) -> 0 | I6: =SUM(I7:I10) -> 0 | J6: =SUM(J7:J10) -> 0 | ... W6: =SUM(W7:W10) -> 0
A7: B.1.1.1.1 | B7: Rice
A8: B.1.1.1.2 | B8: Wheat
A9: B.1.1.1.3 | B9: Maize
A10: B.1.1.1.4 | B10: Cereals n.e.c.
A11: B.1.1.2 | B11: Roots, tubers
A12: B.1.1.3 | B12: Sugar crops
A13: B.1.1.4 | B13: Pulses
A14: B.1.1.5 | B14: Nuts
A15: B.1.1.6 | B15: Oil bearing crops
A16: B.1.1.7 | B16: Vegetables
A17: B.1.1.8 | B17: Fruits
A18: B.1.1.9 | B18: Fibres
... A21: B.1.1.12 | B21: Other crops n.e.c.
A22: B.1.2 | B22: Crop residues (used) and fodder crops | C22: =SUM(C23:C25) -> 0 | D22: =SUM(D23:D25) -> 0 | E22: =SUM(E23:E25) -> 0 | F22: =SUM(F23:F25) -> 0 | G22: =SUM(G23:G25) -> 0 | H22: =SUM(H23:H25) -> 0 | I22: =SUM(I23:I25) -> 0 | J22: =SUM(J23:J25) -> 0 | ... W22: =SUM(W23:W25) -> 0
A23: B.1.2.1 | B23: Straw
A24: B.1.2.2 | B24: Other crop residues (sugar and fodder beet leaves, other)
A25: B.1.2.3 | B25: Fodder crops (including biomass harvest from grassland)
A26: B.1.3 | B26: Wood and wood products | C26: =SUM(C27:C28) -> 0 | D26: =SUM(D27:D28) -> 0 | E26: =SUM(E27:E28) -> 0 | F26: =SUM(F27:F28) -> 0 | G26: =SUM(G27:G28) -> 0 | H26: =SUM(H27:H28) -> 0 | I26: =SUM(I27:I28) -> 0 | J26: =SUM(J27:J28) -> 0 | ... W26: =SUM(W27:W28) -> 0
A27: B.1.3.1 | B27: Timber (Industrial roundwood)
A28: B.1.3.2 | B28: Wood fuel and other extraction
A29: B.1.4 | B29: Wild fish, aquatic animals and plants | C29: =SUM(C30:C32) -> 0 | D29: =SUM(D30:D32) -> 0 | E29: =SUM(E30:E32) -> 0 | F29: =SUM(F30:F32) -> 0 | G29: =SUM(G30:G32) -> 0 | H29: =SUM(H30:H32) -> 0 | I29: =SUM(I30:I32) -> 0 | J29: =SUM(J30:J32) -> 0 | ... W29: =SUM(W30:W32) -> 0
A30: B.1.4.1 | B30: Wild fish catch
A31: B.1.4.2 | B31: All other wild aquatic animals
A32: B.1.4.3 | B32: Aquatic plants
A33: B.1.5 | B33: Live animals and products (exluding wild fish, aquatic animals and plants) | C33: =SUM(C34:C37) -> 0 | D33: =SUM(D34:D37) -> 0 | E33: =SUM(E34:E37) -> 0 | F33: =SUM(F34:F37) -> 0 | G33: =SUM(G34:G37) -> 0 | H33: =SUM(H34:H37) -> 0 | I33: =SUM(I34:I37) -> 0 | J33: =SUM(J34:J37) -> 0 | ... W33: =SUM(W34:W37) -> 0
A34: B.1.5.1 | B34: Live animals (exluding wild fish and animals)
A35: B.1.5.2 | B35: Meat and meat preparations
A36: B.1.5.3 | B36: Dairy products, birds eggs, and honey
A37: B.1.5.4 | B37: Other products from animals
A38: B.1.compound | B38: Mixed / compounded products mainly from biomass
A39: B.2 | B39: METAL ORES | C39: =SUM(C40,C42,C44,C46) -> 0 | D39: =SUM(D40,D42,D44,D46) -> 0 | E39: =SUM(E40,E42,E44,E46) -> 0 | F39: =SUM(F40,F42,F44,F46) -> 0 | G39: =SUM(G40,G42,G44,G46) -> 0 | H39: =SUM(H40,H42,H44,H46) -> 0 | I39: =SUM(I40,I42,I44,I46) -> 0 | J39: =SUM(J40,J42,J44,J46) -> 0 | ... W39: =SUM(W40,W42,W44,W46) -> 0
A40: B.2.Fe | B40: Iron ores and concentrates, iron and steel, products dominated by iron content
A41: B.2.Fe.m | B41: Iron ores metal content (memo item)
A42: B.2.Al | B42: Aluminium ores and concentrates, aluminium metal, products dominated by aluminium content
...

Sheet Table_C
A1: Table_C - Exports of materials
A2: (tonnes)
A3: Material category | B3: Description | C3: 2010 | D3: 2011 | E3: 2012 | F3: 2013 | G3: 2014 | H3: 2015 | I3: 2016 | J3: 2017 | K3: 2018 | L3: 2019 | M3: 2020 | N3: 2021 | O3: 2022 | P3: 2023 | Q3: 2024 | R3: 2025 | S3: 2026 | T3: 2027 | U3: 2028 | V3: 2029 | W3: 2030
A4: C.1 | B4: BIOMASS | C4: =C5+C22+C26+C29+C33+C38 -> 0 | D4: =D5+D22+D26+D29+D33+D38 -> 0 | E4: =E5+E22+E26+E29+E33+E38 -> 0 | F4: =F5+F22+F26+F29+F33+F38 -> 0 | G4: =G5+G22+G26+G29+G33+G38 -> 0 | H4: =H5+H22+H26+H29+H33+H38 -> 0 | I4: =I5+I22+I26+I29+I33+I38 -> 0 | J4: =J5+J22+J26+J29+J33+J38 -> 0 | ... W4: =W5+W22+W26+W29+W33+W38 -> 0
A5: C.1.1 | B5: Crops, raw and processed | C5: =C6+C11+C12+C13+C14+C15+C16+C17+C18+C19+C20+C21 -> 0 | D5: =D6+D11+D12+D13+D14+D15+D16+D17+D18+D19+D20+D21 -> 0 | E5: =E6+E11+E12+E13+E14+E15+E16+E17+E18+E19+E20+E21 -> 0 | F5: =F6+F11+F12+F13+F14+F15+F16+F17+F18+F19+F20+F21 -> 0 | G5: =G6+G11+G12+G13+G14+G15+G16+G17+G18+G19+G20+G21 -> 0 | H5: =H6+H11+H12+H13+H14+H15+H16+H17+H18+H19+H20+H21 -> 0 | I5: =I6+I11+I12+I13+I14+I15+I16+I17+I18+I19+I20+I21 -> 0 | J5: =J6+J11+J12+J13+J14+J15+J16+J17+J18+J19+J20+J21 -> 0 | ... W5: =W6+W11+W12+W13+W14+W15+W16+W17+W18+W19+W20+W21 -> 0
A6: C.1.1.1 | B6: Cereals | C6: =SUM(C7:C10) -> 0 | D6: =SUM(D7:D10) -> 0 | E6: =SUM(E7:E10) -> 0 | F6: =SUM(F7:F10) -> 0 | G6: =SUM(G7:G10) -> 0 | H6: =SUM(H7:H10) -> 0 | I6: =SUM(I7:I10) -> 0 | J6: =SUM(J7:J10) -> 0 | ... W6: =SUM(W7:W10) -> 0
A7: C.1.1.1.1 | B7: Rice
A8: C.1.1.1.2 | B8: Wheat
A9: C.1.1.1.3 | B9: Maize
A10: C.1.1.1.4 | B10: Cereals n.e.c.
A11: C.1.1.2 | B11: Roots, tubers
A12: C.1.1.3 | B12: Sugar crops
A13: C.1.1.4 | B13: Pulses
A14: C.1.1.5 | B14: Nuts
A15: C.1.1.6 | B15: Oil bearing crops
A16: C.1.1.7 | B16: Vegetables
A17: C.1.1.8 | B17: Fruits
A18: C.1.1.9 | B18: Fibres
... A21: C.1.1.12 | B21: Other crops n.e.c.
A22: C.1.2 | B22: Crop residues (used) and fodder crops | C22: =SUM(C23:C25) -> 0 | D22: =SUM(D23:D25) -> 0 | E22: =SUM(E23:E25) -> 0 | F22: =SUM(F23:F25) -> 0 | G22: =SUM(G23:G25) -> 0 | H22: =SUM(H23:H25) -> 0 | I22: =SUM(I23:I25) -> 0 | J22: =SUM(J23:J25) -> 0 | ... W22: =SUM(W23:W25) -> 0
A23: C.1.2.1 | B23: Straw
A24: C.1.2.2 | B24: Other crop residues (sugar and fodder beet leaves, other)
A25: C.1.2.3 | B25: Fodder crops (including biomass harvest from grassland)
A26: C.1.3 | B26: Wood and wood products | C26: =SUM(C27:C28) -> 0 | D26: =SUM(D27:D28) -> 0 | E26: =SUM(E27:E28) -> 0 | F26: =SUM(F27:F28) -> 0 | G26: =SUM(G27:G28) -> 0 | H26: =SUM(H27:H28) -> 0 | I26: =SUM(I27:I28) -> 0 | J26: =SUM(J27:J28) -> 0 | ... W26: =SUM(W27:W28) -> 0
A27: C.1.3.1 | B27: Timber (Industrial roundwood)
A28: C.1.3.2 | B28: Wood fuel and other extraction
A29: C.1.4 | B29: Wild fish, aquatic animals and plants | C29: =SUM(C30:C32) -> 0 | D29: =SUM(D30:D32) -> 0 | E29: =SUM(E30:E32) -> 0 | F29: =SUM(F30:F32) -> 0 | G29: =SUM(G30:G32) -> 0 | H29: =SUM(H30:H32) -> 0 | I29: =SUM(I30:I32) -> 0 | J29: =SUM(J30:J32) -> 0 | ... W29: =SUM(W30:W32) -> 0
A30: C.1.4.1 | B30: Wild fish catch
A31: C.1.4.2 | B31: All other wild aquatic animals
A32: C.1.4.3 | B32: Aquatic plants
A33: C.1.5 | B33: Live animals and products (exluding wild fish, aquatic animals and plants) | C33: =SUM(C34:C37) -> 0 | D33: =SUM(D34:D37) -> 0 | E33: =SUM(E34:E37) -> 0 | F33: =SUM(F34:F37) -> 0 | G33: =SUM(G34:G37) -> 0 | H33: =SUM(H34:H37) -> 0 | I33: =SUM(I34:I37) -> 0 | J33: =SUM(J34:J37) -> 0 | ... W33: =SUM(W34:W37) -> 0
A34: C.1.5.1 | B34: Live animals (exluding wild fish and animals)
A35: C.1.5.2 | B35: Meat and meat preparations
A36: C.1.5.3 | B36: Dairy products, birds eggs, and honey
A37: C.1.5.4 | B37: Other products from animals
A38: C.1.compound | B38: Mixed / compounded products mainly from biomass
A39: C.2 | B39: METAL ORES | C39: =SUM(C40,C42,C44,C46) -> 0 | D39: =SUM(D40,D42,D44,D46) -> 0 | E39: =SUM(E40,E42,E44,E46) -> 0 | F39: =SUM(F40,F42,F44,F46) -> 0 | G39: =SUM(G40,G42,G44,G46) -> 0 | H39: =SUM(H40,H42,H44,H46) -> 0 | I39: =SUM(I40,I42,I44,I46) -> 0 | J39: =SUM(J40,J42,J44,J46) -> 0 | ... W39: =SUM(W40,W42,W44,W46) -> 0
A40: C.2.Fe | B40: Iron ores and concentrates, iron and steel, products dominated by iron content
A41: C.2.Fe.m | B41: Iron ores metal content (memo item)
A42: C.2.Al | B42: Aluminium ores and concentrates, aluminium metal, products dominated by aluminium content
...

Sheet Table_D
A1: Table_D - Material outflows
A2: (tonnes)
A3: Material category | B3: Description | C3: 2010 | D3: 2011 | E3: 2012 | F3: 2013 | G3: 2014 | H3: 2015 | I3: 2016 | J3: 2017 | K3: 2018 | L3: 2019 | M3: 2020 | N3: 2021 | O3: 2022 | P3: 2023 | Q3: 2024 | R3: 2025 | S3: 2026 | T3: 2027 | U3: 2028 | V3: 2029 | W3: 2030
A4: D.1 | B4: EMISSIONS TO AIR | C4: =C5+C8+C9+C10+C11+C12+C13+C14+C15+C16+C17+C18+C19+C20+C21 -> 0 | D4: =D5+D8+D9+D10+D11+D12+D13+D14+D15+D16+D17+D18+D19+D20+D21 -> 0 | E4: =E5+E8+E9+E10+E11+E12+E13+E14+E15+E16+E17+E18+E19+E20+E21 -> 0 | F4: =F5+F8+F9+F10+F11+F12+F13+F14+F15+F16+F17+F18+F19+F20+F21 -> 0 | G4: =G5+G8+G9+G10+G11+G12+G13+G14+G15+G16+G17+G18+G19+G20+G21 -> 0 | H4: =H5+H8+H9+H10+H11+H12+H13+H14+H15+H16+H17+H18+H19+H20+H21 -> 0 | I4: =I5+I8+I9+I10+I11+I12+I13+I14+I15+I16+I17+I18+I19+I20+I21 -> 0 | J4: =J5+J8+J9+J10+J11+J12+J13+J14+J15+J16+J17+J18+J19+J20+J21 -> 0 | ... W4: =W5+W8+W9+W10+W11+W12+W13+W14+W15+W16+W17+W18+W19+W20+W21 -> 0
A5: D.1.1 | B5: Carbon dioxide (CO2) | C5: =SUM(C6:C7) -> 0 | D5: =SUM(D6:D7) -> 0 | E5: =SUM(E6:E7) -> 0 | F5: =SUM(F6:F7) -> 0 | G5: =SUM(G6:G7) -> 0 | H5: =SUM(H6:H7) -> 0 | I5: =SUM(I6:I7) -> 0 | J5: =SUM(J6:J7) -> 0 | ... W5: =SUM(W6:W7) -> 0
A6: D.1.1.1 | B6: Carbon dioxide (CO2) from biomass combustion
A7: D.1.1.2 | B7: Carbon dioxide (CO2) excluding biomass combustion
A8: D.1.2 | B8: Methane (CH4)
A9: D.1.3 | B9: Dinitrogen oxide (N2O)
A10: D.1.4 | B10: Nitrogen oxides (NOx)
A11: D.1.5 | B11: Hydrofluorocarbons (HFCs)
A12: D.1.6 | B12: Perfluorocarbons (PFCs)
A13: D.1.7 | B13: Sulphur hexafluoride (SF6)
A14: D.1.8 | B14: Carbon monoxide (CO)
A15: D.1.9 | B15: Non-methane volatile organic compounds (NMVOC)
A16: D.1.10 | B16: Sulfur dioxide (SO2)
A17: D.1.11 | B17: Ammonia (NH3)
... A21: D.1.15 | B21: Other emissions to air
A22: D.2 | B22: WASTE LANDFILLED (UNCONTROLLED) | C22: =SUM(C23:C24) -> 0 | D22: =SUM(D23:D24) -> 0 | E22: =SUM(E23:E24) -> 0 | F22: =SUM(F23:F24) -> 0 | G22: =SUM(G23:G24) -> 0 | H22: =SUM(H23:H24) -> 0 | I22: =SUM(I23:I24) -> 0 | J22: =SUM(J23:J24) -> 0 | ... W22: =SUM(W23:W24) -> 0
A23: D.2.1 | B23: Municipal waste (uncontrolled)
A24: D.2.2 | B24: Industrial waste (uncontrolled)
B25: Waste disposal to controlled landfills (memo item)
A26: D.3 | B26: EMISSIONS TO WATER | C26: =SUM(C27:C31) -> 0 | D26: =SUM(D27:D31) -> 0 | E26: =SUM(E27:E31) -> 0 | F26: =SUM(F27:F31) -> 0 | G26: =SUM(G27:G31) -> 0 | H26: =SUM(H27:H31) -> 0 | I26: =SUM(I27:I31) -> 0 | J26: =SUM(J27:J31) -> 0 | ... W26: =SUM(W27:W31) -> 0
A27: D.3.1 | B27: Nitrogen (N)
A28: D.3.2 | B28: Phosphorus (P)
A29: D.3.3 | B29: Heavy metals
A30: D.3.4 | B30: Other substances and (organic) materials
A31: D.3.5 | B31: Dumping of materials at sea
A32: D.4 | B32: DISSIPATIVE USE OF PRODUCTS | C32: =SUM(C33:C40) -> 0 | D32: =SUM(D33:D40) -> 0 | E32: =SUM(E33:E40) -> 0 | F32: =SUM(F33:F40) -> 0 | G32: =SUM(G33:G40) -> 0 | H32: =SUM(H33:H40) -> 0 | I32: =SUM(I33:I40) -> 0 | J32: =SUM(J33:J40) -> 0 | ... W32: =SUM(W33:W40) -> 0
A33: D.4.1 | B33: Organic fertilizer (manure)
A34: D.4.2 | B34: Mineral fertilizer
A35: D.4.3 | B35: Sewage sludge
A36: D.4.4 | B36: Compost
A37: D.4.5 | B37: Pesticides
A38: D.4.6 | B38: Seeds
A39: D.4.7 | B39: Salt and other thawing materials spread on roads
A40: D.4.8 | B40: Solvents, laughing gas and other
A41: D.5 | B41: DISSIPATIVE LOSSES
B42: DOMESTIC PROCESSED OUTPUT | C42: =C4+C22+C26+C32+C41 -> 0 | D42: =D4+D22+D26+D32+D41 -> 0 | E42: =E4+E22+E26+E32+E41 -> 0 | F42: =F4+F22+F26+F32+F41 -> 0 | G42: =G4+G22+G26+G32+G41 -> 0 | H42: =H4+H22+H26+H32+H41 -> 0 | I42: =I4+I22+I26+I32+I41 -> 0 | J42: =J4+J22+J26+J32+J41 -> 0 | ... W42: =W4+W22+W26+W32+W41 -> 0

Sheet Table_E
A1: Table_E - Balancing items
A2: (tonnes)
A3: Material category | B3: Description | C3: 2010 | D3: 2011 | E3: 2012 | F3: 2013 | G3: 2014 | H3: 2015 | I3: 2016 | J3: 2017 | K3: 2018 | L3: 2019 | M3: 2020 | N3: 2021 | O3: 2022 | P3: 2023 | Q3: 2024 | R3: 2025 | S3: 2026 | T3: 2027 | U3: 2028 | V3: 2029 | W3: 2030
B4: Balancing items: input side | C4: =SUM(C5:C8) -> 0 | D4: =SUM(D5:D8) -> 0 | E4: =SUM(E5:E8) -> 0 | F4: =SUM(F5:F8) -> 0 | G4: =SUM(G5:G8) -> 0 | H4: =SUM(H5:H8) -> 0 | I4: =SUM(I5:I8) -> 0 | J4: =SUM(J5:J8) -> 0 | ... W4: =SUM(W5:W8) -> 0
B5: Oxygen for combustion processes
B6: Oxygen for respiration of humans and livestock; bacterial respiration from solid waste and wastewater
B7: Nitrogen for Haber-Bosch process
B8: Water requirements for the domestic production of exported beverages
B9: Balancing items: output side | C9: =SUM(C10,C13,C16) -> 0 | D9: =SUM(D10,D13,D16) -> 0 | E9: =SUM(E10,E13,E16) -> 0 | F9: =SUM(F10,F13,F16) -> 0 | G9: =SUM(G10,G13,G16) -> 0 | H9: =SUM(H10,H13,H16) -> 0 | I9: =SUM(I10,I13,I16) -> 0 | J9: =SUM(J10,J13,J16) -> 0 | ... W9: =SUM(W10,W13,W16) -> 0
B10: Water vapour from combustion | C10: =SUM(C11:C12) -> 0 | D10: =SUM(D11:D12) -> 0 | E10: =SUM(E11:E12) -> 0 | F10: =SUM(F11:F12) -> 0 | G10: =SUM(G11:G12) -> 0 | H10: =SUM(H11:H12) -> 0 | I10: =SUM(I11:I12) -> 0 | J10: =SUM(J11:J12) -> 0 | ... W10: =SUM(W11:W12) -> 0
B11: Water vapour from moisture content of fuels
B12: Water vapour from the oxidized hydrogen components of fuels
B13: Gases from respiration of humans and livestock (CO2 and H2O), and from bacterial respiration from solid waste and wastewater (H2O) | C13: =SUM(C14:C15) -> 0 | D13: =SUM(D14:D15) -> 0 | E13: =SUM(E14:E15) -> 0 | F13: =SUM(F14:F15) -> 0 | G13: =SUM(G14:G15) -> 0 | H13: =SUM(H14:H15) -> 0 | I13: =SUM(I14:I15) -> 0 | J13: =SUM(J14:J15) -> 0 | ... W13: =SUM(W14:W15) -> 0
B14: Carbon dioxide (CO2)
B15: Water vapour (H2O)
B16: Excorporated water from biomass products

Sheet Table_F
A1: Table_F - Headline indicators
A2: (tonnes)
A3: Material category | B3: Description | C3: 2010 | D3: 2011 | E3: 2012 | F3: 2013 | G3: 2014 | H3: 2015 | I3: 2016 | J3: 2017 | K3: 2018 | L3: 2019 | M3: 2020 | N3: 2021 | O3: 2022 | P3: 2023 | Q3: 2024 | R3: 2025 | S3: 2026 | T3: 2027 | U3: 2028 | V3: 2029 | W3: 2030
B4: Domestic extraction (DE) | C4: =Table_A!C74 -> 0 | D4: =Table_A!D74 -> 0 | E4: =Table_A!E74 -> 0 | F4: =Table_A!F74 -> 0 | G4: =Table_A!G74 -> 0 | H4: =Table_A!H74 -> 0 | I4: =Table_A!I74 -> 0 | J4: =Table_A!J74 -> 0 | ... W4: =Table_A!W74 -> 0
B5: Imports | C5: =Table_B!C83 -> 0 | D5: =Table_B!D83 -> 0 | E5: =Table_B!E83 -> 0 | F5: =Table_B!F83 -> 0 | G5: =Table_B!G83 -> 0 | H5: =Table_B!H83 -> 0 | I5: =Table_B!I83 -> 0 | J5: =Table_B!J83 -> 0 | ... W5: =Table_B!W83 -> 0
B6: Exports | C6: =Table_C!C83 -> 0 | D6: =Table_C!D83 -> 0 | E6: =Table_C!E83 -> 0 | F6: =Table_C!F83 -> 0 | G6: =Table_C!G83 -> 0 | H6: =Table_C!H83 -> 0 | I6: =Table_C!I83 -> 0 | J6: =Table_C!J83 -> 0 | ... W6: =Table_C!W83 -> 0
B7: Direct material input (DMI) | C7: =C4+C5 -> 0 | D7: =D4+D5 -> 0 | E7: =E4+E5 -> 0 | F7: =F4+F5 -> 0 | G7: =G4+G5 -> 0 | H7: =H4+H5 -> 0 | I7: =I4+I5 -> 0 | J7: =J4+J5 -> 0 | ... W7: =W4+W5 -> 0
B8: Domestic material consumption (DMC) | C8: =C7-C6 -> 0 | D8: =D7-D6 -> 0 | E8: =E7-E6 -> 0 | F8: =F7-F6 -> 0 | G8: =G7-G6 -> 0 | H8: =H7-H6 -> 0 | I8: =I7-I6 -> 0 | J8: =J7-J6 -> 0 | ... W8: =W7-W6 -> 0
B9: Physical trade balance (PTB) | C9: =C5-C6 -> 0 | D9: =D5-D6 -> 0 | E9: =E5-E6 -> 0 | F9: =F5-F6 -> 0 | G9: =G5-G6 -> 0 | H9: =H5-H6 -> 0 | I9: =I5-I6 -> 0 | J9: =J5-J6 -> 0 | ... W9: =W5-W6 -> 0
B10: Domestic processed output (DPO) | C10: =Table_D!C42 -> 0 | D10: =Table_D!D42 -> 0 | E10: =Table_D!E42 -> 0 | F10: =Table_D!F42 -> 0 | G10: =Table_D!G42 -> 0 | H10: =Table_D!H42 -> 0 | I10: =Table_D!I42 -> 0 | J10: =Table_D!J42 -> 0 | ... W10: =Table_D!W42 -> 0
B11: Net additions to stock (NAS) | C11: =C4+C5+Table_E!C4-Table_F!C6-Table_F!C10-Table_E!C9 -> 0 | D11: =D4+D5+Table_E!D4-Table_F!D6-Table_F!D10-Table_E!D9 -> 0 | E11: =E4+E5+Table_E!E4-Table_F!E6-Table_F!E10-Table_E!E9 -> 0 | F11: =F4+F5+Table_E!F4-Table_F!F6-Table_F!F10-Table_E!F9 -> 0 | G11: =G4+G5+Table_E!G4-Table_F!G6-Table_F!G10-Table_E!G9 -> 0 | H11: =H4+H5+Table_E!H4-Table_F!H6-Table_F!H10-Table_E!H9 -> 0 | I11: =I4+I5+Table_E!I4-Table_F!I6-Table_F!I10-Table_E!I9 -> 0 | J11: =J4+J5+Table_E!J4-Table_F!J6-Table_F!J10-Table_E!J9 -> 0 | ... W11: =W4+W5+Table_E!W4-Table_F!W6-Table_F!W10-Table_E!W9 -> 0

Sheet Corresp SDMX Codes
A1: Correspondence EW-MFA Codes to SDMX Product Codes
A2: This table shows the mapping from UNEP EW-MFA codes to Statistical Data and Metadata eXchange (SDMX) product codes. The correspondence is shown for Table_A - Domestic extraction, Table_B - Imports of materials, Table_C - Exports of materials, Table_D - Material outflows, and Table_E - Balancing items.
A4: Table_A - Domestic extraction | E4: Table_B - Imports of materials | I4: Table_C - Exports of materials | M4: Table_D - Material outflows | Q4: Table_E - Balancing items
A5: Material category | B5: Description | C5: SDMX product code | E5: Material category | F5: Description | G5: SDMX product code | I5: Material category | J5: Description | K5: SDMX product code | M5: Material category | N5: Description | O5: SDMX product code | Q5: Material category | R5: Description | S5: SDMX product code
A6: A.1 | B6: BIOMASS | C6: MF1 | E6: B.1 | F6: BIOMASS | G6: MF1 | I6: C.1 | J6: BIOMASS | K6: MF1 | M6: D.1 | N6: EMISSIONS TO AIR | O6: MF71 | R6: Balancing items: input side | S6: MF81
A7: A.1.1 | B7: Crops | C7: MF11 | E7: B.1.1 | F7: Crops, raw and processed | G7: MF11 | I7: C.1.1 | J7: Crops, raw and processed | K7: MF11 | M7: D.1.1 | N7: Carbon dioxide (CO2) | O7: MF711 | R7: Oxygen for combustion processes | S7: MF811
A8: A.1.1.1 | B8: Cereals | C8: MF111 | E8: B.1.1.1 | F8: Cereals | G8: MF111 | I8: C.1.1.1 | J8: Cereals | K8: MF111 | M8: D.1.1.1 | N8: Carbon dioxide (CO2) from biomass combustion | O8: MF7111 | R8: Oxygen for respiration of humans and livestock; bacterial respiration from solid waste and wastewater | S8: MF812
A9: A.1.1.1.1 | B9: Rice | E9: B.1.1.1.1 | F9: Rice | I9: C.1.1.1.1 | J9: Rice | M9: D.1.1.2 | N9: Carbon dioxide (CO2) excluding biomass combustion | O9: MF7112 | R9: Nitrogen for Haber-Bosch process | S9: MF813
A10: A.1.1.1.2 | B10: Wheat | E10: B.1.1.1.2 | F10: Wheat | I10: C.1.1.1.2 | J10: Wheat | M10: D.1.2 | N10: Methane (CH4) | O10: MF712 | R10: Water requirements for the domestic production of exported beverages | S10: MF814
A11: A.1.1.1.3 | B11: Maize | E11: B.1.1.1.3 | F11: Maize | I11: C.1.1.1.3 | J11: Maize | M11: D.1.3 | N11: Dinitrogen oxide (N2O) | O11: MF713 | R11: Balancing items: output side | S11: MF82
A12: A.1.1.1.4 | B12: Cereals n.e.c. | E12: B.1.1.1.4 | F12: Cereals n.e.c. | I12: C.1.1.1.4 | J12: Cereals n.e.c. | M12: D.1.4 | N12: Nitrous oxides (NOx) | O12: MF714 | R12: Water vapour from combustion | S12: MF821
A13: A.1.1.2 | B13: Roots, tubers | C13: MF112 | E13: B.1.1.2 | F13: Roots, tubers | G13: MF112 | I13: C.1.1.2 | J13: Roots, tubers | K13: MF112 | M13: D.1.5 | N13: Hydroflourcarbons (HFCs) | O13: MF715 | R13: Water vapour from moisture content of fuels | S13: MF8211
A14: A.1.1.3 | B14: Sugar crops | C14: MF113 | E14: B.1.1.3 | F14: Sugar crops | G14: MF113 | I14: C.1.1.3 | J14: Sugar crops | K14: MF113 | M14: D.1.6 | N14: Perflourocarbons (PFCs) | O14: MF716 | R14: Water vapour from the oxidized hydrogen components of fuels | S14: MF8212
A15: A.1.1.4 | B15: Pulses | C15: MF114 | E15: B.1.1.4 | F15: Pulses | G15: MF114 | I15: C.1.1.4 | J15: Pulses | K15: MF114 | M15: D.1.7 | N15: Sulphur hexafluoride (SF6) | O15: MF717 | R15: Gases from respiration of humans and livestock (CO2 and H2O), and from bacterial respiration from solid waste and wastewater (H2O) | S15: MF822
A16: A.1.1.5 | B16: Nuts | C16: MF115 | E16: B.1.1.5 | F16: Nuts | G16: MF115 | I16: C.1.1.5 | J16: Nuts | K16: MF115 | M16: D.1.8 | N16: Carbon monoxide (CO) | O16: MF718 | R16: Carbon dioxide (CO2) | S16: MF8221
A17: A.1.1.6 | B17: Oil bearing crops | C17: MF116 | E17: B.1.1.6 | F17: Oil bearing crops | G17: MF116 | I17: C.1.1.6 | J17: Oil bearing crops | K17: MF116 | M17: D.1.9 | N17: Non-methane volatile organic compounds (NMVOC) | O17: MF719 | R17: Water vapour (H2O) | S17: MF8222
A18: A.1.1.7 | B18: Vegetables | C18: MF117 | E18: B.1.1.7 | F18: Vegetables | G18: MF117 | I18: C.1.1.7 | J18: Vegetables | K18: MF117 | M18: D.1.10 | N18: Sulfur dioxide (SO2) | O18: MF71A | R18: Excorporated water from biomass products | S18: MF823
A19: A.1.1.8 | B19: Fruits | C19: MF118 | E19: B.1.1.8 | F19: Fruits | G19: MF118 | I19: C.1.1.8 | J19: Fruits | K19: MF118 | M19: D.1.11 | N19: Ammonia (NH3) | O19: MF71B
A20: A.1.1.9 | B20: Fibres | C20: MF119 | E20: B.1.1.9 | F20: Fibres | G20: MF119 | I20: C.1.1.9 | J20: Fibres | K20: MF119 | M20: D.1.12 | N20: Heavy metals | O20: MF71C
A21: A.1.1.10 | B21: Spice, beverage, pharmaceutical crops | E21: B.1.1.10 | F21: Spice, beverage, pharmaceutical crops | I21: C.1.1.10 | J21: Spice, beverage, pharmaceutical crops | M21: D.1.13 | N21: Persistent organic pollutants (POPs) | O21: MF71D
A22: A.1.1.11 | B22: Tobacco | E22: B.1.1.11 | F22: Tobacco | I22: C.1.1.11 | J22: Tobacco | M22: D.1.14 | N22: Particles (e.g. PM10, Dust) | O22: MF71E
A23: A.1.1.12 | B23: Other crops n.e.c. | C23: MF11A | E23: B.1.1.12 | F23: Other crops n.e.c. | G23: MF11A | I23: C.1.1.12 | J23: Other crops n.e.c. | K23: MF11A | M23: D.1.15 | N23: Other emissions to air | O23: MF71F
A24: A.1.2 | B24: Crop residues (used), fodder crops, grazed biomass | C24: MF12 | E24: B.1.2 | F24: Crop residues (used) and fodder crops | I24: C.1.2 | J24: Crop residues (used) and fodder crops | M24: D.2 | N24: WASTE LANDFILLED (UNCONTROLLED) | O24: MF72
A25: A.1.2.1 | B25: Straw | C25: MF1211 | E25: B.1.2.1 | F25: Straw | G25: MF1211 | I25: C.1.2.1 | J25: Straw | K25: MF1211 | M25: D.2.1 | N25: Municipal waste (uncontrolled) | O25: MF721
A26: A.1.2.2 | B26: Other crop residues (sugar and fodder beet leaves, other) | C26: MF1212 | E26: B.1.2.2 | F26: Other crop residues (sugar and fodder beet leaves, other) | G26: MF1212 | I26: C.1.2.2 | J26: Other crop residues (sugar and fodder beet leaves, other) | K26: MF1212 | M26: D.2.2 | N26: Industrial waste (uncontrolled) | O26: MF722
A27: A.1.2.3 | B27: Fodder crops (including biomass harvest from grassland) | C27: MF1221 | E27: B.1.2.3 | F27: Fodder crops (including biomass harvest from grassland) | G27: MF1221 | I27: C.1.2.3 | J27: Fodder crops (including biomass harvest from grassland) | K27: MF1221 | N27: Waste disposal to controlled landfills (memo item) | O27: MEMO_MF721 + MEMO_MF722
A28: A.1.2.4 | B28: Grazed biomass | C28: MF1222 | E28: B.1.3 | F28: Wood and wood products | G28: MF13 | I28: C.1.3 | J28: Wood and wood products | K28: MF13 | M28: D.3 | N28: EMISSIONS TO WATER | O28: MF73
A29: A.1.3 | B29: Wood | C29: MF13 | E29: B.1.3.1 | F29: Timber (Industrial roundwood) | G29: MF131 | I29: C.1.3.1 | J29: Timber (Industrial roundwood) | K29: MF131 | M29: D.3.1 | N29: Nitrogen (N) | O29: MF731
A30: A.1.3.1 | B30: Timber (Industrial roundwood) | C30: MF131 | E30: B.1.3.2 | F30: Wood fuel and other extraction | G30: MF132 | I30: C.1.3.2 | J30: Wood fuel and other extraction | K30: MF132 | M30: D.3.2 | N30: Phosphorus (P) | O30: MF732
A31: A.1.3.2 | B31: Wood fuel and other extraction | C31: MF132 | E31: B.1.4 | F31: Wild fish, aquatic animals and plants | I31: C.1.4 | J31: Wild fish, aquatic animals and plants | M31: D.3.3 | N31: Heavy metals | O31: MF733
A32: A.1.4 | B32: Wild harvest n.e.c. | C32: MF14 | E32: B.1.4.1 | F32: Wild fish catch | G32: MF141 | I32: C.1.4.1 | J32: Wild fish catch | K32: MF141 | M32: D.3.4 | N32: Other substances and (organic) materials | O32: MF734
A33: A.1.4.1 | B33: Wild fish catch | C33: MF141 | E33: B.1.4.2 | F33: All other wild aquatic animals | G33: MF142 | I33: C.1.4.2 | J33: All other wild aquatic animals | K33: MF142 | M33: D.3.5 | N33: Dumping of materials at sea | O33: MF735
A34: A.1.4.2 | B34: All other wild aquatic animals catch | C34: MF142 | E34: B.1.4.3 | F34: Aquatic plants | G34: MF142 | I34: C.1.4.3 | J34: Aquatic plants | K34: MF142 | M34: D.4 | N34: DISSIPATIVE USE OF PRODUCTS | O34: MF74
A35: A.1.4.3 | B35: Wild aquatic plant harvest | C35: MF142 | E35: B.1.5 | F35: Live animals and products (exluding wild fish, aquatic animals and plants) | G35: MF15 | I35: C.1.5 | J35: Live animals and products (exluding wild fish, aquatic animals and plants) | K35: MF15 | M35: D.4.1 | N35: Organic fertilizer (manure) | O35: MF741
A36: A.1.4.4 | B36: Wild terrestrial plant harvest n.e.c. (incl. gathering) | C36: MF143 | E36: B.1.5.1 | F36: Live animals (exluding wild fish and animals) | G36: MF151 | I36: C.1.5.1 | J36: Live animals (exluding wild fish and animals) | K36: MF151 | M36: D.4.2 | N36: Mineral fertilizer | O36: MF742
A37: A.1.4.5 | B37: Wild terrestrial animal catch (incl. hunting) | C37: MF143 | E37: B.1.5.2 | F37: Meat and meat preparations | G37: MF152 | I37: C.1.5.2 | J37: Meat and meat preparations | K37: MF152 | M37: D.4.3 | N37: Sewage sludge | O37: MF743
A38: A.2 | B38: METAL ORES | C38: MF2 | E38: B.1.5.3 | F38: Dairy products, birds eggs, and honey | G38: MF153 | I38: C.1.5.3 | J38: Dairy products, birds eggs, and honey | K38: MF153 | M38: D.4.4 | N38: Compost | O38: MF744
A39: A.2.1 | B39: Iron ores | C39: MF21 | E39: B.1.5.4 | F39: Other products from animals | G39: MF154 | I39: C.1.5.4 | J39: Other products from animals | K39: MF154 | M39: D.4.5 | N39: Pesticides | O39: MF745
A40: M.2.Fe | B40: Iron ores metal content (memo item) | E40: B.1.compound | F40: Mixed / compounded products mainly from biomass | G40: M16 | I40: C.1.compound | J40: Mixed / compounded products mainly from biomass | K40: M16 | M40: D.4.6 | N40: Seeds | O40: MF746
A41: A.2.2 | B41: Aluminium ores | C41: MF227 | E41: B.2 | F41: METAL ORES | G41: MF2 | I41: C.2 | J41: METAL ORES | K41: MF2 | M41: D.4.7 | N41: Salt and other thawing materials spread on roads | O41: MF747
...

Sheet Corresp FAO Crop Codes_DE
A1: Correspondence FAO Crop Codes to EW-MFA Codes_Domestic Extraction
A2: This tool is a correspondence table for use when compiling EW-MFA data on Domestic extraction (Table_A), specifically material category A.1.1 Crops. The table shows the conversion from FAO Item Codes for Primary Crops to UNEP EW-MFA codes.
A3: The data on the FAOSTAT website (linked below) can be found by clicking Data > Production > Crops and livestock products. Within the Crops and livestock products, first your respective country needs to be selected, then 'Production Quantity', 'Crops, primary' (with FAO selected on the drop down button to the top right), and the respective years you wish to receive data for.
A4: https://www.fao.org/faostat/en/
A6: FAO Item Name Primary Crops | B6: FAO Item Code | C6: MFA Description | D6: MFA Code
A7: Rice, Paddy | B7: 27 | C7: Rice | D7: A.1.1.1.1
A8: Wheat | B8: 15 | C8: Wheat | D8: A.1.1.1.2
A9: Maize | B9: 56 | C9: Maize | D9: A.1.1.1.3
A10: Barley | B10: 44 | C10: Cereals n.e.c. | D10: A.1.1.1.4
A11: Pop Corn | B11: 68 | C11: Cereals n.e.c. | D11: A.1.1.1.4
A12: Rye | B12: 71 | C12: Cereals n.e.c. | D12: A.1.1.1.4
A13: Oats | B13: 75 | C13: Cereals n.e.c. | D13: A.1.1.1.4
A14: Millet | B14: 79 | C14: Cereals n.e.c. | D14: A.1.1.1.4
A15: Sorghum | B15: 83 | C15: Cereals n.e.c. | D15: A.1.1.1.4
A16: Buckwheat | B16: 89 | C16: Cereals n.e.c. | D16: A.1.1.1.4
A17: Quinoa | B17: 92 | C17: Cereals n.e.c. | D17: A.1.1.1.4
A18: Fonio | B18: 94 | C18: Cereals n.e.c. | D18: A.1.1.1.4
... A178: OTHER RESINS Including inter alia: copaiba, copal (Copaifera spp.); gum tragacanth (some Astragalus spp.); incense (Boswellia spp.); myrrh, opopanax, Mecca balsam (Commiphora spp.); tolu balsam, peru balsam (Myroxilon balsamum; M. Pereira) | B178: 1292 | C178: Other crops n.e.c. | D178: A.1.1.12

Sheet Crop Residues Tool_DE
A1: Calculated totals for Crop Residues - Domestic Extraction
A2: This tool allows users to do estimations for material categories A.1.2.1 Straw and A.1.2.2 Other crop residues (sugar and fodder beet leaves, other). It is adapted from section 2.1.3.3 of the Global Manual on EW-MFA.
A3: Unless the user has an unusually high number of crops which produce residues which are recovered from the field, it should not be necessary for the user to alter any part of the sheet anywhere other than in the gray sections. Within the gray sections, only enter data for crops for which you have crop production figures, and where you have (or can make) reasonable estimates for both Harvest Factor and Recovery Rate. There are two separate gray data entry tables, one for crops which produce straw as residue (typically cereal), and one for others (e.g. those that produce beet tops, sugar cane tops, etc). This reflects the two categories of residues, A.1.2.1 Straw and A.1.2.2 Other crop residues (sugar and fodder beet leaves, other). The final results will be reflected in the blue cells.
A4: To aid in estimating Harvest Factors and Recovery Rates, default values for different World regions have been included in two tables below, along with a table showing the region to which each country belongs in this scheme (all three tables in pink). The data compiler can use the values for each crop given here as a default value, however, it is important that they make use of their knowledge of local conditions. For example, if your country is in East Asia and you want to enter Rice as one of your crops, and the relevant Harvest Factor and Recovery Rate for your region are 1.0 and 0.8 respectively (0.8 from cereals, as there is no specific rice Recovery Rate). However, you may have local knowledge that indicates perhaps 90% of rice residues are actually just burned off (not used as fuel, animal feed, or other use). In that case you should input a Recovery Rate of 0.1 in the appropriate field in the gray area.
A5: Where a specific crop is not listed in the tables, the data compiler should use factors from the most analogous crop in their judgement. Remember: there is no need to enter a crop unless some portion of the crop residues it produces are recovered from the field for further economic use.
A6: There should normally be no need to touch anything in the areas in colors except gray. The final numbers you need for crop residues will be calculated and reported in the Summary section at the top, when the relevant gray fields have been filled out appropriately.
A8: Hints: | C8: Final results; it will be filled in automatically. | G8: Intermediate results; it will be filled in automatically. | M8: * | N8: Find the suggested Harvest Factor below, in pink.
C9: It should be filled in manually. | G9: Reference tables with suggested Harvest Factors and Recovery Rates by region. | M9: ** | N9: Find the suggested Recovery Rate below, in pink.
A11: SUMMARY
A12: Description | B12: Unit | C12: Material category | D12: 2010 | E12: 2011 | F12: 2012 | G12: 2013 | H12: 2014 | I12: 2015 | J12: 2016 | K12: 2017 | L12: 2018 | M12: 2019 | N12: 2020 | O12: 2021 | P12: 2022 | Q12: 2023 | R12: 2024 | S12: 2025 | T12: 2026 | U12: 2027 | V12: 2028 | W12: 2029 | X12: 2030
A13: Straw | B13: tonnes | C13: A.1.2.1 | D13: =D52 -> 0 | E13: =E52 -> 0 | F13: =F52 -> 0 | G13: =G52 -> 0 | H13: =H52 -> 0 | I13: =I52 -> 0 | J13: =J52 -> 0 | K13: =K52 -> 0 | ... X13: =X52 -> 0
A14: Other crop residues (sugar and fodder beet leaves, other) | B14: tonnes | C14: A.1.2.2 | D14: =D90 -> 0 | E14: =E90 -> 0 | F14: =F90 -> 0 | G14: =G90 -> 0 | H14: =H90 -> 0 | I14: =I90 -> 0 | J14: =J90 -> 0 | K14: =K90 -> 0 | ... X14: =X90 -> 0
A17: STRAW PRIMARY CROP HARVEST BY YEAR (tonnes)
A18: Crop | B18: Harvest Factor* | C18: Recovery Rate** | D18: 2010 | E18: 2011 | F18: 2012 | G18: 2013 | H18: 2014 | I18: 2015 | J18: 2016 | K18: 2017 | L18: 2018 | M18: 2019 | N18: 2020 | O18: 2021 | P18: 2022 | Q18: 2023 | R18: 2024 | S18: 2025 | T18: 2026 | U18: 2027 | V18: 2028 | W18: 2029 | X18: 2030
A19: Maize | B19: 3 | C19: 0.8
A20: Millet | B20: 3 | C20: 0.8
A21: Sorghum | B21: 3 | C21: 0.8
A22: E.g. Straw Crop 4
A23: E.g. Straw Crop 5
A24: E.g. Straw Crop 6
A25: E.g. Straw Crop 7
A26: E.g. Straw Crop 8
A27: E.g. Straw Crop 9
A28: E.g. Straw Crop 10
A29: E.g. Straw Crop 11
A30: E.g. Straw Crop 12
A31: E.g. Straw Crop 13
A32: E.g. Straw Crop 14
A33: ...E.g. Straw Crop x
A35: STRAW USED CROP RESIDUES BY YEAR (tonnes)
A36: Crop | D36: 2010 | E36: 2011 | F36: 2012 | G36: 2013 | H36: 2014 | I36: 2015 | J36: 2016 | K36: 2017 | L36: 2018 | M36: 2019 | N36: 2020 | O36: 2021 | P36: 2022 | Q36: 2023 | R36: 2024 | S36: 2025 | T36: 2026 | U36: 2027 | V36: 2028 | W36: 2029 | X36: 2030
A37: =A19 -> Maize | D37: =$B19*$C19*D19 -> 0 | E37: =$B19*$C19*E19 -> 0 | F37: =$B19*$C19*F19 -> 0 | G37: =$B19*$C19*G19 -> 0 | H37: =$B19*$C19*H19 -> 0 | I37: =$B19*$C19*I19 -> 0 | J37: =$B19*$C19*J19 -> 0 | K37: =$B19*$C19*K19 -> 0 | ... X37: =$B19*$C19*X19 -> 0
A38: =A20 -> Millet | D38: =$B20*$C20*D20 -> 0 | E38: =$B20*$C20*E20 -> 0 | F38: =$B20*$C20*F20 -> 0 | G38: =$B20*$C20*G20 -> 0 | H38: =$B20*$C20*H20 -> 0 | I38: =$B20*$C20*I20 -> 0 | J38: =$B20*$C20*J20 -> 0 | K38: =$B20*$C20*K20 -> 0 | ... X38: =$B20*$C20*X20 -> 0
A39: =A21 -> Sorghum | D39: =$B21*$C21*D21 -> 0 | E39: =$B21*$C21*E21 -> 0 | F39: =$B21*$C21*F21 -> 0 | G39: =$B21*$C21*G21 -> 0 | H39: =$B21*$C21*H21 -> 0 | I39: =$B21*$C21*I21 -> 0 | J39: =$B21*$C21*J21 -> 0 | K39: =$B21*$C21*K21 -> 0 | ... X39: =$B21*$C21*X21 -> 0
A40: =A22 -> E.g. Straw Crop 4 | D40: =$B22*$C22*D22 -> 0 | E40: =$B22*$C22*E22 -> 0 | F40: =$B22*$C22*F22 -> 0 | G40: =$B22*$C22*G22 -> 0 | H40: =$B22*$C22*H22 -> 0 | I40: =$B22*$C22*I22 -> 0 | J40: =$B22*$C22*J22 -> 0 | K40: =$B22*$C22*K22 -> 0 | ... X40: =$B22*$C22*X22 -> 0
A41: =A23 -> E.g. Straw Crop 5 | D41: =$B23*$C23*D23 -> 0 | E41: =$B23*$C23*E23 -> 0 | F41: =$B23*$C23*F23 -> 0 | G41: =$B23*$C23*G23 -> 0 | H41: =$B23*$C23*H23 -> 0 | I41: =$B23*$C23*I23 -> 0 | J41: =$B23*$C23*J23 -> 0 | K41: =$B23*$C23*K23 -> 0 | ... X41: =$B23*$C23*X23 -> 0
A42: =A24 -> E.g. Straw Crop 6 | D42: =$B24*$C24*D24 -> 0 | E42: =$B24*$C24*E24 -> 0 | F42: =$B24*$C24*F24 -> 0 | G42: =$B24*$C24*G24 -> 0 | H42: =$B24*$C24*H24 -> 0 | I42: =$B24*$C24*I24 -> 0 | J42: =$B24*$C24*J24 -> 0 | K42: =$B24*$C24*K24 -> 0 | ... X42: =$B24*$C24*X24 -> 0
A43: =A25 -> E.g. Straw Crop 7 | D43: =$B25*$C25*D25 -> 0 | E43: =$B25*$C25*E25 -> 0 | F43: =$B25*$C25*F25 -> 0 | G43: =$B25*$C25*G25 -> 0 | H43: =$B25*$C25*H25 -> 0 | I43: =$B25*$C25*I25 -> 0 | J43: =$B25*$C25*J25 -> 0 | K43: =$B25*$C25*K25 -> 0 | ... X43: =$B25*$C25*X25 -> 0
A44: =A26 -> E.g. Straw Crop 8 | D44: =$B26*$C26*D26 -> 0 | E44: =$B26*$C26*E26 -> 0 | F44: =$B26*$C26*F26 -> 0 | G44: =$B26*$C26*G26 -> 0 | H44: =$B26*$C26*H26 -> 0 | I44: =$B26*$C26*I26 -> 0 | J44: =$B26*$C26*J26 -> 0 | K44: =$B26*$C26*K26 -> 0 | ... X44: =$B26*$C26*X26 -> 0
A45: =A27 -> E.g. Straw Crop 9 | D45: =$B27*$C27*D27 -> 0 | E45: =$B27*$C27*E27 -> 0 | F45: =$B27*$C27*F27 -> 0 | G45: =$B27*$C27*G27 -> 0 | H45: =$B27*$C27*H27 -> 0 | I45: =$B27*$C27*I27 -> 0 | J45: =$B27*$C27*J27 -> 0 | K45: =$B27*$C27*K27 -> 0 | ... X45: =$B27*$C27*X27 -> 0
...

Sheet Grazed Biomass Tool_DE
A1: Calculated totals for Grazed Biomass - Domestic Extraction
A2: This tool allows users to do estimations for material category A.1.2.4 Grazed biomass. It is adapted from Estimation method A of section 2.1.3.4 of the Global Manual on EW-MFA.
A3: To aid in estimating roughage intake, default values for different World regions have been included in a table below, along with a table showing the region to which each country belongs in this scheme (both tables in pink). The data compiler can use the values for each animal type given here as a default value, however it is important that they make use of their knowledge of local conditions.
A4: For example, If your country is in East Asia, and you want to enter Buffalo as one of your grazing animals, then the relevant Roughage intake (tonnes/head/year) will be 4.1. However, you may have local knowledge that indicates 70% of the roughage intake for Buffalo is actually brought to them already cut, and that they do little free grazing. In that case, the grazed biomass intake should be reduced by 70% (enter 30 into the '% of roughage intake from grazing' field). Far better is if the compiler can source direct estimates of how much animals graze locally (perhaps from universities or agricultural institutions). In that case, the data would be entered directly as the Roughage intake (tonnes/head/year), with the corresponding '% of roughage intake from grazing' field set to 100.
A5: Where a specific grazing animal is not listed in the tables, the data compiler should use factors from the most analogous animal in their judgement. Remember: there is no need to enter an animal herd unless it derives some of its food requirements from direct grazing/browsing in the field.
A6: There should normally be no need to touch anything in the areas in colors except gray. The final numbers you need for grazed biomass will be calculated and reported in the Summary section at the top, when the relevant gray fields have been filled out appropriately.
A8: Hints: | C8: Final results; it will be filled in automatically. | G8: Intermediate results; it will be filled in automatically.
C9: It should be filled in manually. | G9: Reference table with suggested Roughage intake by region. | M9: * | N9: Find the suggested Roughage intake below, in pink.
A11: SUMMARY
A12: Description | B12: Unit | C12: Material category | D12: 2010 | E12: 2011 | F12: 2012 | G12: 2013 | H12: 2014 | I12: 2015 | J12: 2016 | K12: 2017 | L12: 2018 | M12: 2019 | N12: 2020 | O12: 2021 | P12: 2022 | Q12: 2023 | R12: 2024 | S12: 2025 | T12: 2026 | U12: 2027 | V12: 2028 | W12: 2029 | X12: 2030
A13: Grazed biomass | B13: tonnes | C13: A.1.2.4 | D13: =D51 -> 0 | E13: =E51 -> 0 | F13: =F51 -> 0 | G13: =G51 -> 0 | H13: =H51 -> 0 | I13: =I51 -> 0 | J13: =J51 -> 0 | K13: =K51 -> 0 | ... X13: =X51 -> 0
A16: GRAZING LIVESTOCK (NUMBER OF ANIMALS)
A17: Animal type | B17: Roughage intake (t/head/y)* | C17: % of roughage intake from grazing | D17: 2010 | E17: 2011 | F17: 2012 | G17: 2013 | H17: 2014 | I17: 2015 | J17: 2016 | K17: 2017 | L17: 2018 | M17: 2019 | N17: 2020 | O17: 2021 | P17: 2022 | Q17: 2023 | R17: 2024 | S17: 2025 | T17: 2026 | U17: 2027 | V17: 2028 | W17: 2029 | X17: 2030
A18: E.g. Animal type 1
A19: E.g. Animal type 2
A20: E.g. Animal type 3
A21: E.g. Animal type 4
A22: E.g. Animal type 5
A23: E.g. Animal type 6
A24: E.g. Animal type 7
A25: E.g. Animal type 8
A26: E.g. Animal type 9
A27: E.g. Animal type 10
A28: E.g. Animal type 11
A29: E.g. Animal type 12
... A34: DEMAND FOR GRAZED BIOMASS BY ANIMAL TYPE (t at 15% mc)
A35: Animal type | D35: 2010 | E35: 2011 | F35: 2012 | G35: 2013 | H35: 2014 | I35: 2015 | J35: 2016 | K35: 2017 | L35: 2018 | M35: 2019 | N35: 2020 | O35: 2021 | P35: 2022 | Q35: 2023 | R35: 2024 | S35: 2025 | T35: 2026 | U35: 2027 | V35: 2028 | W35: 2029 | X35: 2030
A36: =A18 -> E.g. Animal type 1 | D36: =$B18*D18*$C18 -> 0 | E36: =$B18*E18*$C18 -> 0 | F36: =$B18*F18*$C18 -> 0 | G36: =$B18*G18*$C18 -> 0 | H36: =$B18*H18*$C18 -> 0 | I36: =$B18*I18*$C18 -> 0 | J36: =$B18*J18*$C18 -> 0 | K36: =$B18*K18*$C18 -> 0 | ... X36: =$B18*X18*$C18 -> 0
A37: =A19 -> E.g. Animal type 2 | D37: =$B19*D19*$C19 -> 0 | E37: =$B19*E19*$C19 -> 0 | F37: =$B19*F19*$C19 -> 0 | G37: =$B19*G19*$C19 -> 0 | H37: =$B19*H19*$C19 -> 0 | I37: =$B19*I19*$C19 -> 0 | J37: =$B19*J19*$C19 -> 0 | K37: =$B19*K19*$C19 -> 0 | ... X37: =$B19*X19*$C19 -> 0
A38: =A20 -> E.g. Animal type 3 | D38: =$B20*D20*$C20 -> 0 | E38: =$B20*E20*$C20 -> 0 | F38: =$B20*F20*$C20 -> 0 | G38: =$B20*G20*$C20 -> 0 | H38: =$B20*H20*$C20 -> 0 | I38: =$B20*I20*$C20 -> 0 | J38: =$B20*J20*$C20 -> 0 | K38: =$B20*K20*$C20 -> 0 | ... X38: =$B20*X20*$C20 -> 0
A39: =A21 -> E.g. Animal type 4 | D39: =$B21*D21*$C21 -> 0 | E39: =$B21*E21*$C21 -> 0 | F39: =$B21*F21*$C21 -> 0 | G39: =$B21*G21*$C21 -> 0 | H39: =$B21*H21*$C21 -> 0 | I39: =$B21*I21*$C21 -> 0 | J39: =$B21*J21*$C21 -> 0 | K39: =$B21*K21*$C21 -> 0 | ... X39: =$B21*X21*$C21 -> 0
A40: =A22 -> E.g. Animal type 5 | D40: =$B22*D22*$C22 -> 0 | E40: =$B22*E22*$C22 -> 0 | F40: =$B22*F22*$C22 -> 0 | G40: =$B22*G22*$C22 -> 0 | H40: =$B22*H22*$C22 -> 0 | I40: =$B22*I22*$C22 -> 0 | J40: =$B22*J22*$C22 -> 0 | K40: =$B22*K22*$C22 -> 0 | ... X40: =$B22*X22*$C22 -> 0
A41: =A23 -> E.g. Animal type 6 | D41: =$B23*D23*$C23 -> 0 | E41: =$B23*E23*$C23 -> 0 | F41: =$B23*F23*$C23 -> 0 | G41: =$B23*G23*$C23 -> 0 | H41: =$B23*H23*$C23 -> 0 | I41: =$B23*I23*$C23 -> 0 | J41: =$B23*J23*$C23 -> 0 | K41: =$B23*K23*$C23 -> 0 | ... X41: =$B23*X23*$C23 -> 0
A42: =A24 -> E.g. Animal type 7 | D42: =$B24*D24*$C24 -> 0 | E42: =$B24*E24*$C24 -> 0 | F42: =$B24*F24*$C24 -> 0 | G42: =$B24*G24*$C24 -> 0 | H42: =$B24*H24*$C24 -> 0 | I42: =$B24*I24*$C24 -> 0 | J42: =$B24*J24*$C24 -> 0 | K42: =$B24*K24*$C24 -> 0 | ... X42: =$B24*X24*$C24 -> 0
A43: =A25 -> E.g. Animal type 8 | D43: =$B25*D25*$C25 -> 0 | E43: =$B25*E25*$C25 -> 0 | F43: =$B25*F25*$C25 -> 0 | G43: =$B25*G25*$C25 -> 0 | H43: =$B25*H25*$C25 -> 0 | I43: =$B25*I25*$C25 -> 0 | J43: =$B25*J25*$C25 -> 0 | K43: =$B25*K25*$C25 -> 0 | ... X43: =$B25*X25*$C25 -> 0
A44: =A26 -> E.g. Animal type 9 | D44: =$B26*D26*$C26 -> 0 | E44: =$B26*E26*$C26 -> 0 | F44: =$B26*F26*$C26 -> 0 | G44: =$B26*G26*$C26 -> 0 | H44: =$B26*H26*$C26 -> 0 | I44: =$B26*I26*$C26 -> 0 | J44: =$B26*J26*$C26 -> 0 | K44: =$B26*K26*$C26 -> 0 | ... X44: =$B26*X26*$C26 -> 0
A45: =A27 -> E.g. Animal type 10 | D45: =$B27*D27*$C27 -> 0 | E45: =$B27*E27*$C27 -> 0 | F45: =$B27*F27*$C27 -> 0 | G45: =$B27*G27*$C27 -> 0 | H45: =$B27*H27*$C27 -> 0 | I45: =$B27*I27*$C27 -> 0 | J45: =$B27*J27*$C27 -> 0 | K45: =$B27*K27*$C27 -> 0 | ... X45: =$B27*X27*$C27 -> 0
A46: =A28 -> E.g. Animal type 11 | D46: =$B28*D28*$C28 -> 0 | E46: =$B28*E28*$C28 -> 0 | F46: =$B28*F28*$C28 -> 0 | G46: =$B28*G28*$C28 -> 0 | H46: =$B28*H28*$C28 -> 0 | I46: =$B28*I28*$C28 -> 0 | J46: =$B28*J28*$C28 -> 0 | K46: =$B28*K28*$C28 -> 0 | ... X46: =$B28*X28*$C28 -> 0
A47: =A29 -> E.g. Animal type 12 | D47: =$B29*D29*$C29 -> 0 | E47: =$B29*E29*$C29 -> 0 | F47: =$B29*F29*$C29 -> 0 | G47: =$B29*G29*$C29 -> 0 | H47: =$B29*H29*$C29 -> 0 | I47: =$B29*I29*$C29 -> 0 | J47: =$B29*J29*$C29 -> 0 | K47: =$B29*K29*$C29 -> 0 | ... X47: =$B29*X29*$C29 -> 0
... A50: =A32 -> ...E.g. Animal type x | D50: =$B32*D32*$C32 -> 0 | E50: =$B32*E32*$C32 -> 0 | F50: =$B32*F32*$C32 -> 0 | G50: =$B32*G32*$C32 -> 0 | H50: =$B32*H32*$C32 -> 0 | I50: =$B32*I32*$C32 -> 0 | J50: =$B32*J32*$C32 -> 0 | K50: =$B32*K32*$C32 -> 0 | ... X50: =$B32*X32*$C32 -> 0
...

Sheet ConvFact Wood_DE
A1: Conversion Factors Wood - Domestic Extraction
A2: This tool allows users to convert volume measures of wood to weight measures, as required for the reporting of the EW-MFA material categories A.1.3.1 Timber (Industrial roundwood) and A.1.3.2 Wood fuel and other extraction. The default conversion factors are adapted from Table 2.7 of the Global Manual on EW-MFA.
A3: Wood is usually reported in terms of volume rather than weight. Units used are stacked (or piled) cubic metres and solid cubic metres (scm). One stacked cubic metre is considered equal 0.70 solid cubic metres. The extraction of wood is reported in forestry statistics which usually differentiate between coniferous and non-coniferous wood.
A4: To calculate the weight of wood in tonnes at 15% moisture content (t at 15% mc) using the conversion factors for coniferous and non-coniferous wood, a user should just enter the real value in solid cubic metres under the "Input (scm)" column. The appropriate conversions will be shown under the "Output (t at 15% mc)" column. The user should not have any reason to alter any columns in the existing table apart from the input column.
A6: Hints: | C6: Final results; it will be filled in automatically. | G6: Default conversion factors.
C7: It should be filled in manually.
B10: Density [t at 15% mc/scm] | C10: Input (scm) | D10: Output (t at 15% mc)
A11: Coniferous | B11: 0.52 | D11: =B11*C11 -> 0
A12: Non-coniferous | B12: 0.68 | D12: =B12*C12 -> 0
A13: EU25 average (80% coniferous) | B13: 0.55 | D13: =B13*C13 -> 0
A14: Source: Based on factors used in IPCC greenhouse gas inventories (IPCC, 2003).

Sheet Metal Ores Tool 1_DE
A1: Calculated totals for Metal Ores - Mined Ores
A2: This is a support tool for National Statistical Offices (NSOs) to compile accounts on mined metal ores. The main description of the EW-MFA practice for recording metal ores production is provided in section 2.2 of the Global Manual on EW-MFA.
A4: Hints: | C4: It should be filled in manually. | G4: Reference tables.
A7: Mined ore data: EXAMPLE | I7: MINED ORES | K7: Conversion factors for metal compound grades to a metal-only basis (examples)
A8: Ore_Stream_ID | B8: Year | C8: ROM Ore (tonnes) | D8: Ore type | E8: Metal | F8: ROM Grade (ppm) | G8: Waste rock (tonnes) | I8: Ore_Stream_ID | M8: Element 1 | N8: Element 2
A9: Iron Mine A | B9: 2015 | C9: 25000000 | D9: A.2.1 | E9: M.2.Fe | F9: 580000 | G9: 62500000 | I9: This is simply an identifier field used to identify individual ore streams. In the simplest and most common cases, the Ore_Stream_ID should correspond to one mine or individual ore deposit’s output for a year, however where the output from several mines cannot be separated, one Ore_Stream_ID may be used to cover all. Alternatively, where one mine has multiple significantly different ore streams, different Ore_Stream_ID names should be used to identify each, especially where their processing or stockpiling fate differs. | M9: Al | N9: O
A10: Desert Mine A1 | B10: 2015 | C10: 10000000 | D10: A.2.1 | E10: M.2.Fe | F10: 570000 | G10: 13000000 | I10: Year | K10: Al2O3 | L10: Atomic Weight | M10: 26.982 | N10: 15.999
A11: Desert Mine A2 | B11: 2015 | C11: 7000000 | D11: A.2.1 | E11: M.2.Fe | F11: 470000 | G11: 21000000 | I11: This is the year for which the recorded data applies. | L11: Atoms | M11: 2 | N11: 3
A12: Weipa A | B12: 2015 | C12: 18000000 | D12: A.2.2 | E12: M.2.Al | F12: 200000 | G12: 27000000 | I12: ROM Ore (tonnes) | L12: Total Wt. | M12: =M10*M11 -> 53.964 | N12: =N10*N11 -> 47.997
A13: AlMine | B13: 2015 | C13: 10000000 | D13: A.2.2 | E13: M.2.Al | F13: 170000 | G13: 21000000 | I13: The estimated total tonnage of Run of Mine (ROM) ore extracted via one Ore_Stream_ID for the relevant year. | L13: Weight fraction | M13: =M12/(M12+N12) -> 0.52926119 | N13: =N12/(M12+N12) -> 0.47073881
A14: Bonanza A | B14: 2015 | C14: 25000000 | D14: A.2.3 | E14: M.2.Cu | F14: 5000 | G14: 1.025e+08 | I14: Ore type | M14: Cr | N14: O
A15: Bonanza A | B15: 2015 | C15: 25000000 | D15: A.2.3 | E15: M.2.Au | F15: 0.9 | G15: 1.025e+08 | I15: This is the ID code of the EW-MFA material category, i.e. one of A.2.1, A.2.2, or A.2.3, for Iron ores, Aluminium ores, or Other metal ores respectively. | K15: Cr2O3 | L15: Atomic Weight | M15: 51.996 | N15: 15.999
A16: Bonanza A | B16: 2015 | C16: 25000000 | D16: A.2.3 | E16: M.2.Ag | F16: 5 | G16: 1.025e+08 | I16: Metal | L16: Atoms | M16: 2 | N16: 3
