Workbook

Sheet Table 1_Budget Summary
A1: Special Programme Trust Fund: Project Application Form II - Project Budget
B3: Budget Summary (refer to application guidelines Pages 25 - 29)
B5: TYPE OF FUNDING | C5: SOURCE OF FUNDING | D5: Year 1 | E5: Year 2 | F5: Total
B6: SPTF | C6: Special Programme Trust Fund (SPTF) | D6: =SUM('Table 2_SP TF budget'!E40,'Table 2_SP TF budget'!H40,'Table 2_SP TF budget'!K40,'Table 2_SP TF budget'!N40,'Table 2_SP TF budget'!Q40) -> 0 | E6: =SUM('Table 2_SP TF budget'!F40,'Table 2_SP TF budget'!I40,'Table 2_SP TF budget'!L40,'Table 2_SP TF budget'!O40,'Table 2_SP TF budget'!R40) -> 0 | F6: =SUM(D6:E6) -> 0
C7: TOTAL SPTF BUDGET | D7: =SUM(D6) -> 0 | E7: =SUM(E6) -> 0 | F7: =SUM(F6) -> 0
B8: BENEFICIARY CONTRIBUTION | C8: Beneficiary contribution | D8: =SUM('Table 3_Beneficiary contr'!D14,'Table 3_Beneficiary contr'!F14,'Table 3_Beneficiary contr'!H14,'Table 3_Beneficiary contr'!J14) -> 0 | E8: =SUM('Table 3_Beneficiary contr'!E14,'Table 3_Beneficiary contr'!G14,'Table 3_Beneficiary contr'!I14,'Table 3_Beneficiary contr'!K14) -> 0 | F8: =SUM(D8:E8) -> 0
C9: Other (include name of donor) | F9: =SUM(D9:E9) -> 0
C10: TOTAL IN-KIND BUDGET | D10: =SUM(D8:D9) -> 0 | E10: =SUM(E8:E9) -> 0 | F10: =SUM(F8:F9) -> 0
B11: TOTAL | D11: =D7+D10 -> 0
C12: TOTAL PROJECT BUDGET | D12: =SUM(D10,D7) -> 0 | E12: =SUM(E10,E7) -> 0 | F12: =SUM(F10,F7) -> 0

Sheet Table 2_SP TF budget
A1: Special Programme Trust Fund: Project Application Form II - Project Budget
A2: Project Title:
A5: Sponsor | B5: Project Output | C5: Activity No. | D5: Activities | E5: Staff and Other Personnel Costs (FT30_010) | H5: Contractual Services 1 (FT30_120) | K5: Equipment 2 (FT30_135) | N5: Implementing partners (FT30_135) | Q5: Travel (FT30_160) | T5: Grand Total | U5: Cross checking total
A6: Special Programme Trust Fund (SPTF) | E6: Year 1 | F6: Year 2 | G6: Total | H6: Year 1 | I6: Year 2 | J6: Total | K6: Year 1 | L6: Year 2 | M6: Total | N6: Year 1 | O6: Year 2 | P6: Total | Q6: Year 1 | R6: Year 2 | S6: Total
B7: Proposed Measure 1:
C8: 1.1 | D8: Inception workshop | G8: =SUM(E8:F8) -> 0 | J8: =SUM(H8:I8) -> 0 | M8: =SUM(K8:L8) -> 0 | P8: =SUM(N8:O8) -> 0 | S8: =SUM(Q8:R8) -> 0 | T8: =SUM(G8,J8,M8,S8,P8) -> 0
C9: 1.2 | G9: =SUM(E9:F9) -> 0 | J9: =SUM(H9:I9) -> 0 | M9: =SUM(K9:L9) -> 0 | P9: =SUM(N9:O9) -> 0 | S9: =SUM(Q9:R9) -> 0 | T9: =SUM(G9,J9,M9,S9,P9) -> 0
C10: 1.3 | G10: =SUM(E10:F10) -> 0 | J10: =SUM(H10:I10) -> 0 | M10: =SUM(K10:L10) -> 0 | P10: =SUM(N10:O10) -> 0 | S10: =SUM(Q10:R10) -> 0 | T10: =SUM(G10,J10,M10,S10,P10) -> 0
C11: 1.4 | G11: =SUM(E11:F11) -> 0 | J11: =SUM(H11:I11) -> 0 | M11: =SUM(K11:L11) -> 0 | P11: =SUM(N11:O11) -> 0 | S11: =SUM(Q11:R11) -> 0 | T11: =SUM(G11,J11,M11,S11,P11) -> 0
B12: Sub-total for Proposed Measure 1 | E12: =SUM(E8:E11) -> 0 | F12: =SUM(F8:F11) -> 0 | G12: =SUM(G8:G11) -> 0 | H12: =SUM(H8:H11) -> 0 | I12: =SUM(I8:I11) -> 0 | J12: =SUM(J8:J11) -> 0 | K12: =SUM(K8:K11) -> 0 | L12: =SUM(L8:L11) -> 0 | ... T12: =SUM(T8:T11) -> 0 | U12: =SUM(S12,P12,M12,J12,G12) -> 0
B13: Proposed Measure 2:
C14: 2.1 | G14: =SUM(E14:F14) -> 0 | J14: =SUM(H14:I14) -> 0 | M14: =SUM(K14:L14) -> 0 | P14: =SUM(N14:O14) -> 0 | S14: =SUM(Q14:R14) -> 0 | T14: =SUM(G14,J14,M14,S14,P14) -> 0
C15: 2.2 | G15: =SUM(E15:F15) -> 0 | J15: =SUM(H15:I15) -> 0 | M15: =SUM(K15:L15) -> 0 | P15: =SUM(N15:O15) -> 0 | S15: =SUM(Q15:R15) -> 0 | T15: =SUM(G15,J15,M15,S15,P15) -> 0
C16: 2.3 | G16: =SUM(E16:F16) -> 0 | J16: =SUM(H16:I16) -> 0 | M16: =SUM(K16:L16) -> 0 | P16: =SUM(N16:O16) -> 0 | S16: =SUM(Q16:R16) -> 0 | T16: =SUM(G16,J16,M16,S16,P16) -> 0
C17: 2.4 | G17: =SUM(E17:F17) -> 0 | J17: =SUM(H17:I17) -> 0 | M17: =SUM(K17:L17) -> 0 | P17: =SUM(N17:O17) -> 0 | S17: =SUM(Q17:R17) -> 0 | T17: =SUM(G17,J17,M17,S17,P17) -> 0
B18: Sub-total for Proposed Measure 2 | E18: =SUM(E14:E17) -> 0 | F18: =SUM(F14:F17) -> 0 | G18: =SUM(G14:G17) -> 0 | H18: =SUM(H14:H17) -> 0 | I18: =SUM(I14:I17) -> 0 | J18: =SUM(J14:J17) -> 0 | K18: =SUM(K14:K17) -> 0 | L18: =SUM(L14:L17) -> 0 | ... T18: =SUM(T14:T17) -> 0 | U18: =SUM(S18,P18,M18,J18,G18) -> 0
B19: Proposed Measure 3:
C20: 3.1 | G20: =SUM(E20:F20) -> 0 | J20: =SUM(H20:I20) -> 0 | M20: =SUM(K20:L20) -> 0 | P20: =SUM(N20:O20) -> 0 | S20: =SUM(Q20:R20) -> 0 | T20: =SUM(G20,J20,M20,S20,P20) -> 0
C21: 3.2 | G21: =SUM(E21:F21) -> 0 | J21: =SUM(H21:I21) -> 0 | M21: =SUM(K21:L21) -> 0 | P21: =SUM(N21:O21) -> 0 | S21: =SUM(Q21:R21) -> 0 | T21: =SUM(G21,J21,M21,S21,P21) -> 0
C22: 3.3 | G22: =SUM(E22:F22) -> 0 | J22: =SUM(H22:I22) -> 0 | M22: =SUM(K22:L22) -> 0 | P22: =SUM(N22:O22) -> 0 | S22: =SUM(Q22:R22) -> 0 | T22: =SUM(G22,J22,M22,S22,P22) -> 0
C23: 3.4 | G23: =SUM(E23:F23) -> 0 | J23: =SUM(H23:I23) -> 0 | M23: =SUM(K23:L23) -> 0 | P23: =SUM(N23:O23) -> 0 | S23: =SUM(Q23:R23) -> 0 | T23: =SUM(G23,J23,M23,S23,P23) -> 0
B24: Sub-total for Proposed Measure 3 | E24: =SUM(E20:E23) -> 0 | F24: =SUM(F20:F23) -> 0 | G24: =SUM(G20:G23) -> 0 | H24: =SUM(H20:H23) -> 0 | I24: =SUM(I20:I23) -> 0 | J24: =SUM(J20:J23) -> 0 | K24: =SUM(K20:K23) -> 0 | L24: =SUM(L20:L23) -> 0 | ... T24: =SUM(T20:T23) -> 0 | U24: =SUM(S24,P24,M24,J24,G24) -> 0
B25: Proposed Measure 4:
C26: 4.1 | G26: =SUM(E26:F26) -> 0 | J26: =SUM(H26:I26) -> 0 | M26: =SUM(K26:L26) -> 0 | P26: =SUM(N26:O26) -> 0 | S26: =SUM(Q26:R26) -> 0 | T26: =SUM(G26,J26,M26,S26,P26) -> 0
C27: 4.2 | G27: =SUM(E27:F27) -> 0 | J27: =SUM(H27:I27) -> 0 | M27: =SUM(K27:L27) -> 0 | P27: =SUM(N27:O27) -> 0 | S27: =SUM(Q27:R27) -> 0 | T27: =SUM(G27,J27,M27,S27,P27) -> 0
C28: 4.3 | G28: =SUM(E28:F28) -> 0 | J28: =SUM(H28:I28) -> 0 | M28: =SUM(K28:L28) -> 0 | P28: =SUM(N28:O28) -> 0 | S28: =SUM(Q28:R28) -> 0 | T28: =SUM(G28,J28,M28,S28,P28) -> 0
C29: 4.4 | G29: =SUM(E29:F29) -> 0 | J29: =SUM(H29:I29) -> 0 | M29: =SUM(K29:L29) -> 0 | P29: =SUM(N29:O29) -> 0 | S29: =SUM(Q29:R29) -> 0 | T29: =SUM(G29,J29,M29,S29,P29) -> 0
B30: Sub-total for Proposed Measure 4 | E30: =SUM(E26:E29) -> 0 | F30: =SUM(F26:F29) -> 0 | G30: =SUM(G26:G29) -> 0 | H30: =SUM(H26:H29) -> 0 | I30: =SUM(I26:I29) -> 0 | J30: =SUM(J26:J29) -> 0 | K30: =SUM(K26:K29) -> 0 | L30: =SUM(L26:L29) -> 0 | ... T30: =SUM(T26:T29) -> 0 | U30: =SUM(S30,P30,M30,J30,G30) -> 0
B31: Proposed Measure 5: Monitoring, evaluation and exit strategy
C32: 5.1 | G32: =SUM(E32:F32) -> 0 | J32: =SUM(H32:I32) -> 0 | M32: =SUM(K32:L32) -> 0 | P32: =SUM(N32:O32) -> 0 | S32: =SUM(Q32:R32) -> 0 | T32: =SUM(G32,J32,M32,S32,P32) -> 0
C33: 5.2 | G33: =SUM(E33:F33) -> 0 | J33: =SUM(H33:I33) -> 0 | M33: =SUM(K33:L33) -> 0 | P33: =SUM(N33:O33) -> 0 | S33: =SUM(Q33:R33) -> 0 | T33: =SUM(G33,J33,M33,S33,P33) -> 0
C34: 5.3 | G34: =SUM(E34:F34) -> 0 | J34: =SUM(H34:I34) -> 0 | M34: =SUM(K34:L34) -> 0 | P34: =SUM(N34:O34) -> 0 | S34: =SUM(Q34:R34) -> 0 | T34: =SUM(G34,J34,M34,S34,P34) -> 0
C35: 5.4 | G35: =SUM(E35:F35) -> 0 | J35: =SUM(H35:I35) -> 0 | M35: =SUM(K35:L35) -> 0 | P35: =SUM(N35:O35) -> 0 | S35: =SUM(Q35:R35) -> 0 | T35: =SUM(G35,J35,M35,S35,P35) -> 0
B36: Sub-total for Proposed Measure 5 | E36: =SUM(E32:E35) -> 0 | F36: =SUM(F32:F35) -> 0 | G36: =SUM(G32:G35) -> 0 | H36: =SUM(H32:H35) -> 0 | I36: =SUM(I32:I35) -> 0 | J36: =SUM(J32:J35) -> 0 | K36: =SUM(K32:K35) -> 0 | L36: =SUM(L32:L35) -> 0 | ... T36: =SUM(T32:T35) -> 0 | U36: =SUM(S36,P36,M36,J36,G36) -> 0
D38: Subtotal eligible costs [secured] | E38: =SUM(E36,E30,E24,E18,E12) -> 0 | F38: =SUM(F36,F30,F24,F18,F12) -> 0 | G38: =SUM(G36,G30,G24,G18,G12) -> 0 | H38: =SUM(H36,H30,H24,H18,H12) -> 0 | I38: =SUM(I36,I30,I24,I18,I12) -> 0 | J38: =SUM(J36,J30,J24,J18,J12) -> 0 | K38: =SUM(K36,K30,K24,K18,K12) -> 0 | L38: =SUM(L36,L30,L24,L18,L12) -> 0 | ... T38: =SUM(T36,T30,T24,T18,T12) -> 0 | U38: =SUM(S38,P38,M38,J38,G38) -> 0
D39: Operating Costs costs (Maximim 5% of the total eligible costs) | G39: =SUM(E39:F39) -> 0 | J39: =SUM(H39:I39) -> 0 | M39: =SUM(K39:L39) -> 0 | P39: =SUM(N39:O39) -> 0 | S39: =SUM(Q39:R39) -> 0 | T39: =SUM(G39,J39,M39,S39) -> 0
D40: Total eligible costs [Secured] | E40: =SUM(E38:E39) -> 0 | F40: =SUM(F38:F39) -> 0 | G40: =SUM(G38:G39) -> 0 | H40: =SUM(H38:H39) -> 0 | I40: =SUM(I38:I39) -> 0 | J40: =SUM(J38:J39) -> 0 | K40: =SUM(K38:K39) -> 0 | L40: =SUM(L38:L39) -> 0 | ... T40: =SUM(T38:T39) -> 0 | U40: =SUM(S40,P40,M40,J40,G40) -> 0
D41: Total eligible costs [Unsecured] | E41: =E13+E19++E25+E31+#REF! -> #REF! | F41: =F13+F19++F25+F31+#REF! -> #REF! | G41: =G13+G19++G25+G31+#REF! -> #REF! | H41: =H13+H19++H25+H31+#REF! -> #REF! | I41: =I13+I19++I25+I31+#REF! -> #REF! | J41: =J13+J19++J25+J31+#REF! -> #REF! | Q41: =Q13+Q19++Q25+Q31+#REF! -> #REF! | R41: =R13+R19++R25+R31+#REF! -> #REF! | S41: =S13+S19++S25+S31+#REF! -> #REF! | T41: =T13+T19++T25+T31+#REF! -> #REF!
H42: 1 Please specify the entities to be contracted and for what purpose. | K42: 2 Please specify the equipment to be procured and for what purpose.
D43: Percentage of Staff and Contractual Services budget | E43: =(G40+J40)/T40 -> #DIV/0! | F43: Max. 50% | H43: Contractor | I43: Purpose | K43: Equipment | L43: Purpose
D44: Percentage of Equipment budget | E44: =M40/T40 -> #DIV/0! | F44: Max. 10%
D46: Total budget control cell | E46: =SUM(E40:F40,H40:I40,K40:L40,Q40:R40) -> 0 | F46: =SUM(T8:T11,T14:T17,T20:T23,T26:T29,T32:T35,T39) -> 0

Sheet Table 3_Beneficiary contr
A1: Special Programme Trust Fund: Project Application Form II - Project Budget
A2: Project Title:
A6: Source of Funds | B6: Project Output / Activities | D6: Staff and Other Personnel Costs | F6: Contractual Services | H6: Equipment Vehicles and Furniture | J6: Travel | L6: Grand Total
A7: Beneficiary contribution | D7: Year 1 | E7: Year 2 | F7: Year 1 | G7: Year 2 | H7: Year 1 | I7: Year 2 | J7: Year 1 | K7: Year 2
B8: Proposed Measure 1 | L8: =SUM(D8:K8) -> 0
B9: Proposed Measure 2 | L9: =SUM(D9:K9) -> 0
B10: Proposed Measure 3 | L10: =SUM(D10:K10) -> 0
B11: Proposed Measure 4 | L11: =SUM(D11:K11) -> 0
B12: Proposed Measure 5 | L12: =SUM(D12:K12) -> 0
L13: =SUM(D13:E13) -> 0
C14: Total beneficiary contribution costs | D14: =SUM(D8:D12) -> 0 | E14: =SUM(E8:E12) -> 0 | F14: =SUM(F8:F12) -> 0 | G14: =SUM(G8:G12) -> 0 | H14: =SUM(H8:H12) -> 0 | I14: =SUM(I8:I12) -> 0 | J14: =SUM(J8:J12) -> 0 | K14: =SUM(K8:K12) -> 0 | L14: =SUM(D14:K14) -> 0
C15: Class Total | E15: =SUM(D14:E14) -> 0 | G15: =SUM(F14:G14) -> 0 | I15: =SUM(H14:I14) -> 0 | K15: =SUM(J14:K14) -> 0

Sheet Table 4 Class Explanation
B2: Commitment Class | C2: Commitment Class Name | D2: Explanation | E2: Maximum Percentage of Budget Recommended
B3: FT30_Class_010 | C3: Staff and Other Personnel Costs | D3: (i) Includes all costs and entitlements of personnel including staff, consultants, administrative staff, interns. (ii) Meeting facilitators, interpreters, Evaluation consultants all to be budgeted under this Class. | E3: Combined 50%
B4: FT30_Class_120 | C4: Contractual Services | D4: (i) Works and services of a commercial nature contracted following procurement procedures. This could include contracts given to NGOs if they are more similar to procurement of services than a grant transfer. (ii) Where meetings/workshops require venue to be hired e.g Hotel, then relevant costs to be budgeted under this Class. (iii) Commercial printing/publication contracts to be budgeted here
B5: FT30_Class_135 | C5: Equipment Vehicles and Furniture | D5: (i) Procurement of non-consumables e.g. IT equipment. | E5: 0.1
B6: FT30_Class_160 | C6: Travel | D6: i) All meeting costs including staff/consultant/meeting participant travel [per diem/tickets as applicable] (ii) Road / train /Fuel and vehicle/boat rental costs for staff, consultants and other project personnel | E6: N/A
B7: FT30_Class_140 | C7: Transfers and Grants Issued to Implementing Partner (IP) | D7: These are funds to be released to downstream Implementing partners supporting the implementation of the project. | E7: N/A

Sheet SPSUMMARY
A1: Special Programme Trust Fund: Project Application Form II - Project Budget
A2: Project Title:
A3: ='Table 2_SP TF budget'!D2 -> 0
A5: Project output | B5: Staff and Other Personnel | C5: Contractual Services | D5: Equipment | E5: Travel | F5: Grand Total | G5: Total in percentage
A6: ='Table 2_SP TF budget'!B7 -> Proposed Measure 1: | B6: =SUM('Table 2_SP TF budget'!E12:G12) -> 0 | C6: =SUM('Table 2_SP TF budget'!H12:J12) -> 0 | D6: =SUM('Table 2_SP TF budget'!K12:M12) -> 0 | E6: =SUM('Table 2_SP TF budget'!Q12:S12) -> 0 | F6: =SUM(B6:E6) -> 0 | G6: =F6/F12 -> #DIV/0!
A7: ='Table 2_SP TF budget'!B13 -> Proposed Measure 2: | B7: =SUM('Table 2_SP TF budget'!E18:G18) -> 0 | C7: =SUM('Table 2_SP TF budget'!H18:J18) -> 0 | D7: =SUM('Table 2_SP TF budget'!K13:M13) -> 0 | E7: =SUM('Table 2_SP TF budget'!Q13:S13) -> 0 | F7: =SUM(B7:E7) -> 0 | G7: =F7/F12 -> #DIV/0!
A8: ='Table 2_SP TF budget'!B19 -> Proposed Measure 3: | B8: =SUM('Table 2_SP TF budget'!E24:G24) -> 0 | C8: =SUM('Table 2_SP TF budget'!H24:J24) -> 0 | D8: =SUM('Table 2_SP TF budget'!K14:M14) -> 0 | E8: =SUM('Table 2_SP TF budget'!Q14:S14) -> 0 | F8: =SUM(B8:E8) -> 0 | G8: =F8/F12 -> #DIV/0!
A9: ='Table 2_SP TF budget'!B25 -> Proposed Measure 4: | B9: =SUM('Table 2_SP TF budget'!E30:G30) -> 0 | C9: =SUM('Table 2_SP TF budget'!H30:J30) -> 0 | D9: =SUM('Table 2_SP TF budget'!K15:M15) -> 0 | E9: =SUM('Table 2_SP TF budget'!Q15:S15) -> 0 | F9: =SUM(B9:E9) -> 0 | G9: =F9/F12 -> #DIV/0!
A10: ='Table 2_SP TF budget'!B31 -> Proposed Measure 5: Monitoring, evaluation and exit strategy | B10: =SUM('Table 2_SP TF budget'!E36:G36) -> 0 | C10: =SUM('Table 2_SP TF budget'!H36:J36) -> 0 | D10: =SUM('Table 2_SP TF budget'!K16:M16) -> 0 | E10: =SUM('Table 2_SP TF budget'!Q16:S16) -> 0 | F10: =SUM(B10:E10) -> 0 | G10: =F10/F12 -> #DIV/0!
A11: Administrative costs (5%) | B11: =SUM('Table 2_SP TF budget'!E39:G39) -> 0 | C11: =SUM('Table 2_SP TF budget'!H39:J39) -> 0 | D11: =SUM('Table 2_SP TF budget'!K17:M17) -> 0 | E11: =SUM('Table 2_SP TF budget'!Q17:S17) -> 0 | F11: =SUM(B11:E11) -> 0 | G11: =F11/F12 -> #DIV/0!
A12: Grand total | B12: =SUM(B6:B11) -> 0 | C12: =SUM(C6:C11) -> 0 | D12: =SUM(D6:D11) -> 0 | E12: =SUM(E6:E11) -> 0 | F12: =SUM(B12:E12) -> 0 | G12: =F12/F12 -> #DIV/0!
A13: Total in percentage | B13: =B12/F12 -> #DIV/0! | C13: =C12/F12 -> #DIV/0! | D13: =D12/F12 -> #DIV/0! | E13: =E12/F12 -> #DIV/0! | F13: =F12/F12 -> #DIV/0!
A15: RoA
A16: RoE
A17: RoAP
A18: RoWA
A19: RoLAC
A20: RoNA
A21: Total
