Workbook
Name CountryID: 'E-waste'!#REF!
Name CountryID: 'HW managed'!#REF!
Name CountryName: 'E-waste'!#REF!
Name CountryName: 'HW managed'!#REF!
Name Data: 'E-waste'!$F$4:$AW$20
Name Data: 'HW managed'!$F$3:$AW$12
Name Foot: 'E-waste'!$A$29:$AW$39
Name Foot: 'HW managed'!$A$29:$AW$51
Name FootLng: 'E-waste'!$B$27
Name FootLng: 'HW managed'!$B$27
Name Inc: 'E-waste'!$B$4
Name Inc: 'HW managed'!$B$3
Name Ind: 'E-waste'!$B$2
Name Ind: 'HW managed'!$B$1
Name Type: 'E-waste'!#REF!
Name Type: 'HW managed'!#REF!
Name Unit: 'E-waste'!$E$5:$E$20
Name Unit: 'HW managed'!$E$4:$E$12
Name VarsID: 'E-waste'!$B$5:$B$20
Name VarsID: 'HW managed'!$B$4:$B$12

Sheet Introduction
A3: تم إعداد هذا الدليل لمساعدة البلدان على تجميع البيانات اللازمة لاستخلاص مؤشرات هدف التنمية المستدامة 12.2.4 التالية بشأن النفايات الخطرة المولدة: * النفايات الخطرة المولدة (بالأطنان، لكل كيلومتر مربع من مساحة الأرض ونصيب الفرد) * النفايات الخطرة المولدة حسب النوع، بما في ذلك النفايات الإلكترونية * نسبة النفايات الخطرة التي تمت معالجتها * المعالجة السليمة بيئيًا للنفايات الخطرة المولدة الخاصة * كثافة إنتاج النفايات الخطرة.
A4: جدول المحتويات
A5: الورقة | C5: الوصف
A6: المقدمة | B6: Introduction | C6: تُقدِّم أوراق العمل.
A7: التعريفات | B7: Definitions | C7: تُقدِّم بعض التعريفات المفيدة.
A8: النفايات الخطرة حسب النوع | B8: Hazardous waste by type | C8: استخدم ورقة العمل هذه لتجميع البيانات حول النفايات الخطرة المولدة حسب النوع. يمكن تصنيف كميات النفايات الخطرة المولدة حسب مسارات النفايات بموجب اتفاقية بازل أو حسب النشاط الاقتصادي، وفقًا للتنقيح الرابع للتصنيف الصناعي الدولي الموحد (ISIC 4).
A9: النفايات الإلكترونية | B9: E-waste | C9: استخدم ورقة العمل هذه لتجميع كميات النفايات الإلكترونية المولدة والمجمعة.
A10: النفايات الخطرة المولدة | B10: HW generated | C10: استخدم ورقة العمل هذه لحساب إجمالي النفايات الخطرة المولدة والتي تشمل النفايات الخطرة المجمعة من خلال الخدمات البلدية أو الشركات الخاصة، والنفايات الخطرة التي قدَّمها المولد إلى مرافق المعالجة أو التخلص وتقدير النفايات الخطرة التي لم يتم حسابها. كما تُستخدم لاستخراج معدل التوليد حسب الفرد ومساحة الأرض.
A11: ادارة النفايات الخطرة | B11: HW managed | C11: استخدم ورقة العمل هذه لتجميع البيانات حول كمية النفايات الخطرة المولدة والمستوردة والمصدرة خلال العام وكذلك البيانات حول الكميات التي تمت معالجتها أو التخلص منها، والقدرة على المعالجة السليمة بيئيًا للنفايات الخطرة المولدة الخاصة.
A12: نسبة النفايات الخطرة المولدة التي تمت معالجتها | B12: Proportion of HW treated | C12: توضح ورقة العمل هذه نسبة النفايات الخطرة التي تمت معالجتها. كما تُستخدم لحساب كثافة إنتاج النفايات الخطرة.

Sheet Definitions
B2: رمز (رموز) التصنيف الصناعي الدولي الموحد (ISIC) | C2: فئة التصنيف الصناعي الدولي الموحد (ISIC) | D2: التنقيح الرابع للتصنيف الصناعي الدولي الموحد
B3: A 01-03 | C3: الزراعة والحراجة وصيد الأسماك | D3: تشمل الزراعة والحراجة وصيد الأسماك : إنتاج المحاصيل والإنتاج الحيواني والصيد وأنشطة الخدمات ذات الصلة؛ والحراجة وقطع الأشجار؛ وصيد الأسماك وتربية الأحياء المائية. يشمل هذا القسم استغلال الموارد الطبيعية النباتية والحيوانية، والتي تشمل أنشطة زراعة المحاصيل وتربية الحيوانات ورعايتها وجني الأخشاب وغيرها من النباتات أو الحيوانات أو المنتجات الحيوانية من المزرعة أو موائلها الطبيعية.
B4: B 05-09 | C4: التعدين واستغلال المحاجر | D4: يشمل التعدين واستغلال المحاجر استخراج المعادن الموجودة بشكل طبيعي في صورة مواد صلبة (الفحم والخامات) أو سوائل (البترول) أو غازات (الغاز الطبيعي). يمكن أن يتم الاستخراج بطرق مختلفة مثل التعدين تحت الأرض أو التعدين السطحي، وتشغيل الآبار، والتعدين في قاع البحر، وما إلى ذلك. يتضمن هذا القسم أيضًا أنشطة تكميلية تهدف إلى إعداد المواد الخام للتسويق، والتي غالبًا ما تقوم بها الوحدات التي استخرجت المورد و/أو غيرها من الوحدات الموجودة بالقرب منه.
B5: C 10-33 | C5: الصناعات التحويلية | D5: يشمل التصنيع التحويل الفيزيائي أو الكيميائي للمواد أو العناصر أو المكونات إلى منتجات جديدة. وهذه المواد أو العناصر أو المكونات التي يتم تحويلها هي مواد خام ناتجة عن الزراعة أو الحراجة أو صيد الأسماك أو التعدين أو المحاجر وكذلك منتجات أنشطة التصنيع الأخرى. يُعد التغيير الكبير للسلع أو تجديدها أو إعادة تشكيلها بشكل عام تصنيعًا.
B6: D 35 | C6: إمدادات الكهرباء والغاز والبخار وتكييف الهواء | D6: يشمل هذا القسم نشاط توفير الطاقة الكهربائية والغاز الطبيعي والبخار والمياه الساخنة وما شابه ذلك من خلال بنية تحتية دائمة (شبكة) من الخطوط والأنابيب الرئيسية والمواسير. أبعاد هذه الشبكة ليست قاطعة؛ وتشمل أيضًا توزيع الكهرباء والغاز والبخار والمياه الساخنة وما شابه ذلك في المناطق الصناعية أو المباني السكنية. ولذلك، فإن هذا القسم يشمل تشغيل مرافق الكهرباء والغاز، التي تولد الطاقة الكهربائية أو الغاز وتتحكم فيهما وتوزعهما. كما يشمل توفير إمدادات البخار وتكييف الهواء. يستثني هذا القسم تشغيل مرافق المياه والصرف الصحي. يستثني هذا القسم أيضًا نقل الغاز (لمسافات طويلة عادةً) عبر خطوط الأنابيب.
B7: E 38 | C7: أنشطة جمع النفايات ومعالجتها والتخلص منها؛ استرداد المواد | D7: يشمل هذا القسم جمع النفايات ومعالجتها والتخلص منها. ويشمل ذلك أيضًا النقل المحلي لمواد النفايات وتشغيل مرافق استرداد المواد (أي تلك التي تقوم بفرز المواد القابلة للاسترداد من مجرى النفايات).
B8: F 41-43 | C8: التشييد | D8: يشمل التشييد أنشطة البناء العامة وأنشطة البناء المتخصصة للمباني وأعمال الهندسة المدنية. ويشمل ذلك أيضًا الأعمال الجديدة والإصلاحات والإضافات والتعديلات وتشييد المباني أو الهياكل الجاهزة في الموقع وأيضًا البناء ذي الطبيعة المؤقتة.
B11: المصطلح | D11: أمثلة على مسارات النفايات التي يحتمل أن تكون خطرة من مصادر مختلفة
B12: Y1 | C12: النفايات الإكلينيكية الناتجة عن الرعاية الطبية في المستشفيات والمراكز والعيادات الطبية | D12: النفايات الملوثة بالدم وسوائل الجسم الأخرى؛ والمستزرعات المخبرية والمخزونات الميكروبيولوجية؛ والنفايات بما في ذلك الفضلات وغيرها من المواد التي كانت على اتصال مع مرضى مصابين بأمراض شديدة العدوى. النفايات الجراحية البشرية، بما في ذلك الأنسجة والأعضاء وأجزاء الجسم وسوائل الجسم التي تتم إزالتها أثناء الجراحة أو التشريح، أو الإجراءات الطبية الأخرى، وعينات من سوائل الجسم وحاوياتها. الأدوات الحادة التي تم استخدامها في رعاية المرضى أو علاجهم، بما في ذلك الإبر تحت الجلد، والمحاقن، وماصات باستور، وشفرات المشارط، وقوارير الدم، والإبر ذات الأنابيب المرفقة، وأطباق المستزرعات. الأدوية منتهية الصلاحية أو التي لم تعد هناك حاجة إليها؛ المواد الملوثة أو المحتوية على منتجات صيدلانية النفايات السامة للخلايا التي تحتوي على مواد ذات خصائص سامة للجينات (على سبيل المثال، النفايات التي تحتوي على أدوية تثبيط الخلايا؛ المواد الكيميائية السامة للجينات). النفايات التي تحتوي على مواد كيميائية، مثل الكواشف المختبرية؛ ومعالجات الأفلام؛ والمطهرات التي انتهت صلاحيتها أو لم تعد هناك حاجة إليها؛ والمذيبات (على سبيل المثال الميثانول والأسيتون وكلوريد الميثيلين )؛ والنفايات التي تحتوي على نسبة عالية من المعادن الثقيلة، مثل البطاريات؛ وموازين الحرارة المكسورة ومقاييس ضغط الدم.
B13: Y2 | C13: النفايات الناتجة عن إنتاج وتحضير المنتجات الصيدلية | D13: المواد الخام أو المنتجات غير المحددة أو المتقادمة. مذيبات الفصل والتنقية المستهلكة (على سبيل المثال، الميثانول، التولوين، الهكسانات، الأسيتون، وما إلى ذلك). الحمأة السفلية للخزّان وبقايا التفاعل (المذيبات، المحفزات، والمواد المتفاعلة؛ على سبيل المثال، البنزين، الكلوروفورم، كلوريد الميثيلين، التولوين، الميثانول، جلايكول الإيثيلين، كيتون إيزوبوتيل الميثيل، الزيلين، حمض الهيدروكلوريك، إلخ). مواد التصفية المستعملة. الكواشف الكيميائية المستخدمة. الغبار الناتج عن الترشيح أو معدات التحكم في تلوث الهواء. نفايات تغليف المواد الخام. نفايات المختبرات. الانسكابات، وكذلك النفايات الناتجة أثناء تغليف المنتجات المركبة. سوائل الغسيل الناتجة عن تنظيف المعدّات والمحلول الأم. الحمأة الناتجة عن معالجة مياه الصرف الصحي في الموقع. قطع التصفية من عمليات التخمير.
B14: Y3 | C14: نفايات المنتجات الصيدلانية والأدوية | D14: تشمل النفايات الخطرة من المنتجات الصيدلانية للنفايات المحتملة الأدوية الموصوفة، وعوامل العلاج الكيميائي (بما في ذلك النفايات السامة للخلايا، والنفايات المضادة للورم، والنفايات المثبطة للخلايا)، والمواد الخاضعة للرقابة أو المواد التي لا تحتاج إلى وصفة طبية والتي تكون إما منتهية الصلاحية أو تالفة أو غير قابلة للاستخدام للغرض المقصود منها.
B15: Y4 | C15: النفايات الناتجة عن إنتاج المبيدات البيولوجية والمنتجات الصيدلانية النباتية وتجهيزها واستخدامها | D15: سوائل غسل المعدات (مائية أو مذيبة) والمحلول الأم. الحمأة السفلية للخزان وبقايا التفاعل. قطع التصفية والمواد الماصة المستهلكة. الحمأة الناتجة عن معالجة مياه الصرف الصحي في الموقع. الحاويات وبطانات الحاويات التي يحتمل أن تكون ملوثة بالمبيدات الحيوية والمنتجات الصيدلانية النباتية. المنتجات غير المحددة. الغبار الذي تم جمعه من معدات التحكم في الانبعاثات، وانسكاب المنتجات. معدات المختبرات الملوثة وملابس وقاية العمال.
B16: Y5 | C16: النفايات الناتجة عن صنع وتجهيز واستخدام المواد الكيميائية الواقية للأخشاب | D16: سوائل غسل المعدات والمحلول الأم. الحمأة السفلية للخزان وبقايا التفاعل. قطع التصفية والمواد الماصة المستهلكة. الحمأة الناتجة عن معالجة مياه الصرف الصحي في الموقع. الحاويات وبطانات الحاويات التي يحتمل أن تكون ملوثة بالمواد الكيميائية. المنتجات غير المحددة. مياه الصرف الصحي، ومخلفات العمليات، والمواد الحافظة للتقطير، والتركيبات المستهلكة من عمليات الحفاظ على الأخشاب في المرافق التي تستخدم تركيبات الكلوروفينول، وتركيبات الكريوزوت، والمواد الحافظة غير العضوية التي تحتوي على الزئبق أو الكروم.
B17: Y6 | C17: النفايات الناتجة عن إنتاج المذيبات العضوية وتجهيزها واستخدامها | D17: إزالة الشحوم من النفايات التي تحتوي على مذيبات من صناعة الجلود والفراء. نفايات تشطيب القماش من صناعة النسيج (تستخدم المذيبات المهلجنة، عادة بيركلورو إيثيلين، في تنظيف الأقمشة والخيوط). سوائل الغسيل (المذيبات العضوية المهلجنة وغير المهلجنة) والمحلول الأم من العمليات الكيميائية العضوية (تصنيع: المواد الكيميائية العضوية الأساسية؛ البلاستيك والمطاط الصناعي والألياف الاصطناعية؛ الأصباغ والأصباغ العضوية؛ منتجات حماية النباتات العضوية وعوامل الحفاظ على الأخشاب والمبيدات الحيوية الأخرى؛ المنتجات الصيدلانية؛ الدهون والشحوم والصابون والمنظفات والمطهرات ومستحضرات التجميل). النفايات الناتجة عن تصنيع وتركيب واستخدام الطلاء والورنيش والحبر (تشمل المذيبات المستخدمة الهكسان والهكسان الحلقي والتولوين والزيلين). نفايات الطلاء أو مزيل الورنيش (غالبًا ما يحتوي على ثنائي كلورو الميثان). نفايات المواد اللاصقة والمواد المانعة للتسرب التي تحتوي على مذيبات عضوية. حلول المعالجة القائمة على المذيبات من صناعة التصوير الفوتوغرافي. العوامل التي تشير إلى الشقوق في النفايات الناتجة عن صب القطع الحديدية. نفايات إزالة الشحوم الناتجة عن المعالجة السطحية الكيميائية وطلاء المعادن والمواد الأخرى. نفايات البيركلوروإيثيلين من مرافق التنظيف الجاف (بقايا المسحوق المطبوخ، وبقايا حمأة قاعدة الخزان، والخراطيش المستهلكة، ونفايات مصفاة الأزرار/الوبر). النفايات الناتجة عن استرداد المذيبات.
B18: Y7 | C18: النفايات الناتجة عن عمليات المعالجة الحرارية والتقسية التي تحتوي على السيانيدات | D18: حلول السيانيد المستهلكة، وبقايا أحواض التبريد من أحواض الزيت حمأة معالجة مياه الصرف الصحي للتبريد من عمليات المعالجة الحرارية للمعادن حيث يتم استخدام السيانيد في العملية.
B19: Y8 | C19: النفايات من الزيوت المعدنية غير الصالحة للاستعمال المستهدف منها أصلاً | D19: نفايات زيوت المحركات والعتاد والتشحيم نفايات زيوت العزل ونقل الحرارة نفايات الزيوت الهيدروليكية سائل الفرامل المعدني القائم على الزيت. مرشحات الزيت.
B20: Y9 | C20: النفايات من الزيوت/المياه، ومزائج الهيدروكربونات/المياه، والمستحلبات | D20: زيوت الآسن. الزيت والمياه الزيتية والحمأة من فواصل الزيت/الماء. مياه غسيل المركبات. حمأة تفريغ الأفران. مياه الأبراج للغسيل الخاصة بالتبريد. زيوت التقطيع والزيوت القابلة للذوبان.
B21: Y10 | C21: مواد النفايات التي تحتوي على أو مركبات ثنائي الفينيل متعدد الكلور و/أو مركبات ثلاثي الفينيل متعدد الكلور و/أو مركبات ثنائي الفينيل متعدد البروم أو الملوّثة بها | D21: مكونات النفايات التي تحتوي على ثنائي الفينيل متعدد الكلور من تفكيك المركبات الهالكة وصيانة المركبات. المحولات والمكثفات والمعدات المهملة التي تحتوي على مركبات ثنائي الفينيل متعدد الكلور أو ملوثة بها. نفايات البناء والهدم التي تحتوي على مواد مانعة للتسرب تحتوي على ثنائي الفينيل متعدد الكلور أو أرضيات راتنجية أو وحدات زجاجية محكمة الغلق. نفايات الزيوت الهيدروليكية أو العازلة أو زيوت نقل الحرارة التي تحتوي على مركبات ثنائي الفينيل متعدد الكلور.
B22: Y11 | C22: النفايات من الرواسب القطرانية الناجمة عن التكرير والتقطير وأي معالجة بالتحلل الحراري | D22: بقايا نفايات القطران.
B23: Y12 | C23: النفايات التي يخلّفها إنتاج أو تجهيز أو استخدام الحبر، والأصباغ والمواد الملونة والدهانات وطلاءات اللكيه والورنيش | D23: الحمأة وطلاء النفايات والورنيش المحتوي على مذيبات عضوية (تشمل المذيبات المستخدمة الهكسان والهكسان الحلقي والتولوين والزيلين) والمعادن التي يحتمل أن تكون خطرة (الأنتيمون والكادميوم والكروم والرصاص والزنك) في الأصباغ أو غيرها من المواد الخطرة. نفايات الطلاء أو مزيل الورنيش (غالبًا ما يحتوي على ثنائي كلورو الميثان). نفايات مسحوق الحبر للطباعة. نفايات حلول التنميش. الزيوت المشتتة. نفايات الأيزوسيانات من إنتاج دهانات البولي يوريثين. نفايات الحبر والمذيبات من عمليات الطباعة.
... B29: Y18 | C29: الرواسب الناجمة عن عمليات التخلص من النفايات الصناعية | D29: نفايات تنظيف الخبث والرماد والغاز الناتجة عن الحرق أو التحليل الحراري للنفايات. النفايات الناتجة عن المعالجات الفيزيائية/الكيميائية للنفايات الخطرة (على سبيل المثال، إزالة اللون، إزالة الزيوت، التحييد). النفايات الخطرة الصلبة أو المستقرة جزئيًا. الرماد المتطاير ونفايات معالجة غاز المداخن الأخرى الناتجة عن التزجيج. النفايات الناتجة عن تمزيق النفايات المحتوية على معادن النفايات الناتجة عن تجديد النفط (طين الترشيح المستهلك، القطران الحمضي، النفايات السائلة المائية، النفايات الناتجة عن تنظيف الوقود باستخدام القواعد، النفايات الناتجة عن تنظيف غاز المداخن). النفايات الناتجة عن المعالجة الميكانيكية للنفايات الخطرة (على سبيل المثال الفرز والسحق والضغط والتكوير). راتنجات التبادل الأيوني المشبعة أو المستهلكة. مزيج الشحوم والزيت من فصل الزيت/الماء.
B31: المصطلح | D31: التعريفات
B32: النفايات الإلكترونية | D32: تشير النفايات الإلكترونية إلى جميع عناصر المعدات الكهربائية والإلكترونية (EEE) وأجزائها التي تم التخلص منها من قِبل مالكها كنفايات دون نية إعادة الاستخدام.
B33: المعدات الكبيرة | D33: تشمل التدفئة المركزية (المثبتة في المنزل)؛ الألواح الكهروضوئية (بما في ذلك المحولات)؛ التدفئة والتهوية المهنية (باستثناء معدات التبريد)؛ غسالات الصحون؛ المطبخ (مثل السخانات الكبيرة والأفران ومعدات الطهي)؛ الغسالات (بما في ذلك المجففات المدمجة)؛ المجففات (مجففات الغسيل، أجهزة الطرد المركزي)؛ التدفئة والتهوية المنزلية (مثل الأغطية، وأجهزة التهوية، وأجهزة التدفئة)؛ تكنولوجيا المعلومات المهنية (مثل الخوادم، وأجهزة التوجيه، وتخزين البيانات، وآلات النسخ)؛ الأدوات المهنية (مثل اللحام، والتلحيم، والتطحين)؛ الترفيه (مثل التمارين الرياضية الكبيرة، والمعدات الرياضية)؛ الطبية المهنية (مثل المستشفى، طبيب الأسنان، التشخيص)؛ المراقبة والتحكم المهنيان (مثل المختبرات، لوحات التحكم)؛ والموزعات غير المبردة (مثل تلك المخصصة للبيع، المشروبات الساخنة، التذاكر، المال).
B34: الشاشات والمعدات التي تحتوي على شاشات (..) | D34: تشمل أجهزة الكمبيوتر المحمولة (بما في ذلك الأجهزة اللوحية)؛ والشاشات بأنبوب أشعة الكاثود؛ وشاشات العرض المسطحة (LCD, LED)؛ وأجهزة التلفاز ذات أنبوب أشعة الكاثود؛ وأجهزة التلفاز ذات شاشات العرض المسطحة (LCD, LED، البلازما).
B35: معدات تبادل درجات الحرارة (معدات التبريد والتجميد) | D35: تشمل المجمدات؛ مكيفات الهواء (المنزلية والمحمولة )؛ أجهزة التبريد الأخرى (مزيلات الرطوبة، مجففات المضخات الحرارية)؛ التبريد الاحترافي (مثل مكيفات الهواء الكبيرة، شاشات التبريد)؛ والموزعات المبردة (مثل تلك المخصصة للبيع والمشروبات الباردة).
B36: النفايات الإلكترونية الصغيرة | D36: مجموع المصابيح والمعدات الصغيرة ومعدات تكنولوجيا المعلومات والاتصالات السلكية واللاسلكية الصغيرة. انظر التعريفات لكل منها أدناه.
B37: المصابيح الكهربائية | D37: تشمل المصابيح الفلورية المدمجة (بما في ذلك المصابيح التحديثية وغير التحديثية )؛ والمصابيح الفلورية الأنبوبية المستقيمة؛ والمصابيح الخاصة (مثل الزئبق الاحترافي، والصوديوم عالي الضغط ومنخفض الضغط )؛ ومصابيح LED (بما في ذلك مصابيح LED المعدلة).
B38: المعدات الصغيرة | D38: تشمل أجهزة الميكروويف (بما في ذلك المدمجة، باستثناء الشوايات)؛ الأجهزة المنزلية الصغيرة الأخرى (مثل أجهزة التهوية الصغيرة، والمكاوي، والساعات، والمحولات)؛ الأجهزة المستخدمة في تجهيز وطهي الطعام (مثل المحمصات، والشوايات، ومحضرات الطعام، والمقالي)؛ أجهزة تسخين المياه (مثل القهوة، والشاي، وأجهزة غلي المياه)؛ المكانس الكهربائية (باستثناء الاحترافية)؛ أجهزة العناية الشخصية (مثل فرش الأسنان، ومجففات الشعر، وشفرات الحلاقة)؛ الأجهزة الإلكترونية الاستهلاكية الصغيرة (مثل سماعات الرأس، وأجهزة التحكم عن بعد)؛ أجهزة الصوت والفيديو المحمولة (مثل MP3، وأجهزة القراءة الإلكترونية، وأنظمة الملاحة في السيارات)؛ الآلات الموسيقية، الراديو، HiFi (بما في ذلك مجموعات الصوت)؛ الفيديو (مثل مسجلات الفيديو، وأقراص الفيديو الرقمية، والأشعة الزرقاء، وأجهزة فك التشفير)؛ مكبرات الصوت؛ الكاميرات (مثل كاميرات الفيديو، وأجهزة التصوير والكاميرات الثابتة الرقمية)؛ معدات الإضاءة الصغيرة (باستثناء LED والمصابيح المتوهجة)؛ الإنارة المنزلية (بما في ذلك التجهيزات المتوهجة المنزلية ومصابيح LED المنزلية)؛ الإنارة المهنية (المكاتب، الأماكن العامة، الصناعة)؛ الأدوات المنزلية (مثل المثاقب، المناشير، منظفات الضغط العالي، جزازات العشب)؛ الألعاب (مثل مجموعات سيارات السباق، القطارات الكهربائية، ألعاب الموسيقى، حواسيب الدراجات)؛ الطب المنزلي (مثل موازين الحرارة، أجهزة قياس ضغط الدم)؛ والمراقبة والتحكم المنزلي (الإنذار، الحرارة، الدخان، باستثناء الشاشات).
B39: معدات تكنولوجيا المعلومات والاتصالات السلكية واللاسلكية الصغيرة | D39: تشمل تكنولوجيا المعلومات الصغيرة (مثل أجهزة التوجيه والفأرة ولوحات المفاتيح ومحركات الأقراص الخارجية والملحقات)؛ وأجهزة الكمبيوتر المكتبية (باستثناء الشاشات والملحقات)؛ والطابعات (مثل الماسحات الضوئية والطابعات متعددة الوظائف والفاكسات)؛ والاتصالات (مثل الهواتف (اللاسلكية) وآلات الرد على المكالمات)؛ والهواتف المحمولة (بما في ذلك الهواتف الذكية وأجهزة الاستدعاء)؛ وأجهزة الألعاب.

Sheet Hazardous waste by type
A1: رموز التصنيف الصناعي الدولي الموحد (ISIC) للنفايات الخطرة المولدة عن مسارات النفايات وفقًا لاتفاقية بازل واستبيان الشعبة الإحصائية بالأمم المتحدة/برنامج الأمم المتحدة للبيئة بشأن الإحصاءات البيئية
B3: النفايات الخطرة حسب المسار، وفقًا لاتفاقية بازل | C3: الوحدة | D3: 2000 | F3: 2001 | H3: 2002 | J3: 2003 | L3: 2004 | N3: 2005 | P3: 2006 | R3: 2007 | T3: 2008 | V3: 2009 | X3: 2010 | Z3: 2011 | AB3: 2012 | AD3: 2013 | AF3: 2014 | AH3: 2015 | AJ3: 2016 | AL3: 2017 | AN3: 2018 | AP3: 2019 | AR3: 2020 | AT3: 2021 | AV3: 2022 | AX3: 2023 | AZ3: 2024 | BB3: 2025 | BD3: 2026 | BF3: 2027 | BH3: 2028 | BJ3: 2029 | BL3: 2030
A4: Y1 | B4: النفايات الإكلينيكية الناتجة عن الرعاية الطبية في المستشفيات والمراكز والعيادات الطبية | C4: طن
A5: Y2 | B5: النفايات الناتجة عن إنتاج وتحضير المنتجات الصيدلية | C5: طن
A6: Y3 | B6: نفايات المنتجات الصيدلانية والأدوية | C6: طن
A7: Y4 | B7: النفايات الناتجة عن إنتاج المبيدات البيولوجية والمنتجات الصيدلانية النباتية وتجهيزها واستخدامها | C7: طن
A8: Y5 | B8: النفايات الناتجة عن صنع وتجهيز واستخدام المواد الكيميائية الواقية للأخشاب | C8: طن
A9: Y6 | B9: النفايات الناتجة عن إنتاج المذيبات العضوية وصياغتها واستخدامها | C9: طن
A10: Y7 | B10: النفايات الناتجة عن عمليات المعالجة الحرارية والتقسية التي تحتوي على السيانيد | C10: طن
A11: Y8 | B11: النفايات من الزيوت المعدنية غير الصالحة للاستعمال المستهدف منها أصلاً | C11: طن
A12: Y9 | B12: النفايات من الزيوت/المياه، ومزائج الهيدروكربونات/المياه، والمستحلبات | C12: طن
A13: Y10 | B13: مواد النفايات التي تحتوي على مركبات ثنائي الفينيل متعدد الكلور و/أو مركبات ثلاثي الفينيل متعدد الكلور و/أو مركبات ثنائي الفينيل متعدد البروم أو الملوثة بها | C13: طن
A14: Y11 | B14: النفايات من الرواسب القطرانية الناجمة عن التكرير والتقطير وأي معالجة بالتحلل الحراري | C14: طن
A15: Y12 | B15: النفايات الناتجة عن إنتاج الحبر، والأصباغ والمواد الملونة والدهانات وطلاءات اللكيه والورنيش وعن تجهيزها واستخدامها | C15: طن
... A22: Y46 | B22: النفايات المجمعة من المنازل | C22: طن
B23: إجمالي النفايات الخطرة المولدة | C23: طن | D23: =SUM(D4:D21) -> 0 | F23: =SUM(F4:F21) -> 0 | H23: =SUM(H4:H21) -> 0 | J23: =SUM(J4:J21) -> 0 | L23: =SUM(L4:L21) -> 0 | N23: =SUM(N4:N21) -> 0 | P23: =SUM(P4:P21) -> 0 | R23: =SUM(R4:R21) -> 0 | T23: =SUM(T4:T21) -> 0 | V23: =SUM(V4:V21) -> 0 | X23: =SUM(X4:X21) -> 0 | Z23: =SUM(Z4:Z21) -> 0 | AB23: =SUM(AB4:AB21) -> 0 | AD23: =SUM(AD4:AD21) -> 0 | AF23: =SUM(AF4:AF21) -> 0 | AH23: =SUM(AH4:AH21) -> 0 | AJ23: =SUM(AJ4:AJ21) -> 0 | AL23: =SUM(AL4:AL21) -> 0 | AN23: =SUM(AN4:AN21) -> 0 | AP23: =SUM(AP4:AP21) -> 0 | AR23: =SUM(AR4:AR21) -> 0 | AT23: =SUM(AT4:AT21) -> 0 | AV23: =SUM(AV4:AV21) -> 0 | AX23: =SUM(AX4:AX21) -> 0 | AZ23: =SUM(AZ4:AZ21) -> 0 | BB23: =SUM(BB4:BB21) -> 0 | BD23: =SUM(BD4:BD21) -> 0 | BF23: =SUM(BF4:BF21) -> 0 | BH23: =SUM(BH4:BH21) -> 0 | BJ23: =SUM(BJ4:BJ21) -> 0 | BL23: =SUM(BL4:BL21) -> 0
B25: النفايات الخطرة حسب المصدر حسب النشاط الاقتصادي، وفقًا لتصنيف ISIC 4 | C25: الوحدة | D25: 2000 | F25: 2001 | H25: 2002 | J25: 2003 | L25: 2004 | N25: 2005 | P25: 2006 | R25: 2007 | T25: 2008 | V25: 2009 | X25: 2010 | Z25: 2011 | AB25: 2012 | AD25: 2013 | AF25: 2014 | AH25: 2015 | AJ25: 2016 | AL25: 2017 | AN25: 2018 | AP25: 2019 | AR25: 2020 | AT25: 2021 | AV25: 2022 | AX25: 2023 | AZ25: 2024 | BB25: 2025 | BD25: 2026 | BF25: 2027 | BH25: 2028 | BJ25: 2029 | BL25: 2030
A26: 1. | B26: الزراعة والحراجة وصيد الأسماك (رموز التصنيف الصناعي الدولي الموحد لجميع الأنشطة الاقتصادية 01-03) | C26: طن
A27: 2. | B27: التعدين واستغلال المحاجر (ISIC 05-09) | C27: طن
A28: 3. | B28: التصنيع (ISIC 10-33) | C28: طن
A29: 4. | B29: إمدادات الكهرباء والغاز والبخار وتكييف الهواء | C29: طن
A30: 5. | B30: التشييد (ISIC 41-43) | C30: طن
A31: 6. | B31: الأنشطة الاقتصادية الأخرى باستثناء ISIC 38، و | C31: طن
A32: 7. | B32: المنازل | C32: طن
B33: إجمالي النفايات الخطرة المولدة | C33: طن | D33: =SUM(D26:D32) -> 0 | F33: =SUM(F26:F32) -> 0 | H33: =SUM(H26:H32) -> 0 | J33: =SUM(J26:J32) -> 0 | L33: =SUM(L26:L32) -> 0 | N33: =SUM(N26:N32) -> 0 | P33: =SUM(P26:P32) -> 0 | R33: =SUM(R26:R32) -> 0 | T33: =SUM(T26:T32) -> 0 | V33: =SUM(V26:V32) -> 0 | X33: =SUM(X26:X32) -> 0 | Z33: =SUM(Z26:Z32) -> 0 | AB33: =SUM(AB26:AB32) -> 0 | AD33: =SUM(AD26:AD32) -> 0 | AF33: =SUM(AF26:AF32) -> 0 | AH33: =SUM(AH26:AH32) -> 0 | AJ33: =SUM(AJ26:AJ32) -> 0 | AL33: =SUM(AL26:AL32) -> 0 | AN33: =SUM(AN26:AN32) -> 0 | AP33: =SUM(AP26:AP32) -> 0 | AR33: =SUM(AR26:AR32) -> 0 | AT33: =SUM(AT26:AT32) -> 0 | AV33: =SUM(AV26:AV32) -> 0 | AX33: =SUM(AX26:AX32) -> 0 | AZ33: =SUM(AZ26:AZ32) -> 0 | BB33: =SUM(BB26:BB32) -> 0 | BD33: =SUM(BD26:BD32) -> 0 | BF33: =SUM(BF26:BF32) -> 0 | BH33: =SUM(BH26:BH32) -> 0 | BJ33: =SUM(BJ26:BJ32) -> 0 | BL33: =SUM(BL26:BL32) -> 0
A35: ملاحظة:
A36: • | B36: إذا كانت البيانات المطلوبة غير متوفرة، يرجى ترك الخانة فارغة. إذا كان المتغير المطلوب غير قابل للتطبيق (الظاهرة غير ذات صلة) على البلد أو كانت القيمة أقل من نصف وحدة القياس، يجب ملء الخانة بالقيمة "0".
A37: • | B37: يرجى تقديم معلومات في قسم الحواشي السفلية أدناه حول المصدر ومنهجية جمع البيانات للقيم المقدمة، مثل طرق التقدير (إن وجدت)، وأنواع مصادر البيانات الأصلية المستخدمة (على سبيل المثال، الاستطلاعات أو السجلات الإدارية).
B39: الحواشي السفلية
A40: الرمز | B40: النص

Sheet E-waste
B2: 170 | C2: توليد النفايات الإلكترونية وجمعها (استبيان الشعبة الإحصائية بالأمم المتحدة/برنامج الأمم المتحدة للبيئة بشأن الإحصاءات البيئية، قسم النفايات، الجدول R6)
F3: • إذا تحولت القيمة إلى اللون الأحمر، يرجى التحقق مما إذا كانت صحيحة.
B4: 2 | C4: الخط | D4: الفئة | E4: الوحدة | F4: 2000 | H4: 2001 | J4: 2002 | L4: 2003 | N4: 2004 | P4: 2005 | R4: 2006 | T4: 2007 | V4: 2008 | X4: 2009 | Z4: 2010 | AB4: 2011 | AD4: 2012 | AF4: 2013 | AH4: 2014 | AJ4: 2015 | AL4: 2016 | AN4: 2017 | AP4: 2018 | AR4: 2019 | AT4: 2020 | AV4: 2021 | AX4: 2022 | AZ4: 2023 | BB4: 2024 | BD4: 2025 | BF4: 2026 | BH4: 2027 | BJ4: 2028 | BL4: 2029 | BN4: 2030
B5: 3550 | C5: 1 | D5: إجمالي النفايات الإلكترونية المولدة | E5: 1000 طن | F5: =SUM(F6:F9) -> 0 | H5: =SUM(H6:H9) -> 0 | J5: =SUM(J6:J9) -> 0 | L5: =SUM(L6:L9) -> 0 | N5: =SUM(N6:N9) -> 0 | P5: =SUM(P6:P9) -> 0 | R5: =SUM(R6:R9) -> 0 | T5: =SUM(T6:T9) -> 0 | V5: =SUM(V6:V9) -> 0 | X5: =SUM(X6:X9) -> 0 | Z5: =SUM(Z6:Z9) -> 0 | AB5: =SUM(AB6:AB9) -> 0 | AD5: =SUM(AD6:AD9) -> 0 | AF5: =SUM(AF6:AF9) -> 0 | AH5: =SUM(AH6:AH9) -> 0 | AJ5: =SUM(AJ6:AJ9) -> 0 | AL5: =SUM(AL6:AL9) -> 0 | AN5: =SUM(AN6:AN9) -> 0 | AP5: =SUM(AP6:AP9) -> 0 | AR5: =SUM(AR6:AR9) -> 0 | AT5: =SUM(AT6:AT9) -> 0 | AV5: =SUM(AV6:AV9) -> 0 | AX5: =SUM(AX6:AX9) -> 0 | AZ5: =SUM(AZ6:AZ9) -> 0 | BB5: =SUM(BB6:BB9) -> 0 | BD5: =SUM(BD6:BD9) -> 0 | BF5: =SUM(BF6:BF9) -> 0 | BH5: =SUM(BH6:BH9) -> 0 | BJ5: =SUM(BJ6:BJ9) -> 0 | BL5: =SUM(BL6:BL9) -> 0 | BN5: =SUM(BN6:BN9) -> 0
B6: 3560 | C6: 2 | D6: المبالغ التي ستذهب إلى: المعدات الكبيرة | E6: 1000 طن
B7: 3570 | C7: 3 | D7: الشاشات والمعدات التي تحتوي على شاشات (..) | E7: 1000 طن
B8: 3580 | C8: 4 | D8: معدات تبادل درجات الحرارة (معدات التبريد والتجميد) | E8: 1000 طن
B9: 3590 | C9: 5 | D9: النفايات الإلكترونية الصغيرة | E9: 1000 طن | F9: =SUM(F10:F12) -> 0 | H9: =SUM(H10:H12) -> 0 | J9: =SUM(J10:J12) -> 0 | L9: =SUM(L10:L12) -> 0 | N9: =SUM(N10:N12) -> 0 | P9: =SUM(P10:P12) -> 0 | R9: =SUM(R10:R12) -> 0 | T9: =SUM(T10:T12) -> 0 | V9: =SUM(V10:V12) -> 0 | X9: =SUM(X10:X12) -> 0 | Z9: =SUM(Z10:Z12) -> 0 | AB9: =SUM(AB10:AB12) -> 0 | AD9: =SUM(AD10:AD12) -> 0 | AF9: =SUM(AF10:AF12) -> 0 | AH9: =SUM(AH10:AH12) -> 0 | AJ9: =SUM(AJ10:AJ12) -> 0 | AL9: =SUM(AL10:AL12) -> 0 | AN9: =SUM(AN10:AN12) -> 0 | AP9: =SUM(AP10:AP12) -> 0 | AR9: =SUM(AR10:AR12) -> 0 | AT9: =SUM(AT10:AT12) -> 0 | AV9: =SUM(AV10:AV12) -> 0 | AX9: =SUM(AX10:AX12) -> 0 | AZ9: =SUM(AZ10:AZ12) -> 0 | BB9: =SUM(BB10:BB12) -> 0 | BD9: =SUM(BD10:BD12) -> 0 | BF9: =SUM(BF10:BF12) -> 0 | BH9: =SUM(BH10:BH12) -> 0 | BJ9: =SUM(BJ10:BJ12) -> 0 | BL9: =SUM(BL10:BL12) -> 0 | BN9: =SUM(BN10:BN12) -> 0
B10: 3591 | C10: 6 | D10: منها: المصابيح | E10: 1000 طن
B11: 3592 | C11: 7 | D11: منها: معدات صغيرة | E11: 1000 طن
B12: 3593 | C12: 8 | D12: منها: معدات تكنولوجيا المعلومات والاتصالات السلكية واللاسلكية الصغيرة | E12: 1000 طن
B13: 3650 | C13: 9 | D13: إجمالي النفايات الإلكترونية المجمعة | E13: 1000 طن | F13: =SUM(F14:F17) -> 0 | H13: =SUM(H14:H17) -> 0 | J13: =SUM(J14:J17) -> 0 | L13: =SUM(L14:L17) -> 0 | N13: =SUM(N14:N17) -> 0 | P13: =SUM(P14:P17) -> 0 | R13: =SUM(R14:R17) -> 0 | T13: =SUM(T14:T17) -> 0 | V13: =SUM(V14:V17) -> 0 | X13: =SUM(X14:X17) -> 0 | Z13: =SUM(Z14:Z17) -> 0 | AB13: =SUM(AB14:AB17) -> 0 | AD13: =SUM(AD14:AD17) -> 0 | AF13: =SUM(AF14:AF17) -> 0 | AH13: =SUM(AH14:AH17) -> 0 | AJ13: =SUM(AJ14:AJ17) -> 0 | AL13: =SUM(AL14:AL17) -> 0 | AN13: =SUM(AN14:AN17) -> 0 | AP13: =SUM(AP14:AP17) -> 0 | AR13: =SUM(AR14:AR17) -> 0 | AT13: =SUM(AT14:AT17) -> 0 | AV13: =SUM(AV14:AV17) -> 0 | AX13: =SUM(AX14:AX17) -> 0 | AZ13: =SUM(AZ14:AZ17) -> 0 | BB13: =SUM(BB14:BB17) -> 0 | BD13: =SUM(BD14:BD17) -> 0 | BF13: =SUM(BF14:BF17) -> 0 | BH13: =SUM(BH14:BH17) -> 0 | BJ13: =SUM(BJ14:BJ17) -> 0 | BL13: =SUM(BL14:BL17) -> 0 | BN13: =SUM(BN14:BN17) -> 0
B14: 3660 | C14: 10 | D14: المبالغ التي ستذهب إلى: المعدات الكبيرة | E14: 1000 طن
B15: 3670 | C15: 11 | D15: الشاشات والمعدات التي تحتوي على شاشات (..) | E15: 1000 طن
B16: 3680 | C16: 12 | D16: معدات تبادل درجات الحرارة (معدات التبريد والتجميد) | E16: 1000 طن
B17: 3690 | C17: 13 | D17: النفايات الإلكترونية الصغيرة (= 14+15+16) | E17: 1000 طن | F17: =SUM(F18:F20) -> 0 | H17: =SUM(H18:H20) -> 0 | J17: =SUM(J18:J20) -> 0 | L17: =SUM(L18:L20) -> 0 | N17: =SUM(N18:N20) -> 0 | P17: =SUM(P18:P20) -> 0 | R17: =SUM(R18:R20) -> 0 | T17: =SUM(T18:T20) -> 0 | V17: =SUM(V18:V20) -> 0 | X17: =SUM(X18:X20) -> 0 | Z17: =SUM(Z18:Z20) -> 0 | AB17: =SUM(AB18:AB20) -> 0 | AD17: =SUM(AD18:AD20) -> 0 | AF17: =SUM(AF18:AF20) -> 0 | AH17: =SUM(AH18:AH20) -> 0 | AJ17: =SUM(AJ18:AJ20) -> 0 | AL17: =SUM(AL18:AL20) -> 0 | AN17: =SUM(AN18:AN20) -> 0 | AP17: =SUM(AP18:AP20) -> 0 | AR17: =SUM(AR18:AR20) -> 0 | AT17: =SUM(AT18:AT20) -> 0 | AV17: =SUM(AV18:AV20) -> 0 | AX17: =SUM(AX18:AX20) -> 0 | AZ17: =SUM(AZ18:AZ20) -> 0 | BB17: =SUM(BB18:BB20) -> 0 | BD17: =SUM(BD18:BD20) -> 0 | BF17: =SUM(BF18:BF20) -> 0 | BH17: =SUM(BH18:BH20) -> 0 | BJ17: =SUM(BJ18:BJ20) -> 0 | BL17: =SUM(BL18:BL20) -> 0 | BN17: =SUM(BN18:BN20) -> 0
B18: 3691 | C18: 14 | D18: منها: المصابيح | E18: 1000 طن
B19: 3692 | C19: 15 | D19: منها: معدات صغيرة | E19: 1000 طن
B20: 3693 | C20: 16 | D20: منها: معدات تكنولوجيا المعلومات والاتصالات السلكية واللاسلكية الصغيرة | E20: 1000 طن
C22: ملاحظة:
C23: • | D23: إذا كانت البيانات المطلوبة غير متوفرة، يرجى ترك الخانة فارغة. إذا كان المتغير المطلوب غير قابل للتطبيق (الظاهرة غير ذات صلة) على البلد أو كانت القيمة أقل من نصف وحدة القياس، يجب ملء الخانة بالقيمة "0".
C24: • | D24: يرجى تقديم معلومات في قسم الحواشي السفلية أدناه حول المصدر ومنهجية جمع البيانات للقيم المقدمة، مثل طرق التقدير (إن وجدت)، وأنواع مصادر البيانات الأصلية المستخدمة (على سبيل المثال، الاستطلاعات أو السجلات الإدارية).
B27: 1 | C27: الحواشي السفلية
C28: الرمز | D28: نص الحاشية السفلية

Sheet HW generated
A1: إجمالي النفايات الخطرة المولدة
A2: النفايات الخطرة الموّلدة = النفايات الخطرة التي تم جمعها من خلال الخدمات البلدية أو الشركات الخاصة + النفايات الخطرة التي قدمها المولد إلى مرافق المعالجة أو التخلص + تقدير النفايات الخطرة التي لم يتم حسابها
A3: الفئة | B3: الوحدة | C3: 2000 | E3: 2001 | G3: 2002 | I3: 2003 | K3: 2004 | M3: 2005 | O3: 2006 | Q3: 2007 | S3: 2008 | U3: 2009 | W3: 2010 | Y3: 2011 | AA3: 2012 | AC3: 2013 | AE3: 2014 | AG3: 2015 | AI3: 2016 | AK3: 2017 | AM3: 2018 | AO3: 2019 | AQ3: 2020 | AS3: 2021 | AU3: 2022 | AW3: 2023 | AY3: 2024 | BA3: 2025 | BC3: 2026 | BE3: 2027 | BG3: 2028 | BI3: 2029 | BK3: 2030
A4: مجموع النفايات الخطرة المجمعة | B4: طن | C4: =SUM(C5,C6) -> 0 | E4: =E5+E6 -> 0 | G4: =G5+G6 -> 0 | I4: =I5+I6 -> 0 | K4: =K5+K6 -> 0 | M4: =M5+M6 -> 0 | O4: =O5+O6 -> 0 | Q4: =Q5+Q6 -> 0 | S4: =S5+S6 -> 0 | U4: =U5+U6 -> 0 | W4: =W5+W6 -> 0 | Y4: =Y5+Y6 -> 0 | AA4: =AA5+AA6 -> 0 | AC4: =AC5+AC6 -> 0 | AE4: =AE5+AE6 -> 0 | AG4: =AG5+AG6 -> 0 | AI4: =AI5+AI6 -> 0 | AK4: =AK5+AK6 -> 0 | AM4: =AM5+AM6 -> 0 | AO4: =AO5+AO6 -> 0 | AQ4: =AQ5+AQ6 -> 0 | AS4: =AS5+AS6 -> 0 | AU4: =AU5+AU6 -> 0 | AW4: =AW5+AW6 -> 0 | AY4: =AY5+AY6 -> 0 | BA4: =BA5+BA6 -> 0 | BC4: =BC5+BC6 -> 0 | BE4: =BE5+BE6 -> 0 | BG4: =BG5+BG6 -> 0 | BI4: =BI5+BI6 -> 0 | BK4: =BK5+BK6 -> 0
A5: منها: تم جمعها من خلال الخدمات البلدية | B5: طن
A6: منها: تم جمعها من خلال شركات خاصة | B6: طن
A7: النفايات الخطرة التي يقدمها المولد إلى مرافق المعالجة أو التخلص، المجموع | B7: طن
A8: تقدير النفايات الخطرة غير المحسوبة، المجموع | B8: طن
A9: إجمالي النفايات الخطرة المولدة | B9: طن | C9: =C4+C7+C8 -> 0 | E9: =E4+E7+E8 -> 0 | G9: =(G4+G7+G8) -> 0 | I9: =(I4+I7+I8) -> 0 | K9: =(K4+K7+K8) -> 0 | M9: =(M4+M7+M8) -> 0 | O9: =(O4+O7+O8) -> 0 | Q9: =(Q4+Q7+Q8) -> 0 | S9: =(S4+S7+S8) -> 0 | U9: =(U4+U7+U8) -> 0 | W9: =(W4+W7+W8) -> 0 | Y9: =(Y4+Y7+Y8) -> 0 | AA9: =(AA4+AA7+AA8) -> 0 | AC9: =(AC4+AC7+AC8) -> 0 | AE9: =(AE4+AE7+AE8) -> 0 | AG9: =(AG4+AG7+AG8) -> 0 | AI9: =(AI4+AI7+AI8) -> 0 | AK9: =(AK4+AK7+AK8) -> 0 | AM9: =(AM4+AM7+AM8) -> 0 | AO9: =(AO4+AO7+AO8) -> 0 | AQ9: =(AQ4+AQ7+AQ8) -> 0 | AS9: =(AS4+AS7+AS8) -> 0 | AU9: =(AU4+AU7+AU8) -> 0 | AW9: =(AW4+AW7+AW8) -> 0 | AY9: =(AY4+AY7+AY8) -> 0 | BA9: =(BA4+BA7+BA8) -> 0 | BC9: =(BC4+BC7+BC8) -> 0 | BE9: =(BE4+BE7+BE8) -> 0 | BG9: =(BG4+BG7+BG8) -> 0 | BI9: =(BI4+BI7+BI8) -> 0 | BK9: =(BK4+BK7+BK8) -> 0
A14: التفصيل | B14: الوحدة | C14: 2000 | E14: 2001 | G14: 2002 | I14: 2003 | K14: 2004 | M14: 2005 | O14: 2006 | Q14: 2007 | S14: 2008 | U14: 2009 | W14: 2010 | Y14: 2011 | AA14: 2012 | AC14: 2013 | AE14: 2014 | AG14: 2015 | AI14: 2016 | AK14: 2017 | AM14: 2018 | AO14: 2019 | AQ14: 2020 | AS14: 2021 | AU14: 2022 | AW14: 2023 | AY14: 2024 | BA14: 2025 | BC14: 2026 | BE14: 2027 | BG14: 2028 | BI14: 2029 | BK14: 2030
A15: إجمالي عدد السكان | B15: الفرد
A16: إجمالي حجم البلد | B16: كيلو متر مربع
A17: النفايات الخطرة المولدة، للفرد | B17: كغ/فرد | C17: =(C9*1000)/C15 -> #DIV/0! | E17: =(E9*1000)/E15 -> #DIV/0! | G17: =(G9*1000)/G15 -> #DIV/0! | I17: =(I9*1000)/I15 -> #DIV/0! | K17: =(K9*1000)/K15 -> #DIV/0! | M17: =(M9*1000)/M15 -> #DIV/0! | O17: =(O9*1000)/O15 -> #DIV/0! | Q17: =(Q9*1000)/Q15 -> #DIV/0! | S17: =(S9*1000)/S15 -> #DIV/0! | U17: =(U9*1000)/U15 -> #DIV/0! | W17: =(W9*1000)/W15 -> #DIV/0! | Y17: =(Y9*1000)/Y15 -> #DIV/0! | AA17: =(AA9*1000)/AA15 -> #DIV/0! | AC17: =(AC9*1000)/AC15 -> #DIV/0! | AE17: =(AE9*1000)/AE15 -> #DIV/0! | AG17: =(AG9*1000)/AG15 -> #DIV/0! | AI17: =(AI9*1000)/AI15 -> #DIV/0! | AK17: =(AK9*1000)/AK15 -> #DIV/0! | AM17: =(AM9*1000)/AM15 -> #DIV/0! | AO17: =(AO9*1000)/AO15 -> #DIV/0! | AQ17: =(AQ9*1000)/AQ15 -> #DIV/0! | AS17: =(AS9*1000)/AS15 -> #DIV/0! | AU17: =(AU9*1000)/AU15 -> #DIV/0! | AW17: =(AW9*1000)/AW15 -> #DIV/0! | AY17: =(AY9*1000)/AY15 -> #DIV/0! | BA17: =(BA9*1000)/BA15 -> #DIV/0! | BC17: =(BC9*1000)/BC15 -> #DIV/0! | BE17: =(BE9*1000)/BE15 -> #DIV/0! | BG17: =(BG9*1000)/BG15 -> #DIV/0! | BI17: =(BI9*1000)/BI15 -> #DIV/0! | BK17: =(BK9*1000)/BK15 -> #DIV/0!
A18: النفايات الخطرة المولدة، لكل كيلومتر مربع من الأرض | B18: كغ/كم2 | C18: =(C9*1000)/C16 -> #DIV/0! | E18: =(E9*1000)/E16 -> #DIV/0! | G18: =(G9*1000)/G16 -> #DIV/0! | I18: =(I9*1000)/I16 -> #DIV/0! | K18: =(K9*1000)/K16 -> #DIV/0! | M18: =(M9*1000)/M16 -> #DIV/0! | O18: =(O9*1000)/O16 -> #DIV/0! | Q18: =(Q9*1000)/Q16 -> #DIV/0! | S18: =(S9*1000)/S16 -> #DIV/0! | U18: =(U9*1000)/U16 -> #DIV/0! | W18: =(W9*1000)/W16 -> #DIV/0! | Y18: =(Y9*1000)/Y16 -> #DIV/0! | AA18: =(AA9*1000)/AA16 -> #DIV/0! | AC18: =(AC9*1000)/AC16 -> #DIV/0! | AE18: =(AE9*1000)/AE16 -> #DIV/0! | AG18: =(AG9*1000)/AG16 -> #DIV/0! | AI18: =(AI9*1000)/AI16 -> #DIV/0! | AK18: =(AK9*1000)/AK16 -> #DIV/0! | AM18: =(AM9*1000)/AM16 -> #DIV/0! | AO18: =(AO9*1000)/AO16 -> #DIV/0! | AQ18: =(AQ9*1000)/AQ16 -> #DIV/0! | AS18: =(AS9*1000)/AS16 -> #DIV/0! | AU18: =(AU9*1000)/AU16 -> #DIV/0! | AW18: =(AW9*1000)/AW16 -> #DIV/0! | AY18: =(AY9*1000)/AY16 -> #DIV/0! | BA18: =(BA9*1000)/BA16 -> #DIV/0! | BC18: =(BC9*1000)/BC16 -> #DIV/0! | BE18: =(BE9*1000)/BE16 -> #DIV/0! | BG18: =(BG9*1000)/BG16 -> #DIV/0! | BI18: =(BI9*1000)/BI16 -> #DIV/0! | BK18: =(BK9*1000)/BK16 -> #DIV/0!

Sheet HW managed
B1: 165 | C1: إدارة النفايات الخطرة (استبيان الشعبة الإحصائية بالأمم المتحدة/برنامج الأمم المتحدة للبيئة بشأن الإحصاءات البيئية، قسم النفايات، الجدول R2، جزئي)
F2: • إذا تحولت القيمة إلى اللون الأحمر، يرجى التحقق مما إذا كانت صحيحة.
B3: 2 | D3: الفئة | E3: الوحدة | F3: 2000 | H3: 2001 | J3: 2002 | L3: 2003 | N3: 2004 | P3: 2005 | R3: 2006 | T3: 2007 | V3: 2008 | X3: 2009 | Z3: 2010 | AB3: 2011 | AD3: 2012 | AF3: 2013 | AH3: 2014 | AJ3: 2015 | AL3: 2016 | AN3: 2017 | AP3: 2018 | AR3: 2019 | AT3: 2020 | AV3: 2021 | AX3: 2022 | AZ3: 2023 | BB3: 2024 | BD3: 2025 | BF3: 2026 | BH3: 2027 | BJ3: 2028 | BL3: 2029 | BN3: 2030
B4: 2830 | D4: النفايات الخطرة المولدة خلال العام | E4: طن | F4: ='HW generated'!C9 -> 0 | H4: ='HW generated'!E9 -> 0 | J4: ='HW generated'!G9 -> 0 | L4: ='HW generated'!I9 -> 0 | N4: ='HW generated'!K9 -> 0 | P4: ='HW generated'!M9 -> 0 | R4: ='HW generated'!O9 -> 0 | T4: ='HW generated'!Q9 -> 0 | V4: ='HW generated'!S9 -> 0 | X4: ='HW generated'!U9 -> 0 | Z4: ='HW generated'!W9 -> 0 | AB4: ='HW generated'!Y9 -> 0 | AD4: ='HW generated'!AA9 -> 0 | AF4: ='HW generated'!AC9 -> 0 | AH4: ='HW generated'!AE9 -> 0 | AJ4: ='HW generated'!AG9 -> 0 | AL4: ='HW generated'!AI9 -> 0 | AN4: ='HW generated'!AK9 -> 0 | AP4: ='HW generated'!AM9 -> 0 | AR4: ='HW generated'!AO9 -> 0 | AT4: ='HW generated'!AQ9 -> 0 | AV4: ='HW generated'!AS9 -> 0 | AX4: ='HW generated'!AV9 -> 0 | AZ4: ='HW generated'!AX9 -> 0 | BB4: ='HW generated'!AZ9 -> 0 | BD4: ='HW generated'!BB9 -> 0 | BF4: ='HW generated'!BD9 -> 0 | BH4: ='HW generated'!BF9 -> 0 | BJ4: ='HW generated'!BH9 -> 0 | BL4: ='HW generated'!BJ9 -> 0 | BN4: ='HW generated'!BL9 -> 0
B5: 1778 | D5: النفايات الخطرة المستوردة خلال العام | E5: طن
B6: 1779 | D6: النفايات الخطرة المصدرة خلال العام | E6: طن
A7: c | B7: 1780 | D7: النفايات الخطرة التي تمت معالجتها أو التخلص منها خلال العام | E7: طن | F7: =F6+F8+F9+F11+F12 -> 0 | H7: =H8+H9+H11+H12 -> 0 | J7: =J8+J9+J11+J12 -> 0 | L7: =L8+L9+L11+L12 -> 0 | N7: =N8+N9+N11+N12 -> 0 | P7: =P8+P9+P11+P12 -> 0 | R7: =R8+R9+R11+R12 -> 0 | T7: =T8+T9+T11+T12 -> 0 | V7: =V8+V9+V11+V12 -> 0 | X7: =X8+X9+X11+X12 -> 0 | Z7: =Z8+Z9+Z11+Z12 -> 0 | AB7: =AB8+AB9+AB11+AB12 -> 0 | AD7: =AD8+AD9+AD11+AD12 -> 0 | AF7: =AF8+AF9+AF11+AF12 -> 0 | AH7: =AH8+AH9+AH11+AH12 -> 0 | AJ7: =AJ8+AJ9+AJ11+AJ12 -> 0 | AL7: =AL8+AL9+AL11+AL12 -> 0 | AN7: =AN8+AN9+AN11+AN12 -> 0 | AP7: =AP8+AP9+AP11+AP12 -> 0 | AR7: =AR8+AR9+AR11+AR12 -> 0 | AT7: =AT8+AT9+AT11+AT12 -> 0 | AV7: =AV8+AV9+AV11+AV12 -> 0 | AX7: =AX8+AX9+AX11+AX12 -> 0 | AZ7: =AZ8+AZ9+AZ11+AZ12 -> 0 | BB7: =BB8+BB9+BB11+BB12 -> 0 | BD7: =BD8+BD9+BD11+BD12 -> 0 | BF7: =BF8+BF9+BF11+BF12 -> 0 | BH7: =BH8+BH9+BH11+BH12 -> 0 | BJ7: =BJ8+BJ9+BJ11+BJ12 -> 0 | BL7: =BL8+BL9+BL11+BL12 -> 0 | BN7: =BN8+BN9+BN11+BN12 -> 0
B8: 2573 | D8: المبالغ التي ستذهب إلى: إعادة التدوير | E8: طن
B9: 2574 | D9: الإحراق | E9: طن
B10: 2572 | D10: منها: مع استرداد الطاقة | E10: طن
B11: 1841 | D11: دفن النفايات | E11: طن
B12: 2575 | D12: غير ذلك، يرجى التحديد في الحاشية | E12: طن
C13: الملاحظات:
C14: • | D14: يرجى ملاحظة أن الوحدة في هذا الجدول هي "طن (طن متري)".
C15: • | D15: إذا كانت البيانات المطلوبة غير متوفرة، يرجى ترك الخانة فارغة. إذا كان المتغير المطلوب غير قابل للتطبيق (الظاهرة غير ذات صلة) على البلد أو كانت القيمة أقل من نصف وحدة القياس، يجب ملء الخانة بالقيمة "0".
C16: • | D16: يرجى تقديم معلومات في قسم الحواشي السفلية أدناه حول المصدر ومنهجية جمع البيانات للقيم المقدمة، مثل طرق التقدير (إن وجدت)، وأنواع مصادر البيانات الأصلية المستخدمة (على سبيل المثال، الاستطلاعات أو السجلات الإدارية).
C18: المعالجة السليمة بيئيًا للنفايات الخطرة المولدة الخاصة
D19: الفئة | E19: الوحدة | F19: 2000 | H19: 2001 | J19: 2002 | L19: 2003 | N19: 2004 | P19: 2005 | R19: 2006 | T19: 2007 | V19: 2008 | X19: 2009 | Z19: 2010 | AB19: 2011 | AD19: 2012 | AF19: 2013 | AH19: 2014 | AJ19: 2015 | AL19: 2016 | AN19: 2017 | AP19: 2018 | AR19: 2019 | AT19: 2020 | AV19: 2021 | AX19: 2022 | AZ19: 2023 | BB19: 2024 | BD19: 2025 | BF19: 2026 | BH19: 2027 | BJ19: 2028 | BL19: 2029 | BN19: 2030
D20: القدرة على معالجة النفايات المولدة الخاصة | E20: طن
D21: نسبة النفايات التي تمت معالجتها في البلد | E21: % | F21: =(F7-F6)/F4 -> #DIV/0! | H21: =(H7-H6)/H4 -> #DIV/0! | J21: =(J7-J6)/J4 -> #DIV/0! | L21: =(L7-L6)/L4 -> #DIV/0! | N21: =(N7-N6)/N4 -> #DIV/0! | P21: =(P7-P6)/P4 -> #DIV/0! | R21: =(R7-R6)/R4 -> #DIV/0! | T21: =(T7-T6)/T4 -> #DIV/0! | V21: =(V7-V6)/V4 -> #DIV/0! | X21: =(X7-X6)/X4 -> #DIV/0! | Z21: =(Z7-Z6)/Z4 -> #DIV/0! | AB21: =(AB7-AB6)/AB4 -> #DIV/0! | AD21: =(AD7-AD6)/AD4 -> #DIV/0! | AF21: =(AF7-AF6)/AF4 -> #DIV/0! | AH21: =(AH7-AH6)/AH4 -> #DIV/0! | AJ21: =(AJ7-AJ6)/AJ4 -> #DIV/0! | AL21: =(AL7-AL6)/AL4 -> #DIV/0! | AN21: =(AN7-AN6)/AN4 -> #DIV/0! | AP21: =(AP7-AP6)/AP4 -> #DIV/0! | AR21: =(AR7-AR6)/AR4 -> #DIV/0! | AT21: =(AT7-AT6)/AT4 -> #DIV/0! | AV21: =(AV7-AV6)/AV4 -> #DIV/0! | AX21: =(AX7-AX6)/AX4 -> #DIV/0! | AZ21: =(AZ7-AZ6)/AZ4 -> #DIV/0! | BB21: =(BB7-BB6)/BB4 -> #DIV/0! | BD21: =(BD7-BD6)/BD4 -> #DIV/0! | BF21: =(BF7-BF6)/BF4 -> #DIV/0! | BH21: =(BH7-BH6)/BH4 -> #DIV/0! | BJ21: =(BJ7-BJ6)/BJ4 -> #DIV/0! | BL21: =(BL7-BL6)/BL4 -> #DIV/0! | BN21: =(BN7-BN6)/BN4 -> #DIV/0!
D22: نسبة النفايات المصدرة | E22: % | F22: =F6/F4 -> #DIV/0! | H22: =H6/H4 -> #DIV/0! | J22: =J6/J4 -> #DIV/0! | L22: =L6/L4 -> #DIV/0! | N22: =N6/N4 -> #DIV/0! | P22: =P6/P4 -> #DIV/0! | R22: =R6/R4 -> #DIV/0! | T22: =T6/T4 -> #DIV/0! | V22: =V6/V4 -> #DIV/0! | X22: =X6/X4 -> #DIV/0! | Z22: =Z6/Z4 -> #DIV/0! | AB22: =AB6/AB4 -> #DIV/0! | AD22: =AD6/AD4 -> #DIV/0! | AF22: =AF6/AF4 -> #DIV/0! | AH22: =AH6/AH4 -> #DIV/0! | AJ22: =AJ6/AJ4 -> #DIV/0! | AL22: =AL6/AL4 -> #DIV/0! | AN22: =AN6/AN4 -> #DIV/0! | AP22: =AP6/AP4 -> #DIV/0! | AR22: =AR6/AR4 -> #DIV/0! | AT22: =AT6/AT4 -> #DIV/0! | AV22: =AV6/AV4 -> #DIV/0! | AX22: =AX6/AX4 -> #DIV/0! | AZ22: =AZ6/AZ4 -> #DIV/0! | BB22: =BB6/BB4 -> #DIV/0! | BD22: =BD6/BD4 -> #DIV/0! | BF22: =BF6/BF4 -> #DIV/0! | BH22: =BH6/BH4 -> #DIV/0! | BJ22: =BJ6/BJ4 -> #DIV/0! | BL22: =BL6/BL4 -> #DIV/0! | BN22: =BN6/BN4 -> #DIV/0!
D23: القدرة على معالجة النفايات المستوردة | E23: طن | F23: =IF(F20-F4<0,0,F20-F4) -> 0 | H23: =IF(H20-H4<0,0,H20-H4) -> 0 | J23: =IF(J20-J4<0,0,J20-J4) -> 0 | L23: =IF(L20-L4<0,0,L20-L4) -> 0 | N23: =IF(N20-N4<0,0,N20-N4) -> 0 | P23: =IF(P20-P4<0,0,P20-P4) -> 0 | R23: =IF(R20-R4<0,0,R20-R4) -> 0 | T23: =IF(T20-T4<0,0,T20-T4) -> 0 | V23: =IF(V20-V4<0,0,V20-V4) -> 0 | X23: =IF(X20-X4<0,0,X20-X4) -> 0 | Z23: =IF(Z20-Z4<0,0,Z20-Z4) -> 0 | AB23: =IF(AB20-AB4<0,0,AB20-AB4) -> 0 | AD23: =IF(AD20-AD4<0,0,AD20-AD4) -> 0 | AF23: =IF(AF20-AF4<0,0,AF20-AF4) -> 0 | AH23: =IF(AH20-AH4<0,0,AH20-AH4) -> 0 | AJ23: =IF(AJ20-AJ4<0,0,AJ20-AJ4) -> 0 | AL23: =IF(AL20-AL4<0,0,AL20-AL4) -> 0 | AN23: =IF(AN20-AN4<0,0,AN20-AN4) -> 0 | AP23: =IF(AP20-AP4<0,0,AP20-AP4) -> 0 | AR23: =IF(AR20-AR4<0,0,AR20-AR4) -> 0 | AT23: =IF(AT20-AT4<0,0,AT20-AT4) -> 0 | AV23: =IF(AV20-AV4<0,0,AV20-AV4) -> 0 | AX23: =IF(AX20-AX4<0,0,AX20-AX4) -> 0 | AZ23: =IF(AZ20-AZ4<0,0,AZ20-AZ4) -> 0 | BB23: =IF(BB20-BB4<0,0,BB20-BB4) -> 0 | BD23: =IF(BD20-BD4<0,0,BD20-BD4) -> 0 | BF23: =IF(BF20-BF4<0,0,BF20-BF4) -> 0 | BH23: =IF(BH20-BH4<0,0,BH20-BH4) -> 0 | BJ23: =IF(BJ20-BJ4<0,0,BJ20-BJ4) -> 0 | BL23: =IF(BL20-BL4<0,0,BL20-BL4) -> 0 | BN23: =IF(BN20-BN4<0,0,BN20-BN4) -> 0
B27: 1 | C27: الحواشي السفلية
C28: الرمز | D28: نص الحاشية السفلية

Sheet Proportion of HW treated
A1: كثافة النفايات ونسبة النفايات الخطرة التي تمت معالجتها
A2: نسبة النفايات الخطرة التي تمت معالجتها (%) = (كمية النفايات الخطرة التي تمت معالجتها خلال السنة المشمولة بالتقرير/ إجمالي كمية النفايات الخطرة المولدة خلال السنة المشمولة بالتقرير) × 100
A3: الفئة | B3: الوحدة | C3: 2000 | E3: 2001 | G3: 2002 | I3: 2003 | K3: 2004 | M3: 2005 | O3: 2006 | Q3: 2007 | S3: 2008 | U3: 2009 | W3: 2010 | Y3: 2011 | AA3: 2012 | AC3: 2013 | AE3: 2014 | AG3: 2015 | AI3: 2016 | AK3: 2017 | AM3: 2018 | AO3: 2019 | AQ3: 2020 | AS3: 2021 | AU3: 2022 | AW3: 2023 | AY3: 2024 | BA3: 2025 | BC3: 2026 | BE3: 2027 | BG3: 2028 | BI3: 2029 | BK3: 2030
A4: النفايات الخطرة التي تمت معالجتها أو التخلص منها خلال العام | B4: طن | C4: ='HW managed'!F7 -> 0 | E4: ='HW managed'!H7 -> 0 | G4: ='HW managed'!J7 -> 0 | I4: ='HW managed'!L7 -> 0 | K4: ='HW managed'!N7 -> 0 | M4: ='HW managed'!P7 -> 0 | O4: ='HW managed'!R7 -> 0 | Q4: ='HW managed'!T7 -> 0 | S4: ='HW managed'!V7 -> 0 | U4: ='HW managed'!X7 -> 0 | W4: ='HW managed'!Z7 -> 0 | Y4: ='HW managed'!AB7 -> 0 | AA4: ='HW managed'!AD7 -> 0 | AC4: ='HW managed'!AF7 -> 0 | AE4: ='HW managed'!AH7 -> 0 | AG4: ='HW managed'!AJ7 -> 0 | AI4: ='HW managed'!AL7 -> 0 | AK4: ='HW managed'!AN7 -> 0 | AM4: ='HW managed'!AP7 -> 0 | AO4: ='HW managed'!AR7 -> 0 | AQ4: ='HW managed'!AT7 -> 0 | AS4: ='HW managed'!AV7 -> 0 | AU4: ='HW managed'!AX7 -> 0 | AW4: ='HW managed'!AZ7 -> 0 | AY4: ='HW managed'!BB7 -> 0 | BA4: ='HW managed'!BD7 -> 0 | BC4: ='HW managed'!BF7 -> 0 | BE4: ='HW managed'!BH7 -> 0 | BG4: ='HW managed'!BJ7 -> 0 | BI4: ='HW managed'!BL7 -> 0 | BK4: ='HW managed'!BN7 -> 0
A5: إجمالي النفايات الخطرة المولدة | B5: طن | C5: ='HW generated'!C9 -> 0 | E5: ='HW generated'!E9 -> 0 | G5: ='HW generated'!G9 -> 0 | I5: ='HW generated'!I9 -> 0 | K5: ='HW generated'!K9 -> 0 | M5: ='HW generated'!M9 -> 0 | O5: ='HW generated'!O9 -> 0 | Q5: ='HW generated'!Q9 -> 0 | S5: ='HW generated'!S9 -> 0 | U5: ='HW generated'!U9 -> 0 | W5: ='HW generated'!W9 -> 0 | Y5: ='HW generated'!Y9 -> 0 | AA5: ='HW generated'!AA9 -> 0 | AC5: ='HW generated'!AC9 -> 0 | AE5: ='HW generated'!AE9 -> 0 | AG5: ='HW generated'!AG9 -> 0 | AI5: ='HW generated'!AI9 -> 0 | AK5: ='HW generated'!AK9 -> 0 | AM5: ='HW generated'!AM9 -> 0 | AO5: ='HW generated'!AO9 -> 0 | AQ5: ='HW generated'!AQ9 -> 0 | AS5: ='HW generated'!AS9 -> 0 | AU5: ='HW generated'!AV9 -> 0 | AW5: ='HW generated'!AX9 -> 0 | AY5: ='HW generated'!AZ9 -> 0 | BA5: ='HW generated'!BB9 -> 0 | BC5: ='HW generated'!BD9 -> 0 | BE5: ='HW generated'!BF9 -> 0 | BG5: ='HW generated'!BH9 -> 0 | BI5: ='HW generated'!BJ9 -> 0 | BK5: ='HW generated'!BL9 -> 0
A6: نسبة النفايات الخطرة التي تمت معالجتها | B6: % | C6: =C4/C5 -> #DIV/0! | E6: =E4/E5 -> #DIV/0! | G6: =G4/G5 -> #DIV/0! | I6: =I4/I5 -> #DIV/0! | K6: =K4/K5 -> #DIV/0! | M6: =M4/M5 -> #DIV/0! | O6: =O4/O5 -> #DIV/0! | Q6: =Q4/Q5 -> #DIV/0! | S6: =S4/S5 -> #DIV/0! | U6: =U4/U5 -> #DIV/0! | W6: =W4/W5 -> #DIV/0! | Y6: =Y4/Y5 -> #DIV/0! | AA6: =AA4/AA5 -> #DIV/0! | AC6: =AC4/AC5 -> #DIV/0! | AE6: =AE4/AE5 -> #DIV/0! | AG6: =AG4/AG5 -> #DIV/0! | AI6: =AI4/AI5 -> #DIV/0! | AK6: =AK4/AK5 -> #DIV/0! | AM6: =AM4/AM5 -> #DIV/0! | AO6: =AO4/AO5 -> #DIV/0! | AQ6: =AQ4/AQ5 -> #DIV/0! | AS6: =AS4/AS5 -> #DIV/0! | AU6: =AU4/AU5 -> #DIV/0! | AW6: =AW4/AW5 -> #DIV/0! | AY6: =AY4/AY5 -> #DIV/0! | BA6: =BA4/BA5 -> #DIV/0! | BC6: =BC4/BC5 -> #DIV/0! | BE6: =BE4/BE5 -> #DIV/0! | BG6: =BG4/BG5 -> #DIV/0! | BI6: =BI4/BI5 -> #DIV/0! | BK6: =BK4/BK5 -> #DIV/0!
A7: ملاحظة: يمكن أن تكون نسبة النفايات الخطرة التي تمت معالجتها أعلى من 100% في أي سنة معينة. عادة ما يتم تخزين النفايات الخطرة قبل معالجتها أو التخلص منها. لا يجوز معالجة جزء من النفايات الخطرة أو التخلص منها خلال العام الذي يتم توليدها فيه.
A10: كثافة إنتاج النفايات الخطرة
A11: كثافة إنتاج النفايات الخطرة = كمية النفايات الخطرة المولدة خلال السنة المشمولة بالتقرير/استهلاك المواد المحلية (DMC) في السنة المشمولة بالتقرير
A12: الفئة | B12: الوحدة | C12: 2000 | E12: 2001 | G12: 2002 | I12: 2003 | K12: 2004 | M12: 2005 | O12: 2006 | Q12: 2007 | S12: 2008 | U12: 2009 | W12: 2010 | Y12: 2011 | AA12: 2012 | AC12: 2013 | AE12: 2014 | AG12: 2015 | AI12: 2016 | AK12: 2017 | AM12: 2018 | AO12: 2019 | AQ12: 2020 | AS12: 2021 | AU12: 2022 | AW12: 2023 | AY12: 2024 | BA12: 2025 | BC12: 2026 | BE12: 2027 | BG12: 2028 | BI12: 2029 | BK12: 2030
A13: الاستهلاك المحلي للمواد | B13: طن
A14: كثافة النفايات الخطرة | B14: — | C14: =C5/C13 -> #DIV/0! | E14: =E5/E13 -> #DIV/0! | G14: =G5/G13 -> #DIV/0! | I14: =I5/I13 -> #DIV/0! | K14: =K5/K13 -> #DIV/0! | M14: =M5/M13 -> #DIV/0! | O14: =O5/O13 -> #DIV/0! | Q14: =Q5/Q13 -> #DIV/0! | S14: =S5/S13 -> #DIV/0! | U14: =U5/U13 -> #DIV/0! | W14: =W5/W13 -> #DIV/0! | Y14: =Y5/Y13 -> #DIV/0! | AA14: =AA5/AA13 -> #DIV/0! | AC14: =AC5/AC13 -> #DIV/0! | AE14: =AE5/AE13 -> #DIV/0! | AG14: =AG5/AG13 -> #DIV/0! | AI14: =AI5/AI13 -> #DIV/0! | AK14: =AK5/AK13 -> #DIV/0! | AM14: =AM5/AM13 -> #DIV/0! | AO14: =AO5/AO13 -> #DIV/0! | AQ14: =AQ5/AQ13 -> #DIV/0! | AS14: =AS5/AS13 -> #DIV/0! | AU14: =AU5/AU13 -> #DIV/0! | AW14: =AW5/AW13 -> #DIV/0! | AY14: =AY5/AY13 -> #DIV/0! | BA14: =BA5/BA13 -> #DIV/0! | BC14: =BC5/BC13 -> #DIV/0! | BE14: =BE5/BE13 -> #DIV/0! | BG14: =BG5/BG13 -> #DIV/0! | BI14: =BI5/BI13 -> #DIV/0! | BK14: =BK5/BK13 -> #DIV/0!
