Workbook

Sheet Lists
A1: A | B1: B(a)1 | C1: B(a)2-1 | D1: B(a)2-2 | E1: B(a)3-1 | F1: B(a)3-2 | G1: B(a) 4-1 | H1: B(a) 4-2 | I1: B(a)5 | J1: B(a)6 | K1: B(b) | L1: C | M1: D(a) | N1: D(a) TITLE | O1: D(a) values | P1: D(b) TITLE | Q1: D(b) values | R1: D(c) | S1: E(a)-1 | T1: E(a)-2 | U1: E(a)-3 | V1: E(b)-1 | W1: E(b)-2 | X1: E(b)-3 | Y1: LABELS | AA1: Policies | AB1: Legal Instruments | AC1: D(4) supporting doc | AE1: D(a) values | AF1: Not used | AH1: D(b) values | AI1: D(b) not used
A2: SÍ | B2: Medio ambiente | C2: SÍ, los requisitos de sostenibilidad pueden incluirse en las especificaciones técnicas | D2: SÍ, se pueden utilizar especificaciones funcionales, basadas en los resultados y/o en el rendimiento | E2: SÍ, los requisitos de sostenibilidad pueden especificarse como criterios de precalificación o selección | F2: SÍ, los requisitos de sostenibilidad pueden especificarse como criterios de exclusión | G2: SÍ, la adjudicación del contrato puede basarse en dichos enfoques/ criterios | H2: SÍ, se puede utilizar el cálculo del coste del ciclo de vida | I2: SÍ, las cláusulas de ejecución del contrato pueden especificar requisitos de sostenibilidad | J2: SÍ, es OBLIGATORIO adquirir productos/servicios sostenibles al menos para algunas categorías | K2: SÍ, es OBLIGATORIO adquirir productos/servicios sostenibles al menos para algunas categorías | L2: SÍ | M2: YES | N2: o Appliances (commercial and residential appliances, such as clothes washers, ovens, refrigerators, etc.) o Building interior products (carpeting, wallboards, paint and stains, etc.) o Healthcare, biomedical equipment and supplies o Building management and maintenance o Cleaning products, janitorial and laundry services o Construction materials and services (including concrete, insulation materials, etc.) o Doors and windows o Electricity acquisition and Renewable energy o Food, catering services and vending machines o Furniture o Heating, venting and cooling products o Landscaping and park services o Lighting products and equipment (incl. lamp bulbs, indoor and outdoor lighting). o Meeting and conference services o Office electronics (incl. computers, monitors and imaging equipment) and electronic equipment leasing o Office supplies (non-paper supplies) o Paper and paper products o Road Design, Construction and Maintenance o Shipping, Packaging & Packing Supplies o Textiles (including workwear) o Transportation services and vehicles (including fleet maintenance) o Urban Waste collection o Waste water infrastructure o Water-using products/ plumbing systems | O2: o Appliances | P2: o Protecting against human rights abuses (for example, discrimination, unsafe working conditions child labour, forced labour, and human trafficking). It is advised to refer to the UN Guiding Principles for Business and Human Rights in the definition of such considerations. o Protecting and promoting groups at risk (for example, minorities, indigenous people, persons with disabilities, migrant workers) through social inclusion, which may include employment opportunities. o Promoting compliance with ILO standards and decent work o Promoting transparency and accountability and combatting corruption o Promoting SMEs o Promoting fair trade (for example, by ensuring fair living wages for those along the supply chain) o Promoting gender equality (for example, through the promotion of women-led businesses, or requiring a certain percentage of women in the workplace) o Promoting opportunities for social economy enterprises (NGOs, etc.) o Promoting Responsible Business Conduct among suppliers (governments may refer to the OECD Guidelines for Multinational Enterprises when defining these). o Promoting inclusive and equitable quality education, and lifelong learning opportunities for all (such as apprenticeship or training opportunities) | Q2: o Protecting against human rights abuses (for example, discrimination, unsafe working conditions child labour, forced labour, and human trafficking) | R2: YES, a risk-assessment analysis has been conducted prior to the selection of categories | S2: SÍ, se supervisa el progreso del plan de acción/política de las CPS | T2: SÍ, se ha fijado un objetivo específico | U2: SÍ, se controla la consecución de los objetivos | V2: SÍ, se controla el número y/o el valor de los contratos "sostenibles" | W2: SÍ, se supervisan los resultados de sostenibilidad | X2: NO al seguimiento | Y2: Base biológica | AA2: Política/estrategia de CPS | AB2: Acto específico de promoción de las CPS | AC2: Medio ambiente | AE2: o Electrodomésticos | AF2: {=_xlfn._xlws.SORT(_xlfn._xlws.FILTER(AE2:AE25,COUNTIF(Cuestionario!D35:D52,Lists!AE2:AE25)=0))} -> o Adquisición de electricidad y energía renovable | AH2: o Proteger y promover a los grupos de riesgo mediante la inclusión social, que puede incluir oportunidades de empleo. | AI2: {=_xlfn._xlws.SORT(_xlfn._xlws.FILTER(AH2:AH10,COUNTIF(Cuestionario!D58:D66,Lists!AH2:AH10)=0))} -> o Promover el comercio justo
A3: NO | B3: Social | C3: SÍ, se pueden utilizar como referencia las etiquetas de tipo I o las normas de sostenibilidad | D3: NO, no se pueden utilizar como criterios | E3: NO, no es posible | F3: NO, no es posible | G3: NO, la adjudicación del contrato no puede basarse en dichos enfoques/ criterios | H3: NO, no se puede utilizar el cálculo del coste del ciclo de vida | I3: NO, las cláusulas de ejecución del contrato no pueden especificar requisitos de sostenibilidad | J3: NO, no es obligatorio (sólo posible) adquirir productos/servicios sostenibles | K3: NO, no es obligatorio (sólo posible) adquirir productos/servicios sostenibles | L3: NO | M3: NO | O3: o Building interior products (carpeting, wallboards, paint and stains, etc.) | Q3: o Protecting and promoting groups at risk (for example, minorities, indigenous people, persons with disabilities, migrant workers) through social inclusion, which may include employment opportunities. | R3: NO, no risk-assessment analysis has been conducted | S3: NO | T3: NO | U3: NO | V3: NO | W3: NO | X3: Seguimiento mediante encuestas, autoevaluación o informes tradicionales a la dirección | Y3: Ahorro de energía | AA3: Plan de acción/hoja de ruta de CPS | AB3: Decreto/orden que promueve las CPS | AC3: Social | AE3: o Productos para el interior de edificios (moquetas, paneles de pared, pintura y tintes, etc.) | AF3: o Alimentación, servicios de catering y máquinas expendedoras | AH3: o Promover el cumplimiento de las normas de la OIT y el trabajo decente | AI3: o Promover el cumplimiento de las normas de la OIT y el trabajo decente
B4: Medio ambiente y social | C4: SÍ, ambos medios son posibles | O4: o Building management and maintenance | Q4: o Promoting compliance with ILO standards and decent work | X4: Seguimiento a través de una auditoría interna/externa | Y4: Algodón/tejido ecológico | AA4: Promoción de las CPS en la estrategia nacional de compras públicas | AB4: Resolución/circular de promoción de las CPS | AC4: Medio ambiente y social | AE4: o Equipos y suministros sanitarios y biomédicos | AF4: o Diseño, construcción y mantenimiento de carreteras | AH4: o Promover la transparencia y la responsabilidad y luchar contra la corrupción | AI4: o Promover la igualdad de género
B5: None of those listed | C5: NO, no se pueden utilizar dichos criterios, normas o etiquetas | O5: o Cleaning products, janitorial and laundry services | Q5: o Promoting transparency and accountability and combatting corruption | X5: Seguimiento a través de un sistema de información | Y5: Alimentos de cultivo ecológico | AA5: Promoción de las CPS en la estrategia global | AB5: Disposiciones de CPS en la ley de contratación pública | AE5: o Gestión y mantenimiento de edificios | AF5: o Electrodomésticos | AH5: o Promover las PYMES | AI5: o Promover la transparencia y la responsabilidad y luchar contra la corrupción
O6: o Construction materials and services (including concrete, insulation materials, etc.) | Q6: o Promoting SMEs | X6: Seguimiento a través de una elaborada plataforma de contratación electrónica | Y6: Papel de origen sostenible | AA6: Otros | AB6: Disposiciones de las CPS en los reglamentos/reglas/códigos de contratación | AE6: o Productos de limpieza, servicios de conserjería y lavandería | AF6: o Electrónica de oficina y alquiler de equipos electrónicos | AH6: o Promover el comercio justo | AI6: o Promover las PYMES
O7: o Doors and windows | Q7: o Promoting fair trade (for example, by ensuring fair living wages for those along the supply chain) | Y7: Madera de origen sostenible | AB7: Disposiciones de las CPS en la legislación general (como la legislación medioambiental) | AE7: o Materiales y servicios de construcción (incluyendo hormigón, materiales de aislamiento, etc.) | AF7: o Equipos y suministros sanitarios y biomédicos | AH7: o Promover la igualdad de género | AI7: o Promover oportunidades para las empresas de economía social (ONG, etc.)
O8: o Electricity acquisition and Renewable energy | Q8: o Promoting gender equality (for example, through the promotion of women-led businesses, or requiring a certain percentage of women in the workplace) | Y8: Otra etiqueta (especifique en la siguiente columna) | AB8: Otros | AE8: o Puertas y ventanas | AF8: o Gestión y mantenimiento de edificios | AH8: o Promover oportunidades para las empresas de economía social (ONG, etc.) | AI8: o Promover una educación de calidad inclusiva y equitativa, y oportunidades de aprendizaje permanente para todos
O9: o Food, catering services and vending machines | Q9: o Promoting opportunities for social economy enterprises (NGOs, etc.) | AE9: o Adquisición de electricidad y energía renovable | AF9: o Infraestructura de aguas residuales | AH9: o Promover una conducta empresarial responsable entre los proveedores | AI9: o Proteger y promover a los grupos de riesgo mediante la inclusión social, que puede incluir oportunidades de empleo.
O10: o Furniture | Q10: o Promoting Responsible Business Conduct among suppliers | AE10: o Alimentación, servicios de catering y máquinas expendedoras | AF10: o Materiales y servicios de construcción (incluyendo hormigón, materiales de aislamiento, etc.) | AH10: o Promover una educación de calidad inclusiva y equitativa, y oportunidades de aprendizaje permanente para todos | AI10: o Promover una conducta empresarial responsable entre los proveedores
O11: o Healthcare, biomedical equipment and supplies | Q11: o Promoting inclusive and equitable quality education, and lifelong learning opportunities for all (such as apprenticeship or training opportunities) | AE11: o Mobiliario | AF11: o Mobiliario
O12: o Heating, venting and cooling products | Q12: o Promoting youth employment and training | AE12: o Productos de calefacción, ventilación y refrigeración | AF12: o Papel y productos de papel
O13: o Landscaping and park services | AE13: o Servicios de jardinería y parques | AF13: o Productos de calefacción, ventilación y refrigeración
O14: o Lighting products and equipment (incl. lamp bulbs, indoor and outdoor lighting). | AE14: o Productos y equipos de iluminación (incluyendo bombillas, iluminación interior y exterior) | AF14: o Productos de limpieza, servicios de conserjería y lavandería
O15: o Meeting and conference services | AE15: o Servicios de reuniones y conferencias | AF15: o Productos para el interior de edificios (moquetas, paneles de pared, pintura y tintes, etc.)
O16: o Office electronics (incl. computers, monitors and imaging equipment) and electronic equipment leasing | AE16: o Electrónica de oficina y alquiler de equipos electrónicos | AF16: o Productos que utilizan agua/sistemas de fontanería
O17: o (Non-paper) Office supplies | AE17: o Suministros de oficina (no de papel) | AF17: o Productos y equipos de iluminación (incluyendo bombillas, iluminación interior y exterior)
O18: o Paper and paper products | AE18: o Papel y productos de papel | AF18: o Puertas y ventanas
O19: o Road Design, Construction and Maintenance | AE19: o Diseño, construcción y mantenimiento de carreteras | AF19: o Recogida de residuos urbanos
O20: o Shipping, Packaging & Packing Supplies | AE20: o Suministros de envío, empaquetado y embalaje | AF20: o Servicios de jardinería y parques
O21: o Textiles (including workwear) | AE21: o Textiles (incluida la ropa de trabajo) | AF21: o Servicios de reuniones y conferencias
O22: o Transportation services and vehicles (including fleet maintenance) | AE22: o Servicios de transporte y vehículos (incluido el mantenimiento de la flota) | AF22: o Servicios de transporte y vehículos (incluido el mantenimiento de la flota)
O23: o Urban Waste collection | AE23: o Recogida de residuos urbanos | AF23: o Suministros de envío, empaquetado y embalaje
O24: o Waste water infrastructure | AE24: o Infraestructura de aguas residuales | AF24: o Suministros de oficina (no de papel)
O25: o Water-using products/ plumbing systems | AE25: o Productos que utilizan agua/sistemas de fontanería | AF25: o Textiles (incluida la ropa de trabajo)

Sheet Instrucciones
D1: INSTRUCCIONES
B2: Gracias por tomarse el tiempo para completar el Cuestionario 2022 sobre el indicador 12.7.1 de los ODS, que mide el "Número de países que aplican políticas y planes de acción de las compras públicas sostenibles (CPS)" . 1. En primer lugar, haga clic en la pestaña "Datos de contacto" en la parte inferior de esta página e introduzca su información de contacto en los campos previstos. 2. A continuación, seleccione la pestaña "Cuestionario" y responda a todas las preguntas que pueda, seleccionando una respuesta del menú desplegable en las celdas que están sombreadas en amarillo. 3. Para cada respuesta, en las celdas sombreadas en amarillo más claro, proporcione pruebas de apoyo, como enlaces a documentos relevantes, así como referencias dentro de estos documentos a números de páginas y declaraciones específicas. Si los documentos justificativos no están disponibles en línea, cárguelos en el archivo "Documentos justificativos" de la carpeta de su país. Las respuestas sin pruebas de apoyo no serán acreditadas. 4. Las casillas sombreadas en gris son opcionales.
B3: Haga click aquí para obtener instrucciones más detalladas sobre cómo rellenar este cuestionario en Excel, consulte las "Directrices del cuestionario en Excel del Índice CPS".
B4: Haga click aquí para obtener más información sobre la metodología y el sistema de puntuación del indicador 12.7.1 de los ODS, documento "Metodología del Índice CPS".
B5: Para ver una lista por países de los puntos focales del indicador 12.7.1 de los ODS y sus suplentes, haga clic aquí.
B6: ¿PREGUNTAS? Póngase en contacto con nosotros: | C6: agnes.wierzbicki@un.org cc. farid.yaker@un.org | D6: Consultora, PNUMA Oficial de programa, PNUMA

Sheet Datos de contacto
E1: DATOS DE CONTACTO DE LOS ENCUESTADOS
B2: Fecha (dd/mm/aa) | C2: País | D2: Nombre | E2: Apellido | F2: Género | G2: Cargo | H2: Departamento/Ministerio/Organización | I2: Dirección de correo electrónico | J2: Dirección de correo electrónico adicional (si procede)
A3: Encuestado #1
A4: Encuestado #2
A5: Encuestado #3
A6: Encuestado #4
A7: Encuestado #5
A8: Encuestado #6
A9: Encuestado #7
A10: Encuestado #8
A11: Encuestado #9
A12: Encuestado #10
A13: Encuestado #11
A14: Encuestado #12
... A17: Encuestado #15

Sheet Cuestionario
C1: CUESTIONARIO
B2: SUBINDICADORES Y PREGUNTAS | C2: PUNTUACIÓN | D2: SU RESPUESTA | E2: DETALLES Y DOCUMENTOS DE APOYO
B3: A: Existencia de una política/plan de acción de las CPS y/o requisitos reglamentarios de las CPS | C3: 1 pt | D3: Haga clic en la celda de abajo y seleccione una respuesta de la lista desplegable | E3: Por favor, proporcione más detalles para apoyar su respuesta y por favor incluya enlaces a los documentos pertinentes
B4: A.1 ¿Cuenta su país con una política/plan de acción de las CPS aprobada (nacional/federal) que se esté aplicando y/o con requisitos reglamentarios de las CPS? Pueden ser cualquiera de los siguientes: (1) políticas/estrategias específicas de las CPS, planes de acción/mapas de ruta y requisitos reglamentarios; y/o (2) políticas globales (es decir, estrategias de desarrollo sostenible, políticas de consumo y producción sostenibles, economía verde, economía circular, etc.) con disposiciones integrales de las CPS; y/o (3) leyes y reglamentos de contratación pública con disposiciones integrales de las CPS; y/o (4) leyes sectoriales con disposiciones integrales de las CPS (es decir, directivas sobre eficiencia energética). | C4: 1 pt | E4: Por favor, haga clic aquí para proporcionar detalles sobre sus políticas e instrumentos legales que apoyan las CPS (Documentos de apoyo A1).
C5: Su puntuación A: | D5: =IF(D4=Lists!$A$2,1,0) -> 0
B6: B: El marco normativo de la contratación pública favorece las CPS | C6: 20 pts | D6: Haga clic en la celda de abajo y seleccione una respuesta de la lista desplegable | E6: Por favor, proporcione más detalles para apoyar su respuesta y por favor incluya enlaces a los documentos pertinentes
B7: B(a) Las disposiciones del marco legal y reglamentario permiten incorporar consideraciones de sostenibilidad (ambientales y/o sociales) en las siguientes etapas del proceso de contratación pública: | C7: 14 pts
B8: 1/ Definiciones de los requisitos
B9: B.1 ¿Permite el marco legal y reglamentario incluir requisitos de sostenibilidad (ambientales y/o sociales) en las especificaciones técnicas? Y/O ¿Pueden utilizarse las etiquetas ecológicas de tipo I, las etiquetas sociales o las normas de sostenibilidad pertinentes como referencia para especificar el nivel mínimo de cumplimiento? Al definir los criterios mínimos de cumplimiento de un contrato, se pueden especificar los requisitos de sostenibilidad. Por ejemplo: uso de materia prima sostenible/reciclada; biodegradabilidad de los productos; evitar el uso de sustancias nocivas; embalaje ecológico; nivel de consumo energético; garantía y durabilidad; garantía de disponibilidad de piezas y componentes. | C9: 2 pts | E9: …
B10: B.2 ¿Permite el marco legal y reglamentario que se utilicen como criterios especificaciones funcionales / basadas en resultados / basadas en el rendimiento? Tales especificaciones indican lo que los artículos adquiridos deben lograr en términos de las funciones realizadas, el nivel de rendimiento alcanzado o los productos/resultados entregados. Por ejemplo: bombillas con un consumo energético limitado, o vehículos con emisiones de CO2 limitadas. | C10: 2 pts | E10: …
B11: 2/ Precalificación/cualificación
B12: B.3 ¿Permite el marco legal y reglamentario que los requisitos de sostenibilidad se especifiquen como criterios de precalificación/selección? Los criterios de selección evalúan la idoneidad de un operador económico para llevar a cabo un contrato. Por ejemplo, se puede pedir a los proveedores que demuestren el cumplimiento de las normas sociales y/o medioambientales, que demuestren que han adoptado un enfoque de sistema de gestión medioambiental o un sistema de gestión y seguimiento de la cadena de suministro. | C12: 2 pts | E12: …
B13: B.4 ¿Permite el marco legal y reglamentario que los requisitos de sostenibilidad se especifiquen como criterios de exclusión? Los proveedores que infrinjan la legislación medioambiental o social, o que no cumplan determinadas normas medioambientales o sociales (como los convenios fundamentales de la OIT), pueden ser excluidos del proceso de contratación. | C13: 2 pts | E13: …
B14: 3/ Evaluación y selección
B15: B.5 ¿Permite el marco legal y reglamentario que la adjudicación del contrato se base en criterios distintos del precio (incluidos los criterios de sostenibilidad)? Por ejemplo, recurriendo a los enfoques de "Mejor relación calidad-precio" o "Oferta económicamente más ventajosa." | C15: 2 pts | E15: …
B16: B.6 ¿Permite el marco legal y reglamentario utilizar el cálculo del coste del ciclo de vida (CCV) en la evaluación de las ofertas? El CCV es una evaluación económica que tiene en cuenta todos los costes en los que se incurrirá durante la vida útil de un producto, obra o servicio (precio de compra, incluyendo la entrega, costes de instalación; costes de funcionamiento y mantenimiento; costes de fin de vida, como la eliminación). | C16: 2 pts | E16: …
B17: 4/ Adjudicación y gestión del contrato
B18: B.7 ¿Permite el marco legal y reglamentario especificar los requisitos de sostenibilidad en las cláusulas de ejecución de los contratos? Por ejemplo: exigir el cumplimiento de los derechos laborales en la cadena de suministro (por ejemplo, las normas fundamentales de la OIT); exigir un uso eficiente de los recursos, como la electricidad y el agua, en las obras de construcción; la reducción de las emisiones de CO2 asociadas al transporte; la retirada de los embalajes para su reutilización, reciclaje o eliminación adecuada. | C18: 2 pts | E18: …
C19: Su puntuación B(a): | D19: =SUM(IF(D9=Lists!$C$2,2,IF(D9=Lists!$C$3,2,IF(D9=Lists!$C$4,2,IF(D9=Lists!$C$5,0,IF(D9="",0))))),IF(D10=Lists!$D$2,2,0),IF(D12=Lists!$E$2,2,0),IF(D13=Lists!$F$2,2,0),IF(D15=Lists!$G$2,2,0),IF(D16=Lists!$H$2,2,0),IF(D$18=Lists!$I$2,2,0)) -> 0
B20: B(b) Las disposiciones del marco legal y reglamentario ordenan la adquisición de alternativas sostenibles | C20: 6 pts
B21: B.8 ¿El marco legal y reglamentario obliga a la contratación de alternativas sostenibles para al menos una o más categorías? Por ejemplo, la Directiva sobre vehículos limpios de la UE obliga a los poderes adjudicadores a tener en cuenta las repercusiones energéticas y medioambientales a la hora de adquirir vehículos de transporte por carretera. | C21: 6 pts | E21: …
C22: Su puntuación B(b): | D22: =SUM(IF(D21=Lists!$K$3,0,IF(D21=Lists!$K$2,6,IF(D21="",0)))) -> 0
C23: Su puntuación B: | D23: =D19+D22 -> 0
B24: C: Apoyo práctico prestado a los profesionales de la contratación pública en la aplicación de las CPS | C24: 20 pts | D24: Haga clic en la celda de abajo y seleccione una respuesta de la lista desplegable | E24: Por favor, proporcione más detalles o ejemplos para apoyar su respuesta y por favor incluya enlaces a los documentos pertinentes
B25: C.1 ¿Se han elaborado directrices y herramientas, o un catálogo oficial de productos con etiqueta ecológica, que se revisan periódicamente? Como directrices/manuales de contratación sostenible, criterios de sostenibilidad, catálogo oficial de productos sostenibles, etc. | C25: 4 pts | E25: …
B26: C.2 ¿Se utilizan canales de comunicación específicos para proporcionar información o herramientas a los profesionales de la contratación, al menos dos veces al año? Por ejemplo, un boletín informativo, un sitio web, una intranet, medios sociales, etc. | C26: 4 pts | E26: …
B27: C.3 ¿Se organizan sesiones de formación al menos una vez al año para desarrollar la capacidad de los profesionales de la contratación pública en la aplicación de las CPS? Estas sesiones de formación deben centrarse en las CPS o contener un componente significativo de CPS. Estas sesiones pueden ser presenciales y/o virtuales y ofrecerse a los nuevos empleados o como formación continua. Las sesiones de formación también pueden extenderse a los proveedores. Estas sesiones suelen centrarse en ayudar a los proveedores a entender el proceso de compra y los requisitos de sostenibilidad. | C27: 4 pts | E27: …
B28: C.4 ¿Se comparten las mejores prácticas o estudios de casos (al menos 3) con los profesionales de la contratación? Tenga en cuenta únicamente los estudios desarrollados en los últimos 3 años, que pueden incluir la traducción de documentos relevantes desarrollados por otros países. | C28: 2 pts | E28: …
B29: C.5 ¿El gobierno nacional fomenta las mejores prácticas y los logros en materia de CPS mediante premios y/o incentivos? Los premios e incentivos aumentan la inversión de los empleados en CPS y crean una cultura que fomenta la integración de las consideraciones de sostenibilidad en la contratación pública. Los incentivos incluyen los típicos reconocimientos y recompensas internas. Otros ejemplos son las competiciones creativas entre las unidades de la organización o entre ellas, o para categorías de compras específicas. | C29: 2 pts | E29: …
B30: C.6 ¿Hay un servicio de ayuda de las CPS disponible para los profesionales de la contratación? Un servicio de ayuda del SPP proporciona asistencia directa por teléfono, Internet, correo electrónico o mediante visitas a los poderes adjudicadores públicos sobre cuestiones relacionadas con la aplicación de las CPS. También puede tratarse de un servicio de ayuda general para la contratación pública que aborde cuestiones relacionadas con las CPS. | C30: 4 pts | E30: …
C31: Su puntuación C: | D31: =SUM(IF(D25=Lists!$L$2,4,0),IF(D26=Lists!$L$2,4,0),IF(D27=Lists!$L$2,4,0),IF(D28=Lists!$L$2,2,0),IF(D29=Lists!$L$2,2,0),IF(D30=Lists!$L$2,4,0)) -> 0
B32: D: Criterios de compra / normas de compra / requisitos de las CPS | C32: 20 pts | D32: Seleccione las categorías y los productos correspondientes en la lista desplegable | E32: Enumere detalladamente a continuación los nombres de los grupos de productos (más pequeños) que pueden pertenecer a la categoría seleccionada en la columna D | F32: Por favor, proporcione más detalles o ejemplos para apoyar su respuesta y por favor incluya enlaces a los documentos pertinentes | G32: Opcional | H32: Opcional
B33: D(a) Criterios medioambientales | C33: 10 pts
B34: D.1 ¿Se han definido criterios de compra ecológica o se han recomendado normas/etiquetas medioambientales para categorías específicas de productos y servicios? Si la respuesta es negativa, pase a la siguiente pregunta. En caso afirmativo, seleccione una respuesta de la lista desplegable de la columna D. Los criterios de compra ecológica y las normas/etiquetas medioambientales especifican los niveles de rendimiento medioambiental y climático de un producto o servicio. Pueden especificarse en las solicitudes y contratos, y pueden incluirse en la evaluación técnica y el análisis de costes de los presupuestos, ofertas y propuestas. Por ejemplo, se puede exigir que los vehículos no emitan más de una determinada cantidad de contaminantes, o que los aparatos de aire acondicionado no consuman más de una determinada cantidad de energía. | D34: Seleccione hasta 18 categorías relevantes de la lista desplegable que aparece a continuación para las que se han definido criterios de contratación ecológica o se han recomendado normas/etiquetas medioambientales. Cada categoría solo puede seleccionarse una vez. | E34: Enumere detalladamente a continuación los nombres de los grupos de productos o servicios (más pequeños) que pueden estar incluidos en la categoría seleccionada en la columna D. Por ejemplo, si la categoría de productos/servicios seleccionada en la columna D es "Electrónica de oficina", los posibles grupos de productos más pequeños podrían ser "monitores", "equipos de imagen", etc. | F34: Por favor, proporcione más detalles o ejemplos para apoyar su respuesta y por favor incluya enlaces a los documentos pertinentes | G34: Opcional: Si se han recomendado etiquetas para esos productos, seleccione una etiqueta de la lista desplegable. Si la etiqueta no aparece en la lista, escríbala en la siguiente columna. | H34: Opcional: Otro tipo de etiqueta (especifique)
B35: Las categorías más comunes de productos y servicios que aparecen en la lista desplegable de la columna D a la derecha. o Adquisición de electricidad y energía renovable o Alimentación, servicios de catering y máquinas expendedoras o Diseño, construcción y mantenimiento de carreteras o Electrodomésticos (aparatos comerciales y residenciales, como lavadoras de ropa, hornos, frigoríficos, etc.) o Electrónica de oficina (incluidos ordenadores, monitores y equipos de imagen) y alquiler de equipos electrónicos o Equipos y suministros sanitarios y biomédicos o Gestión y mantenimiento de edificios o Infraestructura de aguas residuales o Materiales y servicios de construcción (incluyendo hormigón, materiales de aislamiento, etc.) o Mobiliario o Papel y productos de papel o Productos de calefacción, ventilación y refrigeración o Productos de limpieza, servicios de conserjería y lavandería o Productos para el interior de edificios (moquetas, paneles de pared, pintura y tintes, etc.) o Productos que utilizan agua/sistemas de fontanería o Productos y equipos de iluminación (incluyendo bombillas, iluminación interior y exterior) o Puertas y ventanas o Recogida de residuos urbanos o Servicios de jardinería y parques o Servicios de reuniones y conferencias o Servicios de transporte y vehículos (incluido el mantenimiento de la flota) o Suministros de oficina (no de papel) o Suministros de envío, empaquetado y embalaje o Textiles (incluida la ropa de trabajo) | C35: 0.5 pts | E35: … | F35: … | H35: …
C36: 0.5 pts | E36: … | F36: … | H36: …
C37: 0.5 pts | E37: … | F37: … | H37: …
C38: 0.5 pts | E38: … | F38: … | H38: …
C39: 0.5 pts | E39: … | F39: … | H39: …
C40: 0.5 pts | E40: … | F40: … | H40: …
...

Sheet Documentos de apoyo A1
F1: DOCUMENTOS DE APOYO A1 | H1: Volver al cuestionario
B2: ¿Qué políticas/estrategias o planes de acción/hojas de ruta tiene su gobierno (federal/nacional) que apoyan la aplicación de las CPS? Puede tratarse de políticas, planes de acción, estrategias y hojas de ruta específicas de las CPS, o de políticas generales (como las políticas de desarrollo sostenible, las políticas de consumo y producción sostenibles, etc.) con disposiciones integrales de las CPS. | C2: Políticas/estrategias y planes de acción/hojas de ruta que apoyan las CPS
C3: Seleccione el tipo de documento en la lista desplegable siguiente | D3: Seleccione el objetivo de las CPS en la lista desplegable siguiente | E3: Fecha de aprobación (dd/mm/aa) | F3: Nombre y enlace del documento | G3: Si el documento es una política global con disposiciones sobre las CPS, haga referencia a las secciones y páginas pertinentes que se relacionan con las CPS.
E4: … | F4: … | G4: …
E5: ... | F5: … | G5: …
E6: ... | F6: … | G6: …
E7: ... | F7: … | G7: …
E8: ... | F8: … | G8: …
E9: ... | F9: … | G9: …
E10: ... | F10: … | G10: …
E11: ... | F11: … | G11: …
E12: ... | F12: … | G12: …
E13: ... | F13: … | G13: …
E14: ... | F14: … | G14: …
E15: ... | F15: … | G15: …
... E18: ... | F18: … | G18: …
B19: ¿Qué instrumentos legales tiene su gobierno (federal/nacional) que apoyan la implementación de las CPS? Puede tratarse de instrumentos jurídicos dedicados a las CPS, como una ley, un decreto, una orden y/o una resolución específicos que apoyen las CPS; y/o leyes y reglamentos de contratación pública con disposiciones integrales sobre las CPS; y/o leyes sectoriales con disposiciones integrales sobre las CPS. | C19: Instrumentos jurídicos de apoyo a las CPS
C20: Seleccione el tipo de documento en la lista desplegable siguiente | D20: Seleccione el objetivo de la CPS en la lista desplegable siguiente | E20: Fecha de aprobación (dd/mm/aa) | F20: Nombre y enlace del documento | G20: Si el documento es una ley de contratación pública o una ley sectorial con disposiciones sobre las CPS, haga referencia a las secciones y páginas pertinentes que se relacionan con las CPS.
E21: ... | F21: … | G21: …
E22: ... | F22: … | G22: …
E23: ... | F23: … | G23: …
E24: ... | F24: … | G24: …
E25: ... | F25: … | G25: …
E26: ... | F26: … | G26: …
E27: ... | F27: … | G27: …
E28: ... | F28: … | G28: …
E29: ... | F29: … | G29: …
E30: ... | F30: … | G30: …
E31: ... | F31: … | G31: …
E32: ... | F32: … | G32: …
... E34: ... | F34: … | G34: …
