Workbook

Sheet Intro & Contents
B3: United Nations Environment Programme
B4: QUESTIONNAIRE ON ECONOMY-WIDE MATERIAL FLOW ACCOUNTS for the SDG indicators 8.4.1/12.2.1 and 8.4.2/12.2.2
B5: (EW-MFA Questionnaire for SDGs)
B7: Country:
B9: Deadline for returning the EW-MFA Questionnaire for SDGs:
B11: If you have any questions, please contact us at the following email address: | D11: unep-oos-sdgs@un.org
B15: TABLE OF CONTENTS
B17: Sheet | C17: Title | D17: Status
B18: Intro & Contents | C18: Introduction and table of contents | D18: for information
B19: Methodology & Guidance | C19: Methodological sources and guidance for working with this Questionnaire | D19: for information
B20: Description & Definitions | C20: Description of tables and definitions | D20: for information
B21: Table A | C21: Domestic extraction | D21: to review / re-fill in
B22: Table B | C22: Imports of materials | D22: to review / re-fill in
B23: Table C | C23: Exports of materials | D23: to review / re-fill in
B24: Table D | C24: Headline indicators | D24: filled automatically
B25: Table E | C25: Material flow accounts in raw material equivalents | D25: to review / re-fill in
B26: Table F | C26: Supplementary information from the country | D26: to fill in
B28: Last update: June 1, 2024

Sheet Methodology & Guidance
B2: Methodology
B3: The EW-MFA Questionnaire for SDGs provides country data on Economy-Wide Material Flow Accounts to be used by UNEP to calculate SDG indicators 8.4.1/12.2.1 Material footprint, material footprint per capita, and material footprint per GDP and 8.4.2/12.2.2 Domestic material consumption, domestic material consumption per capita, and domestic material consumption per GDP, as they are under UNEP custodianship.
B4: Material flow accounts belong to environmental-economic accounts and apply the accounting concepts, structures, rules and principles of the System of Environmental-Economic Accounting 2012 - Central Framework (SEEA CF). The questionnaire should be used in conjunction with reading the global manual on EW-MFA "UNEP (2023). The use of natural resources in the economy: A Global Manual on Economy-Wide Material Flow Accounting" which is available in Arabic, English, French and Russian:
B5: https://wedocs.unep.org/handle/20.500.11822/36253
B6: In addition to the Global Manual on EW-MFA, the EW-MFA Compiler was created to support countries to build Economy-Wide Material Flow Accounts. As well as providing the basic structure required for these accounts, a number of simple tools are also included for the calculation of some categories of materials, where those categories are not the result of simple summation. The EW-MFA Compiler also includes annexes with the Correspondence Table HS 2017 Codes to EW-MFA Codes and the Correspondence Table SITC Rev. 4 Codes to EW-MFA Codes. The EW-MFA Compiler is available in Arabic, English, French and Russian here:
B7: https://wedocs.unep.org/20.500.11822/41948
B8: A Step-by-Step Guide to the Compiler is available in Arabic, English, French and Russian here:
B9: https://wedocs.unep.org/handle/20.500.11822/44799;jsessionid=E2FE8D806CD2CE77EB31DFA0FE60FF9D
B10: E-learning courses on Domestic Extraction and Trade Flows have been developed by UNEP and CSIRO and are available in English on the UNEP e-learning platform:
B11: https://elearning.unep.org/
B13: How to work with this Questionnaire
B14: All blocks in tables A, B, C, D and E are pre-filled. This data has been prepared by the UNEP International Resource Panel (UNEP IRP):
... B21: The data will be used for reporting on SDG indicators 8.4.1/12.2.1 and 8.4.2/12.2.2, as they are under UNEP custodianship. UNEP will check country responses and submit results to the United Nations Statistics Division (UNSD) for publication in the Global SDG Database. The indicators will also be published on the UNEP World Environment Situation Room (WESR).

Sheet Description & Definitions
B2: Description of tables
B3: Table A - Domestic extraction (DE)
B4: Domestic extraction includes four groups of extracted materials: A.1 Biomass, A.2 Metal ores, A.3 Non-metallic minerals, and A.4 Fossil fuels.
B5: A.1 Biomass: According to EW-MFA, DE of biomass includes all biomass of vegetable origin extracted by humans and their livestock, capture of wild fish, and the biomass of hunted animals. Biomass of livestock and livestock products (e.g. milk, meat, eggs, hides) is not accounted for as domestic extraction but considered as flows within the economic system.
B6: The most consistent international source of data on biomass extraction is the statistical database provided by the United Nations Food and Agricultural Organization (FAOSTAT). FAOSTAT covers a huge range of data concerning agriculture, forestry, and fishery, and the land use and food system in general at the level of nation states and in time series from 1961 onwards.
B7: A decision tree to help work through alternative data sources preferentially is presented in Figure 2.1 of the Global Manual on EW-MFA (see the link in the Guidance sheet for this questionnaire).
B8: A.2 Metal ores: For EW-MFA purposes, only that portion of the excavated rock which is to be processed in some way, to obtain the desired metals, should be counted. This means that any soil or rock which is simply excavated and moved, to gain access to the metal ore itself, should not be counted as ore.
B9: While the detailed system described in the Global Manual on EW-MFA, using questionnaire-based surveys of a country’s major minerals producers, is recommended, its success is contingent upon the cooperation of the mine operators.
B10: A flow chart to aid in deciding which approach is best for the compiler’s particular circumstances is set out in Figure 2.3 of the Global Manual on EW-MFA (see the link in the Guidance sheet for this questionnaire).
B11: A.3 Non-metallic minerals: If accounted by mass, the vast majority of the materials of this category are sand, gravel, and clay used for construction, while the remainders are used either as decorative stones or for chemicals and fertilizers. Certain materials can be used for either industrial or construction purposes, since there is no clear and distinct differentiation between the two.
B12: A flow chart for the compilation of non-metallic mineral EW-MFA is set out in Figure 2.4 of the Global Manual on EW-MFA (see the link in the Guidance sheet for this questionnaire).
B13: A.4 Fossil fuels: Fossil fuels are materials formed from biomass in the geological past and comprise solid, liquid and gaseous materials: coal and peat, crude oil and natural gas, oil shale and tar sands.
... B40: Material Footprint (MF) - the total amount of raw materials extracted to meet final consumption demands. It is one indication of the pressures placed on the environment to support economic growth and to satisfy the material needs of people.

Sheet Table A
B2: Table A - Domestic extraction
B3: (tonnes)
B4: Material category | C4: Description | D4: 2000 | E4: 2001 | F4: 2002 | G4: 2003 | H4: 2004 | I4: 2005 | J4: 2006 | K4: 2007 | L4: 2008 | M4: 2009 | N4: 2010 | O4: 2011 | P4: 2012 | Q4: 2013 | R4: 2014 | S4: 2015 | T4: 2016 | U4: 2017 | V4: 2018 | W4: 2019 | X4: 2020 | Y4: 2021 | Z4: 2022 | AA4: 2023
B5: A.1 | C5: Biomass
B6: A.1.1 | C6: Crops
B7: A.1.2 | C7: Crop residues (used), fodder crops, grazed biomass
B8: A.1.2.1-A.1.2.2 | C8: Straw; Other crop residues (sugar and fodder beet leaves, other)
B9: A.1.2.3-A.1.2.4 | C9: Fodder crops (including biomass harvest from grassland); Grazed biomass
B10: A.1.3 | C10: Wood
B11: A.1.4 | C11: Wild harvest n.e.c.
B12: A.2 | C12: Metal ores
B13: A.2.1 | C13: Iron ores
B14: A.2.2-A.2.3 | C14: Aluminium ores; Other metal ores
B15: A.3 | C15: Non-metallic minerals
B16: A.3.1 | C16: Ornamental or building stone
... B30: A.4.3 | C30: Oil shale and tar sands
C31: TOTAL DOMESTIC EXTRACTION | D31: =D5+D12+D15+D24 -> 0 | E31: =E5+E12+E15+E24 -> 0 | F31: =F5+F12+F15+F24 -> 0 | G31: =G5+G12+G15+G24 -> 0 | H31: =H5+H12+H15+H24 -> 0 | I31: =I5+I12+I15+I24 -> 0 | J31: =J5+J12+J15+J24 -> 0 | K31: =K5+K12+K15+K24 -> 0 | ... AA31: =AA5+AA12+AA15+AA24 -> 0

Sheet Table B
B2: Table B - Imports of materials
B3: (tonnes)
B4: Material category | C4: Description | D4: 2000 | E4: 2001 | F4: 2002 | G4: 2003 | H4: 2004 | I4: 2005 | J4: 2006 | K4: 2007 | L4: 2008 | M4: 2009 | N4: 2010 | O4: 2011 | P4: 2012 | Q4: 2013 | R4: 2014 | S4: 2015 | T4: 2016 | U4: 2017 | V4: 2018 | W4: 2019 | X4: 2020 | Y4: 2021 | Z4: 2022 | AA4: 2023
B5: B.1 | C5: Biomass
B6: B.1.1 | C6: Crops, raw and processed
B7: B.1.2 | C7: Crop residues (used) and fodder crops
B8: B.1.2.1-B.1.2.2 | C8: Straw; Other crop residues (sugar and fodder beet leaves, other)
B9: B.1.2.3 | C9: Fodder crops (including biomass harvest from grassland)
B10: B.1.3 | C10: Wood and wood products
B11: B.1.4 | C11: Wild fish, aquatic animals and plants
B12: B.1.5 | C12: Live animals and products (exluding wild fish, aquatic animals and plants)
B13: B.1.compound | C13: Mixed / compounded products mainly from biomass
B14: B.2 | C14: Metal ores
B15: B.2.Fe | C15: Iron ores and concentrates, iron and steel, products dominated by iron content
B16: B.2.Al-B.2.x | C16: Aluminium ores and concentrates, aluminium metal, products dominated by aluminium content; X ores and concentrates, X metal, products dominated by X (where X is a specific metallic element other than iron or aluminium)
... B36: B.6 | C36: Waste for final treatment and disposal
C37: TOTAL IMPORTS OF MATERIALS | D37: =D5+D14+D18+D28+D35+D36 -> 0 | E37: =E5+E14+E18+E28+E35+E36 -> 0 | F37: =F5+F14+F18+F28+F35+F36 -> 0 | G37: =G5+G14+G18+G28+G35+G36 -> 0 | H37: =H5+H14+H18+H28+H35+H36 -> 0 | I37: =I5+I14+I18+I28+I35+I36 -> 0 | J37: =J5+J14+J18+J28+J35+J36 -> 0 | K37: =K5+K14+K18+K28+K35+K36 -> 0 | ... AA37: =AA5+AA14+AA18+AA28+AA35+AA36 -> 0

Sheet Table C
B2: Table C - Exports of materials
B3: (tonnes)
B4: Material category | C4: Description | D4: 2000 | E4: 2001 | F4: 2002 | G4: 2003 | H4: 2004 | I4: 2005 | J4: 2006 | K4: 2007 | L4: 2008 | M4: 2009 | N4: 2010 | O4: 2011 | P4: 2012 | Q4: 2013 | R4: 2014 | S4: 2015 | T4: 2016 | U4: 2017 | V4: 2018 | W4: 2019 | X4: 2020 | Y4: 2021 | Z4: 2022 | AA4: 2023
B5: C.1 | C5: Biomass
B6: C.1.1 | C6: Crops, raw and processed
B7: C.1.2 | C7: Crop residues (used) and fodder crops
B8: C.1.2.1-C.1.2.2 | C8: Straw; Other crop residues (sugar and fodder beet leaves, other)
B9: C.1.2.3 | C9: Fodder crops (including biomass harvest from grassland)
B10: C.1.3 | C10: Wood and wood products
B11: C.1.4 | C11: Wild fish, aquatic animals and plants
B12: C.1.5 | C12: Live animals and products (exluding wild fish, aquatic animals and plants)
B13: C.1.compound | C13: Mixed / compounded products mainly from biomass
B14: C.2 | C14: Metal ores
B15: C.2.Fe | C15: Iron ores and concentrates, iron and steel, products dominated by iron content
B16: C.2.Al-C.2.x | C16: Aluminium ores and concentrates, aluminium metal, products dominated by aluminium content; X ores and concentrates, X metal, products dominated by X (where X is a specific metallic element other than iron or aluminium)
... B36: C.6 | C36: Waste for final treatment and disposal
C37: TOTAL EXPORTS OF MATERIALS | D37: =D5+D14+D18+D28+D35+D36 -> 0 | E37: =E5+E14+E18+E28+E35+E36 -> 0 | F37: =F5+F14+F18+F28+F35+F36 -> 0 | G37: =G5+G14+G18+G28+G35+G36 -> 0 | H37: =H5+H14+H18+H28+H35+H36 -> 0 | I37: =I5+I14+I18+I28+I35+I36 -> 0 | J37: =J5+J14+J18+J28+J35+J36 -> 0 | K37: =K5+K14+K18+K28+K35+K36 -> 0 | ... AA37: =AA5+AA14+AA18+AA28+AA35+AA36 -> 0

Sheet Table D
B2: Table D - Headline indicators
B3: (tonnes)
B4: Description | C4: 2000 | D4: 2001 | E4: 2002 | F4: 2003 | G4: 2004 | H4: 2005 | I4: 2006 | J4: 2007 | K4: 2008 | L4: 2009 | M4: 2010 | N4: 2011 | O4: 2012 | P4: 2013 | Q4: 2014 | R4: 2015 | S4: 2016 | T4: 2017 | U4: 2018 | V4: 2019 | W4: 2020 | X4: 2021 | Y4: 2022 | Z4: 2023
B5: Domestic extraction (DE) | C5: ='Table A'!D31 -> 0 | D5: ='Table A'!E31 -> 0 | E5: ='Table A'!F31 -> 0 | F5: ='Table A'!G31 -> 0 | G5: ='Table A'!H31 -> 0 | H5: ='Table A'!I31 -> 0 | I5: ='Table A'!J31 -> 0 | J5: ='Table A'!K31 -> 0 | ... Z5: ='Table A'!AA31 -> 0
B6: Imports | C6: ='Table B'!D37 -> 0 | D6: ='Table B'!E37 -> 0 | E6: ='Table B'!F37 -> 0 | F6: ='Table B'!G37 -> 0 | G6: ='Table B'!H37 -> 0 | H6: ='Table B'!I37 -> 0 | I6: ='Table B'!J37 -> 0 | J6: ='Table B'!K37 -> 0 | ... Z6: ='Table B'!AA37 -> 0
B7: Exports | C7: ='Table C'!D37 -> 0 | D7: ='Table C'!E37 -> 0 | E7: ='Table C'!F37 -> 0 | F7: ='Table C'!G37 -> 0 | G7: ='Table C'!H37 -> 0 | H7: ='Table C'!I37 -> 0 | I7: ='Table C'!J37 -> 0 | J7: ='Table C'!K37 -> 0 | ... Z7: ='Table C'!AA37 -> 0
B8: Direct material input (DMI) | C8: =C5+C6 -> 0 | D8: =D5+D6 -> 0 | E8: =E5+E6 -> 0 | F8: =F5+F6 -> 0 | G8: =G5+G6 -> 0 | H8: =H5+H6 -> 0 | I8: =I5+I6 -> 0 | J8: =J5+J6 -> 0 | ... Z8: =Z5+Z6 -> 0
B9: Domestic material consumption (DMC) | C9: =C8-C7 -> 0 | D9: =D8-D7 -> 0 | E9: =E8-E7 -> 0 | F9: =F8-F7 -> 0 | G9: =G8-G7 -> 0 | H9: =H8-H7 -> 0 | I9: =I8-I7 -> 0 | J9: =J8-J7 -> 0 | ... Z9: =Z8-Z7 -> 0
B10: Physical trade balance (PTB) | C10: =C6-C7 -> 0 | D10: =D6-D7 -> 0 | E10: =E6-E7 -> 0 | F10: =F6-F7 -> 0 | G10: =G6-G7 -> 0 | H10: =H6-H7 -> 0 | I10: =I6-I7 -> 0 | J10: =J6-J7 -> 0 | ... Z10: =Z6-Z7 -> 0

Sheet Table E
B2: Table E - Material flow accounts in raw material equivalents
B3: (tonnes)
B4: Description | C4: 2000 | D4: 2001 | E4: 2002 | F4: 2003 | G4: 2004 | H4: 2005 | I4: 2006 | J4: 2007 | K4: 2008 | L4: 2009 | M4: 2010 | N4: 2011 | O4: 2012 | P4: 2013 | Q4: 2014 | R4: 2015 | S4: 2016 | T4: 2017 | U4: 2018 | V4: 2019 | W4: 2020 | X4: 2021 | Y4: 2022 | Z4: 2023
B5: Domestic extraction (DE) | C5: ='Table A'!D31 -> 0 | D5: ='Table A'!E31 -> 0 | E5: ='Table A'!F31 -> 0 | F5: ='Table A'!G31 -> 0 | G5: ='Table A'!H31 -> 0 | H5: ='Table A'!I31 -> 0 | I5: ='Table A'!J31 -> 0 | J5: ='Table A'!K31 -> 0 | ... Z5: ='Table A'!AA31 -> 0
B6: Biomass | C6: ='Table A'!D5 -> 0 | D6: ='Table A'!E5 -> 0 | E6: ='Table A'!F5 -> 0 | F6: ='Table A'!G5 -> 0 | G6: ='Table A'!H5 -> 0 | H6: ='Table A'!I5 -> 0 | I6: ='Table A'!J5 -> 0 | J6: ='Table A'!K5 -> 0 | ... Z6: ='Table A'!AA5 -> 0
B7: Metal ores | C7: ='Table A'!D12 -> 0 | D7: ='Table A'!E12 -> 0 | E7: ='Table A'!F12 -> 0 | F7: ='Table A'!G12 -> 0 | G7: ='Table A'!H12 -> 0 | H7: ='Table A'!I12 -> 0 | I7: ='Table A'!J12 -> 0 | J7: ='Table A'!K12 -> 0 | ... Z7: ='Table A'!AA12 -> 0
B8: Non-metallic minerals | C8: ='Table A'!D15 -> 0 | D8: ='Table A'!E15 -> 0 | E8: ='Table A'!F15 -> 0 | F8: ='Table A'!G15 -> 0 | G8: ='Table A'!H15 -> 0 | H8: ='Table A'!I15 -> 0 | I8: ='Table A'!J15 -> 0 | J8: ='Table A'!K15 -> 0 | ... Z8: ='Table A'!AA15 -> 0
B9: Fossil fuels | C9: ='Table A'!D24 -> 0 | D9: ='Table A'!E24 -> 0 | E9: ='Table A'!F24 -> 0 | F9: ='Table A'!G24 -> 0 | G9: ='Table A'!H24 -> 0 | H9: ='Table A'!I24 -> 0 | I9: ='Table A'!J24 -> 0 | J9: ='Table A'!K24 -> 0 | ... Z9: ='Table A'!AA24 -> 0
B10: Imports in raw material equivalents (RME)
B11: Biomass
B12: Metal ores
B13: Non-metallic minerals
B14: Fossil fuels
B15: Raw material input (RMI) | C15: =C5+C10 -> 0 | D15: =D5+D10 -> 0 | E15: =E5+E10 -> 0 | F15: =F5+F10 -> 0 | G15: =G5+G10 -> 0 | H15: =H5+H10 -> 0 | I15: =I5+I10 -> 0 | J15: =J5+J10 -> 0 | ... Z15: =Z5+Z10 -> 0
B16: Biomass | C16: =C6+C11 -> 0 | D16: =D6+D11 -> 0 | E16: =E6+E11 -> 0 | F16: =F6+F11 -> 0 | G16: =G6+G11 -> 0 | H16: =H6+H11 -> 0 | I16: =I6+I11 -> 0 | J16: =J6+J11 -> 0 | ... Z16: =Z6+Z11 -> 0
B17: Metal ores | C17: =C7+C12 -> 0 | D17: =D7+D12 -> 0 | E17: =E7+E12 -> 0 | F17: =F7+F12 -> 0 | G17: =G7+G12 -> 0 | H17: =H7+H12 -> 0 | I17: =I7+I12 -> 0 | J17: =J7+J12 -> 0 | ... Z17: =Z7+Z12 -> 0
B18: Non-metallic minerals | C18: =C8+C13 -> 0 | D18: =D8+D13 -> 0 | E18: =E8+E13 -> 0 | F18: =F8+F13 -> 0 | G18: =G8+G13 -> 0 | H18: =H8+H13 -> 0 | I18: =I8+I13 -> 0 | J18: =J8+J13 -> 0 | ... Z18: =Z8+Z13 -> 0
B19: Fossil fuels | C19: =C9+C14 -> 0 | D19: =D9+D14 -> 0 | E19: =E9+E14 -> 0 | F19: =F9+F14 -> 0 | G19: =G9+G14 -> 0 | H19: =H9+H14 -> 0 | I19: =I9+I14 -> 0 | J19: =J9+J14 -> 0 | ... Z19: =Z9+Z14 -> 0
B20: Exports in RME
B21: Biomass
B22: Metal ores
B23: Non-metallic minerals
B24: Fossil fuels
B25: Material footprint (MF) | C25: =C15-C20 -> 0 | D25: =D15-D20 -> 0 | E25: =E15-E20 -> 0 | F25: =F15-F20 -> 0 | G25: =G15-G20 -> 0 | H25: =H15-H20 -> 0 | I25: =I15-I20 -> 0 | J25: =J15-J20 -> 0 | ... Z25: =Z15-Z20 -> 0
B26: Biomass | C26: =C16-C21 -> 0 | D26: =D16-D21 -> 0 | E26: =E16-E21 -> 0 | F26: =F16-F21 -> 0 | G26: =G16-G21 -> 0 | H26: =H16-H21 -> 0 | I26: =I16-I21 -> 0 | J26: =J16-J21 -> 0 | ... Z26: =Z16-Z21 -> 0
B27: Metal ores | C27: =C17-C22 -> 0 | D27: =D17-D22 -> 0 | E27: =E17-E22 -> 0 | F27: =F17-F22 -> 0 | G27: =G17-G22 -> 0 | H27: =H17-H22 -> 0 | I27: =I17-I22 -> 0 | J27: =J17-J22 -> 0 | ... Z27: =Z17-Z22 -> 0
B28: Non-metallic minerals | C28: =C18-C23 -> 0 | D28: =D18-D23 -> 0 | E28: =E18-E23 -> 0 | F28: =F18-F23 -> 0 | G28: =G18-G23 -> 0 | H28: =H18-H23 -> 0 | I28: =I18-I23 -> 0 | J28: =J18-J23 -> 0 | ... Z28: =Z18-Z23 -> 0
B29: Fossil fuels | C29: =C19-C24 -> 0 | D29: =D19-D24 -> 0 | E29: =E19-E24 -> 0 | F29: =F19-F24 -> 0 | G29: =G19-G24 -> 0 | H29: =H19-H24 -> 0 | I29: =I19-I24 -> 0 | J29: =J19-J24 -> 0 | ... Z29: =Z19-Z24 -> 0

Sheet Table F
B2: Table F - Supplementary information from the country
B4: Contact information
B5: Country: | C5: ='Intro & Contents'!D7 -> 0
B6: Organization:
B7: Contact person:
B8: Email address:
B10: Does your organization have any objections to having the data from this questionnaire published in the Global SDG Database (please put an X in the required cells below)?
C11: No objections | D11: There are objections | E11: Please provide your comments if there are any objections
B12: EW-MFA Questionnaire for SDGs
B14: Please indicate if you replaced the data with national data and for which years
B15: Table A
B16: Table B
B17: Table C
B18: Table E
B20: Please indicate if you have a national methodology for EW-MFA (please provide a link)
B23: Please provide additional comments if you have any

Sheet countries
A1: Afghanistan
A2: Albania
A3: Algeria
A4: Andorra
A5: Angola
A6: Antigua and Barbuda
A7: Argentina
A8: Armenia
A9: Australia
A10: Austria
A11: Azerbaijan
A12: Bahamas
... A193: Zimbabwe
